{"text_format":"3","workbook":"xlsx","n_sheets":3,"sheets":["Saisie","Synthèses individuelles","Synthèse"],"not_rendered":{"charts":37,"images":1,"macros":1,"defined_names":3,"comments":2},"read":"whole","date_system":"1900"}

{"sheet":"Saisie","index":0,"n_rows":521,"n_cols":39,"rows_kept":521,"merged":[[6,1,6,21],[8,1,8,3],[8,4,8,8],[8,10,8,11],[8,12,8,13],[8,17,8,18],[9,22,9,23],[10,1,10,12],[10,13,10,17],[10,18,10,21],[11,1,11,2],[11,3,11,4],[11,5,11,6],[11,7,11,8],[11,9,11,11],[11,13,11,14],[11,16,11,17],[11,18,11,19],[12,1,12,2],[12,3,12,4],[12,5,12,6],[12,7,12,8],[12,9,12,11],[12,13,12,14],[12,16,12,17],[12,18,12,19]]}
["Plages de codes possibles",1,1,1,1,1,1,1,1,1,1,1,1,1,1,1,null,1,1,1,1,1]
[null,9,9,9,9,9,9,9,9,9,2,2,2,2,2,2,null,9,2,3,9,9]
[null,0,0,0,0,0,0,0,0,0,9,9,9,9,3,3,null,0,9,9,0,0]
[{"$nulls":10},0,0,0,0,9,8,null,null,0,0]
[{"$nulls":14},0,9]
[{"$nulls":15},0]
[null,"ÉVALUATIONS SCIENCES ET TECHNOLOGIE DÉBUT DE CYCLE 3 "]
[]
[null,"Circonscription :",{"$nulls":8},"Ecole :",{"$nulls":4},"Classe"]
[]
[null,"MATIERE",{"$nulls":11},"VIVANT",{"$nulls":4},"OBJET",{"$nulls":3},"A","B","C","D","E","F","G","H","A","B","C","D","E","F","G","H"]
["Compétences ciblées cycle 2 :","Changement d’état de l’eau dans la vie quotidienne",null,"Comparer et mesurer la température",null,"Comparer et mesurer la masse de l'eau à l'état liquide et à l'état solide",null,"Changement d'état de l'eau dans la vie quotidienne",null,"Mettre en œuvre des expériences simples impliquant l'eau et/ou l'air.",null,null,"Comparer et mesurer la température, le volume, la masse de l'eau à l'état liquide et à l'état solide.","Identifier les interactions avec des êtres vivants entre eux et avec leur milieu.",null,"Connaître les caractéristiques du monde vivant, ses interactions, sa diversité : le cycle de vie des êtres vivants.","Connaître les caractéristiques du monde vivant, ses interactions, sa diversité : quelques besoins vitaux des végétaux.",null,"Nommer les constituants d'un circuit électrique. Décrire le fonctionnement du circuit électrique",null,"Comprendre qu'un circuit électrique doit être fermé pour faire fonctionner l'objet.","Faire la différence entre objets et matériaux qui le composent. Connaître des matériaux isolants et conducteurs,"]
["Compétences ciblées cycle 3 :","Décrire les états de la matière à l’échelle macroscopique",null,"L'état physique d'un échantillon de matière dépend de condition externes notamment de sa température",null,"Décrire les états de la matière à l'échelle macroscopique",null,"L'état physique d'un échantillon de matière dépend de condition externes notamment de sa température",null,"La masse est une grandeur physique qui caractérise un échatillon de matière. L'élève rend compte de sa démarche…",null,null,"Tout objet matériel possède une masse qui lui est propre et qui peut être mesurée.","Identifier les matières échangées entre un être vivant et son milieu de vie.",null,"Identifier et caractériser les modification subies par un organisme vivant au cours de sa vie : stades de développement.","Relier les besoins des plantes vertes et leur place particulière dans les réseaux trophiques : besoin des plantes vertes.",null,"Décrire le fonctionnement d'objets techniques, leurs fonctions et leurs constitutions.",null,"Concevoir et produire tout ou partie d'un objet technique : Recherche d'idées","Caractéristiques et propriétés de matériau."]
["NOM Prénom","M.A","M.B","M.C1","M.C2","M.D1","M.D2","M.E1","M.E2","M.F1","M.F2","M.F3","M.G","V.A1","V.A2","V.B","V.C1","V.C2","O.A1","O.A2","O.B","O.C","Lire : Conscience phonologique","Lire : Identification des mots","Lire : Fluence","Lire : Compréhension","Écrire : Copier","Écrire sous la dictée","Écrire : Produire un écrit de manière autonome","Général"]
["Elève1",0,0,0,0,0,0,0,0,0,0,0,0,0,0,0,0,0,0,0,0,0,{"$f":"IF(COUNTA(B15:G15)>0,(COUNTIF(B15:G15,\"=0\")*0+COUNTIF(B15:G15,\"=1\")*100+COUNTIF(B15:G15,\"=2\")*80+COUNTIF(B15:G15,\"=3\")*50+COUNTIF(B15:G15,\"=8\")*20+COUNTIF(B15:G15,\"=9\")*0)/COUNTA(B15:G15)/100,\"N/A\")","v":{"v":0,"d":"0.0%"}},{"$f":"IF(COUNTA(K15:O15)>0,(COUNTIF(K15:O15,\"=0\")*0+COUNTIF(K15:O15,\"=1\")*100+COUNTIF(K15:O15,\"=2\")*80+COUNTIF(K15:O15,\"=3\")*50+COUNTIF(K15:O15,\"=8\")*20+COUNTIF(K15:O15,\"=9\")*0)/COUNTA(K15:O15)/100,\"N/A\")","v":{"v":0,"d":"0.0%"}},{"$f":"IF(COUNTA(P15)>0,(COUNTIF(P15,\"=0\")*0+COUNTIF(P15,\"=1\")*100+COUNTIF(P15,\"=2\")*80+COUNTIF(P15,\"=3\")*50+COUNTIF(P15,\"=8\")*20+COUNTIF(P15,\"=9\")*0)/COUNTA(P15)/100,\"N/A\")","v":{"v":0,"d":"0.0%"}},{"$f":"IF(COUNTA(Q15:U15)<>0,(COUNTIF(Q15:U15,\"=0\")*0+COUNTIF(Q15:U15,\"=1\")*100+COUNTIF(Q15:U15,\"=2\")*80+COUNTIF(Q15:U15,\"=3\")*50+COUNTIF(Q15:U15,\"=8\")*20+COUNTIF(Q15:U15,\"=9\")*0)/COUNTA(Q15:U15)/100,\"N/A\")","v":{"v":0,"d":"0.0%"}},{"$f":"IF(COUNTA(V15:V15)>0,(COUNTIF(V15:V15,\"=0\")*0+COUNTIF(V15:V15,\"=1\")*100+COUNTIF(V15:V15,\"=2\")*80+COUNTIF(V15:V15,\"=3\")*50+COUNTIF(V15:V15,\"=8\")*20+COUNTIF(V15:V15,\"=9\")*0)/COUNTA(V15:V15)/100,\"N/A\")","v":{"v":0,"d":"0.0%"}},{"$f":"IF(COUNTA(#REF!)>0,(COUNTIF(#REF!,\"=0\")*0+COUNTIF(#REF!,\"=1\")*100+COUNTIF(#REF!,\"=2\")*80+COUNTIF(#REF!,\"=3\")*50+COUNTIF(#REF!,\"=8\")*20+COUNTIF(#REF!,\"=9\")*0)/COUNTA(#REF!)/100,\"N/A\")","v":{"$error":"#REF!"}},{"$f":"IF(COUNTA(#REF!)>0,(COUNTIF(#REF!,\"=0\")*0+COUNTIF(#REF!,\"=1\")*100+COUNTIF(#REF!,\"=2\")*80+COUNTIF(#REF!,\"=3\")*50+COUNTIF(#REF!,\"=8\")*20+COUNTIF(#REF!,\"=9\")*0)/COUNTA(#REF!)/100,\"N/A\")","v":{"$error":"#REF!"}},{"$f":"IF(AND(COUNTA(B15:V15)<>0,#REF!<>\"\"),AVERAGE(W15:AC15),\"N/A\")","v":{"$error":"#REF!"}},{"$f":"IF(W15=\"N/A\",1,\"\")","v":""},"","","","",{"$error":"#REF!"},{"$error":"#REF!"},{"$error":"#REF!"}]
["Elève2",0,0,0,0,0,0,0,0,0,0,0,0,0,0,0,0,0,0,0,0,0,{"$f":"IF(COUNTA(B16:G16)>0,(COUNTIF(B16:G16,\"=0\")*0+COUNTIF(B16:G16,\"=1\")*100+COUNTIF(B16:G16,\"=2\")*80+COUNTIF(B16:G16,\"=3\")*50+COUNTIF(B16:G16,\"=8\")*20+COUNTIF(B16:G16,\"=9\")*0)/COUNTA(B16:G16)/100,\"N/A\")","v":{"v":0,"d":"0.0%"}},{"$f":"IF(COUNTA(K16:O16)>0,(COUNTIF(K16:O16,\"=0\")*0+COUNTIF(K16:O16,\"=1\")*100+COUNTIF(K16:O16,\"=2\")*80+COUNTIF(K16:O16,\"=3\")*50+COUNTIF(K16:O16,\"=8\")*20+COUNTIF(K16:O16,\"=9\")*0)/COUNTA(K16:O16)/100,\"N/A\")","v":{"v":0,"d":"0.0%"}},{"$f":"IF(COUNTA(P16)>0,(COUNTIF(P16,\"=0\")*0+COUNTIF(P16,\"=1\")*100+COUNTIF(P16,\"=2\")*80+COUNTIF(P16,\"=3\")*50+COUNTIF(P16,\"=8\")*20+COUNTIF(P16,\"=9\")*0)/COUNTA(P16)/100,\"N/A\")","v":{"v":0,"d":"0.0%"}},{"v":0,"d":"0.0%"},{"v":0,"d":"0.0%"},{"$f":"IF(COUNTA(#REF!)>0,(COUNTIF(#REF!,\"=0\")*0+COUNTIF(#REF!,\"=1\")*100+COUNTIF(#REF!,\"=2\")*80+COUNTIF(#REF!,\"=3\")*50+COUNTIF(#REF!,\"=8\")*20+COUNTIF(#REF!,\"=9\")*0)/COUNTA(#REF!)/100,\"N/A\")","v":{"$error":"#REF!"}},{"$f":"IF(COUNTA(#REF!)>0,(COUNTIF(#REF!,\"=0\")*0+COUNTIF(#REF!,\"=1\")*100+COUNTIF(#REF!,\"=2\")*80+COUNTIF(#REF!,\"=3\")*50+COUNTIF(#REF!,\"=8\")*20+COUNTIF(#REF!,\"=9\")*0)/COUNTA(#REF!)/100,\"N/A\")","v":{"$error":"#REF!"}},{"$f":"IF(AND(COUNTA(B16:V16)<>0,#REF!<>\"\"),AVERAGE(W16:AC16),\"N/A\")","v":{"$error":"#REF!"}},"","","","","",{"$error":"#REF!"},{"$error":"#REF!"},{"$error":"#REF!"},{"$f":"COUNTA(#REF!)","v":1}]
["Elève3",0,0,0,0,0,0,0,0,0,0,0,0,0,0,0,0,0,0,0,0,0,{"v":0,"d":"0.0%"},{"v":0,"d":"0.0%"},{"v":0,"d":"0.0%"},{"v":0,"d":"0.0%"},{"v":0,"d":"0.0%"},{"$f":"IF(COUNTA(#REF!)>0,(COUNTIF(#REF!,\"=0\")*0+COUNTIF(#REF!,\"=1\")*100+COUNTIF(#REF!,\"=2\")*80+COUNTIF(#REF!,\"=3\")*50+COUNTIF(#REF!,\"=8\")*20+COUNTIF(#REF!,\"=9\")*0)/COUNTA(#REF!)/100,\"N/A\")","v":{"$error":"#REF!"}},{"$f":"IF(COUNTA(#REF!)>0,(COUNTIF(#REF!,\"=0\")*0+COUNTIF(#REF!,\"=1\")*100+COUNTIF(#REF!,\"=2\")*80+COUNTIF(#REF!,\"=3\")*50+COUNTIF(#REF!,\"=8\")*20+COUNTIF(#REF!,\"=9\")*0)/COUNTA(#REF!)/100,\"N/A\")","v":{"$error":"#REF!"}},{"$f":"IF(AND(COUNTA(B17:V17)<>0,#REF!<>\"\"),AVERAGE(W17:AC17),\"N/A\")","v":{"$error":"#REF!"}},"","","","","",{"$error":"#REF!"},{"$error":"#REF!"},{"$error":"#REF!"},{"$f":"IF(#REF!<>\"\",#REF!,\"\")","v":{"$error":"#REF!"}}]
["Elève4",0,0,0,0,0,0,0,0,0,0,0,0,0,0,0,0,0,0,0,0,0,{"v":0,"d":"0.0%"},{"v":0,"d":"0.0%"},{"v":0,"d":"0.0%"},{"v":0,"d":"0.0%"},{"v":0,"d":"0.0%"},{"$f":"IF(COUNTA(#REF!)>0,(COUNTIF(#REF!,\"=0\")*0+COUNTIF(#REF!,\"=1\")*100+COUNTIF(#REF!,\"=2\")*80+COUNTIF(#REF!,\"=3\")*50+COUNTIF(#REF!,\"=8\")*20+COUNTIF(#REF!,\"=9\")*0)/COUNTA(#REF!)/100,\"N/A\")","v":{"$error":"#REF!"}},{"$f":"IF(COUNTA(#REF!)>0,(COUNTIF(#REF!,\"=0\")*0+COUNTIF(#REF!,\"=1\")*100+COUNTIF(#REF!,\"=2\")*80+COUNTIF(#REF!,\"=3\")*50+COUNTIF(#REF!,\"=8\")*20+COUNTIF(#REF!,\"=9\")*0)/COUNTA(#REF!)/100,\"N/A\")","v":{"$error":"#REF!"}},{"$f":"IF(AND(COUNTA(B18:V18)<>0,#REF!<>\"\"),AVERAGE(W18:AC18),\"N/A\")","v":{"$error":"#REF!"}},"","","","","",{"$error":"#REF!"},{"$error":"#REF!"},{"$error":"#REF!"},{"$f":"IF(#REF!<>\"\",#REF!,\"\")","v":{"$error":"#REF!"}}]
["Elève5",0,0,0,0,0,0,0,0,0,0,0,0,0,0,0,0,0,0,0,0,0,{"v":0,"d":"0.0%"},{"v":0,"d":"0.0%"},{"v":0,"d":"0.0%"},{"v":0,"d":"0.0%"},{"v":0,"d":"0.0%"},{"$f":"IF(COUNTA(#REF!)>0,(COUNTIF(#REF!,\"=0\")*0+COUNTIF(#REF!,\"=1\")*100+COUNTIF(#REF!,\"=2\")*80+COUNTIF(#REF!,\"=3\")*50+COUNTIF(#REF!,\"=8\")*20+COUNTIF(#REF!,\"=9\")*0)/COUNTA(#REF!)/100,\"N/A\")","v":{"$error":"#REF!"}},{"$f":"IF(COUNTA(#REF!)>0,(COUNTIF(#REF!,\"=0\")*0+COUNTIF(#REF!,\"=1\")*100+COUNTIF(#REF!,\"=2\")*80+COUNTIF(#REF!,\"=3\")*50+COUNTIF(#REF!,\"=8\")*20+COUNTIF(#REF!,\"=9\")*0)/COUNTA(#REF!)/100,\"N/A\")","v":{"$error":"#REF!"}},{"$f":"IF(AND(COUNTA(B19:V19)<>0,#REF!<>\"\"),AVERAGE(W19:AC19),\"N/A\")","v":{"$error":"#REF!"}},"","","","","",{"$error":"#REF!"},{"$error":"#REF!"},{"$error":"#REF!"},{"$f":"IF(#REF!<>\"\",#REF!,\"\")","v":{"$error":"#REF!"}}]
["Elève6",0,0,0,0,0,0,0,0,0,0,0,0,0,0,0,0,0,0,0,0,0,{"v":0,"d":"0.0%"},{"v":0,"d":"0.0%"},{"v":0,"d":"0.0%"},{"v":0,"d":"0.0%"},{"v":0,"d":"0.0%"},{"$f":"IF(COUNTA(#REF!)>0,(COUNTIF(#REF!,\"=0\")*0+COUNTIF(#REF!,\"=1\")*100+COUNTIF(#REF!,\"=2\")*80+COUNTIF(#REF!,\"=3\")*50+COUNTIF(#REF!,\"=8\")*20+COUNTIF(#REF!,\"=9\")*0)/COUNTA(#REF!)/100,\"N/A\")","v":{"$error":"#REF!"}},{"$f":"IF(COUNTA(#REF!)>0,(COUNTIF(#REF!,\"=0\")*0+COUNTIF(#REF!,\"=1\")*100+COUNTIF(#REF!,\"=2\")*80+COUNTIF(#REF!,\"=3\")*50+COUNTIF(#REF!,\"=8\")*20+COUNTIF(#REF!,\"=9\")*0)/COUNTA(#REF!)/100,\"N/A\")","v":{"$error":"#REF!"}},{"$f":"IF(AND(COUNTA(B20:V20)<>0,#REF!<>\"\"),AVERAGE(W20:AC20),\"N/A\")","v":{"$error":"#REF!"}},"","","","","",{"$error":"#REF!"},{"$error":"#REF!"},{"$error":"#REF!"},{"$f":"IF(#REF!<>\"\",#REF!,\"\")","v":{"$error":"#REF!"}}]
["Elève7",0,0,0,0,0,0,0,0,0,0,0,0,0,0,0,0,0,0,0,0,0,{"v":0,"d":"0.0%"},{"v":0,"d":"0.0%"},{"v":0,"d":"0.0%"},{"v":0,"d":"0.0%"},{"v":0,"d":"0.0%"},{"$f":"IF(COUNTA(#REF!)>0,(COUNTIF(#REF!,\"=0\")*0+COUNTIF(#REF!,\"=1\")*100+COUNTIF(#REF!,\"=2\")*80+COUNTIF(#REF!,\"=3\")*50+COUNTIF(#REF!,\"=8\")*20+COUNTIF(#REF!,\"=9\")*0)/COUNTA(#REF!)/100,\"N/A\")","v":{"$error":"#REF!"}},{"$f":"IF(COUNTA(#REF!)>0,(COUNTIF(#REF!,\"=0\")*0+COUNTIF(#REF!,\"=1\")*100+COUNTIF(#REF!,\"=2\")*80+COUNTIF(#REF!,\"=3\")*50+COUNTIF(#REF!,\"=8\")*20+COUNTIF(#REF!,\"=9\")*0)/COUNTA(#REF!)/100,\"N/A\")","v":{"$error":"#REF!"}},{"$f":"IF(AND(COUNTA(B21:V21)<>0,#REF!<>\"\"),AVERAGE(W21:AC21),\"N/A\")","v":{"$error":"#REF!"}},"","","","","",{"$error":"#REF!"},{"$error":"#REF!"},{"$error":"#REF!"},{"$f":"IF(#REF!<>\"\",#REF!,\"\")","v":{"$error":"#REF!"}}]
["Elève8",0,0,0,0,0,0,0,0,0,0,0,0,0,0,0,0,0,0,0,0,0,{"v":0,"d":"0.0%"},{"v":0,"d":"0.0%"},{"v":0,"d":"0.0%"},{"v":0,"d":"0.0%"},{"v":0,"d":"0.0%"},{"$f":"IF(COUNTA(#REF!)>0,(COUNTIF(#REF!,\"=0\")*0+COUNTIF(#REF!,\"=1\")*100+COUNTIF(#REF!,\"=2\")*80+COUNTIF(#REF!,\"=3\")*50+COUNTIF(#REF!,\"=8\")*20+COUNTIF(#REF!,\"=9\")*0)/COUNTA(#REF!)/100,\"N/A\")","v":{"$error":"#REF!"}},{"$f":"IF(COUNTA(#REF!)>0,(COUNTIF(#REF!,\"=0\")*0+COUNTIF(#REF!,\"=1\")*100+COUNTIF(#REF!,\"=2\")*80+COUNTIF(#REF!,\"=3\")*50+COUNTIF(#REF!,\"=8\")*20+COUNTIF(#REF!,\"=9\")*0)/COUNTA(#REF!)/100,\"N/A\")","v":{"$error":"#REF!"}},{"$f":"IF(AND(COUNTA(B22:V22)<>0,#REF!<>\"\"),AVERAGE(W22:AC22),\"N/A\")","v":{"$error":"#REF!"}},"","","","","",{"$error":"#REF!"},{"$error":"#REF!"},{"$error":"#REF!"},{"$f":"IF(#REF!<>\"\",#REF!,\"\")","v":{"$error":"#REF!"}}]
["Elève9",0,0,0,0,0,0,0,0,0,0,0,0,0,0,0,0,0,0,0,0,0,{"v":0,"d":"0.0%"},{"v":0,"d":"0.0%"},{"v":0,"d":"0.0%"},{"v":0,"d":"0.0%"},{"v":0,"d":"0.0%"},{"$f":"IF(COUNTA(#REF!)>0,(COUNTIF(#REF!,\"=0\")*0+COUNTIF(#REF!,\"=1\")*100+COUNTIF(#REF!,\"=2\")*80+COUNTIF(#REF!,\"=3\")*50+COUNTIF(#REF!,\"=8\")*20+COUNTIF(#REF!,\"=9\")*0)/COUNTA(#REF!)/100,\"N/A\")","v":{"$error":"#REF!"}},{"$f":"IF(COUNTA(#REF!)>0,(COUNTIF(#REF!,\"=0\")*0+COUNTIF(#REF!,\"=1\")*100+COUNTIF(#REF!,\"=2\")*80+COUNTIF(#REF!,\"=3\")*50+COUNTIF(#REF!,\"=8\")*20+COUNTIF(#REF!,\"=9\")*0)/COUNTA(#REF!)/100,\"N/A\")","v":{"$error":"#REF!"}},{"$f":"IF(AND(COUNTA(B23:V23)<>0,#REF!<>\"\"),AVERAGE(W23:AC23),\"N/A\")","v":{"$error":"#REF!"}},"","","","","",{"$error":"#REF!"},{"$error":"#REF!"},{"$error":"#REF!"},{"$f":"IF(#REF!<>\"\",#REF!,\"\")","v":{"$error":"#REF!"}}]
["Elève10",0,0,0,0,0,0,0,0,0,0,0,0,0,0,0,0,0,0,0,0,0,{"v":0,"d":"0.0%"},{"v":0,"d":"0.0%"},{"v":0,"d":"0.0%"},{"v":0,"d":"0.0%"},{"v":0,"d":"0.0%"},{"$f":"IF(COUNTA(#REF!)>0,(COUNTIF(#REF!,\"=0\")*0+COUNTIF(#REF!,\"=1\")*100+COUNTIF(#REF!,\"=2\")*80+COUNTIF(#REF!,\"=3\")*50+COUNTIF(#REF!,\"=8\")*20+COUNTIF(#REF!,\"=9\")*0)/COUNTA(#REF!)/100,\"N/A\")","v":{"$error":"#REF!"}},{"$f":"IF(COUNTA(#REF!)>0,(COUNTIF(#REF!,\"=0\")*0+COUNTIF(#REF!,\"=1\")*100+COUNTIF(#REF!,\"=2\")*80+COUNTIF(#REF!,\"=3\")*50+COUNTIF(#REF!,\"=8\")*20+COUNTIF(#REF!,\"=9\")*0)/COUNTA(#REF!)/100,\"N/A\")","v":{"$error":"#REF!"}},{"$f":"IF(AND(COUNTA(B24:V24)<>0,#REF!<>\"\"),AVERAGE(W24:AC24),\"N/A\")","v":{"$error":"#REF!"}},"","","","","",{"$error":"#REF!"},{"$error":"#REF!"},{"$error":"#REF!"},{"$f":"IF(#REF!<>\"\",#REF!,\"\")","v":{"$error":"#REF!"}}]
["Elève11",0,0,0,0,0,0,0,0,0,0,0,0,0,0,0,0,0,0,0,0,0,{"v":0,"d":"0.0%"},{"v":0,"d":"0.0%"},{"v":0,"d":"0.0%"},{"v":0,"d":"0.0%"},{"v":0,"d":"0.0%"},{"$f":"IF(COUNTA(#REF!)>0,(COUNTIF(#REF!,\"=0\")*0+COUNTIF(#REF!,\"=1\")*100+COUNTIF(#REF!,\"=2\")*80+COUNTIF(#REF!,\"=3\")*50+COUNTIF(#REF!,\"=8\")*20+COUNTIF(#REF!,\"=9\")*0)/COUNTA(#REF!)/100,\"N/A\")","v":{"$error":"#REF!"}},{"$f":"IF(COUNTA(#REF!)>0,(COUNTIF(#REF!,\"=0\")*0+COUNTIF(#REF!,\"=1\")*100+COUNTIF(#REF!,\"=2\")*80+COUNTIF(#REF!,\"=3\")*50+COUNTIF(#REF!,\"=8\")*20+COUNTIF(#REF!,\"=9\")*0)/COUNTA(#REF!)/100,\"N/A\")","v":{"$error":"#REF!"}},{"$f":"IF(AND(COUNTA(B25:V25)<>0,#REF!<>\"\"),AVERAGE(W25:AC25),\"N/A\")","v":{"$error":"#REF!"}},"","","","","",{"$error":"#REF!"},{"$error":"#REF!"},{"$error":"#REF!"},{"$f":"IF(#REF!<>\"\",#REF!,\"\")","v":{"$error":"#REF!"}}]
["Elève12",0,0,0,0,0,0,0,0,0,0,0,0,0,0,0,0,0,0,0,0,0,{"v":0,"d":"0.0%"},{"v":0,"d":"0.0%"},{"v":0,"d":"0.0%"},{"v":0,"d":"0.0%"},{"v":0,"d":"0.0%"},{"$f":"IF(COUNTA(#REF!)>0,(COUNTIF(#REF!,\"=0\")*0+COUNTIF(#REF!,\"=1\")*100+COUNTIF(#REF!,\"=2\")*80+COUNTIF(#REF!,\"=3\")*50+COUNTIF(#REF!,\"=8\")*20+COUNTIF(#REF!,\"=9\")*0)/COUNTA(#REF!)/100,\"N/A\")","v":{"$error":"#REF!"}},{"$f":"IF(COUNTA(#REF!)>0,(COUNTIF(#REF!,\"=0\")*0+COUNTIF(#REF!,\"=1\")*100+COUNTIF(#REF!,\"=2\")*80+COUNTIF(#REF!,\"=3\")*50+COUNTIF(#REF!,\"=8\")*20+COUNTIF(#REF!,\"=9\")*0)/COUNTA(#REF!)/100,\"N/A\")","v":{"$error":"#REF!"}},{"$f":"IF(AND(COUNTA(B26:V26)<>0,#REF!<>\"\"),AVERAGE(W26:AC26),\"N/A\")","v":{"$error":"#REF!"}},"","","","","",{"$error":"#REF!"},{"$error":"#REF!"},{"$error":"#REF!"},{"$f":"IF(#REF!<>\"\",#REF!,\"\")","v":{"$error":"#REF!"}}]
["Elève13",0,0,0,0,0,0,0,0,0,0,0,0,0,0,0,0,0,0,0,0,0,{"v":0,"d":"0.0%"},{"v":0,"d":"0.0%"},{"v":0,"d":"0.0%"},{"v":0,"d":"0.0%"},{"v":0,"d":"0.0%"},{"$f":"IF(COUNTA(#REF!)>0,(COUNTIF(#REF!,\"=0\")*0+COUNTIF(#REF!,\"=1\")*100+COUNTIF(#REF!,\"=2\")*80+COUNTIF(#REF!,\"=3\")*50+COUNTIF(#REF!,\"=8\")*20+COUNTIF(#REF!,\"=9\")*0)/COUNTA(#REF!)/100,\"N/A\")","v":{"$error":"#REF!"}},{"$f":"IF(COUNTA(#REF!)>0,(COUNTIF(#REF!,\"=0\")*0+COUNTIF(#REF!,\"=1\")*100+COUNTIF(#REF!,\"=2\")*80+COUNTIF(#REF!,\"=3\")*50+COUNTIF(#REF!,\"=8\")*20+COUNTIF(#REF!,\"=9\")*0)/COUNTA(#REF!)/100,\"N/A\")","v":{"$error":"#REF!"}},{"$f":"IF(AND(COUNTA(B27:V27)<>0,#REF!<>\"\"),AVERAGE(W27:AC27),\"N/A\")","v":{"$error":"#REF!"}},"","","","","",{"$error":"#REF!"},{"$error":"#REF!"},{"$error":"#REF!"},{"$f":"IF(#REF!<>\"\",#REF!,\"\")","v":{"$error":"#REF!"}}]
["Elève14",0,0,0,0,0,0,0,0,0,0,0,0,0,0,0,0,0,0,0,0,0,{"v":0,"d":"0.0%"},{"v":0,"d":"0.0%"},{"v":0,"d":"0.0%"},{"v":0,"d":"0.0%"},{"v":0,"d":"0.0%"},{"$f":"IF(COUNTA(#REF!)>0,(COUNTIF(#REF!,\"=0\")*0+COUNTIF(#REF!,\"=1\")*100+COUNTIF(#REF!,\"=2\")*80+COUNTIF(#REF!,\"=3\")*50+COUNTIF(#REF!,\"=8\")*20+COUNTIF(#REF!,\"=9\")*0)/COUNTA(#REF!)/100,\"N/A\")","v":{"$error":"#REF!"}},{"$f":"IF(COUNTA(#REF!)>0,(COUNTIF(#REF!,\"=0\")*0+COUNTIF(#REF!,\"=1\")*100+COUNTIF(#REF!,\"=2\")*80+COUNTIF(#REF!,\"=3\")*50+COUNTIF(#REF!,\"=8\")*20+COUNTIF(#REF!,\"=9\")*0)/COUNTA(#REF!)/100,\"N/A\")","v":{"$error":"#REF!"}},{"$f":"IF(AND(COUNTA(B28:V28)<>0,#REF!<>\"\"),AVERAGE(W28:AC28),\"N/A\")","v":{"$error":"#REF!"}},"","","","","",{"$error":"#REF!"},{"$error":"#REF!"},{"$error":"#REF!"}]
["Elève15",0,0,0,0,0,0,0,0,0,0,0,0,0,0,0,0,0,0,0,0,0,{"v":0,"d":"0.0%"},{"v":0,"d":"0.0%"},{"v":0,"d":"0.0%"},{"v":0,"d":"0.0%"},{"v":0,"d":"0.0%"},{"$f":"IF(COUNTA(#REF!)>0,(COUNTIF(#REF!,\"=0\")*0+COUNTIF(#REF!,\"=1\")*100+COUNTIF(#REF!,\"=2\")*80+COUNTIF(#REF!,\"=3\")*50+COUNTIF(#REF!,\"=8\")*20+COUNTIF(#REF!,\"=9\")*0)/COUNTA(#REF!)/100,\"N/A\")","v":{"$error":"#REF!"}},{"$f":"IF(COUNTA(#REF!)>0,(COUNTIF(#REF!,\"=0\")*0+COUNTIF(#REF!,\"=1\")*100+COUNTIF(#REF!,\"=2\")*80+COUNTIF(#REF!,\"=3\")*50+COUNTIF(#REF!,\"=8\")*20+COUNTIF(#REF!,\"=9\")*0)/COUNTA(#REF!)/100,\"N/A\")","v":{"$error":"#REF!"}},{"$f":"IF(AND(COUNTA(B29:V29)<>0,#REF!<>\"\"),AVERAGE(W29:AC29),\"N/A\")","v":{"$error":"#REF!"}},"","","","","",{"$error":"#REF!"},{"$error":"#REF!"},{"$error":"#REF!"}]
["Elève16",0,0,0,0,0,0,0,0,0,0,0,0,0,0,0,0,0,0,0,0,0,{"v":0,"d":"0.0%"},{"v":0,"d":"0.0%"},{"v":0,"d":"0.0%"},{"v":0,"d":"0.0%"},{"v":0,"d":"0.0%"},{"$f":"IF(COUNTA(#REF!)>0,(COUNTIF(#REF!,\"=0\")*0+COUNTIF(#REF!,\"=1\")*100+COUNTIF(#REF!,\"=2\")*80+COUNTIF(#REF!,\"=3\")*50+COUNTIF(#REF!,\"=8\")*20+COUNTIF(#REF!,\"=9\")*0)/COUNTA(#REF!)/100,\"N/A\")","v":{"$error":"#REF!"}},{"$f":"IF(COUNTA(#REF!)>0,(COUNTIF(#REF!,\"=0\")*0+COUNTIF(#REF!,\"=1\")*100+COUNTIF(#REF!,\"=2\")*80+COUNTIF(#REF!,\"=3\")*50+COUNTIF(#REF!,\"=8\")*20+COUNTIF(#REF!,\"=9\")*0)/COUNTA(#REF!)/100,\"N/A\")","v":{"$error":"#REF!"}},{"$f":"IF(AND(COUNTA(B30:V30)<>0,#REF!<>\"\"),AVERAGE(W30:AC30),\"N/A\")","v":{"$error":"#REF!"}},"","","","","",{"$error":"#REF!"},{"$error":"#REF!"},{"$error":"#REF!"}]
["Elève17",0,0,0,0,0,0,0,0,0,0,0,0,0,0,0,0,0,0,0,0,0,{"v":0,"d":"0.0%"},{"v":0,"d":"0.0%"},{"v":0,"d":"0.0%"},{"v":0,"d":"0.0%"},{"v":0,"d":"0.0%"},{"$f":"IF(COUNTA(#REF!)>0,(COUNTIF(#REF!,\"=0\")*0+COUNTIF(#REF!,\"=1\")*100+COUNTIF(#REF!,\"=2\")*80+COUNTIF(#REF!,\"=3\")*50+COUNTIF(#REF!,\"=8\")*20+COUNTIF(#REF!,\"=9\")*0)/COUNTA(#REF!)/100,\"N/A\")","v":{"$error":"#REF!"}},{"$f":"IF(COUNTA(#REF!)>0,(COUNTIF(#REF!,\"=0\")*0+COUNTIF(#REF!,\"=1\")*100+COUNTIF(#REF!,\"=2\")*80+COUNTIF(#REF!,\"=3\")*50+COUNTIF(#REF!,\"=8\")*20+COUNTIF(#REF!,\"=9\")*0)/COUNTA(#REF!)/100,\"N/A\")","v":{"$error":"#REF!"}},{"$f":"IF(AND(COUNTA(B31:V31)<>0,#REF!<>\"\"),AVERAGE(W31:AC31),\"N/A\")","v":{"$error":"#REF!"}},{"$f":"IF(W31=\"N/A\",1,\"\")","v":""},"","","","",{"$error":"#REF!"},{"$error":"#REF!"},{"$error":"#REF!"}]
["Elève18",0,0,0,0,0,0,0,0,0,0,0,0,0,0,0,0,0,0,0,0,0,{"v":0,"d":"0.0%"},{"v":0,"d":"0.0%"},{"v":0,"d":"0.0%"},{"v":0,"d":"0.0%"},{"v":0,"d":"0.0%"},{"$f":"IF(COUNTA(#REF!)>0,(COUNTIF(#REF!,\"=0\")*0+COUNTIF(#REF!,\"=1\")*100+COUNTIF(#REF!,\"=2\")*80+COUNTIF(#REF!,\"=3\")*50+COUNTIF(#REF!,\"=8\")*20+COUNTIF(#REF!,\"=9\")*0)/COUNTA(#REF!)/100,\"N/A\")","v":{"$error":"#REF!"}},{"$f":"IF(COUNTA(#REF!)>0,(COUNTIF(#REF!,\"=0\")*0+COUNTIF(#REF!,\"=1\")*100+COUNTIF(#REF!,\"=2\")*80+COUNTIF(#REF!,\"=3\")*50+COUNTIF(#REF!,\"=8\")*20+COUNTIF(#REF!,\"=9\")*0)/COUNTA(#REF!)/100,\"N/A\")","v":{"$error":"#REF!"}},{"$f":"IF(AND(COUNTA(B32:V32)<>0,#REF!<>\"\"),AVERAGE(W32:AC32),\"N/A\")","v":{"$error":"#REF!"}},"","","","","",{"$error":"#REF!"},{"$error":"#REF!"},{"$error":"#REF!"}]
["Elève19",0,0,0,0,0,0,0,0,0,0,0,0,0,0,0,0,0,0,0,0,0,{"v":0,"d":"0.0%"},{"v":0,"d":"0.0%"},{"v":0,"d":"0.0%"},{"v":0,"d":"0.0%"},{"v":0,"d":"0.0%"},{"$f":"IF(COUNTA(#REF!)>0,(COUNTIF(#REF!,\"=0\")*0+COUNTIF(#REF!,\"=1\")*100+COUNTIF(#REF!,\"=2\")*80+COUNTIF(#REF!,\"=3\")*50+COUNTIF(#REF!,\"=8\")*20+COUNTIF(#REF!,\"=9\")*0)/COUNTA(#REF!)/100,\"N/A\")","v":{"$error":"#REF!"}},{"$f":"IF(COUNTA(#REF!)>0,(COUNTIF(#REF!,\"=0\")*0+COUNTIF(#REF!,\"=1\")*100+COUNTIF(#REF!,\"=2\")*80+COUNTIF(#REF!,\"=3\")*50+COUNTIF(#REF!,\"=8\")*20+COUNTIF(#REF!,\"=9\")*0)/COUNTA(#REF!)/100,\"N/A\")","v":{"$error":"#REF!"}},{"$f":"IF(AND(COUNTA(B33:V33)<>0,#REF!<>\"\"),AVERAGE(W33:AC33),\"N/A\")","v":{"$error":"#REF!"}},"","","","","",{"$error":"#REF!"},{"$error":"#REF!"},{"$error":"#REF!"}]
["Elève20",0,0,0,0,0,0,0,0,0,0,0,0,0,0,0,0,0,0,0,0,0,{"v":0,"d":"0.0%"},{"v":0,"d":"0.0%"},{"v":0,"d":"0.0%"},{"v":0,"d":"0.0%"},{"v":0,"d":"0.0%"},{"$f":"IF(COUNTA(#REF!)>0,(COUNTIF(#REF!,\"=0\")*0+COUNTIF(#REF!,\"=1\")*100+COUNTIF(#REF!,\"=2\")*80+COUNTIF(#REF!,\"=3\")*50+COUNTIF(#REF!,\"=8\")*20+COUNTIF(#REF!,\"=9\")*0)/COUNTA(#REF!)/100,\"N/A\")","v":{"$error":"#REF!"}},{"$f":"IF(COUNTA(#REF!)>0,(COUNTIF(#REF!,\"=0\")*0+COUNTIF(#REF!,\"=1\")*100+COUNTIF(#REF!,\"=2\")*80+COUNTIF(#REF!,\"=3\")*50+COUNTIF(#REF!,\"=8\")*20+COUNTIF(#REF!,\"=9\")*0)/COUNTA(#REF!)/100,\"N/A\")","v":{"$error":"#REF!"}},{"$f":"IF(AND(COUNTA(B34:V34)<>0,#REF!<>\"\"),AVERAGE(W34:AC34),\"N/A\")","v":{"$error":"#REF!"}},"","","","","",{"$error":"#REF!"},{"$error":"#REF!"},{"$error":"#REF!"}]
["Elève21",0,0,0,0,0,0,0,0,0,0,0,0,0,0,0,0,0,0,0,0,0,{"v":0,"d":"0.0%"},{"v":0,"d":"0.0%"},{"v":0,"d":"0.0%"},{"v":0,"d":"0.0%"},{"v":0,"d":"0.0%"},{"$f":"IF(COUNTA(#REF!)>0,(COUNTIF(#REF!,\"=0\")*0+COUNTIF(#REF!,\"=1\")*100+COUNTIF(#REF!,\"=2\")*80+COUNTIF(#REF!,\"=3\")*50+COUNTIF(#REF!,\"=8\")*20+COUNTIF(#REF!,\"=9\")*0)/COUNTA(#REF!)/100,\"N/A\")","v":{"$error":"#REF!"}},{"$f":"IF(COUNTA(#REF!)>0,(COUNTIF(#REF!,\"=0\")*0+COUNTIF(#REF!,\"=1\")*100+COUNTIF(#REF!,\"=2\")*80+COUNTIF(#REF!,\"=3\")*50+COUNTIF(#REF!,\"=8\")*20+COUNTIF(#REF!,\"=9\")*0)/COUNTA(#REF!)/100,\"N/A\")","v":{"$error":"#REF!"}},{"$f":"IF(AND(COUNTA(B35:V35)<>0,#REF!<>\"\"),AVERAGE(W35:AC35),\"N/A\")","v":{"$error":"#REF!"}},"","","","","",{"$error":"#REF!"},{"$error":"#REF!"},{"$error":"#REF!"}]
["Elève22",0,0,0,0,0,0,0,0,0,0,0,0,0,0,0,0,0,0,0,0,0,{"v":0,"d":"0.0%"},{"v":0,"d":"0.0%"},{"v":0,"d":"0.0%"},{"v":0,"d":"0.0%"},{"v":0,"d":"0.0%"},{"$f":"IF(COUNTA(#REF!)>0,(COUNTIF(#REF!,\"=0\")*0+COUNTIF(#REF!,\"=1\")*100+COUNTIF(#REF!,\"=2\")*80+COUNTIF(#REF!,\"=3\")*50+COUNTIF(#REF!,\"=8\")*20+COUNTIF(#REF!,\"=9\")*0)/COUNTA(#REF!)/100,\"N/A\")","v":{"$error":"#REF!"}},{"$f":"IF(COUNTA(#REF!)>0,(COUNTIF(#REF!,\"=0\")*0+COUNTIF(#REF!,\"=1\")*100+COUNTIF(#REF!,\"=2\")*80+COUNTIF(#REF!,\"=3\")*50+COUNTIF(#REF!,\"=8\")*20+COUNTIF(#REF!,\"=9\")*0)/COUNTA(#REF!)/100,\"N/A\")","v":{"$error":"#REF!"}},{"$f":"IF(AND(COUNTA(B36:V36)<>0,#REF!<>\"\"),AVERAGE(W36:AC36),\"N/A\")","v":{"$error":"#REF!"}},"","","","","",{"$error":"#REF!"},{"$error":"#REF!"},{"$error":"#REF!"}]
["Elève23",0,0,0,0,0,0,0,0,0,0,0,0,0,0,0,0,0,0,0,0,0,{"v":0,"d":"0.0%"},{"v":0,"d":"0.0%"},{"v":0,"d":"0.0%"},{"v":0,"d":"0.0%"},{"v":0,"d":"0.0%"},{"$f":"IF(COUNTA(#REF!)>0,(COUNTIF(#REF!,\"=0\")*0+COUNTIF(#REF!,\"=1\")*100+COUNTIF(#REF!,\"=2\")*80+COUNTIF(#REF!,\"=3\")*50+COUNTIF(#REF!,\"=8\")*20+COUNTIF(#REF!,\"=9\")*0)/COUNTA(#REF!)/100,\"N/A\")","v":{"$error":"#REF!"}},{"$f":"IF(COUNTA(#REF!)>0,(COUNTIF(#REF!,\"=0\")*0+COUNTIF(#REF!,\"=1\")*100+COUNTIF(#REF!,\"=2\")*80+COUNTIF(#REF!,\"=3\")*50+COUNTIF(#REF!,\"=8\")*20+COUNTIF(#REF!,\"=9\")*0)/COUNTA(#REF!)/100,\"N/A\")","v":{"$error":"#REF!"}},{"$f":"IF(AND(COUNTA(B37:V37)<>0,#REF!<>\"\"),AVERAGE(W37:AC37),\"N/A\")","v":{"$error":"#REF!"}},"","","","","",{"$error":"#REF!"},{"$error":"#REF!"},{"$error":"#REF!"}]
["Elève24",0,0,0,0,0,0,0,0,0,0,0,0,0,0,0,0,0,0,0,0,0,{"v":0,"d":"0.0%"},{"v":0,"d":"0.0%"},{"v":0,"d":"0.0%"},{"v":0,"d":"0.0%"},{"v":0,"d":"0.0%"},{"$f":"IF(COUNTA(#REF!)>0,(COUNTIF(#REF!,\"=0\")*0+COUNTIF(#REF!,\"=1\")*100+COUNTIF(#REF!,\"=2\")*80+COUNTIF(#REF!,\"=3\")*50+COUNTIF(#REF!,\"=8\")*20+COUNTIF(#REF!,\"=9\")*0)/COUNTA(#REF!)/100,\"N/A\")","v":{"$error":"#REF!"}},{"$f":"IF(COUNTA(#REF!)>0,(COUNTIF(#REF!,\"=0\")*0+COUNTIF(#REF!,\"=1\")*100+COUNTIF(#REF!,\"=2\")*80+COUNTIF(#REF!,\"=3\")*50+COUNTIF(#REF!,\"=8\")*20+COUNTIF(#REF!,\"=9\")*0)/COUNTA(#REF!)/100,\"N/A\")","v":{"$error":"#REF!"}},{"$f":"IF(AND(COUNTA(B38:V38)<>0,#REF!<>\"\"),AVERAGE(W38:AC38),\"N/A\")","v":{"$error":"#REF!"}},"","","","","",{"$error":"#REF!"},{"$error":"#REF!"},{"$error":"#REF!"}]
["Elève25",0,0,0,0,0,0,0,0,0,0,0,0,0,0,0,0,0,0,0,0,0,{"v":0,"d":"0.0%"},{"v":0,"d":"0.0%"},{"v":0,"d":"0.0%"},{"v":0,"d":"0.0%"},{"v":0,"d":"0.0%"},{"$f":"IF(COUNTA(#REF!)>0,(COUNTIF(#REF!,\"=0\")*0+COUNTIF(#REF!,\"=1\")*100+COUNTIF(#REF!,\"=2\")*80+COUNTIF(#REF!,\"=3\")*50+COUNTIF(#REF!,\"=8\")*20+COUNTIF(#REF!,\"=9\")*0)/COUNTA(#REF!)/100,\"N/A\")","v":{"$error":"#REF!"}},{"$f":"IF(COUNTA(#REF!)>0,(COUNTIF(#REF!,\"=0\")*0+COUNTIF(#REF!,\"=1\")*100+COUNTIF(#REF!,\"=2\")*80+COUNTIF(#REF!,\"=3\")*50+COUNTIF(#REF!,\"=8\")*20+COUNTIF(#REF!,\"=9\")*0)/COUNTA(#REF!)/100,\"N/A\")","v":{"$error":"#REF!"}},{"$f":"IF(AND(COUNTA(B39:V39)<>0,#REF!<>\"\"),AVERAGE(W39:AC39),\"N/A\")","v":{"$error":"#REF!"}},"","","","","",{"$error":"#REF!"},{"$error":"#REF!"},{"$error":"#REF!"}]
["Elève26",0,0,0,0,0,0,0,0,0,0,0,0,0,0,0,0,0,0,0,0,0,{"v":0,"d":"0.0%"},{"v":0,"d":"0.0%"},{"v":0,"d":"0.0%"},{"v":0,"d":"0.0%"},{"v":0,"d":"0.0%"},{"$f":"IF(COUNTA(#REF!)>0,(COUNTIF(#REF!,\"=0\")*0+COUNTIF(#REF!,\"=1\")*100+COUNTIF(#REF!,\"=2\")*80+COUNTIF(#REF!,\"=3\")*50+COUNTIF(#REF!,\"=8\")*20+COUNTIF(#REF!,\"=9\")*0)/COUNTA(#REF!)/100,\"N/A\")","v":{"$error":"#REF!"}},{"$f":"IF(COUNTA(#REF!)>0,(COUNTIF(#REF!,\"=0\")*0+COUNTIF(#REF!,\"=1\")*100+COUNTIF(#REF!,\"=2\")*80+COUNTIF(#REF!,\"=3\")*50+COUNTIF(#REF!,\"=8\")*20+COUNTIF(#REF!,\"=9\")*0)/COUNTA(#REF!)/100,\"N/A\")","v":{"$error":"#REF!"}},{"$f":"IF(AND(COUNTA(B40:V40)<>0,#REF!<>\"\"),AVERAGE(W40:AC40),\"N/A\")","v":{"$error":"#REF!"}},"","","","","",{"$error":"#REF!"},{"$error":"#REF!"},{"$error":"#REF!"}]
["Elève27",0,0,0,0,0,0,0,0,0,0,0,0,0,0,0,0,0,0,0,0,0,{"v":0,"d":"0.0%"},{"v":0,"d":"0.0%"},{"v":0,"d":"0.0%"},{"v":0,"d":"0.0%"},{"v":0,"d":"0.0%"},{"$f":"IF(COUNTA(#REF!)>0,(COUNTIF(#REF!,\"=0\")*0+COUNTIF(#REF!,\"=1\")*100+COUNTIF(#REF!,\"=2\")*80+COUNTIF(#REF!,\"=3\")*50+COUNTIF(#REF!,\"=8\")*20+COUNTIF(#REF!,\"=9\")*0)/COUNTA(#REF!)/100,\"N/A\")","v":{"$error":"#REF!"}},{"$f":"IF(COUNTA(#REF!)>0,(COUNTIF(#REF!,\"=0\")*0+COUNTIF(#REF!,\"=1\")*100+COUNTIF(#REF!,\"=2\")*80+COUNTIF(#REF!,\"=3\")*50+COUNTIF(#REF!,\"=8\")*20+COUNTIF(#REF!,\"=9\")*0)/COUNTA(#REF!)/100,\"N/A\")","v":{"$error":"#REF!"}},{"$f":"IF(AND(COUNTA(B41:V41)<>0,#REF!<>\"\"),AVERAGE(W41:AC41),\"N/A\")","v":{"$error":"#REF!"}},"","","","","",{"$error":"#REF!"},{"$error":"#REF!"},{"$error":"#REF!"}]
["Elève28",0,0,0,0,0,0,0,0,0,0,0,0,0,0,0,0,0,0,0,0,0,{"v":0,"d":"0.0%"},{"v":0,"d":"0.0%"},{"v":0,"d":"0.0%"},{"v":0,"d":"0.0%"},{"v":0,"d":"0.0%"},{"$f":"IF(COUNTA(#REF!)>0,(COUNTIF(#REF!,\"=0\")*0+COUNTIF(#REF!,\"=1\")*100+COUNTIF(#REF!,\"=2\")*80+COUNTIF(#REF!,\"=3\")*50+COUNTIF(#REF!,\"=8\")*20+COUNTIF(#REF!,\"=9\")*0)/COUNTA(#REF!)/100,\"N/A\")","v":{"$error":"#REF!"}},{"$f":"IF(COUNTA(#REF!)>0,(COUNTIF(#REF!,\"=0\")*0+COUNTIF(#REF!,\"=1\")*100+COUNTIF(#REF!,\"=2\")*80+COUNTIF(#REF!,\"=3\")*50+COUNTIF(#REF!,\"=8\")*20+COUNTIF(#REF!,\"=9\")*0)/COUNTA(#REF!)/100,\"N/A\")","v":{"$error":"#REF!"}},{"$f":"IF(AND(COUNTA(B42:V42)<>0,#REF!<>\"\"),AVERAGE(W42:AC42),\"N/A\")","v":{"$error":"#REF!"}},"","","","","",{"$error":"#REF!"},{"$error":"#REF!"},{"$error":"#REF!"}]
["Elève29",0,0,0,0,0,0,0,0,0,0,0,0,0,0,0,0,0,0,0,0,0,{"v":0,"d":"0.0%"},{"v":0,"d":"0.0%"},{"v":0,"d":"0.0%"},{"v":0,"d":"0.0%"},{"v":0,"d":"0.0%"},{"$f":"IF(COUNTA(#REF!)>0,(COUNTIF(#REF!,\"=0\")*0+COUNTIF(#REF!,\"=1\")*100+COUNTIF(#REF!,\"=2\")*80+COUNTIF(#REF!,\"=3\")*50+COUNTIF(#REF!,\"=8\")*20+COUNTIF(#REF!,\"=9\")*0)/COUNTA(#REF!)/100,\"N/A\")","v":{"$error":"#REF!"}},{"$f":"IF(COUNTA(#REF!)>0,(COUNTIF(#REF!,\"=0\")*0+COUNTIF(#REF!,\"=1\")*100+COUNTIF(#REF!,\"=2\")*80+COUNTIF(#REF!,\"=3\")*50+COUNTIF(#REF!,\"=8\")*20+COUNTIF(#REF!,\"=9\")*0)/COUNTA(#REF!)/100,\"N/A\")","v":{"$error":"#REF!"}},{"$f":"IF(AND(COUNTA(B43:V43)<>0,#REF!<>\"\"),AVERAGE(W43:AC43),\"N/A\")","v":{"$error":"#REF!"}},"","","","","",{"$error":"#REF!"},{"$error":"#REF!"},{"$error":"#REF!"}]
["Elève30",0,0,0,0,0,0,0,0,0,0,0,0,0,0,0,0,0,0,0,0,0,{"v":0,"d":"0.0%"},{"v":0,"d":"0.0%"},{"v":0,"d":"0.0%"},{"v":0,"d":"0.0%"},{"v":0,"d":"0.0%"},{"$f":"IF(COUNTA(#REF!)>0,(COUNTIF(#REF!,\"=0\")*0+COUNTIF(#REF!,\"=1\")*100+COUNTIF(#REF!,\"=2\")*80+COUNTIF(#REF!,\"=3\")*50+COUNTIF(#REF!,\"=8\")*20+COUNTIF(#REF!,\"=9\")*0)/COUNTA(#REF!)/100,\"N/A\")","v":{"$error":"#REF!"}},{"$f":"IF(COUNTA(#REF!)>0,(COUNTIF(#REF!,\"=0\")*0+COUNTIF(#REF!,\"=1\")*100+COUNTIF(#REF!,\"=2\")*80+COUNTIF(#REF!,\"=3\")*50+COUNTIF(#REF!,\"=8\")*20+COUNTIF(#REF!,\"=9\")*0)/COUNTA(#REF!)/100,\"N/A\")","v":{"$error":"#REF!"}},{"$f":"IF(AND(COUNTA(B44:V44)<>0,#REF!<>\"\"),AVERAGE(W44:AC44),\"N/A\")","v":{"$error":"#REF!"}},"","","","","",{"$error":"#REF!"},{"$error":"#REF!"},{"$error":"#REF!"}]
["Elève31",0,0,0,0,0,0,0,0,0,0,0,0,0,0,0,0,0,0,0,0,0,{"v":0,"d":"0.0%"},{"v":0,"d":"0.0%"},{"v":0,"d":"0.0%"},{"v":0,"d":"0.0%"},{"v":0,"d":"0.0%"},{"$f":"IF(COUNTA(#REF!)>0,(COUNTIF(#REF!,\"=0\")*0+COUNTIF(#REF!,\"=1\")*100+COUNTIF(#REF!,\"=2\")*80+COUNTIF(#REF!,\"=3\")*50+COUNTIF(#REF!,\"=8\")*20+COUNTIF(#REF!,\"=9\")*0)/COUNTA(#REF!)/100,\"N/A\")","v":{"$error":"#REF!"}},{"$f":"IF(COUNTA(#REF!)>0,(COUNTIF(#REF!,\"=0\")*0+COUNTIF(#REF!,\"=1\")*100+COUNTIF(#REF!,\"=2\")*80+COUNTIF(#REF!,\"=3\")*50+COUNTIF(#REF!,\"=8\")*20+COUNTIF(#REF!,\"=9\")*0)/COUNTA(#REF!)/100,\"N/A\")","v":{"$error":"#REF!"}},{"$f":"IF(AND(COUNTA(B45:V45)<>0,#REF!<>\"\"),AVERAGE(W45:AC45),\"N/A\")","v":{"$error":"#REF!"}},"","","","","",{"$error":"#REF!"},{"$error":"#REF!"},{"$error":"#REF!"}]
["Elève32",0,0,0,0,0,0,0,0,0,0,0,0,0,0,0,0,0,0,0,0,0,{"v":0,"d":"0.0%"},{"v":0,"d":"0.0%"},{"v":0,"d":"0.0%"},{"v":0,"d":"0.0%"},{"v":0,"d":"0.0%"},{"$f":"IF(COUNTA(#REF!)>0,(COUNTIF(#REF!,\"=0\")*0+COUNTIF(#REF!,\"=1\")*100+COUNTIF(#REF!,\"=2\")*80+COUNTIF(#REF!,\"=3\")*50+COUNTIF(#REF!,\"=8\")*20+COUNTIF(#REF!,\"=9\")*0)/COUNTA(#REF!)/100,\"N/A\")","v":{"$error":"#REF!"}},{"$f":"IF(COUNTA(#REF!)>0,(COUNTIF(#REF!,\"=0\")*0+COUNTIF(#REF!,\"=1\")*100+COUNTIF(#REF!,\"=2\")*80+COUNTIF(#REF!,\"=3\")*50+COUNTIF(#REF!,\"=8\")*20+COUNTIF(#REF!,\"=9\")*0)/COUNTA(#REF!)/100,\"N/A\")","v":{"$error":"#REF!"}},{"$f":"IF(AND(COUNTA(B46:V46)<>0,#REF!<>\"\"),AVERAGE(W46:AC46),\"N/A\")","v":{"$error":"#REF!"}},"","","","","",{"$error":"#REF!"},{"$error":"#REF!"},{"$error":"#REF!"}]
["Elève33",0,0,0,0,0,0,0,0,0,0,0,0,0,0,0,0,0,0,0,0,0,{"v":0,"d":"0.0%"},{"v":0,"d":"0.0%"},{"v":0,"d":"0.0%"},{"v":0,"d":"0.0%"},{"v":0,"d":"0.0%"},{"$f":"IF(COUNTA(#REF!)>0,(COUNTIF(#REF!,\"=0\")*0+COUNTIF(#REF!,\"=1\")*100+COUNTIF(#REF!,\"=2\")*80+COUNTIF(#REF!,\"=3\")*50+COUNTIF(#REF!,\"=8\")*20+COUNTIF(#REF!,\"=9\")*0)/COUNTA(#REF!)/100,\"N/A\")","v":{"$error":"#REF!"}},{"$f":"IF(COUNTA(#REF!)>0,(COUNTIF(#REF!,\"=0\")*0+COUNTIF(#REF!,\"=1\")*100+COUNTIF(#REF!,\"=2\")*80+COUNTIF(#REF!,\"=3\")*50+COUNTIF(#REF!,\"=8\")*20+COUNTIF(#REF!,\"=9\")*0)/COUNTA(#REF!)/100,\"N/A\")","v":{"$error":"#REF!"}},{"$f":"IF(AND(COUNTA(B47:V47)<>0,#REF!<>\"\"),AVERAGE(W47:AC47),\"N/A\")","v":{"$error":"#REF!"}},"","","","","",{"$error":"#REF!"},{"$error":"#REF!"},{"$error":"#REF!"}]
["Elève34",0,0,0,0,0,0,0,0,0,0,0,0,0,0,0,0,0,0,0,0,0,{"v":0,"d":"0.0%"},{"v":0,"d":"0.0%"},{"v":0,"d":"0.0%"},{"v":0,"d":"0.0%"},{"v":0,"d":"0.0%"},{"$f":"IF(COUNTA(#REF!)>0,(COUNTIF(#REF!,\"=0\")*0+COUNTIF(#REF!,\"=1\")*100+COUNTIF(#REF!,\"=2\")*80+COUNTIF(#REF!,\"=3\")*50+COUNTIF(#REF!,\"=8\")*20+COUNTIF(#REF!,\"=9\")*0)/COUNTA(#REF!)/100,\"N/A\")","v":{"$error":"#REF!"}},{"$f":"IF(COUNTA(#REF!)>0,(COUNTIF(#REF!,\"=0\")*0+COUNTIF(#REF!,\"=1\")*100+COUNTIF(#REF!,\"=2\")*80+COUNTIF(#REF!,\"=3\")*50+COUNTIF(#REF!,\"=8\")*20+COUNTIF(#REF!,\"=9\")*0)/COUNTA(#REF!)/100,\"N/A\")","v":{"$error":"#REF!"}},{"$f":"IF(AND(COUNTA(B48:V48)<>0,#REF!<>\"\"),AVERAGE(W48:AC48),\"N/A\")","v":{"$error":"#REF!"}},"","","","","",{"$error":"#REF!"},{"$error":"#REF!"},{"$error":"#REF!"}]
["Elève35",0,0,0,0,0,0,0,0,0,0,0,0,0,0,0,0,0,0,0,0,0,{"v":0,"d":"0.0%"},{"v":0,"d":"0.0%"},{"v":0,"d":"0.0%"},{"v":0,"d":"0.0%"},{"v":0,"d":"0.0%"},{"$f":"IF(COUNTA(#REF!)>0,(COUNTIF(#REF!,\"=0\")*0+COUNTIF(#REF!,\"=1\")*100+COUNTIF(#REF!,\"=2\")*80+COUNTIF(#REF!,\"=3\")*50+COUNTIF(#REF!,\"=8\")*20+COUNTIF(#REF!,\"=9\")*0)/COUNTA(#REF!)/100,\"N/A\")","v":{"$error":"#REF!"}},{"$f":"IF(COUNTA(#REF!)>0,(COUNTIF(#REF!,\"=0\")*0+COUNTIF(#REF!,\"=1\")*100+COUNTIF(#REF!,\"=2\")*80+COUNTIF(#REF!,\"=3\")*50+COUNTIF(#REF!,\"=8\")*20+COUNTIF(#REF!,\"=9\")*0)/COUNTA(#REF!)/100,\"N/A\")","v":{"$error":"#REF!"}},{"$f":"IF(AND(COUNTA(B49:V49)<>0,#REF!<>\"\"),AVERAGE(W49:AC49),\"N/A\")","v":{"$error":"#REF!"}},"","","","","",{"$error":"#REF!"},{"$error":"#REF!"},{"$error":"#REF!"}]
["Elève36",0,0,0,0,0,0,0,0,0,0,0,0,0,0,0,0,0,0,0,0,0,{"$f":"IF(COUNTA(B50:G50)>0,(COUNTIF(B50:G50,\"=0\")*0+COUNTIF(B50:G50,\"=1\")*100+COUNTIF(B50:G50,\"=2\")*80+COUNTIF(B50:G50,\"=3\")*50+COUNTIF(B50:G50,\"=8\")*20+COUNTIF(B50:G50,\"=9\")*0)/COUNTA(B50:G50)/100,\"N/A\")","v":{"v":0,"d":"0.0%"}},{"$f":"IF(COUNTA(K50:O50)>0,(COUNTIF(K50:O50,\"=0\")*0+COUNTIF(K50:O50,\"=1\")*100+COUNTIF(K50:O50,\"=2\")*80+COUNTIF(K50:O50,\"=3\")*50+COUNTIF(K50:O50,\"=8\")*20+COUNTIF(K50:O50,\"=9\")*0)/COUNTA(K50:O50)/100,\"N/A\")","v":{"v":0,"d":"0.0%"}},{"$f":"IF(COUNTA(P50)>0,(COUNTIF(P50,\"=0\")*0+COUNTIF(P50,\"=1\")*100+COUNTIF(P50,\"=2\")*80+COUNTIF(P50,\"=3\")*50+COUNTIF(P50,\"=8\")*20+COUNTIF(P50,\"=9\")*0)/COUNTA(P50)/100,\"N/A\")","v":{"v":0,"d":"0.0%"}},{"v":0,"d":"0.0%"},{"v":0,"d":"0.0%"},{"$f":"IF(COUNTA(#REF!)>0,(COUNTIF(#REF!,\"=0\")*0+COUNTIF(#REF!,\"=1\")*100+COUNTIF(#REF!,\"=2\")*80+COUNTIF(#REF!,\"=3\")*50+COUNTIF(#REF!,\"=8\")*20+COUNTIF(#REF!,\"=9\")*0)/COUNTA(#REF!)/100,\"N/A\")","v":{"$error":"#REF!"}},{"$f":"IF(COUNTA(#REF!)>0,(COUNTIF(#REF!,\"=0\")*0+COUNTIF(#REF!,\"=1\")*100+COUNTIF(#REF!,\"=2\")*80+COUNTIF(#REF!,\"=3\")*50+COUNTIF(#REF!,\"=8\")*20+COUNTIF(#REF!,\"=9\")*0)/COUNTA(#REF!)/100,\"N/A\")","v":{"$error":"#REF!"}},{"$f":"IF(AND(COUNTA(B50:V50)<>0,#REF!<>\"\"),AVERAGE(W50:AC50),\"N/A\")","v":{"$error":"#REF!"}},{"$f":"IF(W50=\"N/A\",1,\"\")","v":""},"","",{"$f":"IF(Z50=\"N/A\",1,\"\")","v":""},"",{"$error":"#REF!"},{"$error":"#REF!"},{"$error":"#REF!"}]
["Elève37",0,0,0,0,0,0,0,0,0,0,0,0,0,0,0,0,0,0,0,0,0,{"v":0,"d":"0.0%"},{"v":0,"d":"0.0%"},{"v":0,"d":"0.0%"},{"v":0,"d":"0.0%"},{"v":0,"d":"0.0%"},{"$f":"IF(COUNTA(#REF!)>0,(COUNTIF(#REF!,\"=0\")*0+COUNTIF(#REF!,\"=1\")*100+COUNTIF(#REF!,\"=2\")*80+COUNTIF(#REF!,\"=3\")*50+COUNTIF(#REF!,\"=8\")*20+COUNTIF(#REF!,\"=9\")*0)/COUNTA(#REF!)/100,\"N/A\")","v":{"$error":"#REF!"}},{"$f":"IF(COUNTA(#REF!)>0,(COUNTIF(#REF!,\"=0\")*0+COUNTIF(#REF!,\"=1\")*100+COUNTIF(#REF!,\"=2\")*80+COUNTIF(#REF!,\"=3\")*50+COUNTIF(#REF!,\"=8\")*20+COUNTIF(#REF!,\"=9\")*0)/COUNTA(#REF!)/100,\"N/A\")","v":{"$error":"#REF!"}},{"$f":"IF(AND(COUNTA(B51:V51)<>0,#REF!<>\"\"),AVERAGE(W51:AC51),\"N/A\")","v":{"$error":"#REF!"}},"","","","","",{"$error":"#REF!"},{"$error":"#REF!"},{"$error":"#REF!"}]
["Elève38",0,0,0,0,0,0,0,0,0,0,0,0,0,0,0,0,0,0,0,0,0,{"v":0,"d":"0.0%"},{"v":0,"d":"0.0%"},{"v":0,"d":"0.0%"},{"v":0,"d":"0.0%"},{"v":0,"d":"0.0%"},{"$f":"IF(COUNTA(#REF!)>0,(COUNTIF(#REF!,\"=0\")*0+COUNTIF(#REF!,\"=1\")*100+COUNTIF(#REF!,\"=2\")*80+COUNTIF(#REF!,\"=3\")*50+COUNTIF(#REF!,\"=8\")*20+COUNTIF(#REF!,\"=9\")*0)/COUNTA(#REF!)/100,\"N/A\")","v":{"$error":"#REF!"}},{"$f":"IF(COUNTA(#REF!)>0,(COUNTIF(#REF!,\"=0\")*0+COUNTIF(#REF!,\"=1\")*100+COUNTIF(#REF!,\"=2\")*80+COUNTIF(#REF!,\"=3\")*50+COUNTIF(#REF!,\"=8\")*20+COUNTIF(#REF!,\"=9\")*0)/COUNTA(#REF!)/100,\"N/A\")","v":{"$error":"#REF!"}},{"$f":"IF(AND(COUNTA(B52:V52)<>0,#REF!<>\"\"),AVERAGE(W52:AC52),\"N/A\")","v":{"$error":"#REF!"}},"","","","","",{"$error":"#REF!"},{"$error":"#REF!"},{"$error":"#REF!"}]
["Elève39",{"$nulls":21},"N/A","N/A","N/A","N/A","N/A",{"$f":"IF(COUNTA(#REF!)>0,(COUNTIF(#REF!,\"=0\")*0+COUNTIF(#REF!,\"=1\")*100+COUNTIF(#REF!,\"=2\")*80+COUNTIF(#REF!,\"=3\")*50+COUNTIF(#REF!,\"=8\")*20+COUNTIF(#REF!,\"=9\")*0)/COUNTA(#REF!)/100,\"N/A\")","v":{"$error":"#REF!"}},{"$f":"IF(COUNTA(#REF!)>0,(COUNTIF(#REF!,\"=0\")*0+COUNTIF(#REF!,\"=1\")*100+COUNTIF(#REF!,\"=2\")*80+COUNTIF(#REF!,\"=3\")*50+COUNTIF(#REF!,\"=8\")*20+COUNTIF(#REF!,\"=9\")*0)/COUNTA(#REF!)/100,\"N/A\")","v":{"$error":"#REF!"}},{"$f":"IF(AND(COUNTA(B53:V53)<>0,#REF!<>\"\"),AVERAGE(W53:AC53),\"N/A\")","v":{"$error":"#REF!"}},1,1,1,1,1,{"$error":"#REF!"},{"$error":"#REF!"},{"$error":"#REF!"}]
["Elève40",{"$nulls":21},"N/A","N/A","N/A","N/A","N/A",{"$f":"IF(COUNTA(#REF!)>0,(COUNTIF(#REF!,\"=0\")*0+COUNTIF(#REF!,\"=1\")*100+COUNTIF(#REF!,\"=2\")*80+COUNTIF(#REF!,\"=3\")*50+COUNTIF(#REF!,\"=8\")*20+COUNTIF(#REF!,\"=9\")*0)/COUNTA(#REF!)/100,\"N/A\")","v":{"$error":"#REF!"}},{"$f":"IF(COUNTA(#REF!)>0,(COUNTIF(#REF!,\"=0\")*0+COUNTIF(#REF!,\"=1\")*100+COUNTIF(#REF!,\"=2\")*80+COUNTIF(#REF!,\"=3\")*50+COUNTIF(#REF!,\"=8\")*20+COUNTIF(#REF!,\"=9\")*0)/COUNTA(#REF!)/100,\"N/A\")","v":{"$error":"#REF!"}},{"$f":"IF(AND(COUNTA(B54:V54)<>0,#REF!<>\"\"),AVERAGE(W54:AC54),\"N/A\")","v":{"$error":"#REF!"}},1,1,1,1,1,{"$error":"#REF!"},{"$error":"#REF!"},{"$error":"#REF!"}]
["Elève41",{"$nulls":21},"N/A","N/A","N/A","N/A","N/A",{"$f":"IF(COUNTA(#REF!)>0,(COUNTIF(#REF!,\"=0\")*0+COUNTIF(#REF!,\"=1\")*100+COUNTIF(#REF!,\"=2\")*80+COUNTIF(#REF!,\"=3\")*50+COUNTIF(#REF!,\"=8\")*20+COUNTIF(#REF!,\"=9\")*0)/COUNTA(#REF!)/100,\"N/A\")","v":{"$error":"#REF!"}},{"$f":"IF(COUNTA(#REF!)>0,(COUNTIF(#REF!,\"=0\")*0+COUNTIF(#REF!,\"=1\")*100+COUNTIF(#REF!,\"=2\")*80+COUNTIF(#REF!,\"=3\")*50+COUNTIF(#REF!,\"=8\")*20+COUNTIF(#REF!,\"=9\")*0)/COUNTA(#REF!)/100,\"N/A\")","v":{"$error":"#REF!"}},{"$f":"IF(AND(COUNTA(B55:V55)<>0,#REF!<>\"\"),AVERAGE(W55:AC55),\"N/A\")","v":{"$error":"#REF!"}},1,1,1,1,1,{"$error":"#REF!"},{"$error":"#REF!"},{"$error":"#REF!"}]
["Elève42",{"$nulls":21},"N/A","N/A","N/A","N/A","N/A",{"$f":"IF(COUNTA(#REF!)>0,(COUNTIF(#REF!,\"=0\")*0+COUNTIF(#REF!,\"=1\")*100+COUNTIF(#REF!,\"=2\")*80+COUNTIF(#REF!,\"=3\")*50+COUNTIF(#REF!,\"=8\")*20+COUNTIF(#REF!,\"=9\")*0)/COUNTA(#REF!)/100,\"N/A\")","v":{"$error":"#REF!"}},{"$f":"IF(COUNTA(#REF!)>0,(COUNTIF(#REF!,\"=0\")*0+COUNTIF(#REF!,\"=1\")*100+COUNTIF(#REF!,\"=2\")*80+COUNTIF(#REF!,\"=3\")*50+COUNTIF(#REF!,\"=8\")*20+COUNTIF(#REF!,\"=9\")*0)/COUNTA(#REF!)/100,\"N/A\")","v":{"$error":"#REF!"}},{"$f":"IF(AND(COUNTA(B56:V56)<>0,#REF!<>\"\"),AVERAGE(W56:AC56),\"N/A\")","v":{"$error":"#REF!"}},1,1,1,1,1,{"$error":"#REF!"},{"$error":"#REF!"},{"$error":"#REF!"}]
["Elève43",{"$nulls":21},"N/A","N/A","N/A","N/A","N/A",{"$f":"IF(COUNTA(#REF!)>0,(COUNTIF(#REF!,\"=0\")*0+COUNTIF(#REF!,\"=1\")*100+COUNTIF(#REF!,\"=2\")*80+COUNTIF(#REF!,\"=3\")*50+COUNTIF(#REF!,\"=8\")*20+COUNTIF(#REF!,\"=9\")*0)/COUNTA(#REF!)/100,\"N/A\")","v":{"$error":"#REF!"}},{"$f":"IF(COUNTA(#REF!)>0,(COUNTIF(#REF!,\"=0\")*0+COUNTIF(#REF!,\"=1\")*100+COUNTIF(#REF!,\"=2\")*80+COUNTIF(#REF!,\"=3\")*50+COUNTIF(#REF!,\"=8\")*20+COUNTIF(#REF!,\"=9\")*0)/COUNTA(#REF!)/100,\"N/A\")","v":{"$error":"#REF!"}},{"$f":"IF(AND(COUNTA(B57:V57)<>0,#REF!<>\"\"),AVERAGE(W57:AC57),\"N/A\")","v":{"$error":"#REF!"}},1,1,1,1,1,{"$error":"#REF!"},{"$error":"#REF!"},{"$error":"#REF!"}]
["Elève44",{"$nulls":21},"N/A","N/A","N/A","N/A","N/A",{"$f":"IF(COUNTA(#REF!)>0,(COUNTIF(#REF!,\"=0\")*0+COUNTIF(#REF!,\"=1\")*100+COUNTIF(#REF!,\"=2\")*80+COUNTIF(#REF!,\"=3\")*50+COUNTIF(#REF!,\"=8\")*20+COUNTIF(#REF!,\"=9\")*0)/COUNTA(#REF!)/100,\"N/A\")","v":{"$error":"#REF!"}},{"$f":"IF(COUNTA(#REF!)>0,(COUNTIF(#REF!,\"=0\")*0+COUNTIF(#REF!,\"=1\")*100+COUNTIF(#REF!,\"=2\")*80+COUNTIF(#REF!,\"=3\")*50+COUNTIF(#REF!,\"=8\")*20+COUNTIF(#REF!,\"=9\")*0)/COUNTA(#REF!)/100,\"N/A\")","v":{"$error":"#REF!"}},{"$f":"IF(AND(COUNTA(B58:V58)<>0,#REF!<>\"\"),AVERAGE(W58:AC58),\"N/A\")","v":{"$error":"#REF!"}},1,1,1,1,1,{"$error":"#REF!"},{"$error":"#REF!"},{"$error":"#REF!"}]
["Elève45",{"$nulls":21},"N/A","N/A","N/A","N/A","N/A",{"$f":"IF(COUNTA(#REF!)>0,(COUNTIF(#REF!,\"=0\")*0+COUNTIF(#REF!,\"=1\")*100+COUNTIF(#REF!,\"=2\")*80+COUNTIF(#REF!,\"=3\")*50+COUNTIF(#REF!,\"=8\")*20+COUNTIF(#REF!,\"=9\")*0)/COUNTA(#REF!)/100,\"N/A\")","v":{"$error":"#REF!"}},{"$f":"IF(COUNTA(#REF!)>0,(COUNTIF(#REF!,\"=0\")*0+COUNTIF(#REF!,\"=1\")*100+COUNTIF(#REF!,\"=2\")*80+COUNTIF(#REF!,\"=3\")*50+COUNTIF(#REF!,\"=8\")*20+COUNTIF(#REF!,\"=9\")*0)/COUNTA(#REF!)/100,\"N/A\")","v":{"$error":"#REF!"}},{"$f":"IF(AND(COUNTA(B59:V59)<>0,#REF!<>\"\"),AVERAGE(W59:AC59),\"N/A\")","v":{"$error":"#REF!"}},1,1,1,1,1,{"$error":"#REF!"},{"$error":"#REF!"},{"$error":"#REF!"}]
["Elève46",{"$nulls":21},"N/A","N/A","N/A","N/A","N/A",{"$f":"IF(COUNTA(#REF!)>0,(COUNTIF(#REF!,\"=0\")*0+COUNTIF(#REF!,\"=1\")*100+COUNTIF(#REF!,\"=2\")*80+COUNTIF(#REF!,\"=3\")*50+COUNTIF(#REF!,\"=8\")*20+COUNTIF(#REF!,\"=9\")*0)/COUNTA(#REF!)/100,\"N/A\")","v":{"$error":"#REF!"}},{"$f":"IF(COUNTA(#REF!)>0,(COUNTIF(#REF!,\"=0\")*0+COUNTIF(#REF!,\"=1\")*100+COUNTIF(#REF!,\"=2\")*80+COUNTIF(#REF!,\"=3\")*50+COUNTIF(#REF!,\"=8\")*20+COUNTIF(#REF!,\"=9\")*0)/COUNTA(#REF!)/100,\"N/A\")","v":{"$error":"#REF!"}},{"$f":"IF(AND(COUNTA(B60:V60)<>0,#REF!<>\"\"),AVERAGE(W60:AC60),\"N/A\")","v":{"$error":"#REF!"}},1,1,1,1,1,{"$error":"#REF!"},{"$error":"#REF!"},{"$error":"#REF!"}]
["Elève47",{"$nulls":21},"N/A","N/A","N/A","N/A","N/A",{"$f":"IF(COUNTA(#REF!)>0,(COUNTIF(#REF!,\"=0\")*0+COUNTIF(#REF!,\"=1\")*100+COUNTIF(#REF!,\"=2\")*80+COUNTIF(#REF!,\"=3\")*50+COUNTIF(#REF!,\"=8\")*20+COUNTIF(#REF!,\"=9\")*0)/COUNTA(#REF!)/100,\"N/A\")","v":{"$error":"#REF!"}},{"$f":"IF(COUNTA(#REF!)>0,(COUNTIF(#REF!,\"=0\")*0+COUNTIF(#REF!,\"=1\")*100+COUNTIF(#REF!,\"=2\")*80+COUNTIF(#REF!,\"=3\")*50+COUNTIF(#REF!,\"=8\")*20+COUNTIF(#REF!,\"=9\")*0)/COUNTA(#REF!)/100,\"N/A\")","v":{"$error":"#REF!"}},{"$f":"IF(AND(COUNTA(B61:V61)<>0,#REF!<>\"\"),AVERAGE(W61:AC61),\"N/A\")","v":{"$error":"#REF!"}},1,1,1,1,1,{"$error":"#REF!"},{"$error":"#REF!"},{"$error":"#REF!"}]
["Elève48",{"$nulls":21},"N/A","N/A","N/A","N/A","N/A",{"$f":"IF(COUNTA(#REF!)>0,(COUNTIF(#REF!,\"=0\")*0+COUNTIF(#REF!,\"=1\")*100+COUNTIF(#REF!,\"=2\")*80+COUNTIF(#REF!,\"=3\")*50+COUNTIF(#REF!,\"=8\")*20+COUNTIF(#REF!,\"=9\")*0)/COUNTA(#REF!)/100,\"N/A\")","v":{"$error":"#REF!"}},{"$f":"IF(COUNTA(#REF!)>0,(COUNTIF(#REF!,\"=0\")*0+COUNTIF(#REF!,\"=1\")*100+COUNTIF(#REF!,\"=2\")*80+COUNTIF(#REF!,\"=3\")*50+COUNTIF(#REF!,\"=8\")*20+COUNTIF(#REF!,\"=9\")*0)/COUNTA(#REF!)/100,\"N/A\")","v":{"$error":"#REF!"}},{"$f":"IF(AND(COUNTA(B62:V62)<>0,#REF!<>\"\"),AVERAGE(W62:AC62),\"N/A\")","v":{"$error":"#REF!"}},1,1,1,1,1,{"$error":"#REF!"},{"$error":"#REF!"},{"$error":"#REF!"}]
["Elève49",{"$nulls":21},"N/A","N/A","N/A","N/A","N/A",{"$f":"IF(COUNTA(#REF!)>0,(COUNTIF(#REF!,\"=0\")*0+COUNTIF(#REF!,\"=1\")*100+COUNTIF(#REF!,\"=2\")*80+COUNTIF(#REF!,\"=3\")*50+COUNTIF(#REF!,\"=8\")*20+COUNTIF(#REF!,\"=9\")*0)/COUNTA(#REF!)/100,\"N/A\")","v":{"$error":"#REF!"}},{"$f":"IF(COUNTA(#REF!)>0,(COUNTIF(#REF!,\"=0\")*0+COUNTIF(#REF!,\"=1\")*100+COUNTIF(#REF!,\"=2\")*80+COUNTIF(#REF!,\"=3\")*50+COUNTIF(#REF!,\"=8\")*20+COUNTIF(#REF!,\"=9\")*0)/COUNTA(#REF!)/100,\"N/A\")","v":{"$error":"#REF!"}},{"$f":"IF(AND(COUNTA(B63:V63)<>0,#REF!<>\"\"),AVERAGE(W63:AC63),\"N/A\")","v":{"$error":"#REF!"}},1,1,1,1,1,{"$error":"#REF!"},{"$error":"#REF!"},{"$error":"#REF!"}]
["Elève50",{"$nulls":21},"N/A","N/A","N/A","N/A","N/A",{"$f":"IF(COUNTA(#REF!)>0,(COUNTIF(#REF!,\"=0\")*0+COUNTIF(#REF!,\"=1\")*100+COUNTIF(#REF!,\"=2\")*80+COUNTIF(#REF!,\"=3\")*50+COUNTIF(#REF!,\"=8\")*20+COUNTIF(#REF!,\"=9\")*0)/COUNTA(#REF!)/100,\"N/A\")","v":{"$error":"#REF!"}},{"$f":"IF(COUNTA(#REF!)>0,(COUNTIF(#REF!,\"=0\")*0+COUNTIF(#REF!,\"=1\")*100+COUNTIF(#REF!,\"=2\")*80+COUNTIF(#REF!,\"=3\")*50+COUNTIF(#REF!,\"=8\")*20+COUNTIF(#REF!,\"=9\")*0)/COUNTA(#REF!)/100,\"N/A\")","v":{"$error":"#REF!"}},{"$f":"IF(AND(COUNTA(B64:V64)<>0,#REF!<>\"\"),AVERAGE(W64:AC64),\"N/A\")","v":{"$error":"#REF!"}},1,1,1,1,1,{"$error":"#REF!"},{"$error":"#REF!"},{"$error":"#REF!"}]
["Elève51",{"$nulls":21},"N/A","N/A","N/A","N/A","N/A",{"$f":"IF(COUNTA(#REF!)>0,(COUNTIF(#REF!,\"=0\")*0+COUNTIF(#REF!,\"=1\")*100+COUNTIF(#REF!,\"=2\")*80+COUNTIF(#REF!,\"=3\")*50+COUNTIF(#REF!,\"=8\")*20+COUNTIF(#REF!,\"=9\")*0)/COUNTA(#REF!)/100,\"N/A\")","v":{"$error":"#REF!"}},{"$f":"IF(COUNTA(#REF!)>0,(COUNTIF(#REF!,\"=0\")*0+COUNTIF(#REF!,\"=1\")*100+COUNTIF(#REF!,\"=2\")*80+COUNTIF(#REF!,\"=3\")*50+COUNTIF(#REF!,\"=8\")*20+COUNTIF(#REF!,\"=9\")*0)/COUNTA(#REF!)/100,\"N/A\")","v":{"$error":"#REF!"}},{"$f":"IF(AND(COUNTA(B65:V65)<>0,#REF!<>\"\"),AVERAGE(W65:AC65),\"N/A\")","v":{"$error":"#REF!"}},1,1,1,1,1,{"$error":"#REF!"},{"$error":"#REF!"},{"$error":"#REF!"}]
["Elève52",{"$nulls":21},"N/A","N/A","N/A","N/A","N/A",{"$f":"IF(COUNTA(#REF!)>0,(COUNTIF(#REF!,\"=0\")*0+COUNTIF(#REF!,\"=1\")*100+COUNTIF(#REF!,\"=2\")*80+COUNTIF(#REF!,\"=3\")*50+COUNTIF(#REF!,\"=8\")*20+COUNTIF(#REF!,\"=9\")*0)/COUNTA(#REF!)/100,\"N/A\")","v":{"$error":"#REF!"}},{"$f":"IF(COUNTA(#REF!)>0,(COUNTIF(#REF!,\"=0\")*0+COUNTIF(#REF!,\"=1\")*100+COUNTIF(#REF!,\"=2\")*80+COUNTIF(#REF!,\"=3\")*50+COUNTIF(#REF!,\"=8\")*20+COUNTIF(#REF!,\"=9\")*0)/COUNTA(#REF!)/100,\"N/A\")","v":{"$error":"#REF!"}},{"$f":"IF(AND(COUNTA(B66:V66)<>0,#REF!<>\"\"),AVERAGE(W66:AC66),\"N/A\")","v":{"$error":"#REF!"}},1,1,1,1,1,{"$error":"#REF!"},{"$error":"#REF!"},{"$error":"#REF!"}]
["Elève53",{"$nulls":21},"N/A","N/A","N/A","N/A","N/A",{"$f":"IF(COUNTA(#REF!)>0,(COUNTIF(#REF!,\"=0\")*0+COUNTIF(#REF!,\"=1\")*100+COUNTIF(#REF!,\"=2\")*80+COUNTIF(#REF!,\"=3\")*50+COUNTIF(#REF!,\"=8\")*20+COUNTIF(#REF!,\"=9\")*0)/COUNTA(#REF!)/100,\"N/A\")","v":{"$error":"#REF!"}},{"$f":"IF(COUNTA(#REF!)>0,(COUNTIF(#REF!,\"=0\")*0+COUNTIF(#REF!,\"=1\")*100+COUNTIF(#REF!,\"=2\")*80+COUNTIF(#REF!,\"=3\")*50+COUNTIF(#REF!,\"=8\")*20+COUNTIF(#REF!,\"=9\")*0)/COUNTA(#REF!)/100,\"N/A\")","v":{"$error":"#REF!"}},{"$f":"IF(AND(COUNTA(B67:V67)<>0,#REF!<>\"\"),AVERAGE(W67:AC67),\"N/A\")","v":{"$error":"#REF!"}},1,1,1,1,1,{"$error":"#REF!"},{"$error":"#REF!"},{"$error":"#REF!"}]
["Elève54",{"$nulls":21},"N/A","N/A","N/A","N/A","N/A",{"$f":"IF(COUNTA(#REF!)>0,(COUNTIF(#REF!,\"=0\")*0+COUNTIF(#REF!,\"=1\")*100+COUNTIF(#REF!,\"=2\")*80+COUNTIF(#REF!,\"=3\")*50+COUNTIF(#REF!,\"=8\")*20+COUNTIF(#REF!,\"=9\")*0)/COUNTA(#REF!)/100,\"N/A\")","v":{"$error":"#REF!"}},{"$f":"IF(COUNTA(#REF!)>0,(COUNTIF(#REF!,\"=0\")*0+COUNTIF(#REF!,\"=1\")*100+COUNTIF(#REF!,\"=2\")*80+COUNTIF(#REF!,\"=3\")*50+COUNTIF(#REF!,\"=8\")*20+COUNTIF(#REF!,\"=9\")*0)/COUNTA(#REF!)/100,\"N/A\")","v":{"$error":"#REF!"}},{"$f":"IF(AND(COUNTA(B68:V68)<>0,#REF!<>\"\"),AVERAGE(W68:AC68),\"N/A\")","v":{"$error":"#REF!"}},1,1,1,1,1,{"$error":"#REF!"},{"$error":"#REF!"},{"$error":"#REF!"}]
["Elève55",{"$nulls":21},"N/A","N/A","N/A","N/A","N/A",{"$f":"IF(COUNTA(#REF!)>0,(COUNTIF(#REF!,\"=0\")*0+COUNTIF(#REF!,\"=1\")*100+COUNTIF(#REF!,\"=2\")*80+COUNTIF(#REF!,\"=3\")*50+COUNTIF(#REF!,\"=8\")*20+COUNTIF(#REF!,\"=9\")*0)/COUNTA(#REF!)/100,\"N/A\")","v":{"$error":"#REF!"}},{"$f":"IF(COUNTA(#REF!)>0,(COUNTIF(#REF!,\"=0\")*0+COUNTIF(#REF!,\"=1\")*100+COUNTIF(#REF!,\"=2\")*80+COUNTIF(#REF!,\"=3\")*50+COUNTIF(#REF!,\"=8\")*20+COUNTIF(#REF!,\"=9\")*0)/COUNTA(#REF!)/100,\"N/A\")","v":{"$error":"#REF!"}},{"$f":"IF(AND(COUNTA(B69:V69)<>0,#REF!<>\"\"),AVERAGE(W69:AC69),\"N/A\")","v":{"$error":"#REF!"}},1,1,1,1,1,{"$error":"#REF!"},{"$error":"#REF!"},{"$error":"#REF!"}]
["Elève56",{"$nulls":21},"N/A","N/A","N/A","N/A","N/A",{"$f":"IF(COUNTA(#REF!)>0,(COUNTIF(#REF!,\"=0\")*0+COUNTIF(#REF!,\"=1\")*100+COUNTIF(#REF!,\"=2\")*80+COUNTIF(#REF!,\"=3\")*50+COUNTIF(#REF!,\"=8\")*20+COUNTIF(#REF!,\"=9\")*0)/COUNTA(#REF!)/100,\"N/A\")","v":{"$error":"#REF!"}},{"$f":"IF(COUNTA(#REF!)>0,(COUNTIF(#REF!,\"=0\")*0+COUNTIF(#REF!,\"=1\")*100+COUNTIF(#REF!,\"=2\")*80+COUNTIF(#REF!,\"=3\")*50+COUNTIF(#REF!,\"=8\")*20+COUNTIF(#REF!,\"=9\")*0)/COUNTA(#REF!)/100,\"N/A\")","v":{"$error":"#REF!"}},{"$f":"IF(AND(COUNTA(B70:V70)<>0,#REF!<>\"\"),AVERAGE(W70:AC70),\"N/A\")","v":{"$error":"#REF!"}},1,1,1,1,1,{"$error":"#REF!"},{"$error":"#REF!"},{"$error":"#REF!"}]
["Elève57",{"$nulls":21},{"$f":"IF(COUNTA(B71:G71)>0,(COUNTIF(B71:G71,\"=0\")*0+COUNTIF(B71:G71,\"=1\")*100+COUNTIF(B71:G71,\"=2\")*80+COUNTIF(B71:G71,\"=3\")*50+COUNTIF(B71:G71,\"=8\")*20+COUNTIF(B71:G71,\"=9\")*0)/COUNTA(B71:G71)/100,\"N/A\")","v":"N/A"},{"$f":"IF(COUNTA(K71:O71)>0,(COUNTIF(K71:O71,\"=0\")*0+COUNTIF(K71:O71,\"=1\")*100+COUNTIF(K71:O71,\"=2\")*80+COUNTIF(K71:O71,\"=3\")*50+COUNTIF(K71:O71,\"=8\")*20+COUNTIF(K71:O71,\"=9\")*0)/COUNTA(K71:O71)/100,\"N/A\")","v":"N/A"},{"$f":"IF(COUNTA(P71)>0,(COUNTIF(P71,\"=0\")*0+COUNTIF(P71,\"=1\")*100+COUNTIF(P71,\"=2\")*80+COUNTIF(P71,\"=3\")*50+COUNTIF(P71,\"=8\")*20+COUNTIF(P71,\"=9\")*0)/COUNTA(P71)/100,\"N/A\")","v":"N/A"},"N/A","N/A",{"$f":"IF(COUNTA(#REF!)>0,(COUNTIF(#REF!,\"=0\")*0+COUNTIF(#REF!,\"=1\")*100+COUNTIF(#REF!,\"=2\")*80+COUNTIF(#REF!,\"=3\")*50+COUNTIF(#REF!,\"=8\")*20+COUNTIF(#REF!,\"=9\")*0)/COUNTA(#REF!)/100,\"N/A\")","v":{"$error":"#REF!"}},{"$f":"IF(COUNTA(#REF!)>0,(COUNTIF(#REF!,\"=0\")*0+COUNTIF(#REF!,\"=1\")*100+COUNTIF(#REF!,\"=2\")*80+COUNTIF(#REF!,\"=3\")*50+COUNTIF(#REF!,\"=8\")*20+COUNTIF(#REF!,\"=9\")*0)/COUNTA(#REF!)/100,\"N/A\")","v":{"$error":"#REF!"}},{"$f":"IF(AND(COUNTA(B71:V71)<>0,#REF!<>\"\"),AVERAGE(W71:AC71),\"N/A\")","v":{"$error":"#REF!"}},1,1,1,1,1,{"$error":"#REF!"},{"$error":"#REF!"},{"$error":"#REF!"}]
["Elève58",{"$nulls":21},"N/A","N/A","N/A","N/A","N/A",{"$f":"IF(COUNTA(#REF!)>0,(COUNTIF(#REF!,\"=0\")*0+COUNTIF(#REF!,\"=1\")*100+COUNTIF(#REF!,\"=2\")*80+COUNTIF(#REF!,\"=3\")*50+COUNTIF(#REF!,\"=8\")*20+COUNTIF(#REF!,\"=9\")*0)/COUNTA(#REF!)/100,\"N/A\")","v":{"$error":"#REF!"}},{"$f":"IF(COUNTA(#REF!)>0,(COUNTIF(#REF!,\"=0\")*0+COUNTIF(#REF!,\"=1\")*100+COUNTIF(#REF!,\"=2\")*80+COUNTIF(#REF!,\"=3\")*50+COUNTIF(#REF!,\"=8\")*20+COUNTIF(#REF!,\"=9\")*0)/COUNTA(#REF!)/100,\"N/A\")","v":{"$error":"#REF!"}},{"$f":"IF(AND(COUNTA(B72:V72)<>0,#REF!<>\"\"),AVERAGE(W72:AC72),\"N/A\")","v":{"$error":"#REF!"}},1,1,1,1,1,{"$error":"#REF!"},{"$error":"#REF!"},{"$error":"#REF!"}]
["Elève59",{"$nulls":21},"N/A","N/A","N/A","N/A","N/A",{"$f":"IF(COUNTA(#REF!)>0,(COUNTIF(#REF!,\"=0\")*0+COUNTIF(#REF!,\"=1\")*100+COUNTIF(#REF!,\"=2\")*80+COUNTIF(#REF!,\"=3\")*50+COUNTIF(#REF!,\"=8\")*20+COUNTIF(#REF!,\"=9\")*0)/COUNTA(#REF!)/100,\"N/A\")","v":{"$error":"#REF!"}},{"$f":"IF(COUNTA(#REF!)>0,(COUNTIF(#REF!,\"=0\")*0+COUNTIF(#REF!,\"=1\")*100+COUNTIF(#REF!,\"=2\")*80+COUNTIF(#REF!,\"=3\")*50+COUNTIF(#REF!,\"=8\")*20+COUNTIF(#REF!,\"=9\")*0)/COUNTA(#REF!)/100,\"N/A\")","v":{"$error":"#REF!"}},{"$f":"IF(AND(COUNTA(B73:V73)<>0,#REF!<>\"\"),AVERAGE(W73:AC73),\"N/A\")","v":{"$error":"#REF!"}},1,1,1,1,1,{"$error":"#REF!"},{"$error":"#REF!"},{"$error":"#REF!"}]
["Elève60",{"$nulls":21},"N/A","N/A","N/A","N/A","N/A",{"$f":"IF(COUNTA(#REF!)>0,(COUNTIF(#REF!,\"=0\")*0+COUNTIF(#REF!,\"=1\")*100+COUNTIF(#REF!,\"=2\")*80+COUNTIF(#REF!,\"=3\")*50+COUNTIF(#REF!,\"=8\")*20+COUNTIF(#REF!,\"=9\")*0)/COUNTA(#REF!)/100,\"N/A\")","v":{"$error":"#REF!"}},{"$f":"IF(COUNTA(#REF!)>0,(COUNTIF(#REF!,\"=0\")*0+COUNTIF(#REF!,\"=1\")*100+COUNTIF(#REF!,\"=2\")*80+COUNTIF(#REF!,\"=3\")*50+COUNTIF(#REF!,\"=8\")*20+COUNTIF(#REF!,\"=9\")*0)/COUNTA(#REF!)/100,\"N/A\")","v":{"$error":"#REF!"}},{"$f":"IF(AND(COUNTA(B74:V74)<>0,#REF!<>\"\"),AVERAGE(W74:AC74),\"N/A\")","v":{"$error":"#REF!"}},1,1,1,1,1,{"$error":"#REF!"},{"$error":"#REF!"},{"$error":"#REF!"}]
["Elève61",{"$nulls":21},"N/A","N/A","N/A","N/A","N/A",{"$f":"IF(COUNTA(#REF!)>0,(COUNTIF(#REF!,\"=0\")*0+COUNTIF(#REF!,\"=1\")*100+COUNTIF(#REF!,\"=2\")*80+COUNTIF(#REF!,\"=3\")*50+COUNTIF(#REF!,\"=8\")*20+COUNTIF(#REF!,\"=9\")*0)/COUNTA(#REF!)/100,\"N/A\")","v":{"$error":"#REF!"}},{"$f":"IF(COUNTA(#REF!)>0,(COUNTIF(#REF!,\"=0\")*0+COUNTIF(#REF!,\"=1\")*100+COUNTIF(#REF!,\"=2\")*80+COUNTIF(#REF!,\"=3\")*50+COUNTIF(#REF!,\"=8\")*20+COUNTIF(#REF!,\"=9\")*0)/COUNTA(#REF!)/100,\"N/A\")","v":{"$error":"#REF!"}},{"$f":"IF(AND(COUNTA(B75:V75)<>0,#REF!<>\"\"),AVERAGE(W75:AC75),\"N/A\")","v":{"$error":"#REF!"}},1,1,1,1,1,{"$error":"#REF!"},{"$error":"#REF!"},{"$error":"#REF!"}]
["Elève62",{"$nulls":21},"N/A","N/A","N/A","N/A","N/A",{"$f":"IF(COUNTA(#REF!)>0,(COUNTIF(#REF!,\"=0\")*0+COUNTIF(#REF!,\"=1\")*100+COUNTIF(#REF!,\"=2\")*80+COUNTIF(#REF!,\"=3\")*50+COUNTIF(#REF!,\"=8\")*20+COUNTIF(#REF!,\"=9\")*0)/COUNTA(#REF!)/100,\"N/A\")","v":{"$error":"#REF!"}},{"$f":"IF(COUNTA(#REF!)>0,(COUNTIF(#REF!,\"=0\")*0+COUNTIF(#REF!,\"=1\")*100+COUNTIF(#REF!,\"=2\")*80+COUNTIF(#REF!,\"=3\")*50+COUNTIF(#REF!,\"=8\")*20+COUNTIF(#REF!,\"=9\")*0)/COUNTA(#REF!)/100,\"N/A\")","v":{"$error":"#REF!"}},{"$f":"IF(AND(COUNTA(B76:V76)<>0,#REF!<>\"\"),AVERAGE(W76:AC76),\"N/A\")","v":{"$error":"#REF!"}},1,1,1,1,1,{"$error":"#REF!"},{"$error":"#REF!"},{"$error":"#REF!"}]
["Elève63",{"$nulls":21},"N/A","N/A","N/A","N/A","N/A",{"$f":"IF(COUNTA(#REF!)>0,(COUNTIF(#REF!,\"=0\")*0+COUNTIF(#REF!,\"=1\")*100+COUNTIF(#REF!,\"=2\")*80+COUNTIF(#REF!,\"=3\")*50+COUNTIF(#REF!,\"=8\")*20+COUNTIF(#REF!,\"=9\")*0)/COUNTA(#REF!)/100,\"N/A\")","v":{"$error":"#REF!"}},{"$f":"IF(COUNTA(#REF!)>0,(COUNTIF(#REF!,\"=0\")*0+COUNTIF(#REF!,\"=1\")*100+COUNTIF(#REF!,\"=2\")*80+COUNTIF(#REF!,\"=3\")*50+COUNTIF(#REF!,\"=8\")*20+COUNTIF(#REF!,\"=9\")*0)/COUNTA(#REF!)/100,\"N/A\")","v":{"$error":"#REF!"}},{"$f":"IF(AND(COUNTA(B77:V77)<>0,#REF!<>\"\"),AVERAGE(W77:AC77),\"N/A\")","v":{"$error":"#REF!"}},1,1,1,1,1,{"$error":"#REF!"},{"$error":"#REF!"},{"$error":"#REF!"}]
["Elève64",{"$nulls":21},"N/A","N/A","N/A","N/A","N/A",{"$f":"IF(COUNTA(#REF!)>0,(COUNTIF(#REF!,\"=0\")*0+COUNTIF(#REF!,\"=1\")*100+COUNTIF(#REF!,\"=2\")*80+COUNTIF(#REF!,\"=3\")*50+COUNTIF(#REF!,\"=8\")*20+COUNTIF(#REF!,\"=9\")*0)/COUNTA(#REF!)/100,\"N/A\")","v":{"$error":"#REF!"}},{"$f":"IF(COUNTA(#REF!)>0,(COUNTIF(#REF!,\"=0\")*0+COUNTIF(#REF!,\"=1\")*100+COUNTIF(#REF!,\"=2\")*80+COUNTIF(#REF!,\"=3\")*50+COUNTIF(#REF!,\"=8\")*20+COUNTIF(#REF!,\"=9\")*0)/COUNTA(#REF!)/100,\"N/A\")","v":{"$error":"#REF!"}},{"$f":"IF(AND(COUNTA(B78:V78)<>0,#REF!<>\"\"),AVERAGE(W78:AC78),\"N/A\")","v":{"$error":"#REF!"}},1,1,1,1,1,{"$error":"#REF!"},{"$error":"#REF!"},{"$error":"#REF!"}]
["Elève65",{"$nulls":21},"N/A","N/A","N/A",{"$f":"IF(COUNTA(Q79:U79)<>0,(COUNTIF(Q79:U79,\"=0\")*0+COUNTIF(Q79:U79,\"=1\")*100+COUNTIF(Q79:U79,\"=2\")*80+COUNTIF(Q79:U79,\"=3\")*50+COUNTIF(Q79:U79,\"=8\")*20+COUNTIF(Q79:U79,\"=9\")*0)/COUNTA(Q79:U79)/100,\"N/A\")","v":"N/A"},{"$f":"IF(COUNTA(V79:V79)>0,(COUNTIF(V79:V79,\"=0\")*0+COUNTIF(V79:V79,\"=1\")*100+COUNTIF(V79:V79,\"=2\")*80+COUNTIF(V79:V79,\"=3\")*50+COUNTIF(V79:V79,\"=8\")*20+COUNTIF(V79:V79,\"=9\")*0)/COUNTA(V79:V79)/100,\"N/A\")","v":"N/A"},{"$f":"IF(COUNTA(#REF!)>0,(COUNTIF(#REF!,\"=0\")*0+COUNTIF(#REF!,\"=1\")*100+COUNTIF(#REF!,\"=2\")*80+COUNTIF(#REF!,\"=3\")*50+COUNTIF(#REF!,\"=8\")*20+COUNTIF(#REF!,\"=9\")*0)/COUNTA(#REF!)/100,\"N/A\")","v":{"$error":"#REF!"}},{"$f":"IF(COUNTA(#REF!)>0,(COUNTIF(#REF!,\"=0\")*0+COUNTIF(#REF!,\"=1\")*100+COUNTIF(#REF!,\"=2\")*80+COUNTIF(#REF!,\"=3\")*50+COUNTIF(#REF!,\"=8\")*20+COUNTIF(#REF!,\"=9\")*0)/COUNTA(#REF!)/100,\"N/A\")","v":{"$error":"#REF!"}},{"$f":"IF(AND(COUNTA(B79:V79)<>0,#REF!<>\"\"),AVERAGE(W79:AC79),\"N/A\")","v":{"$error":"#REF!"}},1,1,1,1,1,{"$error":"#REF!"},{"$error":"#REF!"},{"$error":"#REF!"}]
["Elève66",{"$nulls":21},"N/A","N/A","N/A","N/A","N/A",{"$f":"IF(COUNTA(#REF!)>0,(COUNTIF(#REF!,\"=0\")*0+COUNTIF(#REF!,\"=1\")*100+COUNTIF(#REF!,\"=2\")*80+COUNTIF(#REF!,\"=3\")*50+COUNTIF(#REF!,\"=8\")*20+COUNTIF(#REF!,\"=9\")*0)/COUNTA(#REF!)/100,\"N/A\")","v":{"$error":"#REF!"}},{"$f":"IF(COUNTA(#REF!)>0,(COUNTIF(#REF!,\"=0\")*0+COUNTIF(#REF!,\"=1\")*100+COUNTIF(#REF!,\"=2\")*80+COUNTIF(#REF!,\"=3\")*50+COUNTIF(#REF!,\"=8\")*20+COUNTIF(#REF!,\"=9\")*0)/COUNTA(#REF!)/100,\"N/A\")","v":{"$error":"#REF!"}},{"$f":"IF(AND(COUNTA(B80:V80)<>0,#REF!<>\"\"),AVERAGE(W80:AC80),\"N/A\")","v":{"$error":"#REF!"}},1,1,1,1,1,{"$error":"#REF!"},{"$error":"#REF!"},{"$error":"#REF!"}]
["Elève67",{"$nulls":21},"N/A","N/A","N/A","N/A","N/A",{"$f":"IF(COUNTA(#REF!)>0,(COUNTIF(#REF!,\"=0\")*0+COUNTIF(#REF!,\"=1\")*100+COUNTIF(#REF!,\"=2\")*80+COUNTIF(#REF!,\"=3\")*50+COUNTIF(#REF!,\"=8\")*20+COUNTIF(#REF!,\"=9\")*0)/COUNTA(#REF!)/100,\"N/A\")","v":{"$error":"#REF!"}},{"$f":"IF(COUNTA(#REF!)>0,(COUNTIF(#REF!,\"=0\")*0+COUNTIF(#REF!,\"=1\")*100+COUNTIF(#REF!,\"=2\")*80+COUNTIF(#REF!,\"=3\")*50+COUNTIF(#REF!,\"=8\")*20+COUNTIF(#REF!,\"=9\")*0)/COUNTA(#REF!)/100,\"N/A\")","v":{"$error":"#REF!"}},{"$f":"IF(AND(COUNTA(B81:V81)<>0,#REF!<>\"\"),AVERAGE(W81:AC81),\"N/A\")","v":{"$error":"#REF!"}},1,1,1,1,1,{"$error":"#REF!"},{"$error":"#REF!"},{"$error":"#REF!"}]
["Elève68",{"$nulls":21},"N/A","N/A","N/A","N/A","N/A",{"$f":"IF(COUNTA(#REF!)>0,(COUNTIF(#REF!,\"=0\")*0+COUNTIF(#REF!,\"=1\")*100+COUNTIF(#REF!,\"=2\")*80+COUNTIF(#REF!,\"=3\")*50+COUNTIF(#REF!,\"=8\")*20+COUNTIF(#REF!,\"=9\")*0)/COUNTA(#REF!)/100,\"N/A\")","v":{"$error":"#REF!"}},{"$f":"IF(COUNTA(#REF!)>0,(COUNTIF(#REF!,\"=0\")*0+COUNTIF(#REF!,\"=1\")*100+COUNTIF(#REF!,\"=2\")*80+COUNTIF(#REF!,\"=3\")*50+COUNTIF(#REF!,\"=8\")*20+COUNTIF(#REF!,\"=9\")*0)/COUNTA(#REF!)/100,\"N/A\")","v":{"$error":"#REF!"}},{"$f":"IF(AND(COUNTA(B82:V82)<>0,#REF!<>\"\"),AVERAGE(W82:AC82),\"N/A\")","v":{"$error":"#REF!"}},1,1,1,1,1,{"$error":"#REF!"},{"$error":"#REF!"},{"$error":"#REF!"}]
["Elève69",{"$nulls":21},"N/A","N/A","N/A","N/A","N/A",{"$f":"IF(COUNTA(#REF!)>0,(COUNTIF(#REF!,\"=0\")*0+COUNTIF(#REF!,\"=1\")*100+COUNTIF(#REF!,\"=2\")*80+COUNTIF(#REF!,\"=3\")*50+COUNTIF(#REF!,\"=8\")*20+COUNTIF(#REF!,\"=9\")*0)/COUNTA(#REF!)/100,\"N/A\")","v":{"$error":"#REF!"}},{"$f":"IF(COUNTA(#REF!)>0,(COUNTIF(#REF!,\"=0\")*0+COUNTIF(#REF!,\"=1\")*100+COUNTIF(#REF!,\"=2\")*80+COUNTIF(#REF!,\"=3\")*50+COUNTIF(#REF!,\"=8\")*20+COUNTIF(#REF!,\"=9\")*0)/COUNTA(#REF!)/100,\"N/A\")","v":{"$error":"#REF!"}},{"$f":"IF(AND(COUNTA(B83:V83)<>0,#REF!<>\"\"),AVERAGE(W83:AC83),\"N/A\")","v":{"$error":"#REF!"}},1,1,1,1,1,{"$error":"#REF!"},{"$error":"#REF!"},{"$error":"#REF!"}]
["Elève70",{"$nulls":21},"N/A","N/A","N/A","N/A","N/A",{"$f":"IF(COUNTA(#REF!)>0,(COUNTIF(#REF!,\"=0\")*0+COUNTIF(#REF!,\"=1\")*100+COUNTIF(#REF!,\"=2\")*80+COUNTIF(#REF!,\"=3\")*50+COUNTIF(#REF!,\"=8\")*20+COUNTIF(#REF!,\"=9\")*0)/COUNTA(#REF!)/100,\"N/A\")","v":{"$error":"#REF!"}},{"$f":"IF(COUNTA(#REF!)>0,(COUNTIF(#REF!,\"=0\")*0+COUNTIF(#REF!,\"=1\")*100+COUNTIF(#REF!,\"=2\")*80+COUNTIF(#REF!,\"=3\")*50+COUNTIF(#REF!,\"=8\")*20+COUNTIF(#REF!,\"=9\")*0)/COUNTA(#REF!)/100,\"N/A\")","v":{"$error":"#REF!"}},{"$f":"IF(AND(COUNTA(B84:V84)<>0,#REF!<>\"\"),AVERAGE(W84:AC84),\"N/A\")","v":{"$error":"#REF!"}},1,1,1,1,1,{"$error":"#REF!"},{"$error":"#REF!"},{"$error":"#REF!"}]
["Elève71",{"$nulls":21},"N/A","N/A","N/A","N/A","N/A",{"$f":"IF(COUNTA(#REF!)>0,(COUNTIF(#REF!,\"=0\")*0+COUNTIF(#REF!,\"=1\")*100+COUNTIF(#REF!,\"=2\")*80+COUNTIF(#REF!,\"=3\")*50+COUNTIF(#REF!,\"=8\")*20+COUNTIF(#REF!,\"=9\")*0)/COUNTA(#REF!)/100,\"N/A\")","v":{"$error":"#REF!"}},{"$f":"IF(COUNTA(#REF!)>0,(COUNTIF(#REF!,\"=0\")*0+COUNTIF(#REF!,\"=1\")*100+COUNTIF(#REF!,\"=2\")*80+COUNTIF(#REF!,\"=3\")*50+COUNTIF(#REF!,\"=8\")*20+COUNTIF(#REF!,\"=9\")*0)/COUNTA(#REF!)/100,\"N/A\")","v":{"$error":"#REF!"}},{"$f":"IF(AND(COUNTA(B85:V85)<>0,#REF!<>\"\"),AVERAGE(W85:AC85),\"N/A\")","v":{"$error":"#REF!"}},1,1,1,1,1,{"$error":"#REF!"},{"$error":"#REF!"},{"$error":"#REF!"}]
["Elève72",{"$nulls":21},"N/A","N/A","N/A","N/A","N/A",{"$f":"IF(COUNTA(#REF!)>0,(COUNTIF(#REF!,\"=0\")*0+COUNTIF(#REF!,\"=1\")*100+COUNTIF(#REF!,\"=2\")*80+COUNTIF(#REF!,\"=3\")*50+COUNTIF(#REF!,\"=8\")*20+COUNTIF(#REF!,\"=9\")*0)/COUNTA(#REF!)/100,\"N/A\")","v":{"$error":"#REF!"}},{"$f":"IF(COUNTA(#REF!)>0,(COUNTIF(#REF!,\"=0\")*0+COUNTIF(#REF!,\"=1\")*100+COUNTIF(#REF!,\"=2\")*80+COUNTIF(#REF!,\"=3\")*50+COUNTIF(#REF!,\"=8\")*20+COUNTIF(#REF!,\"=9\")*0)/COUNTA(#REF!)/100,\"N/A\")","v":{"$error":"#REF!"}},{"$f":"IF(AND(COUNTA(B86:V86)<>0,#REF!<>\"\"),AVERAGE(W86:AC86),\"N/A\")","v":{"$error":"#REF!"}},1,1,1,1,1,{"$error":"#REF!"},{"$error":"#REF!"},{"$error":"#REF!"}]
["Elève73",{"$nulls":21},"N/A","N/A","N/A","N/A","N/A",{"$f":"IF(COUNTA(#REF!)>0,(COUNTIF(#REF!,\"=0\")*0+COUNTIF(#REF!,\"=1\")*100+COUNTIF(#REF!,\"=2\")*80+COUNTIF(#REF!,\"=3\")*50+COUNTIF(#REF!,\"=8\")*20+COUNTIF(#REF!,\"=9\")*0)/COUNTA(#REF!)/100,\"N/A\")","v":{"$error":"#REF!"}},{"$f":"IF(COUNTA(#REF!)>0,(COUNTIF(#REF!,\"=0\")*0+COUNTIF(#REF!,\"=1\")*100+COUNTIF(#REF!,\"=2\")*80+COUNTIF(#REF!,\"=3\")*50+COUNTIF(#REF!,\"=8\")*20+COUNTIF(#REF!,\"=9\")*0)/COUNTA(#REF!)/100,\"N/A\")","v":{"$error":"#REF!"}},{"$f":"IF(AND(COUNTA(B87:V87)<>0,#REF!<>\"\"),AVERAGE(W87:AC87),\"N/A\")","v":{"$error":"#REF!"}},1,1,1,1,1,{"$error":"#REF!"},{"$error":"#REF!"},{"$error":"#REF!"}]
["Elève74",{"$nulls":21},"N/A","N/A","N/A","N/A","N/A",{"$f":"IF(COUNTA(#REF!)>0,(COUNTIF(#REF!,\"=0\")*0+COUNTIF(#REF!,\"=1\")*100+COUNTIF(#REF!,\"=2\")*80+COUNTIF(#REF!,\"=3\")*50+COUNTIF(#REF!,\"=8\")*20+COUNTIF(#REF!,\"=9\")*0)/COUNTA(#REF!)/100,\"N/A\")","v":{"$error":"#REF!"}},{"$f":"IF(COUNTA(#REF!)>0,(COUNTIF(#REF!,\"=0\")*0+COUNTIF(#REF!,\"=1\")*100+COUNTIF(#REF!,\"=2\")*80+COUNTIF(#REF!,\"=3\")*50+COUNTIF(#REF!,\"=8\")*20+COUNTIF(#REF!,\"=9\")*0)/COUNTA(#REF!)/100,\"N/A\")","v":{"$error":"#REF!"}},{"$f":"IF(AND(COUNTA(B88:V88)<>0,#REF!<>\"\"),AVERAGE(W88:AC88),\"N/A\")","v":{"$error":"#REF!"}},1,1,1,1,1,{"$error":"#REF!"},{"$error":"#REF!"},{"$error":"#REF!"}]
["Elève75",{"$nulls":21},"N/A","N/A","N/A","N/A","N/A",{"$f":"IF(COUNTA(#REF!)>0,(COUNTIF(#REF!,\"=0\")*0+COUNTIF(#REF!,\"=1\")*100+COUNTIF(#REF!,\"=2\")*80+COUNTIF(#REF!,\"=3\")*50+COUNTIF(#REF!,\"=8\")*20+COUNTIF(#REF!,\"=9\")*0)/COUNTA(#REF!)/100,\"N/A\")","v":{"$error":"#REF!"}},{"$f":"IF(COUNTA(#REF!)>0,(COUNTIF(#REF!,\"=0\")*0+COUNTIF(#REF!,\"=1\")*100+COUNTIF(#REF!,\"=2\")*80+COUNTIF(#REF!,\"=3\")*50+COUNTIF(#REF!,\"=8\")*20+COUNTIF(#REF!,\"=9\")*0)/COUNTA(#REF!)/100,\"N/A\")","v":{"$error":"#REF!"}},{"$f":"IF(AND(COUNTA(B89:V89)<>0,#REF!<>\"\"),AVERAGE(W89:AC89),\"N/A\")","v":{"$error":"#REF!"}},1,1,1,1,1,{"$error":"#REF!"},{"$error":"#REF!"},{"$error":"#REF!"}]
["Elève76",{"$nulls":21},"N/A","N/A","N/A","N/A","N/A",{"$f":"IF(COUNTA(#REF!)>0,(COUNTIF(#REF!,\"=0\")*0+COUNTIF(#REF!,\"=1\")*100+COUNTIF(#REF!,\"=2\")*80+COUNTIF(#REF!,\"=3\")*50+COUNTIF(#REF!,\"=8\")*20+COUNTIF(#REF!,\"=9\")*0)/COUNTA(#REF!)/100,\"N/A\")","v":{"$error":"#REF!"}},{"$f":"IF(COUNTA(#REF!)>0,(COUNTIF(#REF!,\"=0\")*0+COUNTIF(#REF!,\"=1\")*100+COUNTIF(#REF!,\"=2\")*80+COUNTIF(#REF!,\"=3\")*50+COUNTIF(#REF!,\"=8\")*20+COUNTIF(#REF!,\"=9\")*0)/COUNTA(#REF!)/100,\"N/A\")","v":{"$error":"#REF!"}},{"$f":"IF(AND(COUNTA(B90:V90)<>0,#REF!<>\"\"),AVERAGE(W90:AC90),\"N/A\")","v":{"$error":"#REF!"}},1,1,1,1,1,{"$error":"#REF!"},{"$error":"#REF!"},{"$error":"#REF!"}]
["Elève77",{"$nulls":21},"N/A","N/A","N/A","N/A","N/A",{"$f":"IF(COUNTA(#REF!)>0,(COUNTIF(#REF!,\"=0\")*0+COUNTIF(#REF!,\"=1\")*100+COUNTIF(#REF!,\"=2\")*80+COUNTIF(#REF!,\"=3\")*50+COUNTIF(#REF!,\"=8\")*20+COUNTIF(#REF!,\"=9\")*0)/COUNTA(#REF!)/100,\"N/A\")","v":{"$error":"#REF!"}},{"$f":"IF(COUNTA(#REF!)>0,(COUNTIF(#REF!,\"=0\")*0+COUNTIF(#REF!,\"=1\")*100+COUNTIF(#REF!,\"=2\")*80+COUNTIF(#REF!,\"=3\")*50+COUNTIF(#REF!,\"=8\")*20+COUNTIF(#REF!,\"=9\")*0)/COUNTA(#REF!)/100,\"N/A\")","v":{"$error":"#REF!"}},{"$f":"IF(AND(COUNTA(B91:V91)<>0,#REF!<>\"\"),AVERAGE(W91:AC91),\"N/A\")","v":{"$error":"#REF!"}},1,1,1,1,1,{"$error":"#REF!"},{"$error":"#REF!"},{"$error":"#REF!"}]
["Elève78",{"$nulls":21},"N/A","N/A","N/A","N/A","N/A",{"$f":"IF(COUNTA(#REF!)>0,(COUNTIF(#REF!,\"=0\")*0+COUNTIF(#REF!,\"=1\")*100+COUNTIF(#REF!,\"=2\")*80+COUNTIF(#REF!,\"=3\")*50+COUNTIF(#REF!,\"=8\")*20+COUNTIF(#REF!,\"=9\")*0)/COUNTA(#REF!)/100,\"N/A\")","v":{"$error":"#REF!"}},{"$f":"IF(COUNTA(#REF!)>0,(COUNTIF(#REF!,\"=0\")*0+COUNTIF(#REF!,\"=1\")*100+COUNTIF(#REF!,\"=2\")*80+COUNTIF(#REF!,\"=3\")*50+COUNTIF(#REF!,\"=8\")*20+COUNTIF(#REF!,\"=9\")*0)/COUNTA(#REF!)/100,\"N/A\")","v":{"$error":"#REF!"}},{"$f":"IF(AND(COUNTA(B92:V92)<>0,#REF!<>\"\"),AVERAGE(W92:AC92),\"N/A\")","v":{"$error":"#REF!"}},1,1,1,1,1,{"$error":"#REF!"},{"$error":"#REF!"},{"$error":"#REF!"}]
["Elève79",{"$nulls":21},"N/A","N/A","N/A","N/A","N/A",{"$f":"IF(COUNTA(#REF!)>0,(COUNTIF(#REF!,\"=0\")*0+COUNTIF(#REF!,\"=1\")*100+COUNTIF(#REF!,\"=2\")*80+COUNTIF(#REF!,\"=3\")*50+COUNTIF(#REF!,\"=8\")*20+COUNTIF(#REF!,\"=9\")*0)/COUNTA(#REF!)/100,\"N/A\")","v":{"$error":"#REF!"}},{"$f":"IF(COUNTA(#REF!)>0,(COUNTIF(#REF!,\"=0\")*0+COUNTIF(#REF!,\"=1\")*100+COUNTIF(#REF!,\"=2\")*80+COUNTIF(#REF!,\"=3\")*50+COUNTIF(#REF!,\"=8\")*20+COUNTIF(#REF!,\"=9\")*0)/COUNTA(#REF!)/100,\"N/A\")","v":{"$error":"#REF!"}},{"$f":"IF(AND(COUNTA(B93:V93)<>0,#REF!<>\"\"),AVERAGE(W93:AC93),\"N/A\")","v":{"$error":"#REF!"}},1,1,1,1,1,{"$error":"#REF!"},{"$error":"#REF!"},{"$error":"#REF!"}]
["Elève80",{"$nulls":21},"N/A","N/A","N/A","N/A","N/A",{"$f":"IF(COUNTA(#REF!)>0,(COUNTIF(#REF!,\"=0\")*0+COUNTIF(#REF!,\"=1\")*100+COUNTIF(#REF!,\"=2\")*80+COUNTIF(#REF!,\"=3\")*50+COUNTIF(#REF!,\"=8\")*20+COUNTIF(#REF!,\"=9\")*0)/COUNTA(#REF!)/100,\"N/A\")","v":{"$error":"#REF!"}},{"$f":"IF(COUNTA(#REF!)>0,(COUNTIF(#REF!,\"=0\")*0+COUNTIF(#REF!,\"=1\")*100+COUNTIF(#REF!,\"=2\")*80+COUNTIF(#REF!,\"=3\")*50+COUNTIF(#REF!,\"=8\")*20+COUNTIF(#REF!,\"=9\")*0)/COUNTA(#REF!)/100,\"N/A\")","v":{"$error":"#REF!"}},{"$f":"IF(AND(COUNTA(B94:V94)<>0,#REF!<>\"\"),AVERAGE(W94:AC94),\"N/A\")","v":{"$error":"#REF!"}},1,1,1,1,1,{"$error":"#REF!"},{"$error":"#REF!"},{"$error":"#REF!"}]
["Elève81",{"$nulls":21},"N/A","N/A","N/A","N/A","N/A",{"$f":"IF(COUNTA(#REF!)>0,(COUNTIF(#REF!,\"=0\")*0+COUNTIF(#REF!,\"=1\")*100+COUNTIF(#REF!,\"=2\")*80+COUNTIF(#REF!,\"=3\")*50+COUNTIF(#REF!,\"=8\")*20+COUNTIF(#REF!,\"=9\")*0)/COUNTA(#REF!)/100,\"N/A\")","v":{"$error":"#REF!"}},{"$f":"IF(COUNTA(#REF!)>0,(COUNTIF(#REF!,\"=0\")*0+COUNTIF(#REF!,\"=1\")*100+COUNTIF(#REF!,\"=2\")*80+COUNTIF(#REF!,\"=3\")*50+COUNTIF(#REF!,\"=8\")*20+COUNTIF(#REF!,\"=9\")*0)/COUNTA(#REF!)/100,\"N/A\")","v":{"$error":"#REF!"}},{"$f":"IF(AND(COUNTA(B95:V95)<>0,#REF!<>\"\"),AVERAGE(W95:AC95),\"N/A\")","v":{"$error":"#REF!"}},1,{"$f":"IF(X95=\"N/A\",1,\"\")","v":1},1,1,1,{"$error":"#REF!"},{"$error":"#REF!"},{"$error":"#REF!"}]
["Elève82",{"$nulls":21},"N/A","N/A","N/A","N/A","N/A",{"$f":"IF(COUNTA(#REF!)>0,(COUNTIF(#REF!,\"=0\")*0+COUNTIF(#REF!,\"=1\")*100+COUNTIF(#REF!,\"=2\")*80+COUNTIF(#REF!,\"=3\")*50+COUNTIF(#REF!,\"=8\")*20+COUNTIF(#REF!,\"=9\")*0)/COUNTA(#REF!)/100,\"N/A\")","v":{"$error":"#REF!"}},{"$f":"IF(COUNTA(#REF!)>0,(COUNTIF(#REF!,\"=0\")*0+COUNTIF(#REF!,\"=1\")*100+COUNTIF(#REF!,\"=2\")*80+COUNTIF(#REF!,\"=3\")*50+COUNTIF(#REF!,\"=8\")*20+COUNTIF(#REF!,\"=9\")*0)/COUNTA(#REF!)/100,\"N/A\")","v":{"$error":"#REF!"}},{"$f":"IF(AND(COUNTA(B96:V96)<>0,#REF!<>\"\"),AVERAGE(W96:AC96),\"N/A\")","v":{"$error":"#REF!"}},{"$f":"IF(W96=\"N/A\",1,\"\")","v":1},1,1,1,1,{"$error":"#REF!"},{"$error":"#REF!"},{"$error":"#REF!"}]
["Elève83",{"$nulls":21},"N/A","N/A","N/A","N/A","N/A",{"$f":"IF(COUNTA(#REF!)>0,(COUNTIF(#REF!,\"=0\")*0+COUNTIF(#REF!,\"=1\")*100+COUNTIF(#REF!,\"=2\")*80+COUNTIF(#REF!,\"=3\")*50+COUNTIF(#REF!,\"=8\")*20+COUNTIF(#REF!,\"=9\")*0)/COUNTA(#REF!)/100,\"N/A\")","v":{"$error":"#REF!"}},{"$f":"IF(COUNTA(#REF!)>0,(COUNTIF(#REF!,\"=0\")*0+COUNTIF(#REF!,\"=1\")*100+COUNTIF(#REF!,\"=2\")*80+COUNTIF(#REF!,\"=3\")*50+COUNTIF(#REF!,\"=8\")*20+COUNTIF(#REF!,\"=9\")*0)/COUNTA(#REF!)/100,\"N/A\")","v":{"$error":"#REF!"}},{"$f":"IF(AND(COUNTA(B97:V97)<>0,#REF!<>\"\"),AVERAGE(W97:AC97),\"N/A\")","v":{"$error":"#REF!"}},1,1,1,1,1,{"$error":"#REF!"},{"$error":"#REF!"},{"$error":"#REF!"}]
["Elève84",{"$nulls":21},"N/A","N/A","N/A","N/A","N/A",{"$f":"IF(COUNTA(#REF!)>0,(COUNTIF(#REF!,\"=0\")*0+COUNTIF(#REF!,\"=1\")*100+COUNTIF(#REF!,\"=2\")*80+COUNTIF(#REF!,\"=3\")*50+COUNTIF(#REF!,\"=8\")*20+COUNTIF(#REF!,\"=9\")*0)/COUNTA(#REF!)/100,\"N/A\")","v":{"$error":"#REF!"}},{"$f":"IF(COUNTA(#REF!)>0,(COUNTIF(#REF!,\"=0\")*0+COUNTIF(#REF!,\"=1\")*100+COUNTIF(#REF!,\"=2\")*80+COUNTIF(#REF!,\"=3\")*50+COUNTIF(#REF!,\"=8\")*20+COUNTIF(#REF!,\"=9\")*0)/COUNTA(#REF!)/100,\"N/A\")","v":{"$error":"#REF!"}},{"$f":"IF(AND(COUNTA(B98:V98)<>0,#REF!<>\"\"),AVERAGE(W98:AC98),\"N/A\")","v":{"$error":"#REF!"}},1,1,1,1,1,{"$error":"#REF!"},{"$error":"#REF!"},{"$error":"#REF!"}]
["Elève85",{"$nulls":21},"N/A","N/A","N/A","N/A","N/A",{"$f":"IF(COUNTA(#REF!)>0,(COUNTIF(#REF!,\"=0\")*0+COUNTIF(#REF!,\"=1\")*100+COUNTIF(#REF!,\"=2\")*80+COUNTIF(#REF!,\"=3\")*50+COUNTIF(#REF!,\"=8\")*20+COUNTIF(#REF!,\"=9\")*0)/COUNTA(#REF!)/100,\"N/A\")","v":{"$error":"#REF!"}},{"$f":"IF(COUNTA(#REF!)>0,(COUNTIF(#REF!,\"=0\")*0+COUNTIF(#REF!,\"=1\")*100+COUNTIF(#REF!,\"=2\")*80+COUNTIF(#REF!,\"=3\")*50+COUNTIF(#REF!,\"=8\")*20+COUNTIF(#REF!,\"=9\")*0)/COUNTA(#REF!)/100,\"N/A\")","v":{"$error":"#REF!"}},{"$f":"IF(AND(COUNTA(B99:V99)<>0,#REF!<>\"\"),AVERAGE(W99:AC99),\"N/A\")","v":{"$error":"#REF!"}},1,1,1,1,1,{"$error":"#REF!"},{"$error":"#REF!"},{"$error":"#REF!"}]
["Elève86",{"$nulls":21},"N/A","N/A","N/A","N/A","N/A",{"$f":"IF(COUNTA(#REF!)>0,(COUNTIF(#REF!,\"=0\")*0+COUNTIF(#REF!,\"=1\")*100+COUNTIF(#REF!,\"=2\")*80+COUNTIF(#REF!,\"=3\")*50+COUNTIF(#REF!,\"=8\")*20+COUNTIF(#REF!,\"=9\")*0)/COUNTA(#REF!)/100,\"N/A\")","v":{"$error":"#REF!"}},{"$f":"IF(COUNTA(#REF!)>0,(COUNTIF(#REF!,\"=0\")*0+COUNTIF(#REF!,\"=1\")*100+COUNTIF(#REF!,\"=2\")*80+COUNTIF(#REF!,\"=3\")*50+COUNTIF(#REF!,\"=8\")*20+COUNTIF(#REF!,\"=9\")*0)/COUNTA(#REF!)/100,\"N/A\")","v":{"$error":"#REF!"}},{"$f":"IF(AND(COUNTA(B100:V100)<>0,#REF!<>\"\"),AVERAGE(W100:AC100),\"N/A\")","v":{"$error":"#REF!"}},1,1,1,1,1,{"$error":"#REF!"},{"$error":"#REF!"},{"$error":"#REF!"}]
["Elève87",{"$nulls":21},"N/A","N/A","N/A","N/A","N/A",{"$f":"IF(COUNTA(#REF!)>0,(COUNTIF(#REF!,\"=0\")*0+COUNTIF(#REF!,\"=1\")*100+COUNTIF(#REF!,\"=2\")*80+COUNTIF(#REF!,\"=3\")*50+COUNTIF(#REF!,\"=8\")*20+COUNTIF(#REF!,\"=9\")*0)/COUNTA(#REF!)/100,\"N/A\")","v":{"$error":"#REF!"}},{"$f":"IF(COUNTA(#REF!)>0,(COUNTIF(#REF!,\"=0\")*0+COUNTIF(#REF!,\"=1\")*100+COUNTIF(#REF!,\"=2\")*80+COUNTIF(#REF!,\"=3\")*50+COUNTIF(#REF!,\"=8\")*20+COUNTIF(#REF!,\"=9\")*0)/COUNTA(#REF!)/100,\"N/A\")","v":{"$error":"#REF!"}},{"$f":"IF(AND(COUNTA(B101:V101)<>0,#REF!<>\"\"),AVERAGE(W101:AC101),\"N/A\")","v":{"$error":"#REF!"}},1,1,1,1,1,{"$error":"#REF!"},{"$error":"#REF!"},{"$error":"#REF!"}]
["Elève88",{"$nulls":21},"N/A","N/A","N/A","N/A","N/A",{"$f":"IF(COUNTA(#REF!)>0,(COUNTIF(#REF!,\"=0\")*0+COUNTIF(#REF!,\"=1\")*100+COUNTIF(#REF!,\"=2\")*80+COUNTIF(#REF!,\"=3\")*50+COUNTIF(#REF!,\"=8\")*20+COUNTIF(#REF!,\"=9\")*0)/COUNTA(#REF!)/100,\"N/A\")","v":{"$error":"#REF!"}},{"$f":"IF(COUNTA(#REF!)>0,(COUNTIF(#REF!,\"=0\")*0+COUNTIF(#REF!,\"=1\")*100+COUNTIF(#REF!,\"=2\")*80+COUNTIF(#REF!,\"=3\")*50+COUNTIF(#REF!,\"=8\")*20+COUNTIF(#REF!,\"=9\")*0)/COUNTA(#REF!)/100,\"N/A\")","v":{"$error":"#REF!"}},{"$f":"IF(AND(COUNTA(B102:V102)<>0,#REF!<>\"\"),AVERAGE(W102:AC102),\"N/A\")","v":{"$error":"#REF!"}},1,1,1,1,1,{"$error":"#REF!"},{"$error":"#REF!"},{"$error":"#REF!"}]
["Elève89",{"$nulls":21},"N/A","N/A","N/A","N/A","N/A",{"$f":"IF(COUNTA(#REF!)>0,(COUNTIF(#REF!,\"=0\")*0+COUNTIF(#REF!,\"=1\")*100+COUNTIF(#REF!,\"=2\")*80+COUNTIF(#REF!,\"=3\")*50+COUNTIF(#REF!,\"=8\")*20+COUNTIF(#REF!,\"=9\")*0)/COUNTA(#REF!)/100,\"N/A\")","v":{"$error":"#REF!"}},{"$f":"IF(COUNTA(#REF!)>0,(COUNTIF(#REF!,\"=0\")*0+COUNTIF(#REF!,\"=1\")*100+COUNTIF(#REF!,\"=2\")*80+COUNTIF(#REF!,\"=3\")*50+COUNTIF(#REF!,\"=8\")*20+COUNTIF(#REF!,\"=9\")*0)/COUNTA(#REF!)/100,\"N/A\")","v":{"$error":"#REF!"}},{"$f":"IF(AND(COUNTA(B103:V103)<>0,#REF!<>\"\"),AVERAGE(W103:AC103),\"N/A\")","v":{"$error":"#REF!"}},1,1,1,1,1,{"$error":"#REF!"},{"$error":"#REF!"},{"$error":"#REF!"}]
["Elève90",{"$nulls":21},"N/A","N/A","N/A","N/A","N/A",{"$f":"IF(COUNTA(#REF!)>0,(COUNTIF(#REF!,\"=0\")*0+COUNTIF(#REF!,\"=1\")*100+COUNTIF(#REF!,\"=2\")*80+COUNTIF(#REF!,\"=3\")*50+COUNTIF(#REF!,\"=8\")*20+COUNTIF(#REF!,\"=9\")*0)/COUNTA(#REF!)/100,\"N/A\")","v":{"$error":"#REF!"}},{"$f":"IF(COUNTA(#REF!)>0,(COUNTIF(#REF!,\"=0\")*0+COUNTIF(#REF!,\"=1\")*100+COUNTIF(#REF!,\"=2\")*80+COUNTIF(#REF!,\"=3\")*50+COUNTIF(#REF!,\"=8\")*20+COUNTIF(#REF!,\"=9\")*0)/COUNTA(#REF!)/100,\"N/A\")","v":{"$error":"#REF!"}},{"$f":"IF(AND(COUNTA(B104:V104)<>0,#REF!<>\"\"),AVERAGE(W104:AC104),\"N/A\")","v":{"$error":"#REF!"}},1,1,1,1,1,{"$error":"#REF!"},{"$error":"#REF!"},{"$error":"#REF!"}]
["Elève91",{"$nulls":21},"N/A","N/A","N/A","N/A","N/A",{"$f":"IF(COUNTA(#REF!)>0,(COUNTIF(#REF!,\"=0\")*0+COUNTIF(#REF!,\"=1\")*100+COUNTIF(#REF!,\"=2\")*80+COUNTIF(#REF!,\"=3\")*50+COUNTIF(#REF!,\"=8\")*20+COUNTIF(#REF!,\"=9\")*0)/COUNTA(#REF!)/100,\"N/A\")","v":{"$error":"#REF!"}},{"$f":"IF(COUNTA(#REF!)>0,(COUNTIF(#REF!,\"=0\")*0+COUNTIF(#REF!,\"=1\")*100+COUNTIF(#REF!,\"=2\")*80+COUNTIF(#REF!,\"=3\")*50+COUNTIF(#REF!,\"=8\")*20+COUNTIF(#REF!,\"=9\")*0)/COUNTA(#REF!)/100,\"N/A\")","v":{"$error":"#REF!"}},{"$f":"IF(AND(COUNTA(B105:V105)<>0,#REF!<>\"\"),AVERAGE(W105:AC105),\"N/A\")","v":{"$error":"#REF!"}},1,1,1,1,1,{"$error":"#REF!"},{"$error":"#REF!"},{"$error":"#REF!"}]
["Elève92",{"$nulls":21},"N/A","N/A","N/A","N/A","N/A",{"$f":"IF(COUNTA(#REF!)>0,(COUNTIF(#REF!,\"=0\")*0+COUNTIF(#REF!,\"=1\")*100+COUNTIF(#REF!,\"=2\")*80+COUNTIF(#REF!,\"=3\")*50+COUNTIF(#REF!,\"=8\")*20+COUNTIF(#REF!,\"=9\")*0)/COUNTA(#REF!)/100,\"N/A\")","v":{"$error":"#REF!"}},{"$f":"IF(COUNTA(#REF!)>0,(COUNTIF(#REF!,\"=0\")*0+COUNTIF(#REF!,\"=1\")*100+COUNTIF(#REF!,\"=2\")*80+COUNTIF(#REF!,\"=3\")*50+COUNTIF(#REF!,\"=8\")*20+COUNTIF(#REF!,\"=9\")*0)/COUNTA(#REF!)/100,\"N/A\")","v":{"$error":"#REF!"}},{"$f":"IF(AND(COUNTA(B106:V106)<>0,#REF!<>\"\"),AVERAGE(W106:AC106),\"N/A\")","v":{"$error":"#REF!"}},1,1,1,1,1,{"$error":"#REF!"},{"$error":"#REF!"},{"$error":"#REF!"}]
["Elève93",{"$nulls":21},"N/A","N/A","N/A","N/A",{"$f":"IF(COUNTA(V107:V107)>0,(COUNTIF(V107:V107,\"=0\")*0+COUNTIF(V107:V107,\"=1\")*100+COUNTIF(V107:V107,\"=2\")*80+COUNTIF(V107:V107,\"=3\")*50+COUNTIF(V107:V107,\"=8\")*20+COUNTIF(V107:V107,\"=9\")*0)/COUNTA(V107:V107)/100,\"N/A\")","v":"N/A"},{"$f":"IF(COUNTA(#REF!)>0,(COUNTIF(#REF!,\"=0\")*0+COUNTIF(#REF!,\"=1\")*100+COUNTIF(#REF!,\"=2\")*80+COUNTIF(#REF!,\"=3\")*50+COUNTIF(#REF!,\"=8\")*20+COUNTIF(#REF!,\"=9\")*0)/COUNTA(#REF!)/100,\"N/A\")","v":{"$error":"#REF!"}},{"$f":"IF(COUNTA(#REF!)>0,(COUNTIF(#REF!,\"=0\")*0+COUNTIF(#REF!,\"=1\")*100+COUNTIF(#REF!,\"=2\")*80+COUNTIF(#REF!,\"=3\")*50+COUNTIF(#REF!,\"=8\")*20+COUNTIF(#REF!,\"=9\")*0)/COUNTA(#REF!)/100,\"N/A\")","v":{"$error":"#REF!"}},{"$f":"IF(AND(COUNTA(B107:V107)<>0,#REF!<>\"\"),AVERAGE(W107:AC107),\"N/A\")","v":{"$error":"#REF!"}},1,1,1,1,1,{"$error":"#REF!"},{"$error":"#REF!"},{"$error":"#REF!"}]
[{"$nulls":22},"N/A","N/A","N/A","N/A","N/A",{"$f":"IF(COUNTA(#REF!)>0,(COUNTIF(#REF!,\"=0\")*0+COUNTIF(#REF!,\"=1\")*100+COUNTIF(#REF!,\"=2\")*80+COUNTIF(#REF!,\"=3\")*50+COUNTIF(#REF!,\"=8\")*20+COUNTIF(#REF!,\"=9\")*0)/COUNTA(#REF!)/100,\"N/A\")","v":{"$error":"#REF!"}},{"$f":"IF(COUNTA(#REF!)>0,(COUNTIF(#REF!,\"=0\")*0+COUNTIF(#REF!,\"=1\")*100+COUNTIF(#REF!,\"=2\")*80+COUNTIF(#REF!,\"=3\")*50+COUNTIF(#REF!,\"=8\")*20+COUNTIF(#REF!,\"=9\")*0)/COUNTA(#REF!)/100,\"N/A\")","v":{"$error":"#REF!"}},{"$f":"IF(AND(COUNTA(B108:V108)<>0,#REF!<>\"\"),AVERAGE(W108:AC108),\"N/A\")","v":{"$error":"#REF!"}},1,1,1,1,1,{"$error":"#REF!"},{"$error":"#REF!"},{"$error":"#REF!"}]
[{"$nulls":22},{"$f":"IF(COUNTA(B109:G109)>0,(COUNTIF(B109:G109,\"=0\")*0+COUNTIF(B109:G109,\"=1\")*100+COUNTIF(B109:G109,\"=2\")*80+COUNTIF(B109:G109,\"=3\")*50+COUNTIF(B109:G109,\"=8\")*20+COUNTIF(B109:G109,\"=9\")*0)/COUNTA(B109:G109)/100,\"N/A\")","v":"N/A"},{"$f":"IF(COUNTA(K109:O109)>0,(COUNTIF(K109:O109,\"=0\")*0+COUNTIF(K109:O109,\"=1\")*100+COUNTIF(K109:O109,\"=2\")*80+COUNTIF(K109:O109,\"=3\")*50+COUNTIF(K109:O109,\"=8\")*20+COUNTIF(K109:O109,\"=9\")*0)/COUNTA(K109:O109)/100,\"N/A\")","v":"N/A"},{"$f":"IF(COUNTA(P109)>0,(COUNTIF(P109,\"=0\")*0+COUNTIF(P109,\"=1\")*100+COUNTIF(P109,\"=2\")*80+COUNTIF(P109,\"=3\")*50+COUNTIF(P109,\"=8\")*20+COUNTIF(P109,\"=9\")*0)/COUNTA(P109)/100,\"N/A\")","v":"N/A"},"N/A","N/A",{"$f":"IF(COUNTA(#REF!)>0,(COUNTIF(#REF!,\"=0\")*0+COUNTIF(#REF!,\"=1\")*100+COUNTIF(#REF!,\"=2\")*80+COUNTIF(#REF!,\"=3\")*50+COUNTIF(#REF!,\"=8\")*20+COUNTIF(#REF!,\"=9\")*0)/COUNTA(#REF!)/100,\"N/A\")","v":{"$error":"#REF!"}},{"$f":"IF(COUNTA(#REF!)>0,(COUNTIF(#REF!,\"=0\")*0+COUNTIF(#REF!,\"=1\")*100+COUNTIF(#REF!,\"=2\")*80+COUNTIF(#REF!,\"=3\")*50+COUNTIF(#REF!,\"=8\")*20+COUNTIF(#REF!,\"=9\")*0)/COUNTA(#REF!)/100,\"N/A\")","v":{"$error":"#REF!"}},{"$f":"IF(AND(COUNTA(B109:V109)<>0,#REF!<>\"\"),AVERAGE(W109:AC109),\"N/A\")","v":{"$error":"#REF!"}},{"$f":"IF(W109=\"N/A\",1,\"\")","v":1},1,1,1,{"$f":"IF(AA109=\"N/A\",1,\"\")","v":1},{"$error":"#REF!"},{"$error":"#REF!"},{"$error":"#REF!"}]
[{"$nulls":22},"N/A","N/A","N/A","N/A","N/A",{"$f":"IF(COUNTA(#REF!)>0,(COUNTIF(#REF!,\"=0\")*0+COUNTIF(#REF!,\"=1\")*100+COUNTIF(#REF!,\"=2\")*80+COUNTIF(#REF!,\"=3\")*50+COUNTIF(#REF!,\"=8\")*20+COUNTIF(#REF!,\"=9\")*0)/COUNTA(#REF!)/100,\"N/A\")","v":{"$error":"#REF!"}},{"$f":"IF(COUNTA(#REF!)>0,(COUNTIF(#REF!,\"=0\")*0+COUNTIF(#REF!,\"=1\")*100+COUNTIF(#REF!,\"=2\")*80+COUNTIF(#REF!,\"=3\")*50+COUNTIF(#REF!,\"=8\")*20+COUNTIF(#REF!,\"=9\")*0)/COUNTA(#REF!)/100,\"N/A\")","v":{"$error":"#REF!"}},{"$f":"IF(AND(COUNTA(B110:V110)<>0,#REF!<>\"\"),AVERAGE(W110:AC110),\"N/A\")","v":{"$error":"#REF!"}},1,1,1,1,1,{"$error":"#REF!"},{"$error":"#REF!"},{"$error":"#REF!"}]
[{"$nulls":22},"N/A","N/A","N/A","N/A","N/A",{"$f":"IF(COUNTA(#REF!)>0,(COUNTIF(#REF!,\"=0\")*0+COUNTIF(#REF!,\"=1\")*100+COUNTIF(#REF!,\"=2\")*80+COUNTIF(#REF!,\"=3\")*50+COUNTIF(#REF!,\"=8\")*20+COUNTIF(#REF!,\"=9\")*0)/COUNTA(#REF!)/100,\"N/A\")","v":{"$error":"#REF!"}},{"$f":"IF(COUNTA(#REF!)>0,(COUNTIF(#REF!,\"=0\")*0+COUNTIF(#REF!,\"=1\")*100+COUNTIF(#REF!,\"=2\")*80+COUNTIF(#REF!,\"=3\")*50+COUNTIF(#REF!,\"=8\")*20+COUNTIF(#REF!,\"=9\")*0)/COUNTA(#REF!)/100,\"N/A\")","v":{"$error":"#REF!"}},{"$f":"IF(AND(COUNTA(B111:V111)<>0,#REF!<>\"\"),AVERAGE(W111:AC111),\"N/A\")","v":{"$error":"#REF!"}},1,1,1,1,1,{"$error":"#REF!"},{"$error":"#REF!"},{"$error":"#REF!"}]
[{"$nulls":22},"N/A","N/A","N/A","N/A","N/A",{"$f":"IF(COUNTA(#REF!)>0,(COUNTIF(#REF!,\"=0\")*0+COUNTIF(#REF!,\"=1\")*100+COUNTIF(#REF!,\"=2\")*80+COUNTIF(#REF!,\"=3\")*50+COUNTIF(#REF!,\"=8\")*20+COUNTIF(#REF!,\"=9\")*0)/COUNTA(#REF!)/100,\"N/A\")","v":{"$error":"#REF!"}},{"$f":"IF(COUNTA(#REF!)>0,(COUNTIF(#REF!,\"=0\")*0+COUNTIF(#REF!,\"=1\")*100+COUNTIF(#REF!,\"=2\")*80+COUNTIF(#REF!,\"=3\")*50+COUNTIF(#REF!,\"=8\")*20+COUNTIF(#REF!,\"=9\")*0)/COUNTA(#REF!)/100,\"N/A\")","v":{"$error":"#REF!"}},{"$f":"IF(AND(COUNTA(B112:V112)<>0,#REF!<>\"\"),AVERAGE(W112:AC112),\"N/A\")","v":{"$error":"#REF!"}},1,1,1,1,1,{"$error":"#REF!"},{"$error":"#REF!"},{"$error":"#REF!"}]
[{"$nulls":22},"N/A","N/A","N/A","N/A","N/A",{"$f":"IF(COUNTA(#REF!)>0,(COUNTIF(#REF!,\"=0\")*0+COUNTIF(#REF!,\"=1\")*100+COUNTIF(#REF!,\"=2\")*80+COUNTIF(#REF!,\"=3\")*50+COUNTIF(#REF!,\"=8\")*20+COUNTIF(#REF!,\"=9\")*0)/COUNTA(#REF!)/100,\"N/A\")","v":{"$error":"#REF!"}},{"$f":"IF(COUNTA(#REF!)>0,(COUNTIF(#REF!,\"=0\")*0+COUNTIF(#REF!,\"=1\")*100+COUNTIF(#REF!,\"=2\")*80+COUNTIF(#REF!,\"=3\")*50+COUNTIF(#REF!,\"=8\")*20+COUNTIF(#REF!,\"=9\")*0)/COUNTA(#REF!)/100,\"N/A\")","v":{"$error":"#REF!"}},{"$f":"IF(AND(COUNTA(B113:V113)<>0,#REF!<>\"\"),AVERAGE(W113:AC113),\"N/A\")","v":{"$error":"#REF!"}},1,1,1,1,1,{"$error":"#REF!"},{"$error":"#REF!"},{"$error":"#REF!"}]
[{"$nulls":22},"N/A","N/A","N/A","N/A","N/A",{"$f":"IF(COUNTA(#REF!)>0,(COUNTIF(#REF!,\"=0\")*0+COUNTIF(#REF!,\"=1\")*100+COUNTIF(#REF!,\"=2\")*80+COUNTIF(#REF!,\"=3\")*50+COUNTIF(#REF!,\"=8\")*20+COUNTIF(#REF!,\"=9\")*0)/COUNTA(#REF!)/100,\"N/A\")","v":{"$error":"#REF!"}},{"$f":"IF(COUNTA(#REF!)>0,(COUNTIF(#REF!,\"=0\")*0+COUNTIF(#REF!,\"=1\")*100+COUNTIF(#REF!,\"=2\")*80+COUNTIF(#REF!,\"=3\")*50+COUNTIF(#REF!,\"=8\")*20+COUNTIF(#REF!,\"=9\")*0)/COUNTA(#REF!)/100,\"N/A\")","v":{"$error":"#REF!"}},{"$f":"IF(AND(COUNTA(B114:V114)<>0,#REF!<>\"\"),AVERAGE(W114:AC114),\"N/A\")","v":{"$error":"#REF!"}},1,1,1,1,1,{"$error":"#REF!"},{"$error":"#REF!"},{"$f":"IF(AD114=\"N/A\",1,\"\")","v":{"$error":"#REF!"}}]
[{"$nulls":22},"N/A","N/A","N/A","N/A","N/A",{"$f":"IF(COUNTA(#REF!)>0,(COUNTIF(#REF!,\"=0\")*0+COUNTIF(#REF!,\"=1\")*100+COUNTIF(#REF!,\"=2\")*80+COUNTIF(#REF!,\"=3\")*50+COUNTIF(#REF!,\"=8\")*20+COUNTIF(#REF!,\"=9\")*0)/COUNTA(#REF!)/100,\"N/A\")","v":{"$error":"#REF!"}},{"$f":"IF(COUNTA(#REF!)>0,(COUNTIF(#REF!,\"=0\")*0+COUNTIF(#REF!,\"=1\")*100+COUNTIF(#REF!,\"=2\")*80+COUNTIF(#REF!,\"=3\")*50+COUNTIF(#REF!,\"=8\")*20+COUNTIF(#REF!,\"=9\")*0)/COUNTA(#REF!)/100,\"N/A\")","v":{"$error":"#REF!"}},{"$f":"IF(AND(COUNTA(B115:V115)<>0,#REF!<>\"\"),AVERAGE(W115:AC115),\"N/A\")","v":{"$error":"#REF!"}},1,1,1,1,1,{"$error":"#REF!"},{"$error":"#REF!"},{"$error":"#REF!"}]
[{"$nulls":22},"N/A","N/A","N/A","N/A","N/A",{"$f":"IF(COUNTA(#REF!)>0,(COUNTIF(#REF!,\"=0\")*0+COUNTIF(#REF!,\"=1\")*100+COUNTIF(#REF!,\"=2\")*80+COUNTIF(#REF!,\"=3\")*50+COUNTIF(#REF!,\"=8\")*20+COUNTIF(#REF!,\"=9\")*0)/COUNTA(#REF!)/100,\"N/A\")","v":{"$error":"#REF!"}},{"$f":"IF(COUNTA(#REF!)>0,(COUNTIF(#REF!,\"=0\")*0+COUNTIF(#REF!,\"=1\")*100+COUNTIF(#REF!,\"=2\")*80+COUNTIF(#REF!,\"=3\")*50+COUNTIF(#REF!,\"=8\")*20+COUNTIF(#REF!,\"=9\")*0)/COUNTA(#REF!)/100,\"N/A\")","v":{"$error":"#REF!"}},{"$f":"IF(AND(COUNTA(B116:V116)<>0,#REF!<>\"\"),AVERAGE(W116:AC116),\"N/A\")","v":{"$error":"#REF!"}},1,1,1,1,1,{"$error":"#REF!"},{"$error":"#REF!"},{"$error":"#REF!"}]
[{"$nulls":22},"N/A","N/A","N/A","N/A","N/A",{"$f":"IF(COUNTA(#REF!)>0,(COUNTIF(#REF!,\"=0\")*0+COUNTIF(#REF!,\"=1\")*100+COUNTIF(#REF!,\"=2\")*80+COUNTIF(#REF!,\"=3\")*50+COUNTIF(#REF!,\"=8\")*20+COUNTIF(#REF!,\"=9\")*0)/COUNTA(#REF!)/100,\"N/A\")","v":{"$error":"#REF!"}},{"$f":"IF(COUNTA(#REF!)>0,(COUNTIF(#REF!,\"=0\")*0+COUNTIF(#REF!,\"=1\")*100+COUNTIF(#REF!,\"=2\")*80+COUNTIF(#REF!,\"=3\")*50+COUNTIF(#REF!,\"=8\")*20+COUNTIF(#REF!,\"=9\")*0)/COUNTA(#REF!)/100,\"N/A\")","v":{"$error":"#REF!"}},{"$f":"IF(AND(COUNTA(B117:V117)<>0,#REF!<>\"\"),AVERAGE(W117:AC117),\"N/A\")","v":{"$error":"#REF!"}},1,1,1,1,1,{"$error":"#REF!"},{"$error":"#REF!"},{"$error":"#REF!"}]
[{"$nulls":22},"N/A","N/A","N/A","N/A","N/A",{"$f":"IF(COUNTA(#REF!)>0,(COUNTIF(#REF!,\"=0\")*0+COUNTIF(#REF!,\"=1\")*100+COUNTIF(#REF!,\"=2\")*80+COUNTIF(#REF!,\"=3\")*50+COUNTIF(#REF!,\"=8\")*20+COUNTIF(#REF!,\"=9\")*0)/COUNTA(#REF!)/100,\"N/A\")","v":{"$error":"#REF!"}},{"$f":"IF(COUNTA(#REF!)>0,(COUNTIF(#REF!,\"=0\")*0+COUNTIF(#REF!,\"=1\")*100+COUNTIF(#REF!,\"=2\")*80+COUNTIF(#REF!,\"=3\")*50+COUNTIF(#REF!,\"=8\")*20+COUNTIF(#REF!,\"=9\")*0)/COUNTA(#REF!)/100,\"N/A\")","v":{"$error":"#REF!"}},{"$f":"IF(AND(COUNTA(B118:V118)<>0,#REF!<>\"\"),AVERAGE(W118:AC118),\"N/A\")","v":{"$error":"#REF!"}},1,1,1,1,1,{"$error":"#REF!"},{"$error":"#REF!"},{"$error":"#REF!"}]
[{"$nulls":22},{"$f":"IF(COUNTA(B119:G119)>0,(COUNTIF(B119:G119,\"=0\")*0+COUNTIF(B119:G119,\"=1\")*100+COUNTIF(B119:G119,\"=2\")*80+COUNTIF(B119:G119,\"=3\")*50+COUNTIF(B119:G119,\"=8\")*20+COUNTIF(B119:G119,\"=9\")*0)/COUNTA(B119:G119)/100,\"N/A\")","v":"N/A"},{"$f":"IF(COUNTA(K119:O119)>0,(COUNTIF(K119:O119,\"=0\")*0+COUNTIF(K119:O119,\"=1\")*100+COUNTIF(K119:O119,\"=2\")*80+COUNTIF(K119:O119,\"=3\")*50+COUNTIF(K119:O119,\"=8\")*20+COUNTIF(K119:O119,\"=9\")*0)/COUNTA(K119:O119)/100,\"N/A\")","v":"N/A"},{"$f":"IF(COUNTA(P119)>0,(COUNTIF(P119,\"=0\")*0+COUNTIF(P119,\"=1\")*100+COUNTIF(P119,\"=2\")*80+COUNTIF(P119,\"=3\")*50+COUNTIF(P119,\"=8\")*20+COUNTIF(P119,\"=9\")*0)/COUNTA(P119)/100,\"N/A\")","v":"N/A"},"N/A","N/A",{"$f":"IF(COUNTA(#REF!)>0,(COUNTIF(#REF!,\"=0\")*0+COUNTIF(#REF!,\"=1\")*100+COUNTIF(#REF!,\"=2\")*80+COUNTIF(#REF!,\"=3\")*50+COUNTIF(#REF!,\"=8\")*20+COUNTIF(#REF!,\"=9\")*0)/COUNTA(#REF!)/100,\"N/A\")","v":{"$error":"#REF!"}},{"$f":"IF(COUNTA(#REF!)>0,(COUNTIF(#REF!,\"=0\")*0+COUNTIF(#REF!,\"=1\")*100+COUNTIF(#REF!,\"=2\")*80+COUNTIF(#REF!,\"=3\")*50+COUNTIF(#REF!,\"=8\")*20+COUNTIF(#REF!,\"=9\")*0)/COUNTA(#REF!)/100,\"N/A\")","v":{"$error":"#REF!"}},{"$f":"IF(AND(COUNTA(B119:V119)<>0,#REF!<>\"\"),AVERAGE(W119:AC119),\"N/A\")","v":{"$error":"#REF!"}},1,1,1,1,1,{"$error":"#REF!"},{"$error":"#REF!"},{"$error":"#REF!"}]
[{"$nulls":22},"N/A","N/A","N/A","N/A","N/A",{"$f":"IF(COUNTA(#REF!)>0,(COUNTIF(#REF!,\"=0\")*0+COUNTIF(#REF!,\"=1\")*100+COUNTIF(#REF!,\"=2\")*80+COUNTIF(#REF!,\"=3\")*50+COUNTIF(#REF!,\"=8\")*20+COUNTIF(#REF!,\"=9\")*0)/COUNTA(#REF!)/100,\"N/A\")","v":{"$error":"#REF!"}},{"$f":"IF(COUNTA(#REF!)>0,(COUNTIF(#REF!,\"=0\")*0+COUNTIF(#REF!,\"=1\")*100+COUNTIF(#REF!,\"=2\")*80+COUNTIF(#REF!,\"=3\")*50+COUNTIF(#REF!,\"=8\")*20+COUNTIF(#REF!,\"=9\")*0)/COUNTA(#REF!)/100,\"N/A\")","v":{"$error":"#REF!"}},{"$f":"IF(AND(COUNTA(B120:V120)<>0,#REF!<>\"\"),AVERAGE(W120:AC120),\"N/A\")","v":{"$error":"#REF!"}},1,1,1,1,1,{"$error":"#REF!"},{"$error":"#REF!"},{"$error":"#REF!"}]
[{"$nulls":22},"N/A","N/A","N/A","N/A","N/A",{"$f":"IF(COUNTA(#REF!)>0,(COUNTIF(#REF!,\"=0\")*0+COUNTIF(#REF!,\"=1\")*100+COUNTIF(#REF!,\"=2\")*80+COUNTIF(#REF!,\"=3\")*50+COUNTIF(#REF!,\"=8\")*20+COUNTIF(#REF!,\"=9\")*0)/COUNTA(#REF!)/100,\"N/A\")","v":{"$error":"#REF!"}},{"$f":"IF(COUNTA(#REF!)>0,(COUNTIF(#REF!,\"=0\")*0+COUNTIF(#REF!,\"=1\")*100+COUNTIF(#REF!,\"=2\")*80+COUNTIF(#REF!,\"=3\")*50+COUNTIF(#REF!,\"=8\")*20+COUNTIF(#REF!,\"=9\")*0)/COUNTA(#REF!)/100,\"N/A\")","v":{"$error":"#REF!"}},{"$f":"IF(AND(COUNTA(B121:V121)<>0,#REF!<>\"\"),AVERAGE(W121:AC121),\"N/A\")","v":{"$error":"#REF!"}},1,1,1,1,1,{"$error":"#REF!"},{"$error":"#REF!"},{"$error":"#REF!"}]
[{"$nulls":22},"N/A","N/A","N/A","N/A","N/A",{"$f":"IF(COUNTA(#REF!)>0,(COUNTIF(#REF!,\"=0\")*0+COUNTIF(#REF!,\"=1\")*100+COUNTIF(#REF!,\"=2\")*80+COUNTIF(#REF!,\"=3\")*50+COUNTIF(#REF!,\"=8\")*20+COUNTIF(#REF!,\"=9\")*0)/COUNTA(#REF!)/100,\"N/A\")","v":{"$error":"#REF!"}},{"$f":"IF(COUNTA(#REF!)>0,(COUNTIF(#REF!,\"=0\")*0+COUNTIF(#REF!,\"=1\")*100+COUNTIF(#REF!,\"=2\")*80+COUNTIF(#REF!,\"=3\")*50+COUNTIF(#REF!,\"=8\")*20+COUNTIF(#REF!,\"=9\")*0)/COUNTA(#REF!)/100,\"N/A\")","v":{"$error":"#REF!"}},{"$f":"IF(AND(COUNTA(B122:V122)<>0,#REF!<>\"\"),AVERAGE(W122:AC122),\"N/A\")","v":{"$error":"#REF!"}},1,1,1,1,1,{"$error":"#REF!"},{"$error":"#REF!"},{"$error":"#REF!"}]
[{"$nulls":22},"N/A","N/A","N/A","N/A","N/A",{"$f":"IF(COUNTA(#REF!)>0,(COUNTIF(#REF!,\"=0\")*0+COUNTIF(#REF!,\"=1\")*100+COUNTIF(#REF!,\"=2\")*80+COUNTIF(#REF!,\"=3\")*50+COUNTIF(#REF!,\"=8\")*20+COUNTIF(#REF!,\"=9\")*0)/COUNTA(#REF!)/100,\"N/A\")","v":{"$error":"#REF!"}},{"$f":"IF(COUNTA(#REF!)>0,(COUNTIF(#REF!,\"=0\")*0+COUNTIF(#REF!,\"=1\")*100+COUNTIF(#REF!,\"=2\")*80+COUNTIF(#REF!,\"=3\")*50+COUNTIF(#REF!,\"=8\")*20+COUNTIF(#REF!,\"=9\")*0)/COUNTA(#REF!)/100,\"N/A\")","v":{"$error":"#REF!"}},{"$f":"IF(AND(COUNTA(B123:V123)<>0,#REF!<>\"\"),AVERAGE(W123:AC123),\"N/A\")","v":{"$error":"#REF!"}},1,1,1,1,1,{"$error":"#REF!"},{"$error":"#REF!"},{"$error":"#REF!"}]
[{"$nulls":22},"N/A","N/A","N/A","N/A","N/A",{"$f":"IF(COUNTA(#REF!)>0,(COUNTIF(#REF!,\"=0\")*0+COUNTIF(#REF!,\"=1\")*100+COUNTIF(#REF!,\"=2\")*80+COUNTIF(#REF!,\"=3\")*50+COUNTIF(#REF!,\"=8\")*20+COUNTIF(#REF!,\"=9\")*0)/COUNTA(#REF!)/100,\"N/A\")","v":{"$error":"#REF!"}},{"$f":"IF(COUNTA(#REF!)>0,(COUNTIF(#REF!,\"=0\")*0+COUNTIF(#REF!,\"=1\")*100+COUNTIF(#REF!,\"=2\")*80+COUNTIF(#REF!,\"=3\")*50+COUNTIF(#REF!,\"=8\")*20+COUNTIF(#REF!,\"=9\")*0)/COUNTA(#REF!)/100,\"N/A\")","v":{"$error":"#REF!"}},{"$f":"IF(AND(COUNTA(B124:V124)<>0,#REF!<>\"\"),AVERAGE(W124:AC124),\"N/A\")","v":{"$error":"#REF!"}},1,1,1,1,1,{"$error":"#REF!"},{"$error":"#REF!"},{"$error":"#REF!"}]
[{"$nulls":22},"N/A","N/A","N/A","N/A","N/A",{"$f":"IF(COUNTA(#REF!)>0,(COUNTIF(#REF!,\"=0\")*0+COUNTIF(#REF!,\"=1\")*100+COUNTIF(#REF!,\"=2\")*80+COUNTIF(#REF!,\"=3\")*50+COUNTIF(#REF!,\"=8\")*20+COUNTIF(#REF!,\"=9\")*0)/COUNTA(#REF!)/100,\"N/A\")","v":{"$error":"#REF!"}},{"$f":"IF(COUNTA(#REF!)>0,(COUNTIF(#REF!,\"=0\")*0+COUNTIF(#REF!,\"=1\")*100+COUNTIF(#REF!,\"=2\")*80+COUNTIF(#REF!,\"=3\")*50+COUNTIF(#REF!,\"=8\")*20+COUNTIF(#REF!,\"=9\")*0)/COUNTA(#REF!)/100,\"N/A\")","v":{"$error":"#REF!"}},{"$f":"IF(AND(COUNTA(B125:V125)<>0,#REF!<>\"\"),AVERAGE(W125:AC125),\"N/A\")","v":{"$error":"#REF!"}},1,1,1,1,1,{"$error":"#REF!"},{"$error":"#REF!"},{"$error":"#REF!"}]
[{"$nulls":22},"N/A","N/A","N/A","N/A","N/A",{"$f":"IF(COUNTA(#REF!)>0,(COUNTIF(#REF!,\"=0\")*0+COUNTIF(#REF!,\"=1\")*100+COUNTIF(#REF!,\"=2\")*80+COUNTIF(#REF!,\"=3\")*50+COUNTIF(#REF!,\"=8\")*20+COUNTIF(#REF!,\"=9\")*0)/COUNTA(#REF!)/100,\"N/A\")","v":{"$error":"#REF!"}},{"$f":"IF(COUNTA(#REF!)>0,(COUNTIF(#REF!,\"=0\")*0+COUNTIF(#REF!,\"=1\")*100+COUNTIF(#REF!,\"=2\")*80+COUNTIF(#REF!,\"=3\")*50+COUNTIF(#REF!,\"=8\")*20+COUNTIF(#REF!,\"=9\")*0)/COUNTA(#REF!)/100,\"N/A\")","v":{"$error":"#REF!"}},{"$f":"IF(AND(COUNTA(B126:V126)<>0,#REF!<>\"\"),AVERAGE(W126:AC126),\"N/A\")","v":{"$error":"#REF!"}},1,1,1,1,1,{"$error":"#REF!"},{"$error":"#REF!"},{"$error":"#REF!"}]
[{"$nulls":22},"N/A","N/A","N/A","N/A","N/A",{"$f":"IF(COUNTA(#REF!)>0,(COUNTIF(#REF!,\"=0\")*0+COUNTIF(#REF!,\"=1\")*100+COUNTIF(#REF!,\"=2\")*80+COUNTIF(#REF!,\"=3\")*50+COUNTIF(#REF!,\"=8\")*20+COUNTIF(#REF!,\"=9\")*0)/COUNTA(#REF!)/100,\"N/A\")","v":{"$error":"#REF!"}},{"$f":"IF(COUNTA(#REF!)>0,(COUNTIF(#REF!,\"=0\")*0+COUNTIF(#REF!,\"=1\")*100+COUNTIF(#REF!,\"=2\")*80+COUNTIF(#REF!,\"=3\")*50+COUNTIF(#REF!,\"=8\")*20+COUNTIF(#REF!,\"=9\")*0)/COUNTA(#REF!)/100,\"N/A\")","v":{"$error":"#REF!"}},{"$f":"IF(AND(COUNTA(B127:V127)<>0,#REF!<>\"\"),AVERAGE(W127:AC127),\"N/A\")","v":{"$error":"#REF!"}},1,1,1,1,1,{"$error":"#REF!"},{"$error":"#REF!"},{"$error":"#REF!"}]
[{"$nulls":22},"N/A","N/A","N/A","N/A","N/A",{"$f":"IF(COUNTA(#REF!)>0,(COUNTIF(#REF!,\"=0\")*0+COUNTIF(#REF!,\"=1\")*100+COUNTIF(#REF!,\"=2\")*80+COUNTIF(#REF!,\"=3\")*50+COUNTIF(#REF!,\"=8\")*20+COUNTIF(#REF!,\"=9\")*0)/COUNTA(#REF!)/100,\"N/A\")","v":{"$error":"#REF!"}},{"$f":"IF(COUNTA(#REF!)>0,(COUNTIF(#REF!,\"=0\")*0+COUNTIF(#REF!,\"=1\")*100+COUNTIF(#REF!,\"=2\")*80+COUNTIF(#REF!,\"=3\")*50+COUNTIF(#REF!,\"=8\")*20+COUNTIF(#REF!,\"=9\")*0)/COUNTA(#REF!)/100,\"N/A\")","v":{"$error":"#REF!"}},{"$f":"IF(AND(COUNTA(B128:V128)<>0,#REF!<>\"\"),AVERAGE(W128:AC128),\"N/A\")","v":{"$error":"#REF!"}},1,1,1,1,1,{"$error":"#REF!"},{"$error":"#REF!"},{"$error":"#REF!"}]
[{"$nulls":22},"N/A","N/A","N/A","N/A","N/A",{"$f":"IF(COUNTA(#REF!)>0,(COUNTIF(#REF!,\"=0\")*0+COUNTIF(#REF!,\"=1\")*100+COUNTIF(#REF!,\"=2\")*80+COUNTIF(#REF!,\"=3\")*50+COUNTIF(#REF!,\"=8\")*20+COUNTIF(#REF!,\"=9\")*0)/COUNTA(#REF!)/100,\"N/A\")","v":{"$error":"#REF!"}},{"$f":"IF(COUNTA(#REF!)>0,(COUNTIF(#REF!,\"=0\")*0+COUNTIF(#REF!,\"=1\")*100+COUNTIF(#REF!,\"=2\")*80+COUNTIF(#REF!,\"=3\")*50+COUNTIF(#REF!,\"=8\")*20+COUNTIF(#REF!,\"=9\")*0)/COUNTA(#REF!)/100,\"N/A\")","v":{"$error":"#REF!"}},{"$f":"IF(AND(COUNTA(B129:V129)<>0,#REF!<>\"\"),AVERAGE(W129:AC129),\"N/A\")","v":{"$error":"#REF!"}},1,1,1,1,1,{"$error":"#REF!"},{"$error":"#REF!"},{"$error":"#REF!"}]
[{"$nulls":22},"N/A","N/A","N/A","N/A","N/A",{"$f":"IF(COUNTA(#REF!)>0,(COUNTIF(#REF!,\"=0\")*0+COUNTIF(#REF!,\"=1\")*100+COUNTIF(#REF!,\"=2\")*80+COUNTIF(#REF!,\"=3\")*50+COUNTIF(#REF!,\"=8\")*20+COUNTIF(#REF!,\"=9\")*0)/COUNTA(#REF!)/100,\"N/A\")","v":{"$error":"#REF!"}},{"$f":"IF(COUNTA(#REF!)>0,(COUNTIF(#REF!,\"=0\")*0+COUNTIF(#REF!,\"=1\")*100+COUNTIF(#REF!,\"=2\")*80+COUNTIF(#REF!,\"=3\")*50+COUNTIF(#REF!,\"=8\")*20+COUNTIF(#REF!,\"=9\")*0)/COUNTA(#REF!)/100,\"N/A\")","v":{"$error":"#REF!"}},{"$f":"IF(AND(COUNTA(B130:V130)<>0,#REF!<>\"\"),AVERAGE(W130:AC130),\"N/A\")","v":{"$error":"#REF!"}},1,1,1,1,1,{"$error":"#REF!"},{"$error":"#REF!"},{"$error":"#REF!"}]
[{"$nulls":22},"N/A","N/A","N/A","N/A","N/A",{"$f":"IF(COUNTA(#REF!)>0,(COUNTIF(#REF!,\"=0\")*0+COUNTIF(#REF!,\"=1\")*100+COUNTIF(#REF!,\"=2\")*80+COUNTIF(#REF!,\"=3\")*50+COUNTIF(#REF!,\"=8\")*20+COUNTIF(#REF!,\"=9\")*0)/COUNTA(#REF!)/100,\"N/A\")","v":{"$error":"#REF!"}},{"$f":"IF(COUNTA(#REF!)>0,(COUNTIF(#REF!,\"=0\")*0+COUNTIF(#REF!,\"=1\")*100+COUNTIF(#REF!,\"=2\")*80+COUNTIF(#REF!,\"=3\")*50+COUNTIF(#REF!,\"=8\")*20+COUNTIF(#REF!,\"=9\")*0)/COUNTA(#REF!)/100,\"N/A\")","v":{"$error":"#REF!"}},{"$f":"IF(AND(COUNTA(B131:V131)<>0,#REF!<>\"\"),AVERAGE(W131:AC131),\"N/A\")","v":{"$error":"#REF!"}},1,1,1,{"$f":"IF(Z131=\"N/A\",1,\"\")","v":1},1,{"$error":"#REF!"},{"$error":"#REF!"},{"$error":"#REF!"}]
[{"$nulls":22},"N/A","N/A","N/A","N/A","N/A",{"$f":"IF(COUNTA(#REF!)>0,(COUNTIF(#REF!,\"=0\")*0+COUNTIF(#REF!,\"=1\")*100+COUNTIF(#REF!,\"=2\")*80+COUNTIF(#REF!,\"=3\")*50+COUNTIF(#REF!,\"=8\")*20+COUNTIF(#REF!,\"=9\")*0)/COUNTA(#REF!)/100,\"N/A\")","v":{"$error":"#REF!"}},{"$f":"IF(COUNTA(#REF!)>0,(COUNTIF(#REF!,\"=0\")*0+COUNTIF(#REF!,\"=1\")*100+COUNTIF(#REF!,\"=2\")*80+COUNTIF(#REF!,\"=3\")*50+COUNTIF(#REF!,\"=8\")*20+COUNTIF(#REF!,\"=9\")*0)/COUNTA(#REF!)/100,\"N/A\")","v":{"$error":"#REF!"}},{"$f":"IF(AND(COUNTA(B132:V132)<>0,#REF!<>\"\"),AVERAGE(W132:AC132),\"N/A\")","v":{"$error":"#REF!"}},{"$f":"IF(W132=\"N/A\",1,\"\")","v":1},1,1,1,1,{"$error":"#REF!"},{"$error":"#REF!"},{"$error":"#REF!"}]
[{"$nulls":22},"N/A","N/A","N/A","N/A","N/A",{"$f":"IF(COUNTA(#REF!)>0,(COUNTIF(#REF!,\"=0\")*0+COUNTIF(#REF!,\"=1\")*100+COUNTIF(#REF!,\"=2\")*80+COUNTIF(#REF!,\"=3\")*50+COUNTIF(#REF!,\"=8\")*20+COUNTIF(#REF!,\"=9\")*0)/COUNTA(#REF!)/100,\"N/A\")","v":{"$error":"#REF!"}},{"$f":"IF(COUNTA(#REF!)>0,(COUNTIF(#REF!,\"=0\")*0+COUNTIF(#REF!,\"=1\")*100+COUNTIF(#REF!,\"=2\")*80+COUNTIF(#REF!,\"=3\")*50+COUNTIF(#REF!,\"=8\")*20+COUNTIF(#REF!,\"=9\")*0)/COUNTA(#REF!)/100,\"N/A\")","v":{"$error":"#REF!"}},{"$f":"IF(AND(COUNTA(B133:V133)<>0,#REF!<>\"\"),AVERAGE(W133:AC133),\"N/A\")","v":{"$error":"#REF!"}},1,1,1,1,1,{"$error":"#REF!"},{"$error":"#REF!"},{"$error":"#REF!"}]
[{"$nulls":22},"N/A","N/A","N/A","N/A","N/A",{"$f":"IF(COUNTA(#REF!)>0,(COUNTIF(#REF!,\"=0\")*0+COUNTIF(#REF!,\"=1\")*100+COUNTIF(#REF!,\"=2\")*80+COUNTIF(#REF!,\"=3\")*50+COUNTIF(#REF!,\"=8\")*20+COUNTIF(#REF!,\"=9\")*0)/COUNTA(#REF!)/100,\"N/A\")","v":{"$error":"#REF!"}},{"$f":"IF(COUNTA(#REF!)>0,(COUNTIF(#REF!,\"=0\")*0+COUNTIF(#REF!,\"=1\")*100+COUNTIF(#REF!,\"=2\")*80+COUNTIF(#REF!,\"=3\")*50+COUNTIF(#REF!,\"=8\")*20+COUNTIF(#REF!,\"=9\")*0)/COUNTA(#REF!)/100,\"N/A\")","v":{"$error":"#REF!"}},{"$f":"IF(AND(COUNTA(B134:V134)<>0,#REF!<>\"\"),AVERAGE(W134:AC134),\"N/A\")","v":{"$error":"#REF!"}},1,1,1,1,1,{"$error":"#REF!"},{"$error":"#REF!"},{"$error":"#REF!"}]
[{"$nulls":22},"N/A","N/A","N/A","N/A","N/A",{"$f":"IF(COUNTA(#REF!)>0,(COUNTIF(#REF!,\"=0\")*0+COUNTIF(#REF!,\"=1\")*100+COUNTIF(#REF!,\"=2\")*80+COUNTIF(#REF!,\"=3\")*50+COUNTIF(#REF!,\"=8\")*20+COUNTIF(#REF!,\"=9\")*0)/COUNTA(#REF!)/100,\"N/A\")","v":{"$error":"#REF!"}},{"$f":"IF(COUNTA(#REF!)>0,(COUNTIF(#REF!,\"=0\")*0+COUNTIF(#REF!,\"=1\")*100+COUNTIF(#REF!,\"=2\")*80+COUNTIF(#REF!,\"=3\")*50+COUNTIF(#REF!,\"=8\")*20+COUNTIF(#REF!,\"=9\")*0)/COUNTA(#REF!)/100,\"N/A\")","v":{"$error":"#REF!"}},{"$f":"IF(AND(COUNTA(B135:V135)<>0,#REF!<>\"\"),AVERAGE(W135:AC135),\"N/A\")","v":{"$error":"#REF!"}},1,1,1,1,1,{"$error":"#REF!"},{"$error":"#REF!"},{"$error":"#REF!"}]
[{"$nulls":22},"N/A","N/A","N/A","N/A","N/A",{"$f":"IF(COUNTA(#REF!)>0,(COUNTIF(#REF!,\"=0\")*0+COUNTIF(#REF!,\"=1\")*100+COUNTIF(#REF!,\"=2\")*80+COUNTIF(#REF!,\"=3\")*50+COUNTIF(#REF!,\"=8\")*20+COUNTIF(#REF!,\"=9\")*0)/COUNTA(#REF!)/100,\"N/A\")","v":{"$error":"#REF!"}},{"$f":"IF(COUNTA(#REF!)>0,(COUNTIF(#REF!,\"=0\")*0+COUNTIF(#REF!,\"=1\")*100+COUNTIF(#REF!,\"=2\")*80+COUNTIF(#REF!,\"=3\")*50+COUNTIF(#REF!,\"=8\")*20+COUNTIF(#REF!,\"=9\")*0)/COUNTA(#REF!)/100,\"N/A\")","v":{"$error":"#REF!"}},{"$f":"IF(AND(COUNTA(B136:V136)<>0,#REF!<>\"\"),AVERAGE(W136:AC136),\"N/A\")","v":{"$error":"#REF!"}},1,1,1,1,1,{"$error":"#REF!"},{"$error":"#REF!"},{"$error":"#REF!"}]
[{"$nulls":22},"N/A","N/A","N/A","N/A","N/A",{"$f":"IF(COUNTA(#REF!)>0,(COUNTIF(#REF!,\"=0\")*0+COUNTIF(#REF!,\"=1\")*100+COUNTIF(#REF!,\"=2\")*80+COUNTIF(#REF!,\"=3\")*50+COUNTIF(#REF!,\"=8\")*20+COUNTIF(#REF!,\"=9\")*0)/COUNTA(#REF!)/100,\"N/A\")","v":{"$error":"#REF!"}},{"$f":"IF(COUNTA(#REF!)>0,(COUNTIF(#REF!,\"=0\")*0+COUNTIF(#REF!,\"=1\")*100+COUNTIF(#REF!,\"=2\")*80+COUNTIF(#REF!,\"=3\")*50+COUNTIF(#REF!,\"=8\")*20+COUNTIF(#REF!,\"=9\")*0)/COUNTA(#REF!)/100,\"N/A\")","v":{"$error":"#REF!"}},{"$f":"IF(AND(COUNTA(B137:V137)<>0,#REF!<>\"\"),AVERAGE(W137:AC137),\"N/A\")","v":{"$error":"#REF!"}},1,1,1,1,1,{"$error":"#REF!"},{"$error":"#REF!"},{"$error":"#REF!"}]
[{"$nulls":22},"N/A","N/A","N/A","N/A","N/A",{"$f":"IF(COUNTA(#REF!)>0,(COUNTIF(#REF!,\"=0\")*0+COUNTIF(#REF!,\"=1\")*100+COUNTIF(#REF!,\"=2\")*80+COUNTIF(#REF!,\"=3\")*50+COUNTIF(#REF!,\"=8\")*20+COUNTIF(#REF!,\"=9\")*0)/COUNTA(#REF!)/100,\"N/A\")","v":{"$error":"#REF!"}},{"$f":"IF(COUNTA(#REF!)>0,(COUNTIF(#REF!,\"=0\")*0+COUNTIF(#REF!,\"=1\")*100+COUNTIF(#REF!,\"=2\")*80+COUNTIF(#REF!,\"=3\")*50+COUNTIF(#REF!,\"=8\")*20+COUNTIF(#REF!,\"=9\")*0)/COUNTA(#REF!)/100,\"N/A\")","v":{"$error":"#REF!"}},{"$f":"IF(AND(COUNTA(B138:V138)<>0,#REF!<>\"\"),AVERAGE(W138:AC138),\"N/A\")","v":{"$error":"#REF!"}},1,1,1,1,1,{"$error":"#REF!"},{"$error":"#REF!"},{"$error":"#REF!"}]
[{"$nulls":22},"N/A","N/A","N/A","N/A","N/A",{"$f":"IF(COUNTA(#REF!)>0,(COUNTIF(#REF!,\"=0\")*0+COUNTIF(#REF!,\"=1\")*100+COUNTIF(#REF!,\"=2\")*80+COUNTIF(#REF!,\"=3\")*50+COUNTIF(#REF!,\"=8\")*20+COUNTIF(#REF!,\"=9\")*0)/COUNTA(#REF!)/100,\"N/A\")","v":{"$error":"#REF!"}},{"$f":"IF(COUNTA(#REF!)>0,(COUNTIF(#REF!,\"=0\")*0+COUNTIF(#REF!,\"=1\")*100+COUNTIF(#REF!,\"=2\")*80+COUNTIF(#REF!,\"=3\")*50+COUNTIF(#REF!,\"=8\")*20+COUNTIF(#REF!,\"=9\")*0)/COUNTA(#REF!)/100,\"N/A\")","v":{"$error":"#REF!"}},{"$f":"IF(AND(COUNTA(B139:V139)<>0,#REF!<>\"\"),AVERAGE(W139:AC139),\"N/A\")","v":{"$error":"#REF!"}},1,1,1,1,1,{"$error":"#REF!"},{"$error":"#REF!"},{"$error":"#REF!"}]
[{"$nulls":22},"N/A","N/A","N/A","N/A","N/A",{"$f":"IF(COUNTA(#REF!)>0,(COUNTIF(#REF!,\"=0\")*0+COUNTIF(#REF!,\"=1\")*100+COUNTIF(#REF!,\"=2\")*80+COUNTIF(#REF!,\"=3\")*50+COUNTIF(#REF!,\"=8\")*20+COUNTIF(#REF!,\"=9\")*0)/COUNTA(#REF!)/100,\"N/A\")","v":{"$error":"#REF!"}},{"$f":"IF(COUNTA(#REF!)>0,(COUNTIF(#REF!,\"=0\")*0+COUNTIF(#REF!,\"=1\")*100+COUNTIF(#REF!,\"=2\")*80+COUNTIF(#REF!,\"=3\")*50+COUNTIF(#REF!,\"=8\")*20+COUNTIF(#REF!,\"=9\")*0)/COUNTA(#REF!)/100,\"N/A\")","v":{"$error":"#REF!"}},{"$f":"IF(AND(COUNTA(B140:V140)<>0,#REF!<>\"\"),AVERAGE(W140:AC140),\"N/A\")","v":{"$error":"#REF!"}},1,1,1,1,1,{"$error":"#REF!"},{"$error":"#REF!"},{"$error":"#REF!"}]
[{"$nulls":22},"N/A","N/A","N/A","N/A","N/A",{"$f":"IF(COUNTA(#REF!)>0,(COUNTIF(#REF!,\"=0\")*0+COUNTIF(#REF!,\"=1\")*100+COUNTIF(#REF!,\"=2\")*80+COUNTIF(#REF!,\"=3\")*50+COUNTIF(#REF!,\"=8\")*20+COUNTIF(#REF!,\"=9\")*0)/COUNTA(#REF!)/100,\"N/A\")","v":{"$error":"#REF!"}},{"$f":"IF(COUNTA(#REF!)>0,(COUNTIF(#REF!,\"=0\")*0+COUNTIF(#REF!,\"=1\")*100+COUNTIF(#REF!,\"=2\")*80+COUNTIF(#REF!,\"=3\")*50+COUNTIF(#REF!,\"=8\")*20+COUNTIF(#REF!,\"=9\")*0)/COUNTA(#REF!)/100,\"N/A\")","v":{"$error":"#REF!"}},{"$f":"IF(AND(COUNTA(B141:V141)<>0,#REF!<>\"\"),AVERAGE(W141:AC141),\"N/A\")","v":{"$error":"#REF!"}},1,1,1,1,1,{"$error":"#REF!"},{"$error":"#REF!"},{"$error":"#REF!"}]
[{"$nulls":22},"N/A","N/A","N/A","N/A","N/A",{"$f":"IF(COUNTA(#REF!)>0,(COUNTIF(#REF!,\"=0\")*0+COUNTIF(#REF!,\"=1\")*100+COUNTIF(#REF!,\"=2\")*80+COUNTIF(#REF!,\"=3\")*50+COUNTIF(#REF!,\"=8\")*20+COUNTIF(#REF!,\"=9\")*0)/COUNTA(#REF!)/100,\"N/A\")","v":{"$error":"#REF!"}},{"$f":"IF(COUNTA(#REF!)>0,(COUNTIF(#REF!,\"=0\")*0+COUNTIF(#REF!,\"=1\")*100+COUNTIF(#REF!,\"=2\")*80+COUNTIF(#REF!,\"=3\")*50+COUNTIF(#REF!,\"=8\")*20+COUNTIF(#REF!,\"=9\")*0)/COUNTA(#REF!)/100,\"N/A\")","v":{"$error":"#REF!"}},{"$f":"IF(AND(COUNTA(B142:V142)<>0,#REF!<>\"\"),AVERAGE(W142:AC142),\"N/A\")","v":{"$error":"#REF!"}},1,1,1,1,1,{"$error":"#REF!"},{"$error":"#REF!"},{"$error":"#REF!"}]
[{"$nulls":22},"N/A","N/A","N/A",{"$f":"IF(COUNTA(Q143:U143)<>0,(COUNTIF(Q143:U143,\"=0\")*0+COUNTIF(Q143:U143,\"=1\")*100+COUNTIF(Q143:U143,\"=2\")*80+COUNTIF(Q143:U143,\"=3\")*50+COUNTIF(Q143:U143,\"=8\")*20+COUNTIF(Q143:U143,\"=9\")*0)/COUNTA(Q143:U143)/100,\"N/A\")","v":"N/A"},{"$f":"IF(COUNTA(V143:V143)>0,(COUNTIF(V143:V143,\"=0\")*0+COUNTIF(V143:V143,\"=1\")*100+COUNTIF(V143:V143,\"=2\")*80+COUNTIF(V143:V143,\"=3\")*50+COUNTIF(V143:V143,\"=8\")*20+COUNTIF(V143:V143,\"=9\")*0)/COUNTA(V143:V143)/100,\"N/A\")","v":"N/A"},{"$f":"IF(COUNTA(#REF!)>0,(COUNTIF(#REF!,\"=0\")*0+COUNTIF(#REF!,\"=1\")*100+COUNTIF(#REF!,\"=2\")*80+COUNTIF(#REF!,\"=3\")*50+COUNTIF(#REF!,\"=8\")*20+COUNTIF(#REF!,\"=9\")*0)/COUNTA(#REF!)/100,\"N/A\")","v":{"$error":"#REF!"}},{"$f":"IF(COUNTA(#REF!)>0,(COUNTIF(#REF!,\"=0\")*0+COUNTIF(#REF!,\"=1\")*100+COUNTIF(#REF!,\"=2\")*80+COUNTIF(#REF!,\"=3\")*50+COUNTIF(#REF!,\"=8\")*20+COUNTIF(#REF!,\"=9\")*0)/COUNTA(#REF!)/100,\"N/A\")","v":{"$error":"#REF!"}},{"$f":"IF(AND(COUNTA(B143:V143)<>0,#REF!<>\"\"),AVERAGE(W143:AC143),\"N/A\")","v":{"$error":"#REF!"}},1,1,1,1,1,{"$error":"#REF!"},{"$error":"#REF!"},{"$error":"#REF!"}]
[{"$nulls":22},"N/A","N/A","N/A","N/A","N/A",{"$f":"IF(COUNTA(#REF!)>0,(COUNTIF(#REF!,\"=0\")*0+COUNTIF(#REF!,\"=1\")*100+COUNTIF(#REF!,\"=2\")*80+COUNTIF(#REF!,\"=3\")*50+COUNTIF(#REF!,\"=8\")*20+COUNTIF(#REF!,\"=9\")*0)/COUNTA(#REF!)/100,\"N/A\")","v":{"$error":"#REF!"}},{"$f":"IF(COUNTA(#REF!)>0,(COUNTIF(#REF!,\"=0\")*0+COUNTIF(#REF!,\"=1\")*100+COUNTIF(#REF!,\"=2\")*80+COUNTIF(#REF!,\"=3\")*50+COUNTIF(#REF!,\"=8\")*20+COUNTIF(#REF!,\"=9\")*0)/COUNTA(#REF!)/100,\"N/A\")","v":{"$error":"#REF!"}},{"$f":"IF(AND(COUNTA(B144:V144)<>0,#REF!<>\"\"),AVERAGE(W144:AC144),\"N/A\")","v":{"$error":"#REF!"}},1,1,1,1,1,{"$error":"#REF!"},{"$error":"#REF!"},{"$error":"#REF!"}]
[{"$nulls":22},"N/A","N/A","N/A","N/A","N/A",{"$f":"IF(COUNTA(#REF!)>0,(COUNTIF(#REF!,\"=0\")*0+COUNTIF(#REF!,\"=1\")*100+COUNTIF(#REF!,\"=2\")*80+COUNTIF(#REF!,\"=3\")*50+COUNTIF(#REF!,\"=8\")*20+COUNTIF(#REF!,\"=9\")*0)/COUNTA(#REF!)/100,\"N/A\")","v":{"$error":"#REF!"}},{"$f":"IF(COUNTA(#REF!)>0,(COUNTIF(#REF!,\"=0\")*0+COUNTIF(#REF!,\"=1\")*100+COUNTIF(#REF!,\"=2\")*80+COUNTIF(#REF!,\"=3\")*50+COUNTIF(#REF!,\"=8\")*20+COUNTIF(#REF!,\"=9\")*0)/COUNTA(#REF!)/100,\"N/A\")","v":{"$error":"#REF!"}},{"$f":"IF(AND(COUNTA(B145:V145)<>0,#REF!<>\"\"),AVERAGE(W145:AC145),\"N/A\")","v":{"$error":"#REF!"}},1,1,1,1,1,{"$error":"#REF!"},{"$error":"#REF!"},{"$error":"#REF!"}]
[{"$nulls":22},"N/A","N/A","N/A","N/A","N/A",{"$f":"IF(COUNTA(#REF!)>0,(COUNTIF(#REF!,\"=0\")*0+COUNTIF(#REF!,\"=1\")*100+COUNTIF(#REF!,\"=2\")*80+COUNTIF(#REF!,\"=3\")*50+COUNTIF(#REF!,\"=8\")*20+COUNTIF(#REF!,\"=9\")*0)/COUNTA(#REF!)/100,\"N/A\")","v":{"$error":"#REF!"}},{"$f":"IF(COUNTA(#REF!)>0,(COUNTIF(#REF!,\"=0\")*0+COUNTIF(#REF!,\"=1\")*100+COUNTIF(#REF!,\"=2\")*80+COUNTIF(#REF!,\"=3\")*50+COUNTIF(#REF!,\"=8\")*20+COUNTIF(#REF!,\"=9\")*0)/COUNTA(#REF!)/100,\"N/A\")","v":{"$error":"#REF!"}},{"$f":"IF(AND(COUNTA(B146:V146)<>0,#REF!<>\"\"),AVERAGE(W146:AC146),\"N/A\")","v":{"$error":"#REF!"}},1,1,1,1,1,{"$error":"#REF!"},{"$error":"#REF!"},{"$error":"#REF!"}]
[{"$nulls":22},"N/A","N/A","N/A","N/A","N/A",{"$f":"IF(COUNTA(#REF!)>0,(COUNTIF(#REF!,\"=0\")*0+COUNTIF(#REF!,\"=1\")*100+COUNTIF(#REF!,\"=2\")*80+COUNTIF(#REF!,\"=3\")*50+COUNTIF(#REF!,\"=8\")*20+COUNTIF(#REF!,\"=9\")*0)/COUNTA(#REF!)/100,\"N/A\")","v":{"$error":"#REF!"}},{"$f":"IF(COUNTA(#REF!)>0,(COUNTIF(#REF!,\"=0\")*0+COUNTIF(#REF!,\"=1\")*100+COUNTIF(#REF!,\"=2\")*80+COUNTIF(#REF!,\"=3\")*50+COUNTIF(#REF!,\"=8\")*20+COUNTIF(#REF!,\"=9\")*0)/COUNTA(#REF!)/100,\"N/A\")","v":{"$error":"#REF!"}},{"$f":"IF(AND(COUNTA(B147:V147)<>0,#REF!<>\"\"),AVERAGE(W147:AC147),\"N/A\")","v":{"$error":"#REF!"}},1,1,1,1,1,{"$error":"#REF!"},{"$error":"#REF!"},{"$error":"#REF!"}]
[{"$nulls":22},"N/A","N/A","N/A","N/A","N/A",{"$f":"IF(COUNTA(#REF!)>0,(COUNTIF(#REF!,\"=0\")*0+COUNTIF(#REF!,\"=1\")*100+COUNTIF(#REF!,\"=2\")*80+COUNTIF(#REF!,\"=3\")*50+COUNTIF(#REF!,\"=8\")*20+COUNTIF(#REF!,\"=9\")*0)/COUNTA(#REF!)/100,\"N/A\")","v":{"$error":"#REF!"}},{"$f":"IF(COUNTA(#REF!)>0,(COUNTIF(#REF!,\"=0\")*0+COUNTIF(#REF!,\"=1\")*100+COUNTIF(#REF!,\"=2\")*80+COUNTIF(#REF!,\"=3\")*50+COUNTIF(#REF!,\"=8\")*20+COUNTIF(#REF!,\"=9\")*0)/COUNTA(#REF!)/100,\"N/A\")","v":{"$error":"#REF!"}},{"$f":"IF(AND(COUNTA(B148:V148)<>0,#REF!<>\"\"),AVERAGE(W148:AC148),\"N/A\")","v":{"$error":"#REF!"}},1,1,1,1,1,{"$error":"#REF!"},{"$error":"#REF!"},{"$error":"#REF!"}]
[{"$nulls":22},"N/A","N/A","N/A","N/A","N/A",{"$f":"IF(COUNTA(#REF!)>0,(COUNTIF(#REF!,\"=0\")*0+COUNTIF(#REF!,\"=1\")*100+COUNTIF(#REF!,\"=2\")*80+COUNTIF(#REF!,\"=3\")*50+COUNTIF(#REF!,\"=8\")*20+COUNTIF(#REF!,\"=9\")*0)/COUNTA(#REF!)/100,\"N/A\")","v":{"$error":"#REF!"}},{"$f":"IF(COUNTA(#REF!)>0,(COUNTIF(#REF!,\"=0\")*0+COUNTIF(#REF!,\"=1\")*100+COUNTIF(#REF!,\"=2\")*80+COUNTIF(#REF!,\"=3\")*50+COUNTIF(#REF!,\"=8\")*20+COUNTIF(#REF!,\"=9\")*0)/COUNTA(#REF!)/100,\"N/A\")","v":{"$error":"#REF!"}},{"$f":"IF(AND(COUNTA(B149:V149)<>0,#REF!<>\"\"),AVERAGE(W149:AC149),\"N/A\")","v":{"$error":"#REF!"}},1,1,1,1,1,{"$error":"#REF!"},{"$error":"#REF!"},{"$error":"#REF!"}]
[{"$nulls":22},"N/A","N/A","N/A","N/A","N/A",{"$f":"IF(COUNTA(#REF!)>0,(COUNTIF(#REF!,\"=0\")*0+COUNTIF(#REF!,\"=1\")*100+COUNTIF(#REF!,\"=2\")*80+COUNTIF(#REF!,\"=3\")*50+COUNTIF(#REF!,\"=8\")*20+COUNTIF(#REF!,\"=9\")*0)/COUNTA(#REF!)/100,\"N/A\")","v":{"$error":"#REF!"}},{"$f":"IF(COUNTA(#REF!)>0,(COUNTIF(#REF!,\"=0\")*0+COUNTIF(#REF!,\"=1\")*100+COUNTIF(#REF!,\"=2\")*80+COUNTIF(#REF!,\"=3\")*50+COUNTIF(#REF!,\"=8\")*20+COUNTIF(#REF!,\"=9\")*0)/COUNTA(#REF!)/100,\"N/A\")","v":{"$error":"#REF!"}},{"$f":"IF(AND(COUNTA(B150:V150)<>0,#REF!<>\"\"),AVERAGE(W150:AC150),\"N/A\")","v":{"$error":"#REF!"}},1,1,1,1,1,{"$error":"#REF!"},{"$error":"#REF!"},{"$error":"#REF!"}]
[{"$nulls":22},"N/A","N/A","N/A","N/A","N/A",{"$f":"IF(COUNTA(#REF!)>0,(COUNTIF(#REF!,\"=0\")*0+COUNTIF(#REF!,\"=1\")*100+COUNTIF(#REF!,\"=2\")*80+COUNTIF(#REF!,\"=3\")*50+COUNTIF(#REF!,\"=8\")*20+COUNTIF(#REF!,\"=9\")*0)/COUNTA(#REF!)/100,\"N/A\")","v":{"$error":"#REF!"}},{"$f":"IF(COUNTA(#REF!)>0,(COUNTIF(#REF!,\"=0\")*0+COUNTIF(#REF!,\"=1\")*100+COUNTIF(#REF!,\"=2\")*80+COUNTIF(#REF!,\"=3\")*50+COUNTIF(#REF!,\"=8\")*20+COUNTIF(#REF!,\"=9\")*0)/COUNTA(#REF!)/100,\"N/A\")","v":{"$error":"#REF!"}},{"$f":"IF(AND(COUNTA(B151:V151)<>0,#REF!<>\"\"),AVERAGE(W151:AC151),\"N/A\")","v":{"$error":"#REF!"}},1,1,1,1,1,{"$error":"#REF!"},{"$error":"#REF!"},{"$error":"#REF!"}]
[{"$nulls":22},"N/A","N/A","N/A","N/A","N/A",{"$f":"IF(COUNTA(#REF!)>0,(COUNTIF(#REF!,\"=0\")*0+COUNTIF(#REF!,\"=1\")*100+COUNTIF(#REF!,\"=2\")*80+COUNTIF(#REF!,\"=3\")*50+COUNTIF(#REF!,\"=8\")*20+COUNTIF(#REF!,\"=9\")*0)/COUNTA(#REF!)/100,\"N/A\")","v":{"$error":"#REF!"}},{"$f":"IF(COUNTA(#REF!)>0,(COUNTIF(#REF!,\"=0\")*0+COUNTIF(#REF!,\"=1\")*100+COUNTIF(#REF!,\"=2\")*80+COUNTIF(#REF!,\"=3\")*50+COUNTIF(#REF!,\"=8\")*20+COUNTIF(#REF!,\"=9\")*0)/COUNTA(#REF!)/100,\"N/A\")","v":{"$error":"#REF!"}},{"$f":"IF(AND(COUNTA(B152:V152)<>0,#REF!<>\"\"),AVERAGE(W152:AC152),\"N/A\")","v":{"$error":"#REF!"}},1,1,1,1,1,{"$error":"#REF!"},{"$error":"#REF!"},{"$error":"#REF!"}]
[{"$nulls":22},"N/A","N/A","N/A","N/A","N/A",{"$f":"IF(COUNTA(#REF!)>0,(COUNTIF(#REF!,\"=0\")*0+COUNTIF(#REF!,\"=1\")*100+COUNTIF(#REF!,\"=2\")*80+COUNTIF(#REF!,\"=3\")*50+COUNTIF(#REF!,\"=8\")*20+COUNTIF(#REF!,\"=9\")*0)/COUNTA(#REF!)/100,\"N/A\")","v":{"$error":"#REF!"}},{"$f":"IF(COUNTA(#REF!)>0,(COUNTIF(#REF!,\"=0\")*0+COUNTIF(#REF!,\"=1\")*100+COUNTIF(#REF!,\"=2\")*80+COUNTIF(#REF!,\"=3\")*50+COUNTIF(#REF!,\"=8\")*20+COUNTIF(#REF!,\"=9\")*0)/COUNTA(#REF!)/100,\"N/A\")","v":{"$error":"#REF!"}},{"$f":"IF(AND(COUNTA(B153:V153)<>0,#REF!<>\"\"),AVERAGE(W153:AC153),\"N/A\")","v":{"$error":"#REF!"}},1,1,1,1,1,{"$error":"#REF!"},{"$error":"#REF!"},{"$error":"#REF!"}]
[{"$nulls":22},"N/A","N/A","N/A","N/A","N/A",{"$f":"IF(COUNTA(#REF!)>0,(COUNTIF(#REF!,\"=0\")*0+COUNTIF(#REF!,\"=1\")*100+COUNTIF(#REF!,\"=2\")*80+COUNTIF(#REF!,\"=3\")*50+COUNTIF(#REF!,\"=8\")*20+COUNTIF(#REF!,\"=9\")*0)/COUNTA(#REF!)/100,\"N/A\")","v":{"$error":"#REF!"}},{"$f":"IF(COUNTA(#REF!)>0,(COUNTIF(#REF!,\"=0\")*0+COUNTIF(#REF!,\"=1\")*100+COUNTIF(#REF!,\"=2\")*80+COUNTIF(#REF!,\"=3\")*50+COUNTIF(#REF!,\"=8\")*20+COUNTIF(#REF!,\"=9\")*0)/COUNTA(#REF!)/100,\"N/A\")","v":{"$error":"#REF!"}},{"$f":"IF(AND(COUNTA(B154:V154)<>0,#REF!<>\"\"),AVERAGE(W154:AC154),\"N/A\")","v":{"$error":"#REF!"}},1,1,1,1,1,{"$error":"#REF!"},{"$error":"#REF!"},{"$error":"#REF!"}]
[{"$nulls":22},"N/A","N/A","N/A","N/A","N/A",{"$f":"IF(COUNTA(#REF!)>0,(COUNTIF(#REF!,\"=0\")*0+COUNTIF(#REF!,\"=1\")*100+COUNTIF(#REF!,\"=2\")*80+COUNTIF(#REF!,\"=3\")*50+COUNTIF(#REF!,\"=8\")*20+COUNTIF(#REF!,\"=9\")*0)/COUNTA(#REF!)/100,\"N/A\")","v":{"$error":"#REF!"}},{"$f":"IF(COUNTA(#REF!)>0,(COUNTIF(#REF!,\"=0\")*0+COUNTIF(#REF!,\"=1\")*100+COUNTIF(#REF!,\"=2\")*80+COUNTIF(#REF!,\"=3\")*50+COUNTIF(#REF!,\"=8\")*20+COUNTIF(#REF!,\"=9\")*0)/COUNTA(#REF!)/100,\"N/A\")","v":{"$error":"#REF!"}},{"$f":"IF(AND(COUNTA(B155:V155)<>0,#REF!<>\"\"),AVERAGE(W155:AC155),\"N/A\")","v":{"$error":"#REF!"}},1,1,1,1,1,{"$error":"#REF!"},{"$error":"#REF!"},{"$error":"#REF!"}]
[{"$nulls":22},"N/A","N/A","N/A","N/A","N/A",{"$f":"IF(COUNTA(#REF!)>0,(COUNTIF(#REF!,\"=0\")*0+COUNTIF(#REF!,\"=1\")*100+COUNTIF(#REF!,\"=2\")*80+COUNTIF(#REF!,\"=3\")*50+COUNTIF(#REF!,\"=8\")*20+COUNTIF(#REF!,\"=9\")*0)/COUNTA(#REF!)/100,\"N/A\")","v":{"$error":"#REF!"}},{"$f":"IF(COUNTA(#REF!)>0,(COUNTIF(#REF!,\"=0\")*0+COUNTIF(#REF!,\"=1\")*100+COUNTIF(#REF!,\"=2\")*80+COUNTIF(#REF!,\"=3\")*50+COUNTIF(#REF!,\"=8\")*20+COUNTIF(#REF!,\"=9\")*0)/COUNTA(#REF!)/100,\"N/A\")","v":{"$error":"#REF!"}},{"$f":"IF(AND(COUNTA(B156:V156)<>0,#REF!<>\"\"),AVERAGE(W156:AC156),\"N/A\")","v":{"$error":"#REF!"}},1,1,1,1,1,{"$error":"#REF!"},{"$error":"#REF!"},{"$error":"#REF!"}]
[{"$nulls":22},"N/A","N/A","N/A","N/A","N/A",{"$f":"IF(COUNTA(#REF!)>0,(COUNTIF(#REF!,\"=0\")*0+COUNTIF(#REF!,\"=1\")*100+COUNTIF(#REF!,\"=2\")*80+COUNTIF(#REF!,\"=3\")*50+COUNTIF(#REF!,\"=8\")*20+COUNTIF(#REF!,\"=9\")*0)/COUNTA(#REF!)/100,\"N/A\")","v":{"$error":"#REF!"}},{"$f":"IF(COUNTA(#REF!)>0,(COUNTIF(#REF!,\"=0\")*0+COUNTIF(#REF!,\"=1\")*100+COUNTIF(#REF!,\"=2\")*80+COUNTIF(#REF!,\"=3\")*50+COUNTIF(#REF!,\"=8\")*20+COUNTIF(#REF!,\"=9\")*0)/COUNTA(#REF!)/100,\"N/A\")","v":{"$error":"#REF!"}},{"$f":"IF(AND(COUNTA(B157:V157)<>0,#REF!<>\"\"),AVERAGE(W157:AC157),\"N/A\")","v":{"$error":"#REF!"}},1,1,1,1,1,{"$error":"#REF!"},{"$error":"#REF!"},{"$error":"#REF!"}]
[{"$nulls":22},"N/A","N/A","N/A","N/A","N/A",{"$f":"IF(COUNTA(#REF!)>0,(COUNTIF(#REF!,\"=0\")*0+COUNTIF(#REF!,\"=1\")*100+COUNTIF(#REF!,\"=2\")*80+COUNTIF(#REF!,\"=3\")*50+COUNTIF(#REF!,\"=8\")*20+COUNTIF(#REF!,\"=9\")*0)/COUNTA(#REF!)/100,\"N/A\")","v":{"$error":"#REF!"}},{"$f":"IF(COUNTA(#REF!)>0,(COUNTIF(#REF!,\"=0\")*0+COUNTIF(#REF!,\"=1\")*100+COUNTIF(#REF!,\"=2\")*80+COUNTIF(#REF!,\"=3\")*50+COUNTIF(#REF!,\"=8\")*20+COUNTIF(#REF!,\"=9\")*0)/COUNTA(#REF!)/100,\"N/A\")","v":{"$error":"#REF!"}},{"$f":"IF(AND(COUNTA(B158:V158)<>0,#REF!<>\"\"),AVERAGE(W158:AC158),\"N/A\")","v":{"$error":"#REF!"}},1,1,1,1,1,{"$error":"#REF!"},{"$error":"#REF!"},{"$error":"#REF!"}]
[{"$nulls":22},"N/A","N/A","N/A","N/A","N/A",{"$f":"IF(COUNTA(#REF!)>0,(COUNTIF(#REF!,\"=0\")*0+COUNTIF(#REF!,\"=1\")*100+COUNTIF(#REF!,\"=2\")*80+COUNTIF(#REF!,\"=3\")*50+COUNTIF(#REF!,\"=8\")*20+COUNTIF(#REF!,\"=9\")*0)/COUNTA(#REF!)/100,\"N/A\")","v":{"$error":"#REF!"}},{"$f":"IF(COUNTA(#REF!)>0,(COUNTIF(#REF!,\"=0\")*0+COUNTIF(#REF!,\"=1\")*100+COUNTIF(#REF!,\"=2\")*80+COUNTIF(#REF!,\"=3\")*50+COUNTIF(#REF!,\"=8\")*20+COUNTIF(#REF!,\"=9\")*0)/COUNTA(#REF!)/100,\"N/A\")","v":{"$error":"#REF!"}},{"$f":"IF(AND(COUNTA(B159:V159)<>0,#REF!<>\"\"),AVERAGE(W159:AC159),\"N/A\")","v":{"$error":"#REF!"}},1,1,1,1,1,{"$error":"#REF!"},{"$error":"#REF!"},{"$error":"#REF!"}]
[{"$nulls":22},"N/A","N/A","N/A","N/A","N/A",{"$f":"IF(COUNTA(#REF!)>0,(COUNTIF(#REF!,\"=0\")*0+COUNTIF(#REF!,\"=1\")*100+COUNTIF(#REF!,\"=2\")*80+COUNTIF(#REF!,\"=3\")*50+COUNTIF(#REF!,\"=8\")*20+COUNTIF(#REF!,\"=9\")*0)/COUNTA(#REF!)/100,\"N/A\")","v":{"$error":"#REF!"}},{"$f":"IF(COUNTA(#REF!)>0,(COUNTIF(#REF!,\"=0\")*0+COUNTIF(#REF!,\"=1\")*100+COUNTIF(#REF!,\"=2\")*80+COUNTIF(#REF!,\"=3\")*50+COUNTIF(#REF!,\"=8\")*20+COUNTIF(#REF!,\"=9\")*0)/COUNTA(#REF!)/100,\"N/A\")","v":{"$error":"#REF!"}},{"$f":"IF(AND(COUNTA(B160:V160)<>0,#REF!<>\"\"),AVERAGE(W160:AC160),\"N/A\")","v":{"$error":"#REF!"}},1,1,1,1,1,{"$error":"#REF!"},{"$error":"#REF!"},{"$error":"#REF!"}]
[{"$nulls":22},"N/A","N/A","N/A","N/A","N/A",{"$f":"IF(COUNTA(#REF!)>0,(COUNTIF(#REF!,\"=0\")*0+COUNTIF(#REF!,\"=1\")*100+COUNTIF(#REF!,\"=2\")*80+COUNTIF(#REF!,\"=3\")*50+COUNTIF(#REF!,\"=8\")*20+COUNTIF(#REF!,\"=9\")*0)/COUNTA(#REF!)/100,\"N/A\")","v":{"$error":"#REF!"}},{"$f":"IF(COUNTA(#REF!)>0,(COUNTIF(#REF!,\"=0\")*0+COUNTIF(#REF!,\"=1\")*100+COUNTIF(#REF!,\"=2\")*80+COUNTIF(#REF!,\"=3\")*50+COUNTIF(#REF!,\"=8\")*20+COUNTIF(#REF!,\"=9\")*0)/COUNTA(#REF!)/100,\"N/A\")","v":{"$error":"#REF!"}},{"$f":"IF(AND(COUNTA(B161:V161)<>0,#REF!<>\"\"),AVERAGE(W161:AC161),\"N/A\")","v":{"$error":"#REF!"}},1,1,1,1,1,{"$error":"#REF!"},{"$error":"#REF!"},{"$error":"#REF!"}]
[{"$nulls":22},"N/A","N/A","N/A","N/A","N/A",{"$f":"IF(COUNTA(#REF!)>0,(COUNTIF(#REF!,\"=0\")*0+COUNTIF(#REF!,\"=1\")*100+COUNTIF(#REF!,\"=2\")*80+COUNTIF(#REF!,\"=3\")*50+COUNTIF(#REF!,\"=8\")*20+COUNTIF(#REF!,\"=9\")*0)/COUNTA(#REF!)/100,\"N/A\")","v":{"$error":"#REF!"}},{"$f":"IF(COUNTA(#REF!)>0,(COUNTIF(#REF!,\"=0\")*0+COUNTIF(#REF!,\"=1\")*100+COUNTIF(#REF!,\"=2\")*80+COUNTIF(#REF!,\"=3\")*50+COUNTIF(#REF!,\"=8\")*20+COUNTIF(#REF!,\"=9\")*0)/COUNTA(#REF!)/100,\"N/A\")","v":{"$error":"#REF!"}},{"$f":"IF(AND(COUNTA(B162:V162)<>0,#REF!<>\"\"),AVERAGE(W162:AC162),\"N/A\")","v":{"$error":"#REF!"}},1,1,1,1,1,{"$error":"#REF!"},{"$error":"#REF!"},{"$error":"#REF!"}]
[{"$nulls":22},"N/A","N/A","N/A","N/A","N/A",{"$f":"IF(COUNTA(#REF!)>0,(COUNTIF(#REF!,\"=0\")*0+COUNTIF(#REF!,\"=1\")*100+COUNTIF(#REF!,\"=2\")*80+COUNTIF(#REF!,\"=3\")*50+COUNTIF(#REF!,\"=8\")*20+COUNTIF(#REF!,\"=9\")*0)/COUNTA(#REF!)/100,\"N/A\")","v":{"$error":"#REF!"}},{"$f":"IF(COUNTA(#REF!)>0,(COUNTIF(#REF!,\"=0\")*0+COUNTIF(#REF!,\"=1\")*100+COUNTIF(#REF!,\"=2\")*80+COUNTIF(#REF!,\"=3\")*50+COUNTIF(#REF!,\"=8\")*20+COUNTIF(#REF!,\"=9\")*0)/COUNTA(#REF!)/100,\"N/A\")","v":{"$error":"#REF!"}},{"$f":"IF(AND(COUNTA(B163:V163)<>0,#REF!<>\"\"),AVERAGE(W163:AC163),\"N/A\")","v":{"$error":"#REF!"}},1,1,1,1,1,{"$error":"#REF!"},{"$error":"#REF!"},{"$error":"#REF!"}]
[{"$nulls":22},"N/A","N/A","N/A","N/A","N/A",{"$f":"IF(COUNTA(#REF!)>0,(COUNTIF(#REF!,\"=0\")*0+COUNTIF(#REF!,\"=1\")*100+COUNTIF(#REF!,\"=2\")*80+COUNTIF(#REF!,\"=3\")*50+COUNTIF(#REF!,\"=8\")*20+COUNTIF(#REF!,\"=9\")*0)/COUNTA(#REF!)/100,\"N/A\")","v":{"$error":"#REF!"}},{"$f":"IF(COUNTA(#REF!)>0,(COUNTIF(#REF!,\"=0\")*0+COUNTIF(#REF!,\"=1\")*100+COUNTIF(#REF!,\"=2\")*80+COUNTIF(#REF!,\"=3\")*50+COUNTIF(#REF!,\"=8\")*20+COUNTIF(#REF!,\"=9\")*0)/COUNTA(#REF!)/100,\"N/A\")","v":{"$error":"#REF!"}},{"$f":"IF(AND(COUNTA(B164:V164)<>0,#REF!<>\"\"),AVERAGE(W164:AC164),\"N/A\")","v":{"$error":"#REF!"}},1,1,1,1,1,{"$error":"#REF!"},{"$error":"#REF!"},{"$error":"#REF!"}]
[{"$nulls":22},"N/A","N/A","N/A","N/A","N/A",{"$f":"IF(COUNTA(#REF!)>0,(COUNTIF(#REF!,\"=0\")*0+COUNTIF(#REF!,\"=1\")*100+COUNTIF(#REF!,\"=2\")*80+COUNTIF(#REF!,\"=3\")*50+COUNTIF(#REF!,\"=8\")*20+COUNTIF(#REF!,\"=9\")*0)/COUNTA(#REF!)/100,\"N/A\")","v":{"$error":"#REF!"}},{"$f":"IF(COUNTA(#REF!)>0,(COUNTIF(#REF!,\"=0\")*0+COUNTIF(#REF!,\"=1\")*100+COUNTIF(#REF!,\"=2\")*80+COUNTIF(#REF!,\"=3\")*50+COUNTIF(#REF!,\"=8\")*20+COUNTIF(#REF!,\"=9\")*0)/COUNTA(#REF!)/100,\"N/A\")","v":{"$error":"#REF!"}},{"$f":"IF(AND(COUNTA(B165:V165)<>0,#REF!<>\"\"),AVERAGE(W165:AC165),\"N/A\")","v":{"$error":"#REF!"}},1,1,1,1,1,{"$error":"#REF!"},{"$error":"#REF!"},{"$error":"#REF!"}]
[{"$nulls":22},"N/A","N/A","N/A","N/A","N/A",{"$f":"IF(COUNTA(#REF!)>0,(COUNTIF(#REF!,\"=0\")*0+COUNTIF(#REF!,\"=1\")*100+COUNTIF(#REF!,\"=2\")*80+COUNTIF(#REF!,\"=3\")*50+COUNTIF(#REF!,\"=8\")*20+COUNTIF(#REF!,\"=9\")*0)/COUNTA(#REF!)/100,\"N/A\")","v":{"$error":"#REF!"}},{"$f":"IF(COUNTA(#REF!)>0,(COUNTIF(#REF!,\"=0\")*0+COUNTIF(#REF!,\"=1\")*100+COUNTIF(#REF!,\"=2\")*80+COUNTIF(#REF!,\"=3\")*50+COUNTIF(#REF!,\"=8\")*20+COUNTIF(#REF!,\"=9\")*0)/COUNTA(#REF!)/100,\"N/A\")","v":{"$error":"#REF!"}},{"$f":"IF(AND(COUNTA(B166:V166)<>0,#REF!<>\"\"),AVERAGE(W166:AC166),\"N/A\")","v":{"$error":"#REF!"}},1,1,1,1,1,{"$error":"#REF!"},{"$error":"#REF!"},{"$error":"#REF!"}]
[{"$nulls":22},"N/A","N/A","N/A","N/A","N/A",{"$f":"IF(COUNTA(#REF!)>0,(COUNTIF(#REF!,\"=0\")*0+COUNTIF(#REF!,\"=1\")*100+COUNTIF(#REF!,\"=2\")*80+COUNTIF(#REF!,\"=3\")*50+COUNTIF(#REF!,\"=8\")*20+COUNTIF(#REF!,\"=9\")*0)/COUNTA(#REF!)/100,\"N/A\")","v":{"$error":"#REF!"}},{"$f":"IF(COUNTA(#REF!)>0,(COUNTIF(#REF!,\"=0\")*0+COUNTIF(#REF!,\"=1\")*100+COUNTIF(#REF!,\"=2\")*80+COUNTIF(#REF!,\"=3\")*50+COUNTIF(#REF!,\"=8\")*20+COUNTIF(#REF!,\"=9\")*0)/COUNTA(#REF!)/100,\"N/A\")","v":{"$error":"#REF!"}},{"$f":"IF(AND(COUNTA(B167:V167)<>0,#REF!<>\"\"),AVERAGE(W167:AC167),\"N/A\")","v":{"$error":"#REF!"}},1,1,1,1,1,{"$error":"#REF!"},{"$error":"#REF!"},{"$error":"#REF!"}]
[{"$nulls":22},"N/A","N/A","N/A","N/A","N/A",{"$f":"IF(COUNTA(#REF!)>0,(COUNTIF(#REF!,\"=0\")*0+COUNTIF(#REF!,\"=1\")*100+COUNTIF(#REF!,\"=2\")*80+COUNTIF(#REF!,\"=3\")*50+COUNTIF(#REF!,\"=8\")*20+COUNTIF(#REF!,\"=9\")*0)/COUNTA(#REF!)/100,\"N/A\")","v":{"$error":"#REF!"}},{"$f":"IF(COUNTA(#REF!)>0,(COUNTIF(#REF!,\"=0\")*0+COUNTIF(#REF!,\"=1\")*100+COUNTIF(#REF!,\"=2\")*80+COUNTIF(#REF!,\"=3\")*50+COUNTIF(#REF!,\"=8\")*20+COUNTIF(#REF!,\"=9\")*0)/COUNTA(#REF!)/100,\"N/A\")","v":{"$error":"#REF!"}},{"$f":"IF(AND(COUNTA(B168:V168)<>0,#REF!<>\"\"),AVERAGE(W168:AC168),\"N/A\")","v":{"$error":"#REF!"}},1,1,1,1,1,{"$error":"#REF!"},{"$error":"#REF!"},{"$error":"#REF!"}]
[{"$nulls":22},"N/A","N/A","N/A","N/A","N/A",{"$f":"IF(COUNTA(#REF!)>0,(COUNTIF(#REF!,\"=0\")*0+COUNTIF(#REF!,\"=1\")*100+COUNTIF(#REF!,\"=2\")*80+COUNTIF(#REF!,\"=3\")*50+COUNTIF(#REF!,\"=8\")*20+COUNTIF(#REF!,\"=9\")*0)/COUNTA(#REF!)/100,\"N/A\")","v":{"$error":"#REF!"}},{"$f":"IF(COUNTA(#REF!)>0,(COUNTIF(#REF!,\"=0\")*0+COUNTIF(#REF!,\"=1\")*100+COUNTIF(#REF!,\"=2\")*80+COUNTIF(#REF!,\"=3\")*50+COUNTIF(#REF!,\"=8\")*20+COUNTIF(#REF!,\"=9\")*0)/COUNTA(#REF!)/100,\"N/A\")","v":{"$error":"#REF!"}},{"$f":"IF(AND(COUNTA(B169:V169)<>0,#REF!<>\"\"),AVERAGE(W169:AC169),\"N/A\")","v":{"$error":"#REF!"}},1,1,1,1,1,{"$error":"#REF!"},{"$error":"#REF!"},{"$error":"#REF!"}]
[{"$nulls":22},"N/A","N/A","N/A","N/A","N/A",{"$f":"IF(COUNTA(#REF!)>0,(COUNTIF(#REF!,\"=0\")*0+COUNTIF(#REF!,\"=1\")*100+COUNTIF(#REF!,\"=2\")*80+COUNTIF(#REF!,\"=3\")*50+COUNTIF(#REF!,\"=8\")*20+COUNTIF(#REF!,\"=9\")*0)/COUNTA(#REF!)/100,\"N/A\")","v":{"$error":"#REF!"}},{"$f":"IF(COUNTA(#REF!)>0,(COUNTIF(#REF!,\"=0\")*0+COUNTIF(#REF!,\"=1\")*100+COUNTIF(#REF!,\"=2\")*80+COUNTIF(#REF!,\"=3\")*50+COUNTIF(#REF!,\"=8\")*20+COUNTIF(#REF!,\"=9\")*0)/COUNTA(#REF!)/100,\"N/A\")","v":{"$error":"#REF!"}},{"$f":"IF(AND(COUNTA(B170:V170)<>0,#REF!<>\"\"),AVERAGE(W170:AC170),\"N/A\")","v":{"$error":"#REF!"}},1,1,1,1,1,{"$error":"#REF!"},{"$error":"#REF!"},{"$error":"#REF!"}]
[{"$nulls":22},"N/A","N/A","N/A","N/A","N/A",{"$f":"IF(COUNTA(#REF!)>0,(COUNTIF(#REF!,\"=0\")*0+COUNTIF(#REF!,\"=1\")*100+COUNTIF(#REF!,\"=2\")*80+COUNTIF(#REF!,\"=3\")*50+COUNTIF(#REF!,\"=8\")*20+COUNTIF(#REF!,\"=9\")*0)/COUNTA(#REF!)/100,\"N/A\")","v":{"$error":"#REF!"}},{"$f":"IF(COUNTA(#REF!)>0,(COUNTIF(#REF!,\"=0\")*0+COUNTIF(#REF!,\"=1\")*100+COUNTIF(#REF!,\"=2\")*80+COUNTIF(#REF!,\"=3\")*50+COUNTIF(#REF!,\"=8\")*20+COUNTIF(#REF!,\"=9\")*0)/COUNTA(#REF!)/100,\"N/A\")","v":{"$error":"#REF!"}},{"$f":"IF(AND(COUNTA(B171:V171)<>0,#REF!<>\"\"),AVERAGE(W171:AC171),\"N/A\")","v":{"$error":"#REF!"}},1,1,1,1,1,{"$error":"#REF!"},{"$error":"#REF!"},{"$error":"#REF!"}]
[{"$nulls":22},"N/A","N/A","N/A","N/A","N/A",{"$f":"IF(COUNTA(#REF!)>0,(COUNTIF(#REF!,\"=0\")*0+COUNTIF(#REF!,\"=1\")*100+COUNTIF(#REF!,\"=2\")*80+COUNTIF(#REF!,\"=3\")*50+COUNTIF(#REF!,\"=8\")*20+COUNTIF(#REF!,\"=9\")*0)/COUNTA(#REF!)/100,\"N/A\")","v":{"$error":"#REF!"}},{"$f":"IF(COUNTA(#REF!)>0,(COUNTIF(#REF!,\"=0\")*0+COUNTIF(#REF!,\"=1\")*100+COUNTIF(#REF!,\"=2\")*80+COUNTIF(#REF!,\"=3\")*50+COUNTIF(#REF!,\"=8\")*20+COUNTIF(#REF!,\"=9\")*0)/COUNTA(#REF!)/100,\"N/A\")","v":{"$error":"#REF!"}},{"$f":"IF(AND(COUNTA(B172:V172)<>0,#REF!<>\"\"),AVERAGE(W172:AC172),\"N/A\")","v":{"$error":"#REF!"}},1,1,1,1,1,{"$error":"#REF!"},{"$error":"#REF!"},{"$error":"#REF!"}]
[{"$nulls":22},"N/A","N/A","N/A","N/A","N/A",{"$f":"IF(COUNTA(#REF!)>0,(COUNTIF(#REF!,\"=0\")*0+COUNTIF(#REF!,\"=1\")*100+COUNTIF(#REF!,\"=2\")*80+COUNTIF(#REF!,\"=3\")*50+COUNTIF(#REF!,\"=8\")*20+COUNTIF(#REF!,\"=9\")*0)/COUNTA(#REF!)/100,\"N/A\")","v":{"$error":"#REF!"}},{"$f":"IF(COUNTA(#REF!)>0,(COUNTIF(#REF!,\"=0\")*0+COUNTIF(#REF!,\"=1\")*100+COUNTIF(#REF!,\"=2\")*80+COUNTIF(#REF!,\"=3\")*50+COUNTIF(#REF!,\"=8\")*20+COUNTIF(#REF!,\"=9\")*0)/COUNTA(#REF!)/100,\"N/A\")","v":{"$error":"#REF!"}},{"$f":"IF(AND(COUNTA(B173:V173)<>0,#REF!<>\"\"),AVERAGE(W173:AC173),\"N/A\")","v":{"$error":"#REF!"}},1,1,1,1,1,{"$error":"#REF!"},{"$error":"#REF!"},{"$error":"#REF!"}]
[{"$nulls":22},"N/A","N/A","N/A","N/A","N/A",{"$f":"IF(COUNTA(#REF!)>0,(COUNTIF(#REF!,\"=0\")*0+COUNTIF(#REF!,\"=1\")*100+COUNTIF(#REF!,\"=2\")*80+COUNTIF(#REF!,\"=3\")*50+COUNTIF(#REF!,\"=8\")*20+COUNTIF(#REF!,\"=9\")*0)/COUNTA(#REF!)/100,\"N/A\")","v":{"$error":"#REF!"}},{"$f":"IF(COUNTA(#REF!)>0,(COUNTIF(#REF!,\"=0\")*0+COUNTIF(#REF!,\"=1\")*100+COUNTIF(#REF!,\"=2\")*80+COUNTIF(#REF!,\"=3\")*50+COUNTIF(#REF!,\"=8\")*20+COUNTIF(#REF!,\"=9\")*0)/COUNTA(#REF!)/100,\"N/A\")","v":{"$error":"#REF!"}},{"$f":"IF(AND(COUNTA(B174:V174)<>0,#REF!<>\"\"),AVERAGE(W174:AC174),\"N/A\")","v":{"$error":"#REF!"}},1,1,1,1,1,{"$error":"#REF!"},{"$error":"#REF!"},{"$error":"#REF!"}]
[{"$nulls":22},"N/A","N/A","N/A","N/A","N/A",{"$f":"IF(COUNTA(#REF!)>0,(COUNTIF(#REF!,\"=0\")*0+COUNTIF(#REF!,\"=1\")*100+COUNTIF(#REF!,\"=2\")*80+COUNTIF(#REF!,\"=3\")*50+COUNTIF(#REF!,\"=8\")*20+COUNTIF(#REF!,\"=9\")*0)/COUNTA(#REF!)/100,\"N/A\")","v":{"$error":"#REF!"}},{"$f":"IF(COUNTA(#REF!)>0,(COUNTIF(#REF!,\"=0\")*0+COUNTIF(#REF!,\"=1\")*100+COUNTIF(#REF!,\"=2\")*80+COUNTIF(#REF!,\"=3\")*50+COUNTIF(#REF!,\"=8\")*20+COUNTIF(#REF!,\"=9\")*0)/COUNTA(#REF!)/100,\"N/A\")","v":{"$error":"#REF!"}},{"$f":"IF(AND(COUNTA(B175:V175)<>0,#REF!<>\"\"),AVERAGE(W175:AC175),\"N/A\")","v":{"$error":"#REF!"}},1,1,1,1,1,{"$error":"#REF!"},{"$error":"#REF!"},{"$error":"#REF!"}]
[{"$nulls":22},"N/A","N/A","N/A","N/A","N/A",{"$f":"IF(COUNTA(#REF!)>0,(COUNTIF(#REF!,\"=0\")*0+COUNTIF(#REF!,\"=1\")*100+COUNTIF(#REF!,\"=2\")*80+COUNTIF(#REF!,\"=3\")*50+COUNTIF(#REF!,\"=8\")*20+COUNTIF(#REF!,\"=9\")*0)/COUNTA(#REF!)/100,\"N/A\")","v":{"$error":"#REF!"}},{"$f":"IF(COUNTA(#REF!)>0,(COUNTIF(#REF!,\"=0\")*0+COUNTIF(#REF!,\"=1\")*100+COUNTIF(#REF!,\"=2\")*80+COUNTIF(#REF!,\"=3\")*50+COUNTIF(#REF!,\"=8\")*20+COUNTIF(#REF!,\"=9\")*0)/COUNTA(#REF!)/100,\"N/A\")","v":{"$error":"#REF!"}},{"$f":"IF(AND(COUNTA(B176:V176)<>0,#REF!<>\"\"),AVERAGE(W176:AC176),\"N/A\")","v":{"$error":"#REF!"}},1,1,1,1,1,{"$error":"#REF!"},{"$error":"#REF!"},{"$error":"#REF!"}]
[{"$nulls":22},"N/A","N/A","N/A","N/A","N/A",{"$f":"IF(COUNTA(#REF!)>0,(COUNTIF(#REF!,\"=0\")*0+COUNTIF(#REF!,\"=1\")*100+COUNTIF(#REF!,\"=2\")*80+COUNTIF(#REF!,\"=3\")*50+COUNTIF(#REF!,\"=8\")*20+COUNTIF(#REF!,\"=9\")*0)/COUNTA(#REF!)/100,\"N/A\")","v":{"$error":"#REF!"}},{"$f":"IF(COUNTA(#REF!)>0,(COUNTIF(#REF!,\"=0\")*0+COUNTIF(#REF!,\"=1\")*100+COUNTIF(#REF!,\"=2\")*80+COUNTIF(#REF!,\"=3\")*50+COUNTIF(#REF!,\"=8\")*20+COUNTIF(#REF!,\"=9\")*0)/COUNTA(#REF!)/100,\"N/A\")","v":{"$error":"#REF!"}},{"$f":"IF(AND(COUNTA(B177:V177)<>0,#REF!<>\"\"),AVERAGE(W177:AC177),\"N/A\")","v":{"$error":"#REF!"}},1,1,1,1,1,{"$error":"#REF!"},{"$error":"#REF!"},{"$error":"#REF!"}]
[{"$nulls":22},"N/A","N/A","N/A","N/A","N/A",{"$f":"IF(COUNTA(#REF!)>0,(COUNTIF(#REF!,\"=0\")*0+COUNTIF(#REF!,\"=1\")*100+COUNTIF(#REF!,\"=2\")*80+COUNTIF(#REF!,\"=3\")*50+COUNTIF(#REF!,\"=8\")*20+COUNTIF(#REF!,\"=9\")*0)/COUNTA(#REF!)/100,\"N/A\")","v":{"$error":"#REF!"}},{"$f":"IF(COUNTA(#REF!)>0,(COUNTIF(#REF!,\"=0\")*0+COUNTIF(#REF!,\"=1\")*100+COUNTIF(#REF!,\"=2\")*80+COUNTIF(#REF!,\"=3\")*50+COUNTIF(#REF!,\"=8\")*20+COUNTIF(#REF!,\"=9\")*0)/COUNTA(#REF!)/100,\"N/A\")","v":{"$error":"#REF!"}},{"$f":"IF(AND(COUNTA(B178:V178)<>0,#REF!<>\"\"),AVERAGE(W178:AC178),\"N/A\")","v":{"$error":"#REF!"}},1,1,1,1,1,{"$error":"#REF!"},{"$error":"#REF!"},{"$error":"#REF!"}]
[{"$nulls":22},"N/A","N/A","N/A","N/A","N/A",{"$f":"IF(COUNTA(#REF!)>0,(COUNTIF(#REF!,\"=0\")*0+COUNTIF(#REF!,\"=1\")*100+COUNTIF(#REF!,\"=2\")*80+COUNTIF(#REF!,\"=3\")*50+COUNTIF(#REF!,\"=8\")*20+COUNTIF(#REF!,\"=9\")*0)/COUNTA(#REF!)/100,\"N/A\")","v":{"$error":"#REF!"}},{"$f":"IF(COUNTA(#REF!)>0,(COUNTIF(#REF!,\"=0\")*0+COUNTIF(#REF!,\"=1\")*100+COUNTIF(#REF!,\"=2\")*80+COUNTIF(#REF!,\"=3\")*50+COUNTIF(#REF!,\"=8\")*20+COUNTIF(#REF!,\"=9\")*0)/COUNTA(#REF!)/100,\"N/A\")","v":{"$error":"#REF!"}},{"$f":"IF(AND(COUNTA(B179:V179)<>0,#REF!<>\"\"),AVERAGE(W179:AC179),\"N/A\")","v":{"$error":"#REF!"}},1,1,1,1,1,{"$error":"#REF!"},{"$error":"#REF!"},{"$error":"#REF!"}]
[{"$nulls":22},"N/A","N/A","N/A","N/A","N/A",{"$f":"IF(COUNTA(#REF!)>0,(COUNTIF(#REF!,\"=0\")*0+COUNTIF(#REF!,\"=1\")*100+COUNTIF(#REF!,\"=2\")*80+COUNTIF(#REF!,\"=3\")*50+COUNTIF(#REF!,\"=8\")*20+COUNTIF(#REF!,\"=9\")*0)/COUNTA(#REF!)/100,\"N/A\")","v":{"$error":"#REF!"}},{"$f":"IF(COUNTA(#REF!)>0,(COUNTIF(#REF!,\"=0\")*0+COUNTIF(#REF!,\"=1\")*100+COUNTIF(#REF!,\"=2\")*80+COUNTIF(#REF!,\"=3\")*50+COUNTIF(#REF!,\"=8\")*20+COUNTIF(#REF!,\"=9\")*0)/COUNTA(#REF!)/100,\"N/A\")","v":{"$error":"#REF!"}},{"$f":"IF(AND(COUNTA(B180:V180)<>0,#REF!<>\"\"),AVERAGE(W180:AC180),\"N/A\")","v":{"$error":"#REF!"}},1,1,1,1,1,{"$error":"#REF!"},{"$error":"#REF!"},{"$error":"#REF!"}]
[{"$nulls":22},"N/A","N/A","N/A","N/A","N/A",{"$f":"IF(COUNTA(#REF!)>0,(COUNTIF(#REF!,\"=0\")*0+COUNTIF(#REF!,\"=1\")*100+COUNTIF(#REF!,\"=2\")*80+COUNTIF(#REF!,\"=3\")*50+COUNTIF(#REF!,\"=8\")*20+COUNTIF(#REF!,\"=9\")*0)/COUNTA(#REF!)/100,\"N/A\")","v":{"$error":"#REF!"}},{"$f":"IF(COUNTA(#REF!)>0,(COUNTIF(#REF!,\"=0\")*0+COUNTIF(#REF!,\"=1\")*100+COUNTIF(#REF!,\"=2\")*80+COUNTIF(#REF!,\"=3\")*50+COUNTIF(#REF!,\"=8\")*20+COUNTIF(#REF!,\"=9\")*0)/COUNTA(#REF!)/100,\"N/A\")","v":{"$error":"#REF!"}},{"$f":"IF(AND(COUNTA(B181:V181)<>0,#REF!<>\"\"),AVERAGE(W181:AC181),\"N/A\")","v":{"$error":"#REF!"}},1,1,1,1,1,{"$error":"#REF!"},{"$error":"#REF!"},{"$error":"#REF!"}]
[{"$nulls":22},"N/A","N/A","N/A","N/A","N/A",{"$f":"IF(COUNTA(#REF!)>0,(COUNTIF(#REF!,\"=0\")*0+COUNTIF(#REF!,\"=1\")*100+COUNTIF(#REF!,\"=2\")*80+COUNTIF(#REF!,\"=3\")*50+COUNTIF(#REF!,\"=8\")*20+COUNTIF(#REF!,\"=9\")*0)/COUNTA(#REF!)/100,\"N/A\")","v":{"$error":"#REF!"}},{"$f":"IF(COUNTA(#REF!)>0,(COUNTIF(#REF!,\"=0\")*0+COUNTIF(#REF!,\"=1\")*100+COUNTIF(#REF!,\"=2\")*80+COUNTIF(#REF!,\"=3\")*50+COUNTIF(#REF!,\"=8\")*20+COUNTIF(#REF!,\"=9\")*0)/COUNTA(#REF!)/100,\"N/A\")","v":{"$error":"#REF!"}},{"$f":"IF(AND(COUNTA(B182:V182)<>0,#REF!<>\"\"),AVERAGE(W182:AC182),\"N/A\")","v":{"$error":"#REF!"}},1,1,1,1,1,{"$error":"#REF!"},{"$error":"#REF!"},{"$error":"#REF!"}]
[{"$nulls":22},{"$f":"IF(COUNTA(B183:G183)>0,(COUNTIF(B183:G183,\"=0\")*0+COUNTIF(B183:G183,\"=1\")*100+COUNTIF(B183:G183,\"=2\")*80+COUNTIF(B183:G183,\"=3\")*50+COUNTIF(B183:G183,\"=8\")*20+COUNTIF(B183:G183,\"=9\")*0)/COUNTA(B183:G183)/100,\"N/A\")","v":"N/A"},{"$f":"IF(COUNTA(K183:O183)>0,(COUNTIF(K183:O183,\"=0\")*0+COUNTIF(K183:O183,\"=1\")*100+COUNTIF(K183:O183,\"=2\")*80+COUNTIF(K183:O183,\"=3\")*50+COUNTIF(K183:O183,\"=8\")*20+COUNTIF(K183:O183,\"=9\")*0)/COUNTA(K183:O183)/100,\"N/A\")","v":"N/A"},{"$f":"IF(COUNTA(P183)>0,(COUNTIF(P183,\"=0\")*0+COUNTIF(P183,\"=1\")*100+COUNTIF(P183,\"=2\")*80+COUNTIF(P183,\"=3\")*50+COUNTIF(P183,\"=8\")*20+COUNTIF(P183,\"=9\")*0)/COUNTA(P183)/100,\"N/A\")","v":"N/A"},"N/A","N/A",{"$f":"IF(COUNTA(#REF!)>0,(COUNTIF(#REF!,\"=0\")*0+COUNTIF(#REF!,\"=1\")*100+COUNTIF(#REF!,\"=2\")*80+COUNTIF(#REF!,\"=3\")*50+COUNTIF(#REF!,\"=8\")*20+COUNTIF(#REF!,\"=9\")*0)/COUNTA(#REF!)/100,\"N/A\")","v":{"$error":"#REF!"}},{"$f":"IF(COUNTA(#REF!)>0,(COUNTIF(#REF!,\"=0\")*0+COUNTIF(#REF!,\"=1\")*100+COUNTIF(#REF!,\"=2\")*80+COUNTIF(#REF!,\"=3\")*50+COUNTIF(#REF!,\"=8\")*20+COUNTIF(#REF!,\"=9\")*0)/COUNTA(#REF!)/100,\"N/A\")","v":{"$error":"#REF!"}},{"$f":"IF(AND(COUNTA(B183:V183)<>0,#REF!<>\"\"),AVERAGE(W183:AC183),\"N/A\")","v":{"$error":"#REF!"}},1,1,1,1,1,{"$error":"#REF!"},{"$error":"#REF!"},{"$error":"#REF!"}]
[{"$nulls":22},"N/A","N/A","N/A","N/A","N/A",{"$f":"IF(COUNTA(#REF!)>0,(COUNTIF(#REF!,\"=0\")*0+COUNTIF(#REF!,\"=1\")*100+COUNTIF(#REF!,\"=2\")*80+COUNTIF(#REF!,\"=3\")*50+COUNTIF(#REF!,\"=8\")*20+COUNTIF(#REF!,\"=9\")*0)/COUNTA(#REF!)/100,\"N/A\")","v":{"$error":"#REF!"}},{"$f":"IF(COUNTA(#REF!)>0,(COUNTIF(#REF!,\"=0\")*0+COUNTIF(#REF!,\"=1\")*100+COUNTIF(#REF!,\"=2\")*80+COUNTIF(#REF!,\"=3\")*50+COUNTIF(#REF!,\"=8\")*20+COUNTIF(#REF!,\"=9\")*0)/COUNTA(#REF!)/100,\"N/A\")","v":{"$error":"#REF!"}},{"$f":"IF(AND(COUNTA(B184:V184)<>0,#REF!<>\"\"),AVERAGE(W184:AC184),\"N/A\")","v":{"$error":"#REF!"}},1,1,1,1,1,{"$error":"#REF!"},{"$error":"#REF!"},{"$error":"#REF!"}]
[{"$nulls":22},"N/A","N/A","N/A","N/A","N/A",{"$f":"IF(COUNTA(#REF!)>0,(COUNTIF(#REF!,\"=0\")*0+COUNTIF(#REF!,\"=1\")*100+COUNTIF(#REF!,\"=2\")*80+COUNTIF(#REF!,\"=3\")*50+COUNTIF(#REF!,\"=8\")*20+COUNTIF(#REF!,\"=9\")*0)/COUNTA(#REF!)/100,\"N/A\")","v":{"$error":"#REF!"}},{"$f":"IF(COUNTA(#REF!)>0,(COUNTIF(#REF!,\"=0\")*0+COUNTIF(#REF!,\"=1\")*100+COUNTIF(#REF!,\"=2\")*80+COUNTIF(#REF!,\"=3\")*50+COUNTIF(#REF!,\"=8\")*20+COUNTIF(#REF!,\"=9\")*0)/COUNTA(#REF!)/100,\"N/A\")","v":{"$error":"#REF!"}},{"$f":"IF(AND(COUNTA(B185:V185)<>0,#REF!<>\"\"),AVERAGE(W185:AC185),\"N/A\")","v":{"$error":"#REF!"}},1,1,1,1,1,{"$error":"#REF!"},{"$error":"#REF!"},{"$error":"#REF!"}]
[{"$nulls":22},"N/A","N/A","N/A","N/A","N/A",{"$f":"IF(COUNTA(#REF!)>0,(COUNTIF(#REF!,\"=0\")*0+COUNTIF(#REF!,\"=1\")*100+COUNTIF(#REF!,\"=2\")*80+COUNTIF(#REF!,\"=3\")*50+COUNTIF(#REF!,\"=8\")*20+COUNTIF(#REF!,\"=9\")*0)/COUNTA(#REF!)/100,\"N/A\")","v":{"$error":"#REF!"}},{"$f":"IF(COUNTA(#REF!)>0,(COUNTIF(#REF!,\"=0\")*0+COUNTIF(#REF!,\"=1\")*100+COUNTIF(#REF!,\"=2\")*80+COUNTIF(#REF!,\"=3\")*50+COUNTIF(#REF!,\"=8\")*20+COUNTIF(#REF!,\"=9\")*0)/COUNTA(#REF!)/100,\"N/A\")","v":{"$error":"#REF!"}},{"$f":"IF(AND(COUNTA(B186:V186)<>0,#REF!<>\"\"),AVERAGE(W186:AC186),\"N/A\")","v":{"$error":"#REF!"}},1,1,1,1,1,{"$error":"#REF!"},{"$error":"#REF!"},{"$error":"#REF!"}]
[{"$nulls":22},"N/A","N/A","N/A","N/A","N/A",{"$f":"IF(COUNTA(#REF!)>0,(COUNTIF(#REF!,\"=0\")*0+COUNTIF(#REF!,\"=1\")*100+COUNTIF(#REF!,\"=2\")*80+COUNTIF(#REF!,\"=3\")*50+COUNTIF(#REF!,\"=8\")*20+COUNTIF(#REF!,\"=9\")*0)/COUNTA(#REF!)/100,\"N/A\")","v":{"$error":"#REF!"}},{"$f":"IF(COUNTA(#REF!)>0,(COUNTIF(#REF!,\"=0\")*0+COUNTIF(#REF!,\"=1\")*100+COUNTIF(#REF!,\"=2\")*80+COUNTIF(#REF!,\"=3\")*50+COUNTIF(#REF!,\"=8\")*20+COUNTIF(#REF!,\"=9\")*0)/COUNTA(#REF!)/100,\"N/A\")","v":{"$error":"#REF!"}},{"$f":"IF(AND(COUNTA(B187:V187)<>0,#REF!<>\"\"),AVERAGE(W187:AC187),\"N/A\")","v":{"$error":"#REF!"}},1,1,1,1,1,{"$error":"#REF!"},{"$error":"#REF!"},{"$error":"#REF!"}]
[{"$nulls":22},"N/A","N/A","N/A","N/A","N/A",{"$f":"IF(COUNTA(#REF!)>0,(COUNTIF(#REF!,\"=0\")*0+COUNTIF(#REF!,\"=1\")*100+COUNTIF(#REF!,\"=2\")*80+COUNTIF(#REF!,\"=3\")*50+COUNTIF(#REF!,\"=8\")*20+COUNTIF(#REF!,\"=9\")*0)/COUNTA(#REF!)/100,\"N/A\")","v":{"$error":"#REF!"}},{"$f":"IF(COUNTA(#REF!)>0,(COUNTIF(#REF!,\"=0\")*0+COUNTIF(#REF!,\"=1\")*100+COUNTIF(#REF!,\"=2\")*80+COUNTIF(#REF!,\"=3\")*50+COUNTIF(#REF!,\"=8\")*20+COUNTIF(#REF!,\"=9\")*0)/COUNTA(#REF!)/100,\"N/A\")","v":{"$error":"#REF!"}},{"$f":"IF(AND(COUNTA(B188:V188)<>0,#REF!<>\"\"),AVERAGE(W188:AC188),\"N/A\")","v":{"$error":"#REF!"}},1,1,1,1,1,{"$error":"#REF!"},{"$error":"#REF!"},{"$error":"#REF!"}]
[{"$nulls":22},"N/A","N/A","N/A","N/A","N/A",{"$f":"IF(COUNTA(#REF!)>0,(COUNTIF(#REF!,\"=0\")*0+COUNTIF(#REF!,\"=1\")*100+COUNTIF(#REF!,\"=2\")*80+COUNTIF(#REF!,\"=3\")*50+COUNTIF(#REF!,\"=8\")*20+COUNTIF(#REF!,\"=9\")*0)/COUNTA(#REF!)/100,\"N/A\")","v":{"$error":"#REF!"}},{"$f":"IF(COUNTA(#REF!)>0,(COUNTIF(#REF!,\"=0\")*0+COUNTIF(#REF!,\"=1\")*100+COUNTIF(#REF!,\"=2\")*80+COUNTIF(#REF!,\"=3\")*50+COUNTIF(#REF!,\"=8\")*20+COUNTIF(#REF!,\"=9\")*0)/COUNTA(#REF!)/100,\"N/A\")","v":{"$error":"#REF!"}},{"$f":"IF(AND(COUNTA(B189:V189)<>0,#REF!<>\"\"),AVERAGE(W189:AC189),\"N/A\")","v":{"$error":"#REF!"}},1,1,1,1,1,{"$error":"#REF!"},{"$error":"#REF!"},{"$error":"#REF!"}]
[{"$nulls":22},"N/A","N/A","N/A","N/A","N/A",{"$f":"IF(COUNTA(#REF!)>0,(COUNTIF(#REF!,\"=0\")*0+COUNTIF(#REF!,\"=1\")*100+COUNTIF(#REF!,\"=2\")*80+COUNTIF(#REF!,\"=3\")*50+COUNTIF(#REF!,\"=8\")*20+COUNTIF(#REF!,\"=9\")*0)/COUNTA(#REF!)/100,\"N/A\")","v":{"$error":"#REF!"}},{"$f":"IF(COUNTA(#REF!)>0,(COUNTIF(#REF!,\"=0\")*0+COUNTIF(#REF!,\"=1\")*100+COUNTIF(#REF!,\"=2\")*80+COUNTIF(#REF!,\"=3\")*50+COUNTIF(#REF!,\"=8\")*20+COUNTIF(#REF!,\"=9\")*0)/COUNTA(#REF!)/100,\"N/A\")","v":{"$error":"#REF!"}},{"$f":"IF(AND(COUNTA(B190:V190)<>0,#REF!<>\"\"),AVERAGE(W190:AC190),\"N/A\")","v":{"$error":"#REF!"}},1,1,1,1,1,{"$error":"#REF!"},{"$error":"#REF!"},{"$error":"#REF!"}]
[{"$nulls":22},"N/A","N/A","N/A","N/A","N/A",{"$f":"IF(COUNTA(#REF!)>0,(COUNTIF(#REF!,\"=0\")*0+COUNTIF(#REF!,\"=1\")*100+COUNTIF(#REF!,\"=2\")*80+COUNTIF(#REF!,\"=3\")*50+COUNTIF(#REF!,\"=8\")*20+COUNTIF(#REF!,\"=9\")*0)/COUNTA(#REF!)/100,\"N/A\")","v":{"$error":"#REF!"}},{"$f":"IF(COUNTA(#REF!)>0,(COUNTIF(#REF!,\"=0\")*0+COUNTIF(#REF!,\"=1\")*100+COUNTIF(#REF!,\"=2\")*80+COUNTIF(#REF!,\"=3\")*50+COUNTIF(#REF!,\"=8\")*20+COUNTIF(#REF!,\"=9\")*0)/COUNTA(#REF!)/100,\"N/A\")","v":{"$error":"#REF!"}},{"$f":"IF(AND(COUNTA(B191:V191)<>0,#REF!<>\"\"),AVERAGE(W191:AC191),\"N/A\")","v":{"$error":"#REF!"}},1,1,1,1,1,{"$f":"IF(AB191=\"N/A\",1,\"\")","v":{"$error":"#REF!"}},{"$error":"#REF!"},{"$error":"#REF!"}]
[{"$nulls":22},{"$f":"IF(COUNTA(B192:G192)>0,(COUNTIF(B192:G192,\"=0\")*0+COUNTIF(B192:G192,\"=1\")*100+COUNTIF(B192:G192,\"=2\")*80+COUNTIF(B192:G192,\"=3\")*50+COUNTIF(B192:G192,\"=8\")*20+COUNTIF(B192:G192,\"=9\")*0)/COUNTA(B192:G192)/100,\"N/A\")","v":"N/A"},{"$f":"IF(COUNTA(K192:O192)>0,(COUNTIF(K192:O192,\"=0\")*0+COUNTIF(K192:O192,\"=1\")*100+COUNTIF(K192:O192,\"=2\")*80+COUNTIF(K192:O192,\"=3\")*50+COUNTIF(K192:O192,\"=8\")*20+COUNTIF(K192:O192,\"=9\")*0)/COUNTA(K192:O192)/100,\"N/A\")","v":"N/A"},{"$f":"IF(COUNTA(P192)>0,(COUNTIF(P192,\"=0\")*0+COUNTIF(P192,\"=1\")*100+COUNTIF(P192,\"=2\")*80+COUNTIF(P192,\"=3\")*50+COUNTIF(P192,\"=8\")*20+COUNTIF(P192,\"=9\")*0)/COUNTA(P192)/100,\"N/A\")","v":"N/A"},"N/A","N/A",{"$f":"IF(COUNTA(#REF!)>0,(COUNTIF(#REF!,\"=0\")*0+COUNTIF(#REF!,\"=1\")*100+COUNTIF(#REF!,\"=2\")*80+COUNTIF(#REF!,\"=3\")*50+COUNTIF(#REF!,\"=8\")*20+COUNTIF(#REF!,\"=9\")*0)/COUNTA(#REF!)/100,\"N/A\")","v":{"$error":"#REF!"}},{"$f":"IF(COUNTA(#REF!)>0,(COUNTIF(#REF!,\"=0\")*0+COUNTIF(#REF!,\"=1\")*100+COUNTIF(#REF!,\"=2\")*80+COUNTIF(#REF!,\"=3\")*50+COUNTIF(#REF!,\"=8\")*20+COUNTIF(#REF!,\"=9\")*0)/COUNTA(#REF!)/100,\"N/A\")","v":{"$error":"#REF!"}},{"$f":"IF(AND(COUNTA(B192:V192)<>0,#REF!<>\"\"),AVERAGE(W192:AC192),\"N/A\")","v":{"$error":"#REF!"}},1,1,1,1,1,{"$error":"#REF!"},{"$error":"#REF!"},{"$error":"#REF!"}]
[{"$nulls":22},{"$f":"IF(COUNTA(B193:G193)>0,(COUNTIF(B193:G193,\"=0\")*0+COUNTIF(B193:G193,\"=1\")*100+COUNTIF(B193:G193,\"=2\")*80+COUNTIF(B193:G193,\"=3\")*50+COUNTIF(B193:G193,\"=8\")*20+COUNTIF(B193:G193,\"=9\")*0)/COUNTA(B193:G193)/100,\"N/A\")","v":"N/A"},{"$f":"IF(COUNTA(K193:O193)>0,(COUNTIF(K193:O193,\"=0\")*0+COUNTIF(K193:O193,\"=1\")*100+COUNTIF(K193:O193,\"=2\")*80+COUNTIF(K193:O193,\"=3\")*50+COUNTIF(K193:O193,\"=8\")*20+COUNTIF(K193:O193,\"=9\")*0)/COUNTA(K193:O193)/100,\"N/A\")","v":"N/A"},{"$f":"IF(COUNTA(P193)>0,(COUNTIF(P193,\"=0\")*0+COUNTIF(P193,\"=1\")*100+COUNTIF(P193,\"=2\")*80+COUNTIF(P193,\"=3\")*50+COUNTIF(P193,\"=8\")*20+COUNTIF(P193,\"=9\")*0)/COUNTA(P193)/100,\"N/A\")","v":"N/A"},"N/A","N/A",{"$f":"IF(COUNTA(#REF!)>0,(COUNTIF(#REF!,\"=0\")*0+COUNTIF(#REF!,\"=1\")*100+COUNTIF(#REF!,\"=2\")*80+COUNTIF(#REF!,\"=3\")*50+COUNTIF(#REF!,\"=8\")*20+COUNTIF(#REF!,\"=9\")*0)/COUNTA(#REF!)/100,\"N/A\")","v":{"$error":"#REF!"}},{"$f":"IF(COUNTA(#REF!)>0,(COUNTIF(#REF!,\"=0\")*0+COUNTIF(#REF!,\"=1\")*100+COUNTIF(#REF!,\"=2\")*80+COUNTIF(#REF!,\"=3\")*50+COUNTIF(#REF!,\"=8\")*20+COUNTIF(#REF!,\"=9\")*0)/COUNTA(#REF!)/100,\"N/A\")","v":{"$error":"#REF!"}},{"$f":"IF(AND(COUNTA(B193:V193)<>0,#REF!<>\"\"),AVERAGE(W193:AC193),\"N/A\")","v":{"$error":"#REF!"}},1,1,1,1,1,{"$error":"#REF!"},{"$error":"#REF!"},{"$error":"#REF!"}]
[{"$nulls":22},"N/A","N/A","N/A","N/A","N/A",{"$f":"IF(COUNTA(#REF!)>0,(COUNTIF(#REF!,\"=0\")*0+COUNTIF(#REF!,\"=1\")*100+COUNTIF(#REF!,\"=2\")*80+COUNTIF(#REF!,\"=3\")*50+COUNTIF(#REF!,\"=8\")*20+COUNTIF(#REF!,\"=9\")*0)/COUNTA(#REF!)/100,\"N/A\")","v":{"$error":"#REF!"}},{"$f":"IF(COUNTA(#REF!)>0,(COUNTIF(#REF!,\"=0\")*0+COUNTIF(#REF!,\"=1\")*100+COUNTIF(#REF!,\"=2\")*80+COUNTIF(#REF!,\"=3\")*50+COUNTIF(#REF!,\"=8\")*20+COUNTIF(#REF!,\"=9\")*0)/COUNTA(#REF!)/100,\"N/A\")","v":{"$error":"#REF!"}},{"$f":"IF(AND(COUNTA(B194:V194)<>0,#REF!<>\"\"),AVERAGE(W194:AC194),\"N/A\")","v":{"$error":"#REF!"}},1,1,1,1,1,{"$error":"#REF!"},{"$error":"#REF!"},{"$error":"#REF!"}]
[{"$nulls":22},"N/A","N/A","N/A","N/A","N/A",{"$f":"IF(COUNTA(#REF!)>0,(COUNTIF(#REF!,\"=0\")*0+COUNTIF(#REF!,\"=1\")*100+COUNTIF(#REF!,\"=2\")*80+COUNTIF(#REF!,\"=3\")*50+COUNTIF(#REF!,\"=8\")*20+COUNTIF(#REF!,\"=9\")*0)/COUNTA(#REF!)/100,\"N/A\")","v":{"$error":"#REF!"}},{"$f":"IF(COUNTA(#REF!)>0,(COUNTIF(#REF!,\"=0\")*0+COUNTIF(#REF!,\"=1\")*100+COUNTIF(#REF!,\"=2\")*80+COUNTIF(#REF!,\"=3\")*50+COUNTIF(#REF!,\"=8\")*20+COUNTIF(#REF!,\"=9\")*0)/COUNTA(#REF!)/100,\"N/A\")","v":{"$error":"#REF!"}},{"$f":"IF(AND(COUNTA(B195:V195)<>0,#REF!<>\"\"),AVERAGE(W195:AC195),\"N/A\")","v":{"$error":"#REF!"}},1,1,1,1,1,{"$error":"#REF!"},{"$error":"#REF!"},{"$error":"#REF!"}]
[{"$nulls":22},"N/A","N/A","N/A","N/A","N/A",{"$f":"IF(COUNTA(#REF!)>0,(COUNTIF(#REF!,\"=0\")*0+COUNTIF(#REF!,\"=1\")*100+COUNTIF(#REF!,\"=2\")*80+COUNTIF(#REF!,\"=3\")*50+COUNTIF(#REF!,\"=8\")*20+COUNTIF(#REF!,\"=9\")*0)/COUNTA(#REF!)/100,\"N/A\")","v":{"$error":"#REF!"}},{"$f":"IF(COUNTA(#REF!)>0,(COUNTIF(#REF!,\"=0\")*0+COUNTIF(#REF!,\"=1\")*100+COUNTIF(#REF!,\"=2\")*80+COUNTIF(#REF!,\"=3\")*50+COUNTIF(#REF!,\"=8\")*20+COUNTIF(#REF!,\"=9\")*0)/COUNTA(#REF!)/100,\"N/A\")","v":{"$error":"#REF!"}},{"$f":"IF(AND(COUNTA(B196:V196)<>0,#REF!<>\"\"),AVERAGE(W196:AC196),\"N/A\")","v":{"$error":"#REF!"}},{"$f":"IF(W196=\"N/A\",1,\"\")","v":1},1,1,1,1,{"$error":"#REF!"},{"$error":"#REF!"},{"$error":"#REF!"}]
[{"$nulls":22},"N/A","N/A","N/A","N/A","N/A",{"$f":"IF(COUNTA(#REF!)>0,(COUNTIF(#REF!,\"=0\")*0+COUNTIF(#REF!,\"=1\")*100+COUNTIF(#REF!,\"=2\")*80+COUNTIF(#REF!,\"=3\")*50+COUNTIF(#REF!,\"=8\")*20+COUNTIF(#REF!,\"=9\")*0)/COUNTA(#REF!)/100,\"N/A\")","v":{"$error":"#REF!"}},{"$f":"IF(COUNTA(#REF!)>0,(COUNTIF(#REF!,\"=0\")*0+COUNTIF(#REF!,\"=1\")*100+COUNTIF(#REF!,\"=2\")*80+COUNTIF(#REF!,\"=3\")*50+COUNTIF(#REF!,\"=8\")*20+COUNTIF(#REF!,\"=9\")*0)/COUNTA(#REF!)/100,\"N/A\")","v":{"$error":"#REF!"}},{"$f":"IF(AND(COUNTA(B197:V197)<>0,#REF!<>\"\"),AVERAGE(W197:AC197),\"N/A\")","v":{"$error":"#REF!"}},1,1,1,1,1,{"$error":"#REF!"},{"$error":"#REF!"},{"$error":"#REF!"}]
[{"$nulls":22},"N/A","N/A","N/A","N/A","N/A",{"$f":"IF(COUNTA(#REF!)>0,(COUNTIF(#REF!,\"=0\")*0+COUNTIF(#REF!,\"=1\")*100+COUNTIF(#REF!,\"=2\")*80+COUNTIF(#REF!,\"=3\")*50+COUNTIF(#REF!,\"=8\")*20+COUNTIF(#REF!,\"=9\")*0)/COUNTA(#REF!)/100,\"N/A\")","v":{"$error":"#REF!"}},{"$f":"IF(COUNTA(#REF!)>0,(COUNTIF(#REF!,\"=0\")*0+COUNTIF(#REF!,\"=1\")*100+COUNTIF(#REF!,\"=2\")*80+COUNTIF(#REF!,\"=3\")*50+COUNTIF(#REF!,\"=8\")*20+COUNTIF(#REF!,\"=9\")*0)/COUNTA(#REF!)/100,\"N/A\")","v":{"$error":"#REF!"}},{"$f":"IF(AND(COUNTA(B198:V198)<>0,#REF!<>\"\"),AVERAGE(W198:AC198),\"N/A\")","v":{"$error":"#REF!"}},1,1,1,1,1,{"$error":"#REF!"},{"$error":"#REF!"},{"$error":"#REF!"}]
[{"$nulls":22},"N/A","N/A","N/A","N/A","N/A",{"$f":"IF(COUNTA(#REF!)>0,(COUNTIF(#REF!,\"=0\")*0+COUNTIF(#REF!,\"=1\")*100+COUNTIF(#REF!,\"=2\")*80+COUNTIF(#REF!,\"=3\")*50+COUNTIF(#REF!,\"=8\")*20+COUNTIF(#REF!,\"=9\")*0)/COUNTA(#REF!)/100,\"N/A\")","v":{"$error":"#REF!"}},{"$f":"IF(COUNTA(#REF!)>0,(COUNTIF(#REF!,\"=0\")*0+COUNTIF(#REF!,\"=1\")*100+COUNTIF(#REF!,\"=2\")*80+COUNTIF(#REF!,\"=3\")*50+COUNTIF(#REF!,\"=8\")*20+COUNTIF(#REF!,\"=9\")*0)/COUNTA(#REF!)/100,\"N/A\")","v":{"$error":"#REF!"}},{"$f":"IF(AND(COUNTA(B199:V199)<>0,#REF!<>\"\"),AVERAGE(W199:AC199),\"N/A\")","v":{"$error":"#REF!"}},1,1,1,1,1,{"$error":"#REF!"},{"$error":"#REF!"},{"$error":"#REF!"}]
[{"$nulls":22},"N/A","N/A","N/A","N/A","N/A",{"$f":"IF(COUNTA(#REF!)>0,(COUNTIF(#REF!,\"=0\")*0+COUNTIF(#REF!,\"=1\")*100+COUNTIF(#REF!,\"=2\")*80+COUNTIF(#REF!,\"=3\")*50+COUNTIF(#REF!,\"=8\")*20+COUNTIF(#REF!,\"=9\")*0)/COUNTA(#REF!)/100,\"N/A\")","v":{"$error":"#REF!"}},{"$f":"IF(COUNTA(#REF!)>0,(COUNTIF(#REF!,\"=0\")*0+COUNTIF(#REF!,\"=1\")*100+COUNTIF(#REF!,\"=2\")*80+COUNTIF(#REF!,\"=3\")*50+COUNTIF(#REF!,\"=8\")*20+COUNTIF(#REF!,\"=9\")*0)/COUNTA(#REF!)/100,\"N/A\")","v":{"$error":"#REF!"}},{"$f":"IF(AND(COUNTA(B200:V200)<>0,#REF!<>\"\"),AVERAGE(W200:AC200),\"N/A\")","v":{"$error":"#REF!"}},1,1,1,1,1,{"$error":"#REF!"},{"$error":"#REF!"},{"$error":"#REF!"}]
[{"$nulls":22},"N/A","N/A","N/A","N/A","N/A",{"$f":"IF(COUNTA(#REF!)>0,(COUNTIF(#REF!,\"=0\")*0+COUNTIF(#REF!,\"=1\")*100+COUNTIF(#REF!,\"=2\")*80+COUNTIF(#REF!,\"=3\")*50+COUNTIF(#REF!,\"=8\")*20+COUNTIF(#REF!,\"=9\")*0)/COUNTA(#REF!)/100,\"N/A\")","v":{"$error":"#REF!"}},{"$f":"IF(COUNTA(#REF!)>0,(COUNTIF(#REF!,\"=0\")*0+COUNTIF(#REF!,\"=1\")*100+COUNTIF(#REF!,\"=2\")*80+COUNTIF(#REF!,\"=3\")*50+COUNTIF(#REF!,\"=8\")*20+COUNTIF(#REF!,\"=9\")*0)/COUNTA(#REF!)/100,\"N/A\")","v":{"$error":"#REF!"}},{"$f":"IF(AND(COUNTA(B201:V201)<>0,#REF!<>\"\"),AVERAGE(W201:AC201),\"N/A\")","v":{"$error":"#REF!"}},1,1,1,1,1,{"$error":"#REF!"},{"$error":"#REF!"},{"$error":"#REF!"}]
[{"$nulls":22},"N/A","N/A","N/A","N/A","N/A",{"$f":"IF(COUNTA(#REF!)>0,(COUNTIF(#REF!,\"=0\")*0+COUNTIF(#REF!,\"=1\")*100+COUNTIF(#REF!,\"=2\")*80+COUNTIF(#REF!,\"=3\")*50+COUNTIF(#REF!,\"=8\")*20+COUNTIF(#REF!,\"=9\")*0)/COUNTA(#REF!)/100,\"N/A\")","v":{"$error":"#REF!"}},{"$f":"IF(COUNTA(#REF!)>0,(COUNTIF(#REF!,\"=0\")*0+COUNTIF(#REF!,\"=1\")*100+COUNTIF(#REF!,\"=2\")*80+COUNTIF(#REF!,\"=3\")*50+COUNTIF(#REF!,\"=8\")*20+COUNTIF(#REF!,\"=9\")*0)/COUNTA(#REF!)/100,\"N/A\")","v":{"$error":"#REF!"}},{"$f":"IF(AND(COUNTA(B202:V202)<>0,#REF!<>\"\"),AVERAGE(W202:AC202),\"N/A\")","v":{"$error":"#REF!"}},1,1,1,1,1,{"$error":"#REF!"},{"$error":"#REF!"},{"$error":"#REF!"}]
[{"$nulls":22},"N/A","N/A","N/A","N/A","N/A",{"$f":"IF(COUNTA(#REF!)>0,(COUNTIF(#REF!,\"=0\")*0+COUNTIF(#REF!,\"=1\")*100+COUNTIF(#REF!,\"=2\")*80+COUNTIF(#REF!,\"=3\")*50+COUNTIF(#REF!,\"=8\")*20+COUNTIF(#REF!,\"=9\")*0)/COUNTA(#REF!)/100,\"N/A\")","v":{"$error":"#REF!"}},{"$f":"IF(COUNTA(#REF!)>0,(COUNTIF(#REF!,\"=0\")*0+COUNTIF(#REF!,\"=1\")*100+COUNTIF(#REF!,\"=2\")*80+COUNTIF(#REF!,\"=3\")*50+COUNTIF(#REF!,\"=8\")*20+COUNTIF(#REF!,\"=9\")*0)/COUNTA(#REF!)/100,\"N/A\")","v":{"$error":"#REF!"}},{"$f":"IF(AND(COUNTA(B203:V203)<>0,#REF!<>\"\"),AVERAGE(W203:AC203),\"N/A\")","v":{"$error":"#REF!"}},1,1,1,1,1,{"$error":"#REF!"},{"$error":"#REF!"},{"$error":"#REF!"}]
[{"$nulls":22},"N/A","N/A","N/A","N/A","N/A",{"$f":"IF(COUNTA(#REF!)>0,(COUNTIF(#REF!,\"=0\")*0+COUNTIF(#REF!,\"=1\")*100+COUNTIF(#REF!,\"=2\")*80+COUNTIF(#REF!,\"=3\")*50+COUNTIF(#REF!,\"=8\")*20+COUNTIF(#REF!,\"=9\")*0)/COUNTA(#REF!)/100,\"N/A\")","v":{"$error":"#REF!"}},{"$f":"IF(COUNTA(#REF!)>0,(COUNTIF(#REF!,\"=0\")*0+COUNTIF(#REF!,\"=1\")*100+COUNTIF(#REF!,\"=2\")*80+COUNTIF(#REF!,\"=3\")*50+COUNTIF(#REF!,\"=8\")*20+COUNTIF(#REF!,\"=9\")*0)/COUNTA(#REF!)/100,\"N/A\")","v":{"$error":"#REF!"}},{"$f":"IF(AND(COUNTA(B204:V204)<>0,#REF!<>\"\"),AVERAGE(W204:AC204),\"N/A\")","v":{"$error":"#REF!"}},1,1,1,1,1,{"$error":"#REF!"},{"$error":"#REF!"},{"$error":"#REF!"}]
[{"$nulls":22},"N/A","N/A","N/A","N/A","N/A",{"$f":"IF(COUNTA(#REF!)>0,(COUNTIF(#REF!,\"=0\")*0+COUNTIF(#REF!,\"=1\")*100+COUNTIF(#REF!,\"=2\")*80+COUNTIF(#REF!,\"=3\")*50+COUNTIF(#REF!,\"=8\")*20+COUNTIF(#REF!,\"=9\")*0)/COUNTA(#REF!)/100,\"N/A\")","v":{"$error":"#REF!"}},{"$f":"IF(COUNTA(#REF!)>0,(COUNTIF(#REF!,\"=0\")*0+COUNTIF(#REF!,\"=1\")*100+COUNTIF(#REF!,\"=2\")*80+COUNTIF(#REF!,\"=3\")*50+COUNTIF(#REF!,\"=8\")*20+COUNTIF(#REF!,\"=9\")*0)/COUNTA(#REF!)/100,\"N/A\")","v":{"$error":"#REF!"}},{"$f":"IF(AND(COUNTA(B205:V205)<>0,#REF!<>\"\"),AVERAGE(W205:AC205),\"N/A\")","v":{"$error":"#REF!"}},1,1,1,1,1,{"$error":"#REF!"},{"$error":"#REF!"},{"$error":"#REF!"}]
[{"$nulls":22},"N/A","N/A","N/A","N/A","N/A",{"$f":"IF(COUNTA(#REF!)>0,(COUNTIF(#REF!,\"=0\")*0+COUNTIF(#REF!,\"=1\")*100+COUNTIF(#REF!,\"=2\")*80+COUNTIF(#REF!,\"=3\")*50+COUNTIF(#REF!,\"=8\")*20+COUNTIF(#REF!,\"=9\")*0)/COUNTA(#REF!)/100,\"N/A\")","v":{"$error":"#REF!"}},{"$f":"IF(COUNTA(#REF!)>0,(COUNTIF(#REF!,\"=0\")*0+COUNTIF(#REF!,\"=1\")*100+COUNTIF(#REF!,\"=2\")*80+COUNTIF(#REF!,\"=3\")*50+COUNTIF(#REF!,\"=8\")*20+COUNTIF(#REF!,\"=9\")*0)/COUNTA(#REF!)/100,\"N/A\")","v":{"$error":"#REF!"}},{"$f":"IF(AND(COUNTA(B206:V206)<>0,#REF!<>\"\"),AVERAGE(W206:AC206),\"N/A\")","v":{"$error":"#REF!"}},1,1,1,1,1,{"$error":"#REF!"},{"$error":"#REF!"},{"$error":"#REF!"}]
[{"$nulls":22},"N/A","N/A","N/A",{"$f":"IF(COUNTA(Q207:U207)<>0,(COUNTIF(Q207:U207,\"=0\")*0+COUNTIF(Q207:U207,\"=1\")*100+COUNTIF(Q207:U207,\"=2\")*80+COUNTIF(Q207:U207,\"=3\")*50+COUNTIF(Q207:U207,\"=8\")*20+COUNTIF(Q207:U207,\"=9\")*0)/COUNTA(Q207:U207)/100,\"N/A\")","v":"N/A"},{"$f":"IF(COUNTA(V207:V207)>0,(COUNTIF(V207:V207,\"=0\")*0+COUNTIF(V207:V207,\"=1\")*100+COUNTIF(V207:V207,\"=2\")*80+COUNTIF(V207:V207,\"=3\")*50+COUNTIF(V207:V207,\"=8\")*20+COUNTIF(V207:V207,\"=9\")*0)/COUNTA(V207:V207)/100,\"N/A\")","v":"N/A"},{"$f":"IF(COUNTA(#REF!)>0,(COUNTIF(#REF!,\"=0\")*0+COUNTIF(#REF!,\"=1\")*100+COUNTIF(#REF!,\"=2\")*80+COUNTIF(#REF!,\"=3\")*50+COUNTIF(#REF!,\"=8\")*20+COUNTIF(#REF!,\"=9\")*0)/COUNTA(#REF!)/100,\"N/A\")","v":{"$error":"#REF!"}},{"$f":"IF(COUNTA(#REF!)>0,(COUNTIF(#REF!,\"=0\")*0+COUNTIF(#REF!,\"=1\")*100+COUNTIF(#REF!,\"=2\")*80+COUNTIF(#REF!,\"=3\")*50+COUNTIF(#REF!,\"=8\")*20+COUNTIF(#REF!,\"=9\")*0)/COUNTA(#REF!)/100,\"N/A\")","v":{"$error":"#REF!"}},{"$f":"IF(AND(COUNTA(B207:V207)<>0,#REF!<>\"\"),AVERAGE(W207:AC207),\"N/A\")","v":{"$error":"#REF!"}},1,1,1,1,1,{"$error":"#REF!"},{"$error":"#REF!"},{"$error":"#REF!"}]
[{"$nulls":22},"N/A","N/A","N/A","N/A","N/A",{"$f":"IF(COUNTA(#REF!)>0,(COUNTIF(#REF!,\"=0\")*0+COUNTIF(#REF!,\"=1\")*100+COUNTIF(#REF!,\"=2\")*80+COUNTIF(#REF!,\"=3\")*50+COUNTIF(#REF!,\"=8\")*20+COUNTIF(#REF!,\"=9\")*0)/COUNTA(#REF!)/100,\"N/A\")","v":{"$error":"#REF!"}},{"$f":"IF(COUNTA(#REF!)>0,(COUNTIF(#REF!,\"=0\")*0+COUNTIF(#REF!,\"=1\")*100+COUNTIF(#REF!,\"=2\")*80+COUNTIF(#REF!,\"=3\")*50+COUNTIF(#REF!,\"=8\")*20+COUNTIF(#REF!,\"=9\")*0)/COUNTA(#REF!)/100,\"N/A\")","v":{"$error":"#REF!"}},{"$f":"IF(AND(COUNTA(B208:V208)<>0,#REF!<>\"\"),AVERAGE(W208:AC208),\"N/A\")","v":{"$error":"#REF!"}},1,1,1,1,1,{"$error":"#REF!"},{"$error":"#REF!"},{"$error":"#REF!"}]
[{"$nulls":22},"N/A","N/A","N/A","N/A","N/A",{"$f":"IF(COUNTA(#REF!)>0,(COUNTIF(#REF!,\"=0\")*0+COUNTIF(#REF!,\"=1\")*100+COUNTIF(#REF!,\"=2\")*80+COUNTIF(#REF!,\"=3\")*50+COUNTIF(#REF!,\"=8\")*20+COUNTIF(#REF!,\"=9\")*0)/COUNTA(#REF!)/100,\"N/A\")","v":{"$error":"#REF!"}},{"$f":"IF(COUNTA(#REF!)>0,(COUNTIF(#REF!,\"=0\")*0+COUNTIF(#REF!,\"=1\")*100+COUNTIF(#REF!,\"=2\")*80+COUNTIF(#REF!,\"=3\")*50+COUNTIF(#REF!,\"=8\")*20+COUNTIF(#REF!,\"=9\")*0)/COUNTA(#REF!)/100,\"N/A\")","v":{"$error":"#REF!"}},{"$f":"IF(AND(COUNTA(B209:V209)<>0,#REF!<>\"\"),AVERAGE(W209:AC209),\"N/A\")","v":{"$error":"#REF!"}},1,1,1,1,1,{"$error":"#REF!"},{"$error":"#REF!"},{"$error":"#REF!"}]
[{"$nulls":22},"N/A","N/A","N/A","N/A","N/A",{"$f":"IF(COUNTA(#REF!)>0,(COUNTIF(#REF!,\"=0\")*0+COUNTIF(#REF!,\"=1\")*100+COUNTIF(#REF!,\"=2\")*80+COUNTIF(#REF!,\"=3\")*50+COUNTIF(#REF!,\"=8\")*20+COUNTIF(#REF!,\"=9\")*0)/COUNTA(#REF!)/100,\"N/A\")","v":{"$error":"#REF!"}},{"$f":"IF(COUNTA(#REF!)>0,(COUNTIF(#REF!,\"=0\")*0+COUNTIF(#REF!,\"=1\")*100+COUNTIF(#REF!,\"=2\")*80+COUNTIF(#REF!,\"=3\")*50+COUNTIF(#REF!,\"=8\")*20+COUNTIF(#REF!,\"=9\")*0)/COUNTA(#REF!)/100,\"N/A\")","v":{"$error":"#REF!"}},{"$f":"IF(AND(COUNTA(B210:V210)<>0,#REF!<>\"\"),AVERAGE(W210:AC210),\"N/A\")","v":{"$error":"#REF!"}},1,1,1,1,1,{"$error":"#REF!"},{"$error":"#REF!"},{"$error":"#REF!"}]
[{"$nulls":22},"N/A","N/A","N/A","N/A","N/A",{"$f":"IF(COUNTA(#REF!)>0,(COUNTIF(#REF!,\"=0\")*0+COUNTIF(#REF!,\"=1\")*100+COUNTIF(#REF!,\"=2\")*80+COUNTIF(#REF!,\"=3\")*50+COUNTIF(#REF!,\"=8\")*20+COUNTIF(#REF!,\"=9\")*0)/COUNTA(#REF!)/100,\"N/A\")","v":{"$error":"#REF!"}},{"$f":"IF(COUNTA(#REF!)>0,(COUNTIF(#REF!,\"=0\")*0+COUNTIF(#REF!,\"=1\")*100+COUNTIF(#REF!,\"=2\")*80+COUNTIF(#REF!,\"=3\")*50+COUNTIF(#REF!,\"=8\")*20+COUNTIF(#REF!,\"=9\")*0)/COUNTA(#REF!)/100,\"N/A\")","v":{"$error":"#REF!"}},{"$f":"IF(AND(COUNTA(B211:V211)<>0,#REF!<>\"\"),AVERAGE(W211:AC211),\"N/A\")","v":{"$error":"#REF!"}},1,1,1,1,1,{"$error":"#REF!"},{"$error":"#REF!"},{"$error":"#REF!"}]
[{"$nulls":22},"N/A","N/A","N/A","N/A","N/A",{"$f":"IF(COUNTA(#REF!)>0,(COUNTIF(#REF!,\"=0\")*0+COUNTIF(#REF!,\"=1\")*100+COUNTIF(#REF!,\"=2\")*80+COUNTIF(#REF!,\"=3\")*50+COUNTIF(#REF!,\"=8\")*20+COUNTIF(#REF!,\"=9\")*0)/COUNTA(#REF!)/100,\"N/A\")","v":{"$error":"#REF!"}},{"$f":"IF(COUNTA(#REF!)>0,(COUNTIF(#REF!,\"=0\")*0+COUNTIF(#REF!,\"=1\")*100+COUNTIF(#REF!,\"=2\")*80+COUNTIF(#REF!,\"=3\")*50+COUNTIF(#REF!,\"=8\")*20+COUNTIF(#REF!,\"=9\")*0)/COUNTA(#REF!)/100,\"N/A\")","v":{"$error":"#REF!"}},{"$f":"IF(AND(COUNTA(B212:V212)<>0,#REF!<>\"\"),AVERAGE(W212:AC212),\"N/A\")","v":{"$error":"#REF!"}},1,1,1,1,1,{"$error":"#REF!"},{"$error":"#REF!"},{"$error":"#REF!"}]
[{"$nulls":22},"N/A","N/A","N/A","N/A","N/A",{"$f":"IF(COUNTA(#REF!)>0,(COUNTIF(#REF!,\"=0\")*0+COUNTIF(#REF!,\"=1\")*100+COUNTIF(#REF!,\"=2\")*80+COUNTIF(#REF!,\"=3\")*50+COUNTIF(#REF!,\"=8\")*20+COUNTIF(#REF!,\"=9\")*0)/COUNTA(#REF!)/100,\"N/A\")","v":{"$error":"#REF!"}},{"$f":"IF(COUNTA(#REF!)>0,(COUNTIF(#REF!,\"=0\")*0+COUNTIF(#REF!,\"=1\")*100+COUNTIF(#REF!,\"=2\")*80+COUNTIF(#REF!,\"=3\")*50+COUNTIF(#REF!,\"=8\")*20+COUNTIF(#REF!,\"=9\")*0)/COUNTA(#REF!)/100,\"N/A\")","v":{"$error":"#REF!"}},{"$f":"IF(AND(COUNTA(B213:V213)<>0,#REF!<>\"\"),AVERAGE(W213:AC213),\"N/A\")","v":{"$error":"#REF!"}},1,1,1,1,1,{"$error":"#REF!"},{"$error":"#REF!"},{"$error":"#REF!"}]
[{"$nulls":22},"N/A","N/A","N/A","N/A","N/A",{"$f":"IF(COUNTA(#REF!)>0,(COUNTIF(#REF!,\"=0\")*0+COUNTIF(#REF!,\"=1\")*100+COUNTIF(#REF!,\"=2\")*80+COUNTIF(#REF!,\"=3\")*50+COUNTIF(#REF!,\"=8\")*20+COUNTIF(#REF!,\"=9\")*0)/COUNTA(#REF!)/100,\"N/A\")","v":{"$error":"#REF!"}},{"$f":"IF(COUNTA(#REF!)>0,(COUNTIF(#REF!,\"=0\")*0+COUNTIF(#REF!,\"=1\")*100+COUNTIF(#REF!,\"=2\")*80+COUNTIF(#REF!,\"=3\")*50+COUNTIF(#REF!,\"=8\")*20+COUNTIF(#REF!,\"=9\")*0)/COUNTA(#REF!)/100,\"N/A\")","v":{"$error":"#REF!"}},{"$f":"IF(AND(COUNTA(B214:V214)<>0,#REF!<>\"\"),AVERAGE(W214:AC214),\"N/A\")","v":{"$error":"#REF!"}},1,1,1,1,1,{"$error":"#REF!"},{"$error":"#REF!"},{"$error":"#REF!"}]
[{"$nulls":22},"N/A","N/A","N/A","N/A","N/A",{"$f":"IF(COUNTA(#REF!)>0,(COUNTIF(#REF!,\"=0\")*0+COUNTIF(#REF!,\"=1\")*100+COUNTIF(#REF!,\"=2\")*80+COUNTIF(#REF!,\"=3\")*50+COUNTIF(#REF!,\"=8\")*20+COUNTIF(#REF!,\"=9\")*0)/COUNTA(#REF!)/100,\"N/A\")","v":{"$error":"#REF!"}},{"$f":"IF(COUNTA(#REF!)>0,(COUNTIF(#REF!,\"=0\")*0+COUNTIF(#REF!,\"=1\")*100+COUNTIF(#REF!,\"=2\")*80+COUNTIF(#REF!,\"=3\")*50+COUNTIF(#REF!,\"=8\")*20+COUNTIF(#REF!,\"=9\")*0)/COUNTA(#REF!)/100,\"N/A\")","v":{"$error":"#REF!"}},{"$f":"IF(AND(COUNTA(B215:V215)<>0,#REF!<>\"\"),AVERAGE(W215:AC215),\"N/A\")","v":{"$error":"#REF!"}},1,1,1,1,1,{"$error":"#REF!"},{"$error":"#REF!"},{"$error":"#REF!"}]
[{"$nulls":22},"N/A","N/A","N/A","N/A","N/A",{"$f":"IF(COUNTA(#REF!)>0,(COUNTIF(#REF!,\"=0\")*0+COUNTIF(#REF!,\"=1\")*100+COUNTIF(#REF!,\"=2\")*80+COUNTIF(#REF!,\"=3\")*50+COUNTIF(#REF!,\"=8\")*20+COUNTIF(#REF!,\"=9\")*0)/COUNTA(#REF!)/100,\"N/A\")","v":{"$error":"#REF!"}},{"$f":"IF(COUNTA(#REF!)>0,(COUNTIF(#REF!,\"=0\")*0+COUNTIF(#REF!,\"=1\")*100+COUNTIF(#REF!,\"=2\")*80+COUNTIF(#REF!,\"=3\")*50+COUNTIF(#REF!,\"=8\")*20+COUNTIF(#REF!,\"=9\")*0)/COUNTA(#REF!)/100,\"N/A\")","v":{"$error":"#REF!"}},{"$f":"IF(AND(COUNTA(B216:V216)<>0,#REF!<>\"\"),AVERAGE(W216:AC216),\"N/A\")","v":{"$error":"#REF!"}},1,1,1,1,1,{"$error":"#REF!"},{"$error":"#REF!"},{"$error":"#REF!"}]
[{"$nulls":22},"N/A","N/A","N/A","N/A","N/A",{"$f":"IF(COUNTA(#REF!)>0,(COUNTIF(#REF!,\"=0\")*0+COUNTIF(#REF!,\"=1\")*100+COUNTIF(#REF!,\"=2\")*80+COUNTIF(#REF!,\"=3\")*50+COUNTIF(#REF!,\"=8\")*20+COUNTIF(#REF!,\"=9\")*0)/COUNTA(#REF!)/100,\"N/A\")","v":{"$error":"#REF!"}},{"$f":"IF(COUNTA(#REF!)>0,(COUNTIF(#REF!,\"=0\")*0+COUNTIF(#REF!,\"=1\")*100+COUNTIF(#REF!,\"=2\")*80+COUNTIF(#REF!,\"=3\")*50+COUNTIF(#REF!,\"=8\")*20+COUNTIF(#REF!,\"=9\")*0)/COUNTA(#REF!)/100,\"N/A\")","v":{"$error":"#REF!"}},{"$f":"IF(AND(COUNTA(B217:V217)<>0,#REF!<>\"\"),AVERAGE(W217:AC217),\"N/A\")","v":{"$error":"#REF!"}},1,1,1,1,1,{"$error":"#REF!"},{"$error":"#REF!"},{"$error":"#REF!"}]
[{"$nulls":22},"N/A","N/A","N/A","N/A","N/A",{"$f":"IF(COUNTA(#REF!)>0,(COUNTIF(#REF!,\"=0\")*0+COUNTIF(#REF!,\"=1\")*100+COUNTIF(#REF!,\"=2\")*80+COUNTIF(#REF!,\"=3\")*50+COUNTIF(#REF!,\"=8\")*20+COUNTIF(#REF!,\"=9\")*0)/COUNTA(#REF!)/100,\"N/A\")","v":{"$error":"#REF!"}},{"$f":"IF(COUNTA(#REF!)>0,(COUNTIF(#REF!,\"=0\")*0+COUNTIF(#REF!,\"=1\")*100+COUNTIF(#REF!,\"=2\")*80+COUNTIF(#REF!,\"=3\")*50+COUNTIF(#REF!,\"=8\")*20+COUNTIF(#REF!,\"=9\")*0)/COUNTA(#REF!)/100,\"N/A\")","v":{"$error":"#REF!"}},{"$f":"IF(AND(COUNTA(B218:V218)<>0,#REF!<>\"\"),AVERAGE(W218:AC218),\"N/A\")","v":{"$error":"#REF!"}},1,1,1,1,1,{"$error":"#REF!"},{"$error":"#REF!"},{"$error":"#REF!"}]
[{"$nulls":22},"N/A","N/A","N/A","N/A","N/A",{"$f":"IF(COUNTA(#REF!)>0,(COUNTIF(#REF!,\"=0\")*0+COUNTIF(#REF!,\"=1\")*100+COUNTIF(#REF!,\"=2\")*80+COUNTIF(#REF!,\"=3\")*50+COUNTIF(#REF!,\"=8\")*20+COUNTIF(#REF!,\"=9\")*0)/COUNTA(#REF!)/100,\"N/A\")","v":{"$error":"#REF!"}},{"$f":"IF(COUNTA(#REF!)>0,(COUNTIF(#REF!,\"=0\")*0+COUNTIF(#REF!,\"=1\")*100+COUNTIF(#REF!,\"=2\")*80+COUNTIF(#REF!,\"=3\")*50+COUNTIF(#REF!,\"=8\")*20+COUNTIF(#REF!,\"=9\")*0)/COUNTA(#REF!)/100,\"N/A\")","v":{"$error":"#REF!"}},{"$f":"IF(AND(COUNTA(B219:V219)<>0,#REF!<>\"\"),AVERAGE(W219:AC219),\"N/A\")","v":{"$error":"#REF!"}},1,1,1,1,1,{"$error":"#REF!"},{"$error":"#REF!"},{"$error":"#REF!"}]
[{"$nulls":22},"N/A","N/A","N/A","N/A","N/A",{"$f":"IF(COUNTA(#REF!)>0,(COUNTIF(#REF!,\"=0\")*0+COUNTIF(#REF!,\"=1\")*100+COUNTIF(#REF!,\"=2\")*80+COUNTIF(#REF!,\"=3\")*50+COUNTIF(#REF!,\"=8\")*20+COUNTIF(#REF!,\"=9\")*0)/COUNTA(#REF!)/100,\"N/A\")","v":{"$error":"#REF!"}},{"$f":"IF(COUNTA(#REF!)>0,(COUNTIF(#REF!,\"=0\")*0+COUNTIF(#REF!,\"=1\")*100+COUNTIF(#REF!,\"=2\")*80+COUNTIF(#REF!,\"=3\")*50+COUNTIF(#REF!,\"=8\")*20+COUNTIF(#REF!,\"=9\")*0)/COUNTA(#REF!)/100,\"N/A\")","v":{"$error":"#REF!"}},{"$f":"IF(AND(COUNTA(B220:V220)<>0,#REF!<>\"\"),AVERAGE(W220:AC220),\"N/A\")","v":{"$error":"#REF!"}},1,1,1,1,1,{"$error":"#REF!"},{"$error":"#REF!"},{"$error":"#REF!"}]
[{"$nulls":22},"N/A","N/A","N/A","N/A","N/A",{"$f":"IF(COUNTA(#REF!)>0,(COUNTIF(#REF!,\"=0\")*0+COUNTIF(#REF!,\"=1\")*100+COUNTIF(#REF!,\"=2\")*80+COUNTIF(#REF!,\"=3\")*50+COUNTIF(#REF!,\"=8\")*20+COUNTIF(#REF!,\"=9\")*0)/COUNTA(#REF!)/100,\"N/A\")","v":{"$error":"#REF!"}},{"$f":"IF(COUNTA(#REF!)>0,(COUNTIF(#REF!,\"=0\")*0+COUNTIF(#REF!,\"=1\")*100+COUNTIF(#REF!,\"=2\")*80+COUNTIF(#REF!,\"=3\")*50+COUNTIF(#REF!,\"=8\")*20+COUNTIF(#REF!,\"=9\")*0)/COUNTA(#REF!)/100,\"N/A\")","v":{"$error":"#REF!"}},{"$f":"IF(AND(COUNTA(B221:V221)<>0,#REF!<>\"\"),AVERAGE(W221:AC221),\"N/A\")","v":{"$error":"#REF!"}},1,1,1,1,1,{"$error":"#REF!"},{"$error":"#REF!"},{"$error":"#REF!"}]
[{"$nulls":22},"N/A","N/A","N/A","N/A","N/A",{"$f":"IF(COUNTA(#REF!)>0,(COUNTIF(#REF!,\"=0\")*0+COUNTIF(#REF!,\"=1\")*100+COUNTIF(#REF!,\"=2\")*80+COUNTIF(#REF!,\"=3\")*50+COUNTIF(#REF!,\"=8\")*20+COUNTIF(#REF!,\"=9\")*0)/COUNTA(#REF!)/100,\"N/A\")","v":{"$error":"#REF!"}},{"$f":"IF(COUNTA(#REF!)>0,(COUNTIF(#REF!,\"=0\")*0+COUNTIF(#REF!,\"=1\")*100+COUNTIF(#REF!,\"=2\")*80+COUNTIF(#REF!,\"=3\")*50+COUNTIF(#REF!,\"=8\")*20+COUNTIF(#REF!,\"=9\")*0)/COUNTA(#REF!)/100,\"N/A\")","v":{"$error":"#REF!"}},{"$f":"IF(AND(COUNTA(B222:V222)<>0,#REF!<>\"\"),AVERAGE(W222:AC222),\"N/A\")","v":{"$error":"#REF!"}},1,1,1,1,1,{"$error":"#REF!"},{"$error":"#REF!"},{"$error":"#REF!"}]
[{"$nulls":22},"N/A","N/A","N/A","N/A","N/A",{"$f":"IF(COUNTA(#REF!)>0,(COUNTIF(#REF!,\"=0\")*0+COUNTIF(#REF!,\"=1\")*100+COUNTIF(#REF!,\"=2\")*80+COUNTIF(#REF!,\"=3\")*50+COUNTIF(#REF!,\"=8\")*20+COUNTIF(#REF!,\"=9\")*0)/COUNTA(#REF!)/100,\"N/A\")","v":{"$error":"#REF!"}},{"$f":"IF(COUNTA(#REF!)>0,(COUNTIF(#REF!,\"=0\")*0+COUNTIF(#REF!,\"=1\")*100+COUNTIF(#REF!,\"=2\")*80+COUNTIF(#REF!,\"=3\")*50+COUNTIF(#REF!,\"=8\")*20+COUNTIF(#REF!,\"=9\")*0)/COUNTA(#REF!)/100,\"N/A\")","v":{"$error":"#REF!"}},{"$f":"IF(AND(COUNTA(B223:V223)<>0,#REF!<>\"\"),AVERAGE(W223:AC223),\"N/A\")","v":{"$error":"#REF!"}},1,1,1,1,1,{"$error":"#REF!"},{"$error":"#REF!"},{"$error":"#REF!"}]
[{"$nulls":22},"N/A","N/A","N/A","N/A","N/A",{"$f":"IF(COUNTA(#REF!)>0,(COUNTIF(#REF!,\"=0\")*0+COUNTIF(#REF!,\"=1\")*100+COUNTIF(#REF!,\"=2\")*80+COUNTIF(#REF!,\"=3\")*50+COUNTIF(#REF!,\"=8\")*20+COUNTIF(#REF!,\"=9\")*0)/COUNTA(#REF!)/100,\"N/A\")","v":{"$error":"#REF!"}},{"$f":"IF(COUNTA(#REF!)>0,(COUNTIF(#REF!,\"=0\")*0+COUNTIF(#REF!,\"=1\")*100+COUNTIF(#REF!,\"=2\")*80+COUNTIF(#REF!,\"=3\")*50+COUNTIF(#REF!,\"=8\")*20+COUNTIF(#REF!,\"=9\")*0)/COUNTA(#REF!)/100,\"N/A\")","v":{"$error":"#REF!"}},{"$f":"IF(AND(COUNTA(B224:V224)<>0,#REF!<>\"\"),AVERAGE(W224:AC224),\"N/A\")","v":{"$error":"#REF!"}},1,1,1,1,1,{"$error":"#REF!"},{"$error":"#REF!"},{"$error":"#REF!"}]
[{"$nulls":22},"N/A","N/A","N/A","N/A","N/A",{"$f":"IF(COUNTA(#REF!)>0,(COUNTIF(#REF!,\"=0\")*0+COUNTIF(#REF!,\"=1\")*100+COUNTIF(#REF!,\"=2\")*80+COUNTIF(#REF!,\"=3\")*50+COUNTIF(#REF!,\"=8\")*20+COUNTIF(#REF!,\"=9\")*0)/COUNTA(#REF!)/100,\"N/A\")","v":{"$error":"#REF!"}},{"$f":"IF(COUNTA(#REF!)>0,(COUNTIF(#REF!,\"=0\")*0+COUNTIF(#REF!,\"=1\")*100+COUNTIF(#REF!,\"=2\")*80+COUNTIF(#REF!,\"=3\")*50+COUNTIF(#REF!,\"=8\")*20+COUNTIF(#REF!,\"=9\")*0)/COUNTA(#REF!)/100,\"N/A\")","v":{"$error":"#REF!"}},{"$f":"IF(AND(COUNTA(B225:V225)<>0,#REF!<>\"\"),AVERAGE(W225:AC225),\"N/A\")","v":{"$error":"#REF!"}},1,1,1,1,1,{"$error":"#REF!"},{"$error":"#REF!"},{"$error":"#REF!"}]
[{"$nulls":22},"N/A","N/A","N/A","N/A","N/A",{"$f":"IF(COUNTA(#REF!)>0,(COUNTIF(#REF!,\"=0\")*0+COUNTIF(#REF!,\"=1\")*100+COUNTIF(#REF!,\"=2\")*80+COUNTIF(#REF!,\"=3\")*50+COUNTIF(#REF!,\"=8\")*20+COUNTIF(#REF!,\"=9\")*0)/COUNTA(#REF!)/100,\"N/A\")","v":{"$error":"#REF!"}},{"$f":"IF(COUNTA(#REF!)>0,(COUNTIF(#REF!,\"=0\")*0+COUNTIF(#REF!,\"=1\")*100+COUNTIF(#REF!,\"=2\")*80+COUNTIF(#REF!,\"=3\")*50+COUNTIF(#REF!,\"=8\")*20+COUNTIF(#REF!,\"=9\")*0)/COUNTA(#REF!)/100,\"N/A\")","v":{"$error":"#REF!"}},{"$f":"IF(AND(COUNTA(B226:V226)<>0,#REF!<>\"\"),AVERAGE(W226:AC226),\"N/A\")","v":{"$error":"#REF!"}},1,1,1,1,1,{"$error":"#REF!"},{"$error":"#REF!"},{"$error":"#REF!"}]
[{"$nulls":22},"N/A","N/A","N/A","N/A","N/A",{"$f":"IF(COUNTA(#REF!)>0,(COUNTIF(#REF!,\"=0\")*0+COUNTIF(#REF!,\"=1\")*100+COUNTIF(#REF!,\"=2\")*80+COUNTIF(#REF!,\"=3\")*50+COUNTIF(#REF!,\"=8\")*20+COUNTIF(#REF!,\"=9\")*0)/COUNTA(#REF!)/100,\"N/A\")","v":{"$error":"#REF!"}},{"$f":"IF(COUNTA(#REF!)>0,(COUNTIF(#REF!,\"=0\")*0+COUNTIF(#REF!,\"=1\")*100+COUNTIF(#REF!,\"=2\")*80+COUNTIF(#REF!,\"=3\")*50+COUNTIF(#REF!,\"=8\")*20+COUNTIF(#REF!,\"=9\")*0)/COUNTA(#REF!)/100,\"N/A\")","v":{"$error":"#REF!"}},{"$f":"IF(AND(COUNTA(B227:V227)<>0,#REF!<>\"\"),AVERAGE(W227:AC227),\"N/A\")","v":{"$error":"#REF!"}},1,1,1,1,1,{"$error":"#REF!"},{"$error":"#REF!"},{"$error":"#REF!"}]
[{"$nulls":22},"N/A","N/A","N/A","N/A","N/A",{"$f":"IF(COUNTA(#REF!)>0,(COUNTIF(#REF!,\"=0\")*0+COUNTIF(#REF!,\"=1\")*100+COUNTIF(#REF!,\"=2\")*80+COUNTIF(#REF!,\"=3\")*50+COUNTIF(#REF!,\"=8\")*20+COUNTIF(#REF!,\"=9\")*0)/COUNTA(#REF!)/100,\"N/A\")","v":{"$error":"#REF!"}},{"$f":"IF(COUNTA(#REF!)>0,(COUNTIF(#REF!,\"=0\")*0+COUNTIF(#REF!,\"=1\")*100+COUNTIF(#REF!,\"=2\")*80+COUNTIF(#REF!,\"=3\")*50+COUNTIF(#REF!,\"=8\")*20+COUNTIF(#REF!,\"=9\")*0)/COUNTA(#REF!)/100,\"N/A\")","v":{"$error":"#REF!"}},{"$f":"IF(AND(COUNTA(B228:V228)<>0,#REF!<>\"\"),AVERAGE(W228:AC228),\"N/A\")","v":{"$error":"#REF!"}},1,1,1,1,1,{"$error":"#REF!"},{"$error":"#REF!"},{"$error":"#REF!"}]
[{"$nulls":22},"N/A","N/A","N/A","N/A","N/A",{"$f":"IF(COUNTA(#REF!)>0,(COUNTIF(#REF!,\"=0\")*0+COUNTIF(#REF!,\"=1\")*100+COUNTIF(#REF!,\"=2\")*80+COUNTIF(#REF!,\"=3\")*50+COUNTIF(#REF!,\"=8\")*20+COUNTIF(#REF!,\"=9\")*0)/COUNTA(#REF!)/100,\"N/A\")","v":{"$error":"#REF!"}},{"$f":"IF(COUNTA(#REF!)>0,(COUNTIF(#REF!,\"=0\")*0+COUNTIF(#REF!,\"=1\")*100+COUNTIF(#REF!,\"=2\")*80+COUNTIF(#REF!,\"=3\")*50+COUNTIF(#REF!,\"=8\")*20+COUNTIF(#REF!,\"=9\")*0)/COUNTA(#REF!)/100,\"N/A\")","v":{"$error":"#REF!"}},{"$f":"IF(AND(COUNTA(B229:V229)<>0,#REF!<>\"\"),AVERAGE(W229:AC229),\"N/A\")","v":{"$error":"#REF!"}},1,1,1,1,1,{"$error":"#REF!"},{"$error":"#REF!"},{"$error":"#REF!"}]
[{"$nulls":22},"N/A","N/A","N/A","N/A","N/A",{"$f":"IF(COUNTA(#REF!)>0,(COUNTIF(#REF!,\"=0\")*0+COUNTIF(#REF!,\"=1\")*100+COUNTIF(#REF!,\"=2\")*80+COUNTIF(#REF!,\"=3\")*50+COUNTIF(#REF!,\"=8\")*20+COUNTIF(#REF!,\"=9\")*0)/COUNTA(#REF!)/100,\"N/A\")","v":{"$error":"#REF!"}},{"$f":"IF(COUNTA(#REF!)>0,(COUNTIF(#REF!,\"=0\")*0+COUNTIF(#REF!,\"=1\")*100+COUNTIF(#REF!,\"=2\")*80+COUNTIF(#REF!,\"=3\")*50+COUNTIF(#REF!,\"=8\")*20+COUNTIF(#REF!,\"=9\")*0)/COUNTA(#REF!)/100,\"N/A\")","v":{"$error":"#REF!"}},{"$f":"IF(AND(COUNTA(B230:V230)<>0,#REF!<>\"\"),AVERAGE(W230:AC230),\"N/A\")","v":{"$error":"#REF!"}},1,1,1,1,1,{"$error":"#REF!"},{"$error":"#REF!"},{"$error":"#REF!"}]
[{"$nulls":22},"N/A","N/A","N/A","N/A","N/A",{"$f":"IF(COUNTA(#REF!)>0,(COUNTIF(#REF!,\"=0\")*0+COUNTIF(#REF!,\"=1\")*100+COUNTIF(#REF!,\"=2\")*80+COUNTIF(#REF!,\"=3\")*50+COUNTIF(#REF!,\"=8\")*20+COUNTIF(#REF!,\"=9\")*0)/COUNTA(#REF!)/100,\"N/A\")","v":{"$error":"#REF!"}},{"$f":"IF(COUNTA(#REF!)>0,(COUNTIF(#REF!,\"=0\")*0+COUNTIF(#REF!,\"=1\")*100+COUNTIF(#REF!,\"=2\")*80+COUNTIF(#REF!,\"=3\")*50+COUNTIF(#REF!,\"=8\")*20+COUNTIF(#REF!,\"=9\")*0)/COUNTA(#REF!)/100,\"N/A\")","v":{"$error":"#REF!"}},{"$f":"IF(AND(COUNTA(B231:V231)<>0,#REF!<>\"\"),AVERAGE(W231:AC231),\"N/A\")","v":{"$error":"#REF!"}},1,1,1,1,1,{"$error":"#REF!"},{"$error":"#REF!"},{"$error":"#REF!"}]
[{"$nulls":22},"N/A","N/A","N/A","N/A","N/A",{"$f":"IF(COUNTA(#REF!)>0,(COUNTIF(#REF!,\"=0\")*0+COUNTIF(#REF!,\"=1\")*100+COUNTIF(#REF!,\"=2\")*80+COUNTIF(#REF!,\"=3\")*50+COUNTIF(#REF!,\"=8\")*20+COUNTIF(#REF!,\"=9\")*0)/COUNTA(#REF!)/100,\"N/A\")","v":{"$error":"#REF!"}},{"$f":"IF(COUNTA(#REF!)>0,(COUNTIF(#REF!,\"=0\")*0+COUNTIF(#REF!,\"=1\")*100+COUNTIF(#REF!,\"=2\")*80+COUNTIF(#REF!,\"=3\")*50+COUNTIF(#REF!,\"=8\")*20+COUNTIF(#REF!,\"=9\")*0)/COUNTA(#REF!)/100,\"N/A\")","v":{"$error":"#REF!"}},{"$f":"IF(AND(COUNTA(B232:V232)<>0,#REF!<>\"\"),AVERAGE(W232:AC232),\"N/A\")","v":{"$error":"#REF!"}},1,1,1,1,1,{"$error":"#REF!"},{"$error":"#REF!"},{"$error":"#REF!"}]
[{"$nulls":22},"N/A","N/A","N/A","N/A","N/A",{"$f":"IF(COUNTA(#REF!)>0,(COUNTIF(#REF!,\"=0\")*0+COUNTIF(#REF!,\"=1\")*100+COUNTIF(#REF!,\"=2\")*80+COUNTIF(#REF!,\"=3\")*50+COUNTIF(#REF!,\"=8\")*20+COUNTIF(#REF!,\"=9\")*0)/COUNTA(#REF!)/100,\"N/A\")","v":{"$error":"#REF!"}},{"$f":"IF(COUNTA(#REF!)>0,(COUNTIF(#REF!,\"=0\")*0+COUNTIF(#REF!,\"=1\")*100+COUNTIF(#REF!,\"=2\")*80+COUNTIF(#REF!,\"=3\")*50+COUNTIF(#REF!,\"=8\")*20+COUNTIF(#REF!,\"=9\")*0)/COUNTA(#REF!)/100,\"N/A\")","v":{"$error":"#REF!"}},{"$f":"IF(AND(COUNTA(B233:V233)<>0,#REF!<>\"\"),AVERAGE(W233:AC233),\"N/A\")","v":{"$error":"#REF!"}},1,1,1,1,1,{"$error":"#REF!"},{"$error":"#REF!"},{"$error":"#REF!"}]
[{"$nulls":22},"N/A","N/A","N/A","N/A","N/A",{"$f":"IF(COUNTA(#REF!)>0,(COUNTIF(#REF!,\"=0\")*0+COUNTIF(#REF!,\"=1\")*100+COUNTIF(#REF!,\"=2\")*80+COUNTIF(#REF!,\"=3\")*50+COUNTIF(#REF!,\"=8\")*20+COUNTIF(#REF!,\"=9\")*0)/COUNTA(#REF!)/100,\"N/A\")","v":{"$error":"#REF!"}},{"$f":"IF(COUNTA(#REF!)>0,(COUNTIF(#REF!,\"=0\")*0+COUNTIF(#REF!,\"=1\")*100+COUNTIF(#REF!,\"=2\")*80+COUNTIF(#REF!,\"=3\")*50+COUNTIF(#REF!,\"=8\")*20+COUNTIF(#REF!,\"=9\")*0)/COUNTA(#REF!)/100,\"N/A\")","v":{"$error":"#REF!"}},{"$f":"IF(AND(COUNTA(B234:V234)<>0,#REF!<>\"\"),AVERAGE(W234:AC234),\"N/A\")","v":{"$error":"#REF!"}},1,1,1,1,1,{"$error":"#REF!"},{"$error":"#REF!"},{"$error":"#REF!"}]
[{"$nulls":22},"N/A","N/A","N/A","N/A","N/A",{"$f":"IF(COUNTA(#REF!)>0,(COUNTIF(#REF!,\"=0\")*0+COUNTIF(#REF!,\"=1\")*100+COUNTIF(#REF!,\"=2\")*80+COUNTIF(#REF!,\"=3\")*50+COUNTIF(#REF!,\"=8\")*20+COUNTIF(#REF!,\"=9\")*0)/COUNTA(#REF!)/100,\"N/A\")","v":{"$error":"#REF!"}},{"$f":"IF(COUNTA(#REF!)>0,(COUNTIF(#REF!,\"=0\")*0+COUNTIF(#REF!,\"=1\")*100+COUNTIF(#REF!,\"=2\")*80+COUNTIF(#REF!,\"=3\")*50+COUNTIF(#REF!,\"=8\")*20+COUNTIF(#REF!,\"=9\")*0)/COUNTA(#REF!)/100,\"N/A\")","v":{"$error":"#REF!"}},{"$f":"IF(AND(COUNTA(B235:V235)<>0,#REF!<>\"\"),AVERAGE(W235:AC235),\"N/A\")","v":{"$error":"#REF!"}},1,1,1,1,1,{"$error":"#REF!"},{"$error":"#REF!"},{"$error":"#REF!"}]
[{"$nulls":22},"N/A","N/A","N/A","N/A","N/A",{"$f":"IF(COUNTA(#REF!)>0,(COUNTIF(#REF!,\"=0\")*0+COUNTIF(#REF!,\"=1\")*100+COUNTIF(#REF!,\"=2\")*80+COUNTIF(#REF!,\"=3\")*50+COUNTIF(#REF!,\"=8\")*20+COUNTIF(#REF!,\"=9\")*0)/COUNTA(#REF!)/100,\"N/A\")","v":{"$error":"#REF!"}},{"$f":"IF(COUNTA(#REF!)>0,(COUNTIF(#REF!,\"=0\")*0+COUNTIF(#REF!,\"=1\")*100+COUNTIF(#REF!,\"=2\")*80+COUNTIF(#REF!,\"=3\")*50+COUNTIF(#REF!,\"=8\")*20+COUNTIF(#REF!,\"=9\")*0)/COUNTA(#REF!)/100,\"N/A\")","v":{"$error":"#REF!"}},{"$f":"IF(AND(COUNTA(B236:V236)<>0,#REF!<>\"\"),AVERAGE(W236:AC236),\"N/A\")","v":{"$error":"#REF!"}},1,1,1,1,1,{"$error":"#REF!"},{"$error":"#REF!"},{"$error":"#REF!"}]
[{"$nulls":22},"N/A","N/A","N/A","N/A","N/A",{"$f":"IF(COUNTA(#REF!)>0,(COUNTIF(#REF!,\"=0\")*0+COUNTIF(#REF!,\"=1\")*100+COUNTIF(#REF!,\"=2\")*80+COUNTIF(#REF!,\"=3\")*50+COUNTIF(#REF!,\"=8\")*20+COUNTIF(#REF!,\"=9\")*0)/COUNTA(#REF!)/100,\"N/A\")","v":{"$error":"#REF!"}},{"$f":"IF(COUNTA(#REF!)>0,(COUNTIF(#REF!,\"=0\")*0+COUNTIF(#REF!,\"=1\")*100+COUNTIF(#REF!,\"=2\")*80+COUNTIF(#REF!,\"=3\")*50+COUNTIF(#REF!,\"=8\")*20+COUNTIF(#REF!,\"=9\")*0)/COUNTA(#REF!)/100,\"N/A\")","v":{"$error":"#REF!"}},{"$f":"IF(AND(COUNTA(B237:V237)<>0,#REF!<>\"\"),AVERAGE(W237:AC237),\"N/A\")","v":{"$error":"#REF!"}},1,1,1,1,1,{"$error":"#REF!"},{"$error":"#REF!"},{"$error":"#REF!"}]
[{"$nulls":22},"N/A","N/A","N/A","N/A","N/A",{"$f":"IF(COUNTA(#REF!)>0,(COUNTIF(#REF!,\"=0\")*0+COUNTIF(#REF!,\"=1\")*100+COUNTIF(#REF!,\"=2\")*80+COUNTIF(#REF!,\"=3\")*50+COUNTIF(#REF!,\"=8\")*20+COUNTIF(#REF!,\"=9\")*0)/COUNTA(#REF!)/100,\"N/A\")","v":{"$error":"#REF!"}},{"$f":"IF(COUNTA(#REF!)>0,(COUNTIF(#REF!,\"=0\")*0+COUNTIF(#REF!,\"=1\")*100+COUNTIF(#REF!,\"=2\")*80+COUNTIF(#REF!,\"=3\")*50+COUNTIF(#REF!,\"=8\")*20+COUNTIF(#REF!,\"=9\")*0)/COUNTA(#REF!)/100,\"N/A\")","v":{"$error":"#REF!"}},{"$f":"IF(AND(COUNTA(B238:V238)<>0,#REF!<>\"\"),AVERAGE(W238:AC238),\"N/A\")","v":{"$error":"#REF!"}},1,1,1,1,1,{"$error":"#REF!"},{"$error":"#REF!"},{"$error":"#REF!"}]
[{"$nulls":22},"N/A","N/A","N/A","N/A","N/A",{"$f":"IF(COUNTA(#REF!)>0,(COUNTIF(#REF!,\"=0\")*0+COUNTIF(#REF!,\"=1\")*100+COUNTIF(#REF!,\"=2\")*80+COUNTIF(#REF!,\"=3\")*50+COUNTIF(#REF!,\"=8\")*20+COUNTIF(#REF!,\"=9\")*0)/COUNTA(#REF!)/100,\"N/A\")","v":{"$error":"#REF!"}},{"$f":"IF(COUNTA(#REF!)>0,(COUNTIF(#REF!,\"=0\")*0+COUNTIF(#REF!,\"=1\")*100+COUNTIF(#REF!,\"=2\")*80+COUNTIF(#REF!,\"=3\")*50+COUNTIF(#REF!,\"=8\")*20+COUNTIF(#REF!,\"=9\")*0)/COUNTA(#REF!)/100,\"N/A\")","v":{"$error":"#REF!"}},{"$f":"IF(AND(COUNTA(B239:V239)<>0,#REF!<>\"\"),AVERAGE(W239:AC239),\"N/A\")","v":{"$error":"#REF!"}},1,1,1,1,1,{"$error":"#REF!"},{"$error":"#REF!"},{"$error":"#REF!"}]
[{"$nulls":22},"N/A","N/A","N/A","N/A","N/A",{"$f":"IF(COUNTA(#REF!)>0,(COUNTIF(#REF!,\"=0\")*0+COUNTIF(#REF!,\"=1\")*100+COUNTIF(#REF!,\"=2\")*80+COUNTIF(#REF!,\"=3\")*50+COUNTIF(#REF!,\"=8\")*20+COUNTIF(#REF!,\"=9\")*0)/COUNTA(#REF!)/100,\"N/A\")","v":{"$error":"#REF!"}},{"$f":"IF(COUNTA(#REF!)>0,(COUNTIF(#REF!,\"=0\")*0+COUNTIF(#REF!,\"=1\")*100+COUNTIF(#REF!,\"=2\")*80+COUNTIF(#REF!,\"=3\")*50+COUNTIF(#REF!,\"=8\")*20+COUNTIF(#REF!,\"=9\")*0)/COUNTA(#REF!)/100,\"N/A\")","v":{"$error":"#REF!"}},{"$f":"IF(AND(COUNTA(B240:V240)<>0,#REF!<>\"\"),AVERAGE(W240:AC240),\"N/A\")","v":{"$error":"#REF!"}},1,1,1,1,1,{"$error":"#REF!"},{"$error":"#REF!"},{"$error":"#REF!"}]
[{"$nulls":22},"N/A","N/A","N/A","N/A","N/A",{"$f":"IF(COUNTA(#REF!)>0,(COUNTIF(#REF!,\"=0\")*0+COUNTIF(#REF!,\"=1\")*100+COUNTIF(#REF!,\"=2\")*80+COUNTIF(#REF!,\"=3\")*50+COUNTIF(#REF!,\"=8\")*20+COUNTIF(#REF!,\"=9\")*0)/COUNTA(#REF!)/100,\"N/A\")","v":{"$error":"#REF!"}},{"$f":"IF(COUNTA(#REF!)>0,(COUNTIF(#REF!,\"=0\")*0+COUNTIF(#REF!,\"=1\")*100+COUNTIF(#REF!,\"=2\")*80+COUNTIF(#REF!,\"=3\")*50+COUNTIF(#REF!,\"=8\")*20+COUNTIF(#REF!,\"=9\")*0)/COUNTA(#REF!)/100,\"N/A\")","v":{"$error":"#REF!"}},{"$f":"IF(AND(COUNTA(B241:V241)<>0,#REF!<>\"\"),AVERAGE(W241:AC241),\"N/A\")","v":{"$error":"#REF!"}},1,1,1,1,1,{"$error":"#REF!"},{"$error":"#REF!"},{"$error":"#REF!"}]
[{"$nulls":22},"N/A","N/A","N/A","N/A","N/A",{"$f":"IF(COUNTA(#REF!)>0,(COUNTIF(#REF!,\"=0\")*0+COUNTIF(#REF!,\"=1\")*100+COUNTIF(#REF!,\"=2\")*80+COUNTIF(#REF!,\"=3\")*50+COUNTIF(#REF!,\"=8\")*20+COUNTIF(#REF!,\"=9\")*0)/COUNTA(#REF!)/100,\"N/A\")","v":{"$error":"#REF!"}},{"$f":"IF(COUNTA(#REF!)>0,(COUNTIF(#REF!,\"=0\")*0+COUNTIF(#REF!,\"=1\")*100+COUNTIF(#REF!,\"=2\")*80+COUNTIF(#REF!,\"=3\")*50+COUNTIF(#REF!,\"=8\")*20+COUNTIF(#REF!,\"=9\")*0)/COUNTA(#REF!)/100,\"N/A\")","v":{"$error":"#REF!"}},{"$f":"IF(AND(COUNTA(B242:V242)<>0,#REF!<>\"\"),AVERAGE(W242:AC242),\"N/A\")","v":{"$error":"#REF!"}},1,1,1,1,1,{"$error":"#REF!"},{"$error":"#REF!"},{"$error":"#REF!"}]
[{"$nulls":22},"N/A","N/A","N/A","N/A","N/A",{"$f":"IF(COUNTA(#REF!)>0,(COUNTIF(#REF!,\"=0\")*0+COUNTIF(#REF!,\"=1\")*100+COUNTIF(#REF!,\"=2\")*80+COUNTIF(#REF!,\"=3\")*50+COUNTIF(#REF!,\"=8\")*20+COUNTIF(#REF!,\"=9\")*0)/COUNTA(#REF!)/100,\"N/A\")","v":{"$error":"#REF!"}},{"$f":"IF(COUNTA(#REF!)>0,(COUNTIF(#REF!,\"=0\")*0+COUNTIF(#REF!,\"=1\")*100+COUNTIF(#REF!,\"=2\")*80+COUNTIF(#REF!,\"=3\")*50+COUNTIF(#REF!,\"=8\")*20+COUNTIF(#REF!,\"=9\")*0)/COUNTA(#REF!)/100,\"N/A\")","v":{"$error":"#REF!"}},{"$f":"IF(AND(COUNTA(B243:V243)<>0,#REF!<>\"\"),AVERAGE(W243:AC243),\"N/A\")","v":{"$error":"#REF!"}},1,1,1,1,1,{"$error":"#REF!"},{"$error":"#REF!"},{"$error":"#REF!"}]
[{"$nulls":22},"N/A","N/A","N/A","N/A","N/A",{"$f":"IF(COUNTA(#REF!)>0,(COUNTIF(#REF!,\"=0\")*0+COUNTIF(#REF!,\"=1\")*100+COUNTIF(#REF!,\"=2\")*80+COUNTIF(#REF!,\"=3\")*50+COUNTIF(#REF!,\"=8\")*20+COUNTIF(#REF!,\"=9\")*0)/COUNTA(#REF!)/100,\"N/A\")","v":{"$error":"#REF!"}},{"$f":"IF(COUNTA(#REF!)>0,(COUNTIF(#REF!,\"=0\")*0+COUNTIF(#REF!,\"=1\")*100+COUNTIF(#REF!,\"=2\")*80+COUNTIF(#REF!,\"=3\")*50+COUNTIF(#REF!,\"=8\")*20+COUNTIF(#REF!,\"=9\")*0)/COUNTA(#REF!)/100,\"N/A\")","v":{"$error":"#REF!"}},{"$f":"IF(AND(COUNTA(B244:V244)<>0,#REF!<>\"\"),AVERAGE(W244:AC244),\"N/A\")","v":{"$error":"#REF!"}},1,1,1,1,1,{"$error":"#REF!"},{"$error":"#REF!"},{"$error":"#REF!"}]
[{"$nulls":22},"N/A","N/A","N/A","N/A","N/A",{"$f":"IF(COUNTA(#REF!)>0,(COUNTIF(#REF!,\"=0\")*0+COUNTIF(#REF!,\"=1\")*100+COUNTIF(#REF!,\"=2\")*80+COUNTIF(#REF!,\"=3\")*50+COUNTIF(#REF!,\"=8\")*20+COUNTIF(#REF!,\"=9\")*0)/COUNTA(#REF!)/100,\"N/A\")","v":{"$error":"#REF!"}},{"$f":"IF(COUNTA(#REF!)>0,(COUNTIF(#REF!,\"=0\")*0+COUNTIF(#REF!,\"=1\")*100+COUNTIF(#REF!,\"=2\")*80+COUNTIF(#REF!,\"=3\")*50+COUNTIF(#REF!,\"=8\")*20+COUNTIF(#REF!,\"=9\")*0)/COUNTA(#REF!)/100,\"N/A\")","v":{"$error":"#REF!"}},{"$f":"IF(AND(COUNTA(B245:V245)<>0,#REF!<>\"\"),AVERAGE(W245:AC245),\"N/A\")","v":{"$error":"#REF!"}},1,1,1,1,1,{"$error":"#REF!"},{"$error":"#REF!"},{"$error":"#REF!"}]
[{"$nulls":22},"N/A","N/A","N/A","N/A","N/A",{"$f":"IF(COUNTA(#REF!)>0,(COUNTIF(#REF!,\"=0\")*0+COUNTIF(#REF!,\"=1\")*100+COUNTIF(#REF!,\"=2\")*80+COUNTIF(#REF!,\"=3\")*50+COUNTIF(#REF!,\"=8\")*20+COUNTIF(#REF!,\"=9\")*0)/COUNTA(#REF!)/100,\"N/A\")","v":{"$error":"#REF!"}},{"$f":"IF(COUNTA(#REF!)>0,(COUNTIF(#REF!,\"=0\")*0+COUNTIF(#REF!,\"=1\")*100+COUNTIF(#REF!,\"=2\")*80+COUNTIF(#REF!,\"=3\")*50+COUNTIF(#REF!,\"=8\")*20+COUNTIF(#REF!,\"=9\")*0)/COUNTA(#REF!)/100,\"N/A\")","v":{"$error":"#REF!"}},{"$f":"IF(AND(COUNTA(B246:V246)<>0,#REF!<>\"\"),AVERAGE(W246:AC246),\"N/A\")","v":{"$error":"#REF!"}},1,1,1,1,1,{"$error":"#REF!"},{"$error":"#REF!"},{"$error":"#REF!"}]
[{"$nulls":22},"N/A","N/A","N/A","N/A","N/A",{"$f":"IF(COUNTA(#REF!)>0,(COUNTIF(#REF!,\"=0\")*0+COUNTIF(#REF!,\"=1\")*100+COUNTIF(#REF!,\"=2\")*80+COUNTIF(#REF!,\"=3\")*50+COUNTIF(#REF!,\"=8\")*20+COUNTIF(#REF!,\"=9\")*0)/COUNTA(#REF!)/100,\"N/A\")","v":{"$error":"#REF!"}},{"$f":"IF(COUNTA(#REF!)>0,(COUNTIF(#REF!,\"=0\")*0+COUNTIF(#REF!,\"=1\")*100+COUNTIF(#REF!,\"=2\")*80+COUNTIF(#REF!,\"=3\")*50+COUNTIF(#REF!,\"=8\")*20+COUNTIF(#REF!,\"=9\")*0)/COUNTA(#REF!)/100,\"N/A\")","v":{"$error":"#REF!"}},{"$f":"IF(AND(COUNTA(B247:V247)<>0,#REF!<>\"\"),AVERAGE(W247:AC247),\"N/A\")","v":{"$error":"#REF!"}},{"$f":"IF(W247=\"N/A\",1,\"\")","v":1},1,1,1,1,{"$error":"#REF!"},{"$error":"#REF!"},{"$error":"#REF!"}]
[{"$nulls":22},"N/A","N/A","N/A","N/A","N/A",{"$f":"IF(COUNTA(#REF!)>0,(COUNTIF(#REF!,\"=0\")*0+COUNTIF(#REF!,\"=1\")*100+COUNTIF(#REF!,\"=2\")*80+COUNTIF(#REF!,\"=3\")*50+COUNTIF(#REF!,\"=8\")*20+COUNTIF(#REF!,\"=9\")*0)/COUNTA(#REF!)/100,\"N/A\")","v":{"$error":"#REF!"}},{"$f":"IF(COUNTA(#REF!)>0,(COUNTIF(#REF!,\"=0\")*0+COUNTIF(#REF!,\"=1\")*100+COUNTIF(#REF!,\"=2\")*80+COUNTIF(#REF!,\"=3\")*50+COUNTIF(#REF!,\"=8\")*20+COUNTIF(#REF!,\"=9\")*0)/COUNTA(#REF!)/100,\"N/A\")","v":{"$error":"#REF!"}},{"$f":"IF(AND(COUNTA(B248:V248)<>0,#REF!<>\"\"),AVERAGE(W248:AC248),\"N/A\")","v":{"$error":"#REF!"}},1,1,1,1,1,{"$error":"#REF!"},{"$error":"#REF!"},{"$error":"#REF!"}]
[{"$nulls":22},"N/A","N/A","N/A","N/A","N/A",{"$f":"IF(COUNTA(#REF!)>0,(COUNTIF(#REF!,\"=0\")*0+COUNTIF(#REF!,\"=1\")*100+COUNTIF(#REF!,\"=2\")*80+COUNTIF(#REF!,\"=3\")*50+COUNTIF(#REF!,\"=8\")*20+COUNTIF(#REF!,\"=9\")*0)/COUNTA(#REF!)/100,\"N/A\")","v":{"$error":"#REF!"}},{"$f":"IF(COUNTA(#REF!)>0,(COUNTIF(#REF!,\"=0\")*0+COUNTIF(#REF!,\"=1\")*100+COUNTIF(#REF!,\"=2\")*80+COUNTIF(#REF!,\"=3\")*50+COUNTIF(#REF!,\"=8\")*20+COUNTIF(#REF!,\"=9\")*0)/COUNTA(#REF!)/100,\"N/A\")","v":{"$error":"#REF!"}},{"$f":"IF(AND(COUNTA(B249:V249)<>0,#REF!<>\"\"),AVERAGE(W249:AC249),\"N/A\")","v":{"$error":"#REF!"}},1,1,1,1,1,{"$error":"#REF!"},{"$error":"#REF!"},{"$error":"#REF!"}]
[{"$nulls":22},"N/A","N/A","N/A","N/A","N/A",{"$f":"IF(COUNTA(#REF!)>0,(COUNTIF(#REF!,\"=0\")*0+COUNTIF(#REF!,\"=1\")*100+COUNTIF(#REF!,\"=2\")*80+COUNTIF(#REF!,\"=3\")*50+COUNTIF(#REF!,\"=8\")*20+COUNTIF(#REF!,\"=9\")*0)/COUNTA(#REF!)/100,\"N/A\")","v":{"$error":"#REF!"}},{"$f":"IF(COUNTA(#REF!)>0,(COUNTIF(#REF!,\"=0\")*0+COUNTIF(#REF!,\"=1\")*100+COUNTIF(#REF!,\"=2\")*80+COUNTIF(#REF!,\"=3\")*50+COUNTIF(#REF!,\"=8\")*20+COUNTIF(#REF!,\"=9\")*0)/COUNTA(#REF!)/100,\"N/A\")","v":{"$error":"#REF!"}},{"$f":"IF(AND(COUNTA(B250:V250)<>0,#REF!<>\"\"),AVERAGE(W250:AC250),\"N/A\")","v":{"$error":"#REF!"}},1,1,1,1,1,{"$error":"#REF!"},{"$error":"#REF!"},{"$error":"#REF!"}]
[{"$nulls":22},"N/A","N/A","N/A","N/A","N/A",{"$f":"IF(COUNTA(#REF!)>0,(COUNTIF(#REF!,\"=0\")*0+COUNTIF(#REF!,\"=1\")*100+COUNTIF(#REF!,\"=2\")*80+COUNTIF(#REF!,\"=3\")*50+COUNTIF(#REF!,\"=8\")*20+COUNTIF(#REF!,\"=9\")*0)/COUNTA(#REF!)/100,\"N/A\")","v":{"$error":"#REF!"}},{"$f":"IF(COUNTA(#REF!)>0,(COUNTIF(#REF!,\"=0\")*0+COUNTIF(#REF!,\"=1\")*100+COUNTIF(#REF!,\"=2\")*80+COUNTIF(#REF!,\"=3\")*50+COUNTIF(#REF!,\"=8\")*20+COUNTIF(#REF!,\"=9\")*0)/COUNTA(#REF!)/100,\"N/A\")","v":{"$error":"#REF!"}},{"$f":"IF(AND(COUNTA(B251:V251)<>0,#REF!<>\"\"),AVERAGE(W251:AC251),\"N/A\")","v":{"$error":"#REF!"}},1,1,1,1,1,{"$error":"#REF!"},{"$error":"#REF!"},{"$error":"#REF!"}]
[{"$nulls":22},"N/A","N/A","N/A","N/A","N/A",{"$f":"IF(COUNTA(#REF!)>0,(COUNTIF(#REF!,\"=0\")*0+COUNTIF(#REF!,\"=1\")*100+COUNTIF(#REF!,\"=2\")*80+COUNTIF(#REF!,\"=3\")*50+COUNTIF(#REF!,\"=8\")*20+COUNTIF(#REF!,\"=9\")*0)/COUNTA(#REF!)/100,\"N/A\")","v":{"$error":"#REF!"}},{"$f":"IF(COUNTA(#REF!)>0,(COUNTIF(#REF!,\"=0\")*0+COUNTIF(#REF!,\"=1\")*100+COUNTIF(#REF!,\"=2\")*80+COUNTIF(#REF!,\"=3\")*50+COUNTIF(#REF!,\"=8\")*20+COUNTIF(#REF!,\"=9\")*0)/COUNTA(#REF!)/100,\"N/A\")","v":{"$error":"#REF!"}},{"$f":"IF(AND(COUNTA(B252:V252)<>0,#REF!<>\"\"),AVERAGE(W252:AC252),\"N/A\")","v":{"$error":"#REF!"}},1,1,1,1,1,{"$error":"#REF!"},{"$error":"#REF!"},{"$error":"#REF!"}]
[{"$nulls":22},"N/A","N/A","N/A","N/A","N/A",{"$f":"IF(COUNTA(#REF!)>0,(COUNTIF(#REF!,\"=0\")*0+COUNTIF(#REF!,\"=1\")*100+COUNTIF(#REF!,\"=2\")*80+COUNTIF(#REF!,\"=3\")*50+COUNTIF(#REF!,\"=8\")*20+COUNTIF(#REF!,\"=9\")*0)/COUNTA(#REF!)/100,\"N/A\")","v":{"$error":"#REF!"}},{"$f":"IF(COUNTA(#REF!)>0,(COUNTIF(#REF!,\"=0\")*0+COUNTIF(#REF!,\"=1\")*100+COUNTIF(#REF!,\"=2\")*80+COUNTIF(#REF!,\"=3\")*50+COUNTIF(#REF!,\"=8\")*20+COUNTIF(#REF!,\"=9\")*0)/COUNTA(#REF!)/100,\"N/A\")","v":{"$error":"#REF!"}},{"$f":"IF(AND(COUNTA(B253:V253)<>0,#REF!<>\"\"),AVERAGE(W253:AC253),\"N/A\")","v":{"$error":"#REF!"}},1,1,1,1,1,{"$error":"#REF!"},{"$error":"#REF!"},{"$error":"#REF!"}]
[{"$nulls":22},"N/A","N/A","N/A","N/A","N/A",{"$f":"IF(COUNTA(#REF!)>0,(COUNTIF(#REF!,\"=0\")*0+COUNTIF(#REF!,\"=1\")*100+COUNTIF(#REF!,\"=2\")*80+COUNTIF(#REF!,\"=3\")*50+COUNTIF(#REF!,\"=8\")*20+COUNTIF(#REF!,\"=9\")*0)/COUNTA(#REF!)/100,\"N/A\")","v":{"$error":"#REF!"}},{"$f":"IF(COUNTA(#REF!)>0,(COUNTIF(#REF!,\"=0\")*0+COUNTIF(#REF!,\"=1\")*100+COUNTIF(#REF!,\"=2\")*80+COUNTIF(#REF!,\"=3\")*50+COUNTIF(#REF!,\"=8\")*20+COUNTIF(#REF!,\"=9\")*0)/COUNTA(#REF!)/100,\"N/A\")","v":{"$error":"#REF!"}},{"$f":"IF(AND(COUNTA(B254:V254)<>0,#REF!<>\"\"),AVERAGE(W254:AC254),\"N/A\")","v":{"$error":"#REF!"}},1,1,1,1,1,{"$error":"#REF!"},{"$error":"#REF!"},{"$error":"#REF!"}]
[{"$nulls":22},"N/A","N/A","N/A","N/A","N/A",{"$f":"IF(COUNTA(#REF!)>0,(COUNTIF(#REF!,\"=0\")*0+COUNTIF(#REF!,\"=1\")*100+COUNTIF(#REF!,\"=2\")*80+COUNTIF(#REF!,\"=3\")*50+COUNTIF(#REF!,\"=8\")*20+COUNTIF(#REF!,\"=9\")*0)/COUNTA(#REF!)/100,\"N/A\")","v":{"$error":"#REF!"}},{"$f":"IF(COUNTA(#REF!)>0,(COUNTIF(#REF!,\"=0\")*0+COUNTIF(#REF!,\"=1\")*100+COUNTIF(#REF!,\"=2\")*80+COUNTIF(#REF!,\"=3\")*50+COUNTIF(#REF!,\"=8\")*20+COUNTIF(#REF!,\"=9\")*0)/COUNTA(#REF!)/100,\"N/A\")","v":{"$error":"#REF!"}},{"$f":"IF(AND(COUNTA(B255:V255)<>0,#REF!<>\"\"),AVERAGE(W255:AC255),\"N/A\")","v":{"$error":"#REF!"}},1,1,1,1,1,{"$error":"#REF!"},{"$error":"#REF!"},{"$error":"#REF!"}]
[{"$nulls":22},"N/A","N/A","N/A","N/A","N/A",{"$f":"IF(COUNTA(#REF!)>0,(COUNTIF(#REF!,\"=0\")*0+COUNTIF(#REF!,\"=1\")*100+COUNTIF(#REF!,\"=2\")*80+COUNTIF(#REF!,\"=3\")*50+COUNTIF(#REF!,\"=8\")*20+COUNTIF(#REF!,\"=9\")*0)/COUNTA(#REF!)/100,\"N/A\")","v":{"$error":"#REF!"}},{"$f":"IF(COUNTA(#REF!)>0,(COUNTIF(#REF!,\"=0\")*0+COUNTIF(#REF!,\"=1\")*100+COUNTIF(#REF!,\"=2\")*80+COUNTIF(#REF!,\"=3\")*50+COUNTIF(#REF!,\"=8\")*20+COUNTIF(#REF!,\"=9\")*0)/COUNTA(#REF!)/100,\"N/A\")","v":{"$error":"#REF!"}},{"$f":"IF(AND(COUNTA(B256:V256)<>0,#REF!<>\"\"),AVERAGE(W256:AC256),\"N/A\")","v":{"$error":"#REF!"}},1,1,1,1,1,{"$error":"#REF!"},{"$error":"#REF!"},{"$error":"#REF!"}]
[{"$nulls":22},{"$f":"IF(COUNTA(B257:G257)>0,(COUNTIF(B257:G257,\"=0\")*0+COUNTIF(B257:G257,\"=1\")*100+COUNTIF(B257:G257,\"=2\")*80+COUNTIF(B257:G257,\"=3\")*50+COUNTIF(B257:G257,\"=8\")*20+COUNTIF(B257:G257,\"=9\")*0)/COUNTA(B257:G257)/100,\"N/A\")","v":"N/A"},{"$f":"IF(COUNTA(K257:O257)>0,(COUNTIF(K257:O257,\"=0\")*0+COUNTIF(K257:O257,\"=1\")*100+COUNTIF(K257:O257,\"=2\")*80+COUNTIF(K257:O257,\"=3\")*50+COUNTIF(K257:O257,\"=8\")*20+COUNTIF(K257:O257,\"=9\")*0)/COUNTA(K257:O257)/100,\"N/A\")","v":"N/A"},{"$f":"IF(COUNTA(P257)>0,(COUNTIF(P257,\"=0\")*0+COUNTIF(P257,\"=1\")*100+COUNTIF(P257,\"=2\")*80+COUNTIF(P257,\"=3\")*50+COUNTIF(P257,\"=8\")*20+COUNTIF(P257,\"=9\")*0)/COUNTA(P257)/100,\"N/A\")","v":"N/A"},"N/A","N/A",{"$f":"IF(COUNTA(#REF!)>0,(COUNTIF(#REF!,\"=0\")*0+COUNTIF(#REF!,\"=1\")*100+COUNTIF(#REF!,\"=2\")*80+COUNTIF(#REF!,\"=3\")*50+COUNTIF(#REF!,\"=8\")*20+COUNTIF(#REF!,\"=9\")*0)/COUNTA(#REF!)/100,\"N/A\")","v":{"$error":"#REF!"}},{"$f":"IF(COUNTA(#REF!)>0,(COUNTIF(#REF!,\"=0\")*0+COUNTIF(#REF!,\"=1\")*100+COUNTIF(#REF!,\"=2\")*80+COUNTIF(#REF!,\"=3\")*50+COUNTIF(#REF!,\"=8\")*20+COUNTIF(#REF!,\"=9\")*0)/COUNTA(#REF!)/100,\"N/A\")","v":{"$error":"#REF!"}},{"$f":"IF(AND(COUNTA(B257:V257)<>0,#REF!<>\"\"),AVERAGE(W257:AC257),\"N/A\")","v":{"$error":"#REF!"}},1,1,1,1,1,{"$error":"#REF!"},{"$error":"#REF!"},{"$error":"#REF!"}]
[{"$nulls":22},"N/A","N/A","N/A","N/A","N/A",{"$f":"IF(COUNTA(#REF!)>0,(COUNTIF(#REF!,\"=0\")*0+COUNTIF(#REF!,\"=1\")*100+COUNTIF(#REF!,\"=2\")*80+COUNTIF(#REF!,\"=3\")*50+COUNTIF(#REF!,\"=8\")*20+COUNTIF(#REF!,\"=9\")*0)/COUNTA(#REF!)/100,\"N/A\")","v":{"$error":"#REF!"}},{"$f":"IF(COUNTA(#REF!)>0,(COUNTIF(#REF!,\"=0\")*0+COUNTIF(#REF!,\"=1\")*100+COUNTIF(#REF!,\"=2\")*80+COUNTIF(#REF!,\"=3\")*50+COUNTIF(#REF!,\"=8\")*20+COUNTIF(#REF!,\"=9\")*0)/COUNTA(#REF!)/100,\"N/A\")","v":{"$error":"#REF!"}},{"$f":"IF(AND(COUNTA(B258:V258)<>0,#REF!<>\"\"),AVERAGE(W258:AC258),\"N/A\")","v":{"$error":"#REF!"}},1,1,1,1,1,{"$error":"#REF!"},{"$error":"#REF!"},{"$error":"#REF!"}]
[{"$nulls":22},"N/A","N/A","N/A","N/A","N/A",{"$f":"IF(COUNTA(#REF!)>0,(COUNTIF(#REF!,\"=0\")*0+COUNTIF(#REF!,\"=1\")*100+COUNTIF(#REF!,\"=2\")*80+COUNTIF(#REF!,\"=3\")*50+COUNTIF(#REF!,\"=8\")*20+COUNTIF(#REF!,\"=9\")*0)/COUNTA(#REF!)/100,\"N/A\")","v":{"$error":"#REF!"}},{"$f":"IF(COUNTA(#REF!)>0,(COUNTIF(#REF!,\"=0\")*0+COUNTIF(#REF!,\"=1\")*100+COUNTIF(#REF!,\"=2\")*80+COUNTIF(#REF!,\"=3\")*50+COUNTIF(#REF!,\"=8\")*20+COUNTIF(#REF!,\"=9\")*0)/COUNTA(#REF!)/100,\"N/A\")","v":{"$error":"#REF!"}},{"$f":"IF(AND(COUNTA(B259:V259)<>0,#REF!<>\"\"),AVERAGE(W259:AC259),\"N/A\")","v":{"$error":"#REF!"}},1,1,1,1,1,{"$error":"#REF!"},{"$error":"#REF!"},{"$error":"#REF!"}]
[{"$nulls":22},"N/A","N/A","N/A","N/A","N/A",{"$f":"IF(COUNTA(#REF!)>0,(COUNTIF(#REF!,\"=0\")*0+COUNTIF(#REF!,\"=1\")*100+COUNTIF(#REF!,\"=2\")*80+COUNTIF(#REF!,\"=3\")*50+COUNTIF(#REF!,\"=8\")*20+COUNTIF(#REF!,\"=9\")*0)/COUNTA(#REF!)/100,\"N/A\")","v":{"$error":"#REF!"}},{"$f":"IF(COUNTA(#REF!)>0,(COUNTIF(#REF!,\"=0\")*0+COUNTIF(#REF!,\"=1\")*100+COUNTIF(#REF!,\"=2\")*80+COUNTIF(#REF!,\"=3\")*50+COUNTIF(#REF!,\"=8\")*20+COUNTIF(#REF!,\"=9\")*0)/COUNTA(#REF!)/100,\"N/A\")","v":{"$error":"#REF!"}},{"$f":"IF(AND(COUNTA(B260:V260)<>0,#REF!<>\"\"),AVERAGE(W260:AC260),\"N/A\")","v":{"$error":"#REF!"}},1,1,1,1,1,{"$error":"#REF!"},{"$error":"#REF!"},{"$error":"#REF!"}]
[{"$nulls":22},"N/A","N/A","N/A","N/A","N/A",{"$f":"IF(COUNTA(#REF!)>0,(COUNTIF(#REF!,\"=0\")*0+COUNTIF(#REF!,\"=1\")*100+COUNTIF(#REF!,\"=2\")*80+COUNTIF(#REF!,\"=3\")*50+COUNTIF(#REF!,\"=8\")*20+COUNTIF(#REF!,\"=9\")*0)/COUNTA(#REF!)/100,\"N/A\")","v":{"$error":"#REF!"}},{"$f":"IF(COUNTA(#REF!)>0,(COUNTIF(#REF!,\"=0\")*0+COUNTIF(#REF!,\"=1\")*100+COUNTIF(#REF!,\"=2\")*80+COUNTIF(#REF!,\"=3\")*50+COUNTIF(#REF!,\"=8\")*20+COUNTIF(#REF!,\"=9\")*0)/COUNTA(#REF!)/100,\"N/A\")","v":{"$error":"#REF!"}},{"$f":"IF(AND(COUNTA(B261:V261)<>0,#REF!<>\"\"),AVERAGE(W261:AC261),\"N/A\")","v":{"$error":"#REF!"}},1,1,1,1,1,{"$error":"#REF!"},{"$error":"#REF!"},{"$error":"#REF!"}]
[{"$nulls":22},"N/A","N/A","N/A","N/A","N/A",{"$f":"IF(COUNTA(#REF!)>0,(COUNTIF(#REF!,\"=0\")*0+COUNTIF(#REF!,\"=1\")*100+COUNTIF(#REF!,\"=2\")*80+COUNTIF(#REF!,\"=3\")*50+COUNTIF(#REF!,\"=8\")*20+COUNTIF(#REF!,\"=9\")*0)/COUNTA(#REF!)/100,\"N/A\")","v":{"$error":"#REF!"}},{"$f":"IF(COUNTA(#REF!)>0,(COUNTIF(#REF!,\"=0\")*0+COUNTIF(#REF!,\"=1\")*100+COUNTIF(#REF!,\"=2\")*80+COUNTIF(#REF!,\"=3\")*50+COUNTIF(#REF!,\"=8\")*20+COUNTIF(#REF!,\"=9\")*0)/COUNTA(#REF!)/100,\"N/A\")","v":{"$error":"#REF!"}},{"$f":"IF(AND(COUNTA(B262:V262)<>0,#REF!<>\"\"),AVERAGE(W262:AC262),\"N/A\")","v":{"$error":"#REF!"}},1,1,1,1,1,{"$error":"#REF!"},{"$error":"#REF!"},{"$error":"#REF!"}]
[{"$nulls":22},"N/A","N/A","N/A","N/A","N/A",{"$f":"IF(COUNTA(#REF!)>0,(COUNTIF(#REF!,\"=0\")*0+COUNTIF(#REF!,\"=1\")*100+COUNTIF(#REF!,\"=2\")*80+COUNTIF(#REF!,\"=3\")*50+COUNTIF(#REF!,\"=8\")*20+COUNTIF(#REF!,\"=9\")*0)/COUNTA(#REF!)/100,\"N/A\")","v":{"$error":"#REF!"}},{"$f":"IF(COUNTA(#REF!)>0,(COUNTIF(#REF!,\"=0\")*0+COUNTIF(#REF!,\"=1\")*100+COUNTIF(#REF!,\"=2\")*80+COUNTIF(#REF!,\"=3\")*50+COUNTIF(#REF!,\"=8\")*20+COUNTIF(#REF!,\"=9\")*0)/COUNTA(#REF!)/100,\"N/A\")","v":{"$error":"#REF!"}},{"$f":"IF(AND(COUNTA(B263:V263)<>0,#REF!<>\"\"),AVERAGE(W263:AC263),\"N/A\")","v":{"$error":"#REF!"}},1,1,1,1,1,{"$error":"#REF!"},{"$error":"#REF!"},{"$error":"#REF!"}]
[{"$nulls":22},"N/A","N/A","N/A","N/A","N/A",{"$f":"IF(COUNTA(#REF!)>0,(COUNTIF(#REF!,\"=0\")*0+COUNTIF(#REF!,\"=1\")*100+COUNTIF(#REF!,\"=2\")*80+COUNTIF(#REF!,\"=3\")*50+COUNTIF(#REF!,\"=8\")*20+COUNTIF(#REF!,\"=9\")*0)/COUNTA(#REF!)/100,\"N/A\")","v":{"$error":"#REF!"}},{"$f":"IF(COUNTA(#REF!)>0,(COUNTIF(#REF!,\"=0\")*0+COUNTIF(#REF!,\"=1\")*100+COUNTIF(#REF!,\"=2\")*80+COUNTIF(#REF!,\"=3\")*50+COUNTIF(#REF!,\"=8\")*20+COUNTIF(#REF!,\"=9\")*0)/COUNTA(#REF!)/100,\"N/A\")","v":{"$error":"#REF!"}},{"$f":"IF(AND(COUNTA(B264:V264)<>0,#REF!<>\"\"),AVERAGE(W264:AC264),\"N/A\")","v":{"$error":"#REF!"}},1,1,1,1,1,{"$error":"#REF!"},{"$error":"#REF!"},{"$error":"#REF!"}]
[{"$nulls":22},"N/A","N/A","N/A","N/A","N/A",{"$f":"IF(COUNTA(#REF!)>0,(COUNTIF(#REF!,\"=0\")*0+COUNTIF(#REF!,\"=1\")*100+COUNTIF(#REF!,\"=2\")*80+COUNTIF(#REF!,\"=3\")*50+COUNTIF(#REF!,\"=8\")*20+COUNTIF(#REF!,\"=9\")*0)/COUNTA(#REF!)/100,\"N/A\")","v":{"$error":"#REF!"}},{"$f":"IF(COUNTA(#REF!)>0,(COUNTIF(#REF!,\"=0\")*0+COUNTIF(#REF!,\"=1\")*100+COUNTIF(#REF!,\"=2\")*80+COUNTIF(#REF!,\"=3\")*50+COUNTIF(#REF!,\"=8\")*20+COUNTIF(#REF!,\"=9\")*0)/COUNTA(#REF!)/100,\"N/A\")","v":{"$error":"#REF!"}},{"$f":"IF(AND(COUNTA(B265:V265)<>0,#REF!<>\"\"),AVERAGE(W265:AC265),\"N/A\")","v":{"$error":"#REF!"}},1,1,1,1,1,{"$error":"#REF!"},{"$error":"#REF!"},{"$error":"#REF!"}]
[{"$nulls":22},"N/A","N/A","N/A","N/A","N/A",{"$f":"IF(COUNTA(#REF!)>0,(COUNTIF(#REF!,\"=0\")*0+COUNTIF(#REF!,\"=1\")*100+COUNTIF(#REF!,\"=2\")*80+COUNTIF(#REF!,\"=3\")*50+COUNTIF(#REF!,\"=8\")*20+COUNTIF(#REF!,\"=9\")*0)/COUNTA(#REF!)/100,\"N/A\")","v":{"$error":"#REF!"}},{"$f":"IF(COUNTA(#REF!)>0,(COUNTIF(#REF!,\"=0\")*0+COUNTIF(#REF!,\"=1\")*100+COUNTIF(#REF!,\"=2\")*80+COUNTIF(#REF!,\"=3\")*50+COUNTIF(#REF!,\"=8\")*20+COUNTIF(#REF!,\"=9\")*0)/COUNTA(#REF!)/100,\"N/A\")","v":{"$error":"#REF!"}},{"$f":"IF(AND(COUNTA(B266:V266)<>0,#REF!<>\"\"),AVERAGE(W266:AC266),\"N/A\")","v":{"$error":"#REF!"}},1,1,1,1,1,{"$error":"#REF!"},{"$error":"#REF!"},{"$error":"#REF!"}]
[{"$nulls":22},"N/A","N/A","N/A","N/A","N/A",{"$f":"IF(COUNTA(#REF!)>0,(COUNTIF(#REF!,\"=0\")*0+COUNTIF(#REF!,\"=1\")*100+COUNTIF(#REF!,\"=2\")*80+COUNTIF(#REF!,\"=3\")*50+COUNTIF(#REF!,\"=8\")*20+COUNTIF(#REF!,\"=9\")*0)/COUNTA(#REF!)/100,\"N/A\")","v":{"$error":"#REF!"}},{"$f":"IF(COUNTA(#REF!)>0,(COUNTIF(#REF!,\"=0\")*0+COUNTIF(#REF!,\"=1\")*100+COUNTIF(#REF!,\"=2\")*80+COUNTIF(#REF!,\"=3\")*50+COUNTIF(#REF!,\"=8\")*20+COUNTIF(#REF!,\"=9\")*0)/COUNTA(#REF!)/100,\"N/A\")","v":{"$error":"#REF!"}},{"$f":"IF(AND(COUNTA(B267:V267)<>0,#REF!<>\"\"),AVERAGE(W267:AC267),\"N/A\")","v":{"$error":"#REF!"}},1,1,1,1,1,{"$error":"#REF!"},{"$error":"#REF!"},{"$error":"#REF!"}]
[{"$nulls":22},"N/A","N/A","N/A","N/A","N/A",{"$f":"IF(COUNTA(#REF!)>0,(COUNTIF(#REF!,\"=0\")*0+COUNTIF(#REF!,\"=1\")*100+COUNTIF(#REF!,\"=2\")*80+COUNTIF(#REF!,\"=3\")*50+COUNTIF(#REF!,\"=8\")*20+COUNTIF(#REF!,\"=9\")*0)/COUNTA(#REF!)/100,\"N/A\")","v":{"$error":"#REF!"}},{"$f":"IF(COUNTA(#REF!)>0,(COUNTIF(#REF!,\"=0\")*0+COUNTIF(#REF!,\"=1\")*100+COUNTIF(#REF!,\"=2\")*80+COUNTIF(#REF!,\"=3\")*50+COUNTIF(#REF!,\"=8\")*20+COUNTIF(#REF!,\"=9\")*0)/COUNTA(#REF!)/100,\"N/A\")","v":{"$error":"#REF!"}},{"$f":"IF(AND(COUNTA(B268:V268)<>0,#REF!<>\"\"),AVERAGE(W268:AC268),\"N/A\")","v":{"$error":"#REF!"}},1,1,1,1,1,{"$error":"#REF!"},{"$error":"#REF!"},{"$error":"#REF!"}]
[{"$nulls":22},"N/A","N/A","N/A","N/A","N/A",{"$f":"IF(COUNTA(#REF!)>0,(COUNTIF(#REF!,\"=0\")*0+COUNTIF(#REF!,\"=1\")*100+COUNTIF(#REF!,\"=2\")*80+COUNTIF(#REF!,\"=3\")*50+COUNTIF(#REF!,\"=8\")*20+COUNTIF(#REF!,\"=9\")*0)/COUNTA(#REF!)/100,\"N/A\")","v":{"$error":"#REF!"}},{"$f":"IF(COUNTA(#REF!)>0,(COUNTIF(#REF!,\"=0\")*0+COUNTIF(#REF!,\"=1\")*100+COUNTIF(#REF!,\"=2\")*80+COUNTIF(#REF!,\"=3\")*50+COUNTIF(#REF!,\"=8\")*20+COUNTIF(#REF!,\"=9\")*0)/COUNTA(#REF!)/100,\"N/A\")","v":{"$error":"#REF!"}},{"$f":"IF(AND(COUNTA(B269:V269)<>0,#REF!<>\"\"),AVERAGE(W269:AC269),\"N/A\")","v":{"$error":"#REF!"}},1,1,1,1,1,{"$error":"#REF!"},{"$error":"#REF!"},{"$error":"#REF!"}]
[{"$nulls":22},"N/A","N/A","N/A","N/A","N/A",{"$f":"IF(COUNTA(#REF!)>0,(COUNTIF(#REF!,\"=0\")*0+COUNTIF(#REF!,\"=1\")*100+COUNTIF(#REF!,\"=2\")*80+COUNTIF(#REF!,\"=3\")*50+COUNTIF(#REF!,\"=8\")*20+COUNTIF(#REF!,\"=9\")*0)/COUNTA(#REF!)/100,\"N/A\")","v":{"$error":"#REF!"}},{"$f":"IF(COUNTA(#REF!)>0,(COUNTIF(#REF!,\"=0\")*0+COUNTIF(#REF!,\"=1\")*100+COUNTIF(#REF!,\"=2\")*80+COUNTIF(#REF!,\"=3\")*50+COUNTIF(#REF!,\"=8\")*20+COUNTIF(#REF!,\"=9\")*0)/COUNTA(#REF!)/100,\"N/A\")","v":{"$error":"#REF!"}},{"$f":"IF(AND(COUNTA(B270:V270)<>0,#REF!<>\"\"),AVERAGE(W270:AC270),\"N/A\")","v":{"$error":"#REF!"}},1,1,1,1,1,{"$error":"#REF!"},{"$error":"#REF!"},{"$error":"#REF!"}]
[{"$nulls":22},"N/A","N/A","N/A",{"$f":"IF(COUNTA(Q271:U271)<>0,(COUNTIF(Q271:U271,\"=0\")*0+COUNTIF(Q271:U271,\"=1\")*100+COUNTIF(Q271:U271,\"=2\")*80+COUNTIF(Q271:U271,\"=3\")*50+COUNTIF(Q271:U271,\"=8\")*20+COUNTIF(Q271:U271,\"=9\")*0)/COUNTA(Q271:U271)/100,\"N/A\")","v":"N/A"},{"$f":"IF(COUNTA(V271:V271)>0,(COUNTIF(V271:V271,\"=0\")*0+COUNTIF(V271:V271,\"=1\")*100+COUNTIF(V271:V271,\"=2\")*80+COUNTIF(V271:V271,\"=3\")*50+COUNTIF(V271:V271,\"=8\")*20+COUNTIF(V271:V271,\"=9\")*0)/COUNTA(V271:V271)/100,\"N/A\")","v":"N/A"},{"$f":"IF(COUNTA(#REF!)>0,(COUNTIF(#REF!,\"=0\")*0+COUNTIF(#REF!,\"=1\")*100+COUNTIF(#REF!,\"=2\")*80+COUNTIF(#REF!,\"=3\")*50+COUNTIF(#REF!,\"=8\")*20+COUNTIF(#REF!,\"=9\")*0)/COUNTA(#REF!)/100,\"N/A\")","v":{"$error":"#REF!"}},{"$f":"IF(COUNTA(#REF!)>0,(COUNTIF(#REF!,\"=0\")*0+COUNTIF(#REF!,\"=1\")*100+COUNTIF(#REF!,\"=2\")*80+COUNTIF(#REF!,\"=3\")*50+COUNTIF(#REF!,\"=8\")*20+COUNTIF(#REF!,\"=9\")*0)/COUNTA(#REF!)/100,\"N/A\")","v":{"$error":"#REF!"}},{"$f":"IF(AND(COUNTA(B271:V271)<>0,#REF!<>\"\"),AVERAGE(W271:AC271),\"N/A\")","v":{"$error":"#REF!"}},1,1,1,1,1,{"$error":"#REF!"},{"$error":"#REF!"},{"$error":"#REF!"}]
[{"$nulls":22},"N/A","N/A","N/A","N/A","N/A",{"$f":"IF(COUNTA(#REF!)>0,(COUNTIF(#REF!,\"=0\")*0+COUNTIF(#REF!,\"=1\")*100+COUNTIF(#REF!,\"=2\")*80+COUNTIF(#REF!,\"=3\")*50+COUNTIF(#REF!,\"=8\")*20+COUNTIF(#REF!,\"=9\")*0)/COUNTA(#REF!)/100,\"N/A\")","v":{"$error":"#REF!"}},{"$f":"IF(COUNTA(#REF!)>0,(COUNTIF(#REF!,\"=0\")*0+COUNTIF(#REF!,\"=1\")*100+COUNTIF(#REF!,\"=2\")*80+COUNTIF(#REF!,\"=3\")*50+COUNTIF(#REF!,\"=8\")*20+COUNTIF(#REF!,\"=9\")*0)/COUNTA(#REF!)/100,\"N/A\")","v":{"$error":"#REF!"}},{"$f":"IF(AND(COUNTA(B272:V272)<>0,#REF!<>\"\"),AVERAGE(W272:AC272),\"N/A\")","v":{"$error":"#REF!"}},1,1,1,1,1,{"$error":"#REF!"},{"$error":"#REF!"},{"$error":"#REF!"}]
[{"$nulls":22},"N/A","N/A","N/A","N/A","N/A",{"$f":"IF(COUNTA(#REF!)>0,(COUNTIF(#REF!,\"=0\")*0+COUNTIF(#REF!,\"=1\")*100+COUNTIF(#REF!,\"=2\")*80+COUNTIF(#REF!,\"=3\")*50+COUNTIF(#REF!,\"=8\")*20+COUNTIF(#REF!,\"=9\")*0)/COUNTA(#REF!)/100,\"N/A\")","v":{"$error":"#REF!"}},{"$f":"IF(COUNTA(#REF!)>0,(COUNTIF(#REF!,\"=0\")*0+COUNTIF(#REF!,\"=1\")*100+COUNTIF(#REF!,\"=2\")*80+COUNTIF(#REF!,\"=3\")*50+COUNTIF(#REF!,\"=8\")*20+COUNTIF(#REF!,\"=9\")*0)/COUNTA(#REF!)/100,\"N/A\")","v":{"$error":"#REF!"}},{"$f":"IF(AND(COUNTA(B273:V273)<>0,#REF!<>\"\"),AVERAGE(W273:AC273),\"N/A\")","v":{"$error":"#REF!"}},1,1,1,1,1,{"$error":"#REF!"},{"$error":"#REF!"},{"$error":"#REF!"}]
[{"$nulls":22},"N/A","N/A","N/A","N/A","N/A",{"$f":"IF(COUNTA(#REF!)>0,(COUNTIF(#REF!,\"=0\")*0+COUNTIF(#REF!,\"=1\")*100+COUNTIF(#REF!,\"=2\")*80+COUNTIF(#REF!,\"=3\")*50+COUNTIF(#REF!,\"=8\")*20+COUNTIF(#REF!,\"=9\")*0)/COUNTA(#REF!)/100,\"N/A\")","v":{"$error":"#REF!"}},{"$f":"IF(COUNTA(#REF!)>0,(COUNTIF(#REF!,\"=0\")*0+COUNTIF(#REF!,\"=1\")*100+COUNTIF(#REF!,\"=2\")*80+COUNTIF(#REF!,\"=3\")*50+COUNTIF(#REF!,\"=8\")*20+COUNTIF(#REF!,\"=9\")*0)/COUNTA(#REF!)/100,\"N/A\")","v":{"$error":"#REF!"}},{"$f":"IF(AND(COUNTA(B274:V274)<>0,#REF!<>\"\"),AVERAGE(W274:AC274),\"N/A\")","v":{"$error":"#REF!"}},1,1,1,1,1,{"$error":"#REF!"},{"$error":"#REF!"},{"$error":"#REF!"}]
[{"$nulls":22},"N/A","N/A","N/A","N/A","N/A",{"$f":"IF(COUNTA(#REF!)>0,(COUNTIF(#REF!,\"=0\")*0+COUNTIF(#REF!,\"=1\")*100+COUNTIF(#REF!,\"=2\")*80+COUNTIF(#REF!,\"=3\")*50+COUNTIF(#REF!,\"=8\")*20+COUNTIF(#REF!,\"=9\")*0)/COUNTA(#REF!)/100,\"N/A\")","v":{"$error":"#REF!"}},{"$f":"IF(COUNTA(#REF!)>0,(COUNTIF(#REF!,\"=0\")*0+COUNTIF(#REF!,\"=1\")*100+COUNTIF(#REF!,\"=2\")*80+COUNTIF(#REF!,\"=3\")*50+COUNTIF(#REF!,\"=8\")*20+COUNTIF(#REF!,\"=9\")*0)/COUNTA(#REF!)/100,\"N/A\")","v":{"$error":"#REF!"}},{"$f":"IF(AND(COUNTA(B275:V275)<>0,#REF!<>\"\"),AVERAGE(W275:AC275),\"N/A\")","v":{"$error":"#REF!"}},1,1,1,1,1,{"$error":"#REF!"},{"$error":"#REF!"},{"$error":"#REF!"}]
[{"$nulls":22},"N/A","N/A","N/A","N/A","N/A",{"$f":"IF(COUNTA(#REF!)>0,(COUNTIF(#REF!,\"=0\")*0+COUNTIF(#REF!,\"=1\")*100+COUNTIF(#REF!,\"=2\")*80+COUNTIF(#REF!,\"=3\")*50+COUNTIF(#REF!,\"=8\")*20+COUNTIF(#REF!,\"=9\")*0)/COUNTA(#REF!)/100,\"N/A\")","v":{"$error":"#REF!"}},{"$f":"IF(COUNTA(#REF!)>0,(COUNTIF(#REF!,\"=0\")*0+COUNTIF(#REF!,\"=1\")*100+COUNTIF(#REF!,\"=2\")*80+COUNTIF(#REF!,\"=3\")*50+COUNTIF(#REF!,\"=8\")*20+COUNTIF(#REF!,\"=9\")*0)/COUNTA(#REF!)/100,\"N/A\")","v":{"$error":"#REF!"}},{"$f":"IF(AND(COUNTA(B276:V276)<>0,#REF!<>\"\"),AVERAGE(W276:AC276),\"N/A\")","v":{"$error":"#REF!"}},1,1,1,1,1,{"$error":"#REF!"},{"$error":"#REF!"},{"$error":"#REF!"}]
[{"$nulls":22},"N/A","N/A","N/A","N/A","N/A",{"$f":"IF(COUNTA(#REF!)>0,(COUNTIF(#REF!,\"=0\")*0+COUNTIF(#REF!,\"=1\")*100+COUNTIF(#REF!,\"=2\")*80+COUNTIF(#REF!,\"=3\")*50+COUNTIF(#REF!,\"=8\")*20+COUNTIF(#REF!,\"=9\")*0)/COUNTA(#REF!)/100,\"N/A\")","v":{"$error":"#REF!"}},{"$f":"IF(COUNTA(#REF!)>0,(COUNTIF(#REF!,\"=0\")*0+COUNTIF(#REF!,\"=1\")*100+COUNTIF(#REF!,\"=2\")*80+COUNTIF(#REF!,\"=3\")*50+COUNTIF(#REF!,\"=8\")*20+COUNTIF(#REF!,\"=9\")*0)/COUNTA(#REF!)/100,\"N/A\")","v":{"$error":"#REF!"}},{"$f":"IF(AND(COUNTA(B277:V277)<>0,#REF!<>\"\"),AVERAGE(W277:AC277),\"N/A\")","v":{"$error":"#REF!"}},1,1,1,1,1,{"$error":"#REF!"},{"$error":"#REF!"},{"$error":"#REF!"}]
[{"$nulls":22},"N/A","N/A","N/A","N/A","N/A",{"$f":"IF(COUNTA(#REF!)>0,(COUNTIF(#REF!,\"=0\")*0+COUNTIF(#REF!,\"=1\")*100+COUNTIF(#REF!,\"=2\")*80+COUNTIF(#REF!,\"=3\")*50+COUNTIF(#REF!,\"=8\")*20+COUNTIF(#REF!,\"=9\")*0)/COUNTA(#REF!)/100,\"N/A\")","v":{"$error":"#REF!"}},{"$f":"IF(COUNTA(#REF!)>0,(COUNTIF(#REF!,\"=0\")*0+COUNTIF(#REF!,\"=1\")*100+COUNTIF(#REF!,\"=2\")*80+COUNTIF(#REF!,\"=3\")*50+COUNTIF(#REF!,\"=8\")*20+COUNTIF(#REF!,\"=9\")*0)/COUNTA(#REF!)/100,\"N/A\")","v":{"$error":"#REF!"}},{"$f":"IF(AND(COUNTA(B278:V278)<>0,#REF!<>\"\"),AVERAGE(W278:AC278),\"N/A\")","v":{"$error":"#REF!"}},1,1,1,1,1,{"$error":"#REF!"},{"$error":"#REF!"},{"$error":"#REF!"}]
[{"$nulls":22},"N/A","N/A","N/A","N/A","N/A",{"$f":"IF(COUNTA(#REF!)>0,(COUNTIF(#REF!,\"=0\")*0+COUNTIF(#REF!,\"=1\")*100+COUNTIF(#REF!,\"=2\")*80+COUNTIF(#REF!,\"=3\")*50+COUNTIF(#REF!,\"=8\")*20+COUNTIF(#REF!,\"=9\")*0)/COUNTA(#REF!)/100,\"N/A\")","v":{"$error":"#REF!"}},{"$f":"IF(COUNTA(#REF!)>0,(COUNTIF(#REF!,\"=0\")*0+COUNTIF(#REF!,\"=1\")*100+COUNTIF(#REF!,\"=2\")*80+COUNTIF(#REF!,\"=3\")*50+COUNTIF(#REF!,\"=8\")*20+COUNTIF(#REF!,\"=9\")*0)/COUNTA(#REF!)/100,\"N/A\")","v":{"$error":"#REF!"}},{"$f":"IF(AND(COUNTA(B279:V279)<>0,#REF!<>\"\"),AVERAGE(W279:AC279),\"N/A\")","v":{"$error":"#REF!"}},1,1,1,1,1,{"$error":"#REF!"},{"$error":"#REF!"},{"$error":"#REF!"}]
[{"$nulls":22},"N/A","N/A","N/A","N/A","N/A",{"$f":"IF(COUNTA(#REF!)>0,(COUNTIF(#REF!,\"=0\")*0+COUNTIF(#REF!,\"=1\")*100+COUNTIF(#REF!,\"=2\")*80+COUNTIF(#REF!,\"=3\")*50+COUNTIF(#REF!,\"=8\")*20+COUNTIF(#REF!,\"=9\")*0)/COUNTA(#REF!)/100,\"N/A\")","v":{"$error":"#REF!"}},{"$f":"IF(COUNTA(#REF!)>0,(COUNTIF(#REF!,\"=0\")*0+COUNTIF(#REF!,\"=1\")*100+COUNTIF(#REF!,\"=2\")*80+COUNTIF(#REF!,\"=3\")*50+COUNTIF(#REF!,\"=8\")*20+COUNTIF(#REF!,\"=9\")*0)/COUNTA(#REF!)/100,\"N/A\")","v":{"$error":"#REF!"}},{"$f":"IF(AND(COUNTA(B280:V280)<>0,#REF!<>\"\"),AVERAGE(W280:AC280),\"N/A\")","v":{"$error":"#REF!"}},1,1,1,1,1,{"$error":"#REF!"},{"$error":"#REF!"},{"$error":"#REF!"}]
[{"$nulls":22},"N/A","N/A","N/A","N/A","N/A",{"$f":"IF(COUNTA(#REF!)>0,(COUNTIF(#REF!,\"=0\")*0+COUNTIF(#REF!,\"=1\")*100+COUNTIF(#REF!,\"=2\")*80+COUNTIF(#REF!,\"=3\")*50+COUNTIF(#REF!,\"=8\")*20+COUNTIF(#REF!,\"=9\")*0)/COUNTA(#REF!)/100,\"N/A\")","v":{"$error":"#REF!"}},{"$f":"IF(COUNTA(#REF!)>0,(COUNTIF(#REF!,\"=0\")*0+COUNTIF(#REF!,\"=1\")*100+COUNTIF(#REF!,\"=2\")*80+COUNTIF(#REF!,\"=3\")*50+COUNTIF(#REF!,\"=8\")*20+COUNTIF(#REF!,\"=9\")*0)/COUNTA(#REF!)/100,\"N/A\")","v":{"$error":"#REF!"}},{"$f":"IF(AND(COUNTA(B281:V281)<>0,#REF!<>\"\"),AVERAGE(W281:AC281),\"N/A\")","v":{"$error":"#REF!"}},1,1,1,1,1,{"$error":"#REF!"},{"$error":"#REF!"},{"$f":"IF(AD281=\"N/A\",1,\"\")","v":{"$error":"#REF!"}}]
[{"$nulls":22},"N/A","N/A","N/A","N/A","N/A",{"$f":"IF(COUNTA(#REF!)>0,(COUNTIF(#REF!,\"=0\")*0+COUNTIF(#REF!,\"=1\")*100+COUNTIF(#REF!,\"=2\")*80+COUNTIF(#REF!,\"=3\")*50+COUNTIF(#REF!,\"=8\")*20+COUNTIF(#REF!,\"=9\")*0)/COUNTA(#REF!)/100,\"N/A\")","v":{"$error":"#REF!"}},{"$f":"IF(COUNTA(#REF!)>0,(COUNTIF(#REF!,\"=0\")*0+COUNTIF(#REF!,\"=1\")*100+COUNTIF(#REF!,\"=2\")*80+COUNTIF(#REF!,\"=3\")*50+COUNTIF(#REF!,\"=8\")*20+COUNTIF(#REF!,\"=9\")*0)/COUNTA(#REF!)/100,\"N/A\")","v":{"$error":"#REF!"}},{"$f":"IF(AND(COUNTA(B282:V282)<>0,#REF!<>\"\"),AVERAGE(W282:AC282),\"N/A\")","v":{"$error":"#REF!"}},{"$f":"IF(W282=\"N/A\",1,\"\")","v":1},1,1,1,1,{"$error":"#REF!"},{"$error":"#REF!"},{"$error":"#REF!"}]
[{"$nulls":22},"N/A","N/A","N/A","N/A","N/A",{"$f":"IF(COUNTA(#REF!)>0,(COUNTIF(#REF!,\"=0\")*0+COUNTIF(#REF!,\"=1\")*100+COUNTIF(#REF!,\"=2\")*80+COUNTIF(#REF!,\"=3\")*50+COUNTIF(#REF!,\"=8\")*20+COUNTIF(#REF!,\"=9\")*0)/COUNTA(#REF!)/100,\"N/A\")","v":{"$error":"#REF!"}},{"$f":"IF(COUNTA(#REF!)>0,(COUNTIF(#REF!,\"=0\")*0+COUNTIF(#REF!,\"=1\")*100+COUNTIF(#REF!,\"=2\")*80+COUNTIF(#REF!,\"=3\")*50+COUNTIF(#REF!,\"=8\")*20+COUNTIF(#REF!,\"=9\")*0)/COUNTA(#REF!)/100,\"N/A\")","v":{"$error":"#REF!"}},{"$f":"IF(AND(COUNTA(B283:V283)<>0,#REF!<>\"\"),AVERAGE(W283:AC283),\"N/A\")","v":{"$error":"#REF!"}},1,1,1,1,1,{"$error":"#REF!"},{"$error":"#REF!"},{"$error":"#REF!"}]
[{"$nulls":22},"N/A","N/A","N/A","N/A","N/A",{"$f":"IF(COUNTA(#REF!)>0,(COUNTIF(#REF!,\"=0\")*0+COUNTIF(#REF!,\"=1\")*100+COUNTIF(#REF!,\"=2\")*80+COUNTIF(#REF!,\"=3\")*50+COUNTIF(#REF!,\"=8\")*20+COUNTIF(#REF!,\"=9\")*0)/COUNTA(#REF!)/100,\"N/A\")","v":{"$error":"#REF!"}},{"$f":"IF(COUNTA(#REF!)>0,(COUNTIF(#REF!,\"=0\")*0+COUNTIF(#REF!,\"=1\")*100+COUNTIF(#REF!,\"=2\")*80+COUNTIF(#REF!,\"=3\")*50+COUNTIF(#REF!,\"=8\")*20+COUNTIF(#REF!,\"=9\")*0)/COUNTA(#REF!)/100,\"N/A\")","v":{"$error":"#REF!"}},{"$f":"IF(AND(COUNTA(B284:V284)<>0,#REF!<>\"\"),AVERAGE(W284:AC284),\"N/A\")","v":{"$error":"#REF!"}},1,1,1,1,1,{"$error":"#REF!"},{"$error":"#REF!"},{"$error":"#REF!"}]
[{"$nulls":22},"N/A","N/A","N/A","N/A","N/A",{"$f":"IF(COUNTA(#REF!)>0,(COUNTIF(#REF!,\"=0\")*0+COUNTIF(#REF!,\"=1\")*100+COUNTIF(#REF!,\"=2\")*80+COUNTIF(#REF!,\"=3\")*50+COUNTIF(#REF!,\"=8\")*20+COUNTIF(#REF!,\"=9\")*0)/COUNTA(#REF!)/100,\"N/A\")","v":{"$error":"#REF!"}},{"$f":"IF(COUNTA(#REF!)>0,(COUNTIF(#REF!,\"=0\")*0+COUNTIF(#REF!,\"=1\")*100+COUNTIF(#REF!,\"=2\")*80+COUNTIF(#REF!,\"=3\")*50+COUNTIF(#REF!,\"=8\")*20+COUNTIF(#REF!,\"=9\")*0)/COUNTA(#REF!)/100,\"N/A\")","v":{"$error":"#REF!"}},{"$f":"IF(AND(COUNTA(B285:V285)<>0,#REF!<>\"\"),AVERAGE(W285:AC285),\"N/A\")","v":{"$error":"#REF!"}},1,1,1,1,1,{"$error":"#REF!"},{"$error":"#REF!"},{"$error":"#REF!"}]
[{"$nulls":22},"N/A","N/A","N/A","N/A","N/A",{"$f":"IF(COUNTA(#REF!)>0,(COUNTIF(#REF!,\"=0\")*0+COUNTIF(#REF!,\"=1\")*100+COUNTIF(#REF!,\"=2\")*80+COUNTIF(#REF!,\"=3\")*50+COUNTIF(#REF!,\"=8\")*20+COUNTIF(#REF!,\"=9\")*0)/COUNTA(#REF!)/100,\"N/A\")","v":{"$error":"#REF!"}},{"$f":"IF(COUNTA(#REF!)>0,(COUNTIF(#REF!,\"=0\")*0+COUNTIF(#REF!,\"=1\")*100+COUNTIF(#REF!,\"=2\")*80+COUNTIF(#REF!,\"=3\")*50+COUNTIF(#REF!,\"=8\")*20+COUNTIF(#REF!,\"=9\")*0)/COUNTA(#REF!)/100,\"N/A\")","v":{"$error":"#REF!"}},{"$f":"IF(AND(COUNTA(B286:V286)<>0,#REF!<>\"\"),AVERAGE(W286:AC286),\"N/A\")","v":{"$error":"#REF!"}},1,1,1,1,1,{"$error":"#REF!"},{"$error":"#REF!"},{"$error":"#REF!"}]
[{"$nulls":22},"N/A","N/A","N/A","N/A","N/A",{"$f":"IF(COUNTA(#REF!)>0,(COUNTIF(#REF!,\"=0\")*0+COUNTIF(#REF!,\"=1\")*100+COUNTIF(#REF!,\"=2\")*80+COUNTIF(#REF!,\"=3\")*50+COUNTIF(#REF!,\"=8\")*20+COUNTIF(#REF!,\"=9\")*0)/COUNTA(#REF!)/100,\"N/A\")","v":{"$error":"#REF!"}},{"$f":"IF(COUNTA(#REF!)>0,(COUNTIF(#REF!,\"=0\")*0+COUNTIF(#REF!,\"=1\")*100+COUNTIF(#REF!,\"=2\")*80+COUNTIF(#REF!,\"=3\")*50+COUNTIF(#REF!,\"=8\")*20+COUNTIF(#REF!,\"=9\")*0)/COUNTA(#REF!)/100,\"N/A\")","v":{"$error":"#REF!"}},{"$f":"IF(AND(COUNTA(B287:V287)<>0,#REF!<>\"\"),AVERAGE(W287:AC287),\"N/A\")","v":{"$error":"#REF!"}},1,1,1,1,1,{"$error":"#REF!"},{"$error":"#REF!"},{"$error":"#REF!"}]
[{"$nulls":22},"N/A","N/A","N/A","N/A","N/A",{"$f":"IF(COUNTA(#REF!)>0,(COUNTIF(#REF!,\"=0\")*0+COUNTIF(#REF!,\"=1\")*100+COUNTIF(#REF!,\"=2\")*80+COUNTIF(#REF!,\"=3\")*50+COUNTIF(#REF!,\"=8\")*20+COUNTIF(#REF!,\"=9\")*0)/COUNTA(#REF!)/100,\"N/A\")","v":{"$error":"#REF!"}},{"$f":"IF(COUNTA(#REF!)>0,(COUNTIF(#REF!,\"=0\")*0+COUNTIF(#REF!,\"=1\")*100+COUNTIF(#REF!,\"=2\")*80+COUNTIF(#REF!,\"=3\")*50+COUNTIF(#REF!,\"=8\")*20+COUNTIF(#REF!,\"=9\")*0)/COUNTA(#REF!)/100,\"N/A\")","v":{"$error":"#REF!"}},{"$f":"IF(AND(COUNTA(B288:V288)<>0,#REF!<>\"\"),AVERAGE(W288:AC288),\"N/A\")","v":{"$error":"#REF!"}},1,1,1,1,1,{"$error":"#REF!"},{"$error":"#REF!"},{"$error":"#REF!"}]
[{"$nulls":22},"N/A","N/A","N/A","N/A","N/A",{"$f":"IF(COUNTA(#REF!)>0,(COUNTIF(#REF!,\"=0\")*0+COUNTIF(#REF!,\"=1\")*100+COUNTIF(#REF!,\"=2\")*80+COUNTIF(#REF!,\"=3\")*50+COUNTIF(#REF!,\"=8\")*20+COUNTIF(#REF!,\"=9\")*0)/COUNTA(#REF!)/100,\"N/A\")","v":{"$error":"#REF!"}},{"$f":"IF(COUNTA(#REF!)>0,(COUNTIF(#REF!,\"=0\")*0+COUNTIF(#REF!,\"=1\")*100+COUNTIF(#REF!,\"=2\")*80+COUNTIF(#REF!,\"=3\")*50+COUNTIF(#REF!,\"=8\")*20+COUNTIF(#REF!,\"=9\")*0)/COUNTA(#REF!)/100,\"N/A\")","v":{"$error":"#REF!"}},{"$f":"IF(AND(COUNTA(B289:V289)<>0,#REF!<>\"\"),AVERAGE(W289:AC289),\"N/A\")","v":{"$error":"#REF!"}},1,1,1,1,1,{"$error":"#REF!"},{"$error":"#REF!"},{"$error":"#REF!"}]
[{"$nulls":22},"N/A","N/A","N/A","N/A","N/A",{"$f":"IF(COUNTA(#REF!)>0,(COUNTIF(#REF!,\"=0\")*0+COUNTIF(#REF!,\"=1\")*100+COUNTIF(#REF!,\"=2\")*80+COUNTIF(#REF!,\"=3\")*50+COUNTIF(#REF!,\"=8\")*20+COUNTIF(#REF!,\"=9\")*0)/COUNTA(#REF!)/100,\"N/A\")","v":{"$error":"#REF!"}},{"$f":"IF(COUNTA(#REF!)>0,(COUNTIF(#REF!,\"=0\")*0+COUNTIF(#REF!,\"=1\")*100+COUNTIF(#REF!,\"=2\")*80+COUNTIF(#REF!,\"=3\")*50+COUNTIF(#REF!,\"=8\")*20+COUNTIF(#REF!,\"=9\")*0)/COUNTA(#REF!)/100,\"N/A\")","v":{"$error":"#REF!"}},{"$f":"IF(AND(COUNTA(B290:V290)<>0,#REF!<>\"\"),AVERAGE(W290:AC290),\"N/A\")","v":{"$error":"#REF!"}},1,1,1,1,1,{"$error":"#REF!"},{"$error":"#REF!"},{"$error":"#REF!"}]
[{"$nulls":22},"N/A","N/A","N/A","N/A","N/A",{"$f":"IF(COUNTA(#REF!)>0,(COUNTIF(#REF!,\"=0\")*0+COUNTIF(#REF!,\"=1\")*100+COUNTIF(#REF!,\"=2\")*80+COUNTIF(#REF!,\"=3\")*50+COUNTIF(#REF!,\"=8\")*20+COUNTIF(#REF!,\"=9\")*0)/COUNTA(#REF!)/100,\"N/A\")","v":{"$error":"#REF!"}},{"$f":"IF(COUNTA(#REF!)>0,(COUNTIF(#REF!,\"=0\")*0+COUNTIF(#REF!,\"=1\")*100+COUNTIF(#REF!,\"=2\")*80+COUNTIF(#REF!,\"=3\")*50+COUNTIF(#REF!,\"=8\")*20+COUNTIF(#REF!,\"=9\")*0)/COUNTA(#REF!)/100,\"N/A\")","v":{"$error":"#REF!"}},{"$f":"IF(AND(COUNTA(B291:V291)<>0,#REF!<>\"\"),AVERAGE(W291:AC291),\"N/A\")","v":{"$error":"#REF!"}},1,1,1,1,1,{"$error":"#REF!"},{"$error":"#REF!"},{"$error":"#REF!"}]
[{"$nulls":22},"N/A","N/A","N/A","N/A","N/A",{"$f":"IF(COUNTA(#REF!)>0,(COUNTIF(#REF!,\"=0\")*0+COUNTIF(#REF!,\"=1\")*100+COUNTIF(#REF!,\"=2\")*80+COUNTIF(#REF!,\"=3\")*50+COUNTIF(#REF!,\"=8\")*20+COUNTIF(#REF!,\"=9\")*0)/COUNTA(#REF!)/100,\"N/A\")","v":{"$error":"#REF!"}},{"$f":"IF(COUNTA(#REF!)>0,(COUNTIF(#REF!,\"=0\")*0+COUNTIF(#REF!,\"=1\")*100+COUNTIF(#REF!,\"=2\")*80+COUNTIF(#REF!,\"=3\")*50+COUNTIF(#REF!,\"=8\")*20+COUNTIF(#REF!,\"=9\")*0)/COUNTA(#REF!)/100,\"N/A\")","v":{"$error":"#REF!"}},{"$f":"IF(AND(COUNTA(B292:V292)<>0,#REF!<>\"\"),AVERAGE(W292:AC292),\"N/A\")","v":{"$error":"#REF!"}},1,1,1,1,1,{"$error":"#REF!"},{"$error":"#REF!"},{"$error":"#REF!"}]
[{"$nulls":22},"N/A","N/A","N/A","N/A","N/A",{"$f":"IF(COUNTA(#REF!)>0,(COUNTIF(#REF!,\"=0\")*0+COUNTIF(#REF!,\"=1\")*100+COUNTIF(#REF!,\"=2\")*80+COUNTIF(#REF!,\"=3\")*50+COUNTIF(#REF!,\"=8\")*20+COUNTIF(#REF!,\"=9\")*0)/COUNTA(#REF!)/100,\"N/A\")","v":{"$error":"#REF!"}},{"$f":"IF(COUNTA(#REF!)>0,(COUNTIF(#REF!,\"=0\")*0+COUNTIF(#REF!,\"=1\")*100+COUNTIF(#REF!,\"=2\")*80+COUNTIF(#REF!,\"=3\")*50+COUNTIF(#REF!,\"=8\")*20+COUNTIF(#REF!,\"=9\")*0)/COUNTA(#REF!)/100,\"N/A\")","v":{"$error":"#REF!"}},{"$f":"IF(AND(COUNTA(B293:V293)<>0,#REF!<>\"\"),AVERAGE(W293:AC293),\"N/A\")","v":{"$error":"#REF!"}},1,1,1,1,1,{"$error":"#REF!"},{"$error":"#REF!"},{"$error":"#REF!"}]
[{"$nulls":22},"N/A","N/A","N/A","N/A","N/A",{"$f":"IF(COUNTA(#REF!)>0,(COUNTIF(#REF!,\"=0\")*0+COUNTIF(#REF!,\"=1\")*100+COUNTIF(#REF!,\"=2\")*80+COUNTIF(#REF!,\"=3\")*50+COUNTIF(#REF!,\"=8\")*20+COUNTIF(#REF!,\"=9\")*0)/COUNTA(#REF!)/100,\"N/A\")","v":{"$error":"#REF!"}},{"$f":"IF(COUNTA(#REF!)>0,(COUNTIF(#REF!,\"=0\")*0+COUNTIF(#REF!,\"=1\")*100+COUNTIF(#REF!,\"=2\")*80+COUNTIF(#REF!,\"=3\")*50+COUNTIF(#REF!,\"=8\")*20+COUNTIF(#REF!,\"=9\")*0)/COUNTA(#REF!)/100,\"N/A\")","v":{"$error":"#REF!"}},{"$f":"IF(AND(COUNTA(B294:V294)<>0,#REF!<>\"\"),AVERAGE(W294:AC294),\"N/A\")","v":{"$error":"#REF!"}},1,1,1,1,1,{"$error":"#REF!"},{"$error":"#REF!"},{"$error":"#REF!"}]
[{"$nulls":22},"N/A","N/A","N/A","N/A","N/A",{"$f":"IF(COUNTA(#REF!)>0,(COUNTIF(#REF!,\"=0\")*0+COUNTIF(#REF!,\"=1\")*100+COUNTIF(#REF!,\"=2\")*80+COUNTIF(#REF!,\"=3\")*50+COUNTIF(#REF!,\"=8\")*20+COUNTIF(#REF!,\"=9\")*0)/COUNTA(#REF!)/100,\"N/A\")","v":{"$error":"#REF!"}},{"$f":"IF(COUNTA(#REF!)>0,(COUNTIF(#REF!,\"=0\")*0+COUNTIF(#REF!,\"=1\")*100+COUNTIF(#REF!,\"=2\")*80+COUNTIF(#REF!,\"=3\")*50+COUNTIF(#REF!,\"=8\")*20+COUNTIF(#REF!,\"=9\")*0)/COUNTA(#REF!)/100,\"N/A\")","v":{"$error":"#REF!"}},{"$f":"IF(AND(COUNTA(B295:V295)<>0,#REF!<>\"\"),AVERAGE(W295:AC295),\"N/A\")","v":{"$error":"#REF!"}},1,1,1,1,1,{"$error":"#REF!"},{"$error":"#REF!"},{"$error":"#REF!"}]
[{"$nulls":22},"N/A","N/A","N/A","N/A","N/A",{"$f":"IF(COUNTA(#REF!)>0,(COUNTIF(#REF!,\"=0\")*0+COUNTIF(#REF!,\"=1\")*100+COUNTIF(#REF!,\"=2\")*80+COUNTIF(#REF!,\"=3\")*50+COUNTIF(#REF!,\"=8\")*20+COUNTIF(#REF!,\"=9\")*0)/COUNTA(#REF!)/100,\"N/A\")","v":{"$error":"#REF!"}},{"$f":"IF(COUNTA(#REF!)>0,(COUNTIF(#REF!,\"=0\")*0+COUNTIF(#REF!,\"=1\")*100+COUNTIF(#REF!,\"=2\")*80+COUNTIF(#REF!,\"=3\")*50+COUNTIF(#REF!,\"=8\")*20+COUNTIF(#REF!,\"=9\")*0)/COUNTA(#REF!)/100,\"N/A\")","v":{"$error":"#REF!"}},{"$f":"IF(AND(COUNTA(B296:V296)<>0,#REF!<>\"\"),AVERAGE(W296:AC296),\"N/A\")","v":{"$error":"#REF!"}},1,1,1,1,1,{"$error":"#REF!"},{"$error":"#REF!"},{"$error":"#REF!"}]
[{"$nulls":22},"N/A","N/A","N/A","N/A","N/A",{"$f":"IF(COUNTA(#REF!)>0,(COUNTIF(#REF!,\"=0\")*0+COUNTIF(#REF!,\"=1\")*100+COUNTIF(#REF!,\"=2\")*80+COUNTIF(#REF!,\"=3\")*50+COUNTIF(#REF!,\"=8\")*20+COUNTIF(#REF!,\"=9\")*0)/COUNTA(#REF!)/100,\"N/A\")","v":{"$error":"#REF!"}},{"$f":"IF(COUNTA(#REF!)>0,(COUNTIF(#REF!,\"=0\")*0+COUNTIF(#REF!,\"=1\")*100+COUNTIF(#REF!,\"=2\")*80+COUNTIF(#REF!,\"=3\")*50+COUNTIF(#REF!,\"=8\")*20+COUNTIF(#REF!,\"=9\")*0)/COUNTA(#REF!)/100,\"N/A\")","v":{"$error":"#REF!"}},{"$f":"IF(AND(COUNTA(B297:V297)<>0,#REF!<>\"\"),AVERAGE(W297:AC297),\"N/A\")","v":{"$error":"#REF!"}},1,1,1,1,1,{"$error":"#REF!"},{"$error":"#REF!"},{"$error":"#REF!"}]
[{"$nulls":22},"N/A","N/A","N/A","N/A","N/A",{"$f":"IF(COUNTA(#REF!)>0,(COUNTIF(#REF!,\"=0\")*0+COUNTIF(#REF!,\"=1\")*100+COUNTIF(#REF!,\"=2\")*80+COUNTIF(#REF!,\"=3\")*50+COUNTIF(#REF!,\"=8\")*20+COUNTIF(#REF!,\"=9\")*0)/COUNTA(#REF!)/100,\"N/A\")","v":{"$error":"#REF!"}},{"$f":"IF(COUNTA(#REF!)>0,(COUNTIF(#REF!,\"=0\")*0+COUNTIF(#REF!,\"=1\")*100+COUNTIF(#REF!,\"=2\")*80+COUNTIF(#REF!,\"=3\")*50+COUNTIF(#REF!,\"=8\")*20+COUNTIF(#REF!,\"=9\")*0)/COUNTA(#REF!)/100,\"N/A\")","v":{"$error":"#REF!"}},{"$f":"IF(AND(COUNTA(B298:V298)<>0,#REF!<>\"\"),AVERAGE(W298:AC298),\"N/A\")","v":{"$error":"#REF!"}},1,1,1,1,1,{"$error":"#REF!"},{"$error":"#REF!"},{"$error":"#REF!"}]
[{"$nulls":22},"N/A","N/A","N/A","N/A","N/A",{"$f":"IF(COUNTA(#REF!)>0,(COUNTIF(#REF!,\"=0\")*0+COUNTIF(#REF!,\"=1\")*100+COUNTIF(#REF!,\"=2\")*80+COUNTIF(#REF!,\"=3\")*50+COUNTIF(#REF!,\"=8\")*20+COUNTIF(#REF!,\"=9\")*0)/COUNTA(#REF!)/100,\"N/A\")","v":{"$error":"#REF!"}},{"$f":"IF(COUNTA(#REF!)>0,(COUNTIF(#REF!,\"=0\")*0+COUNTIF(#REF!,\"=1\")*100+COUNTIF(#REF!,\"=2\")*80+COUNTIF(#REF!,\"=3\")*50+COUNTIF(#REF!,\"=8\")*20+COUNTIF(#REF!,\"=9\")*0)/COUNTA(#REF!)/100,\"N/A\")","v":{"$error":"#REF!"}},{"$f":"IF(AND(COUNTA(B299:V299)<>0,#REF!<>\"\"),AVERAGE(W299:AC299),\"N/A\")","v":{"$error":"#REF!"}},1,1,1,1,1,{"$error":"#REF!"},{"$error":"#REF!"},{"$error":"#REF!"}]
[{"$nulls":22},"N/A","N/A","N/A","N/A","N/A",{"$f":"IF(COUNTA(#REF!)>0,(COUNTIF(#REF!,\"=0\")*0+COUNTIF(#REF!,\"=1\")*100+COUNTIF(#REF!,\"=2\")*80+COUNTIF(#REF!,\"=3\")*50+COUNTIF(#REF!,\"=8\")*20+COUNTIF(#REF!,\"=9\")*0)/COUNTA(#REF!)/100,\"N/A\")","v":{"$error":"#REF!"}},{"$f":"IF(COUNTA(#REF!)>0,(COUNTIF(#REF!,\"=0\")*0+COUNTIF(#REF!,\"=1\")*100+COUNTIF(#REF!,\"=2\")*80+COUNTIF(#REF!,\"=3\")*50+COUNTIF(#REF!,\"=8\")*20+COUNTIF(#REF!,\"=9\")*0)/COUNTA(#REF!)/100,\"N/A\")","v":{"$error":"#REF!"}},{"$f":"IF(AND(COUNTA(B300:V300)<>0,#REF!<>\"\"),AVERAGE(W300:AC300),\"N/A\")","v":{"$error":"#REF!"}},1,1,1,1,1,{"$error":"#REF!"},{"$error":"#REF!"},{"$error":"#REF!"}]
[{"$nulls":22},"N/A","N/A","N/A","N/A","N/A",{"$f":"IF(COUNTA(#REF!)>0,(COUNTIF(#REF!,\"=0\")*0+COUNTIF(#REF!,\"=1\")*100+COUNTIF(#REF!,\"=2\")*80+COUNTIF(#REF!,\"=3\")*50+COUNTIF(#REF!,\"=8\")*20+COUNTIF(#REF!,\"=9\")*0)/COUNTA(#REF!)/100,\"N/A\")","v":{"$error":"#REF!"}},{"$f":"IF(COUNTA(#REF!)>0,(COUNTIF(#REF!,\"=0\")*0+COUNTIF(#REF!,\"=1\")*100+COUNTIF(#REF!,\"=2\")*80+COUNTIF(#REF!,\"=3\")*50+COUNTIF(#REF!,\"=8\")*20+COUNTIF(#REF!,\"=9\")*0)/COUNTA(#REF!)/100,\"N/A\")","v":{"$error":"#REF!"}},{"$f":"IF(AND(COUNTA(B301:V301)<>0,#REF!<>\"\"),AVERAGE(W301:AC301),\"N/A\")","v":{"$error":"#REF!"}},1,1,1,1,1,{"$error":"#REF!"},{"$error":"#REF!"},{"$error":"#REF!"}]
[{"$nulls":22},"N/A","N/A","N/A","N/A","N/A",{"$f":"IF(COUNTA(#REF!)>0,(COUNTIF(#REF!,\"=0\")*0+COUNTIF(#REF!,\"=1\")*100+COUNTIF(#REF!,\"=2\")*80+COUNTIF(#REF!,\"=3\")*50+COUNTIF(#REF!,\"=8\")*20+COUNTIF(#REF!,\"=9\")*0)/COUNTA(#REF!)/100,\"N/A\")","v":{"$error":"#REF!"}},{"$f":"IF(COUNTA(#REF!)>0,(COUNTIF(#REF!,\"=0\")*0+COUNTIF(#REF!,\"=1\")*100+COUNTIF(#REF!,\"=2\")*80+COUNTIF(#REF!,\"=3\")*50+COUNTIF(#REF!,\"=8\")*20+COUNTIF(#REF!,\"=9\")*0)/COUNTA(#REF!)/100,\"N/A\")","v":{"$error":"#REF!"}},{"$f":"IF(AND(COUNTA(B302:V302)<>0,#REF!<>\"\"),AVERAGE(W302:AC302),\"N/A\")","v":{"$error":"#REF!"}},1,1,1,1,1,{"$error":"#REF!"},{"$error":"#REF!"},{"$error":"#REF!"}]
[{"$nulls":22},"N/A","N/A","N/A","N/A","N/A",{"$f":"IF(COUNTA(#REF!)>0,(COUNTIF(#REF!,\"=0\")*0+COUNTIF(#REF!,\"=1\")*100+COUNTIF(#REF!,\"=2\")*80+COUNTIF(#REF!,\"=3\")*50+COUNTIF(#REF!,\"=8\")*20+COUNTIF(#REF!,\"=9\")*0)/COUNTA(#REF!)/100,\"N/A\")","v":{"$error":"#REF!"}},{"$f":"IF(COUNTA(#REF!)>0,(COUNTIF(#REF!,\"=0\")*0+COUNTIF(#REF!,\"=1\")*100+COUNTIF(#REF!,\"=2\")*80+COUNTIF(#REF!,\"=3\")*50+COUNTIF(#REF!,\"=8\")*20+COUNTIF(#REF!,\"=9\")*0)/COUNTA(#REF!)/100,\"N/A\")","v":{"$error":"#REF!"}},{"$f":"IF(AND(COUNTA(B303:V303)<>0,#REF!<>\"\"),AVERAGE(W303:AC303),\"N/A\")","v":{"$error":"#REF!"}},1,1,1,1,1,{"$error":"#REF!"},{"$error":"#REF!"},{"$error":"#REF!"}]
[{"$nulls":22},"N/A","N/A","N/A","N/A","N/A",{"$f":"IF(COUNTA(#REF!)>0,(COUNTIF(#REF!,\"=0\")*0+COUNTIF(#REF!,\"=1\")*100+COUNTIF(#REF!,\"=2\")*80+COUNTIF(#REF!,\"=3\")*50+COUNTIF(#REF!,\"=8\")*20+COUNTIF(#REF!,\"=9\")*0)/COUNTA(#REF!)/100,\"N/A\")","v":{"$error":"#REF!"}},{"$f":"IF(COUNTA(#REF!)>0,(COUNTIF(#REF!,\"=0\")*0+COUNTIF(#REF!,\"=1\")*100+COUNTIF(#REF!,\"=2\")*80+COUNTIF(#REF!,\"=3\")*50+COUNTIF(#REF!,\"=8\")*20+COUNTIF(#REF!,\"=9\")*0)/COUNTA(#REF!)/100,\"N/A\")","v":{"$error":"#REF!"}},{"$f":"IF(AND(COUNTA(B304:V304)<>0,#REF!<>\"\"),AVERAGE(W304:AC304),\"N/A\")","v":{"$error":"#REF!"}},1,1,1,1,1,{"$error":"#REF!"},{"$error":"#REF!"},{"$error":"#REF!"}]
[{"$nulls":22},"N/A","N/A","N/A","N/A","N/A",{"$f":"IF(COUNTA(#REF!)>0,(COUNTIF(#REF!,\"=0\")*0+COUNTIF(#REF!,\"=1\")*100+COUNTIF(#REF!,\"=2\")*80+COUNTIF(#REF!,\"=3\")*50+COUNTIF(#REF!,\"=8\")*20+COUNTIF(#REF!,\"=9\")*0)/COUNTA(#REF!)/100,\"N/A\")","v":{"$error":"#REF!"}},{"$f":"IF(COUNTA(#REF!)>0,(COUNTIF(#REF!,\"=0\")*0+COUNTIF(#REF!,\"=1\")*100+COUNTIF(#REF!,\"=2\")*80+COUNTIF(#REF!,\"=3\")*50+COUNTIF(#REF!,\"=8\")*20+COUNTIF(#REF!,\"=9\")*0)/COUNTA(#REF!)/100,\"N/A\")","v":{"$error":"#REF!"}},{"$f":"IF(AND(COUNTA(B305:V305)<>0,#REF!<>\"\"),AVERAGE(W305:AC305),\"N/A\")","v":{"$error":"#REF!"}},1,1,1,1,1,{"$error":"#REF!"},{"$error":"#REF!"},{"$error":"#REF!"}]
[{"$nulls":22},"N/A","N/A","N/A","N/A","N/A",{"$f":"IF(COUNTA(#REF!)>0,(COUNTIF(#REF!,\"=0\")*0+COUNTIF(#REF!,\"=1\")*100+COUNTIF(#REF!,\"=2\")*80+COUNTIF(#REF!,\"=3\")*50+COUNTIF(#REF!,\"=8\")*20+COUNTIF(#REF!,\"=9\")*0)/COUNTA(#REF!)/100,\"N/A\")","v":{"$error":"#REF!"}},{"$f":"IF(COUNTA(#REF!)>0,(COUNTIF(#REF!,\"=0\")*0+COUNTIF(#REF!,\"=1\")*100+COUNTIF(#REF!,\"=2\")*80+COUNTIF(#REF!,\"=3\")*50+COUNTIF(#REF!,\"=8\")*20+COUNTIF(#REF!,\"=9\")*0)/COUNTA(#REF!)/100,\"N/A\")","v":{"$error":"#REF!"}},{"$f":"IF(AND(COUNTA(B306:V306)<>0,#REF!<>\"\"),AVERAGE(W306:AC306),\"N/A\")","v":{"$error":"#REF!"}},1,1,1,1,1,{"$error":"#REF!"},{"$error":"#REF!"},{"$error":"#REF!"}]
[{"$nulls":22},"N/A","N/A","N/A","N/A","N/A",{"$f":"IF(COUNTA(#REF!)>0,(COUNTIF(#REF!,\"=0\")*0+COUNTIF(#REF!,\"=1\")*100+COUNTIF(#REF!,\"=2\")*80+COUNTIF(#REF!,\"=3\")*50+COUNTIF(#REF!,\"=8\")*20+COUNTIF(#REF!,\"=9\")*0)/COUNTA(#REF!)/100,\"N/A\")","v":{"$error":"#REF!"}},{"$f":"IF(COUNTA(#REF!)>0,(COUNTIF(#REF!,\"=0\")*0+COUNTIF(#REF!,\"=1\")*100+COUNTIF(#REF!,\"=2\")*80+COUNTIF(#REF!,\"=3\")*50+COUNTIF(#REF!,\"=8\")*20+COUNTIF(#REF!,\"=9\")*0)/COUNTA(#REF!)/100,\"N/A\")","v":{"$error":"#REF!"}},{"$f":"IF(AND(COUNTA(B307:V307)<>0,#REF!<>\"\"),AVERAGE(W307:AC307),\"N/A\")","v":{"$error":"#REF!"}},1,1,1,1,1,{"$error":"#REF!"},{"$error":"#REF!"},{"$error":"#REF!"}]
[{"$nulls":22},"N/A","N/A","N/A","N/A","N/A",{"$f":"IF(COUNTA(#REF!)>0,(COUNTIF(#REF!,\"=0\")*0+COUNTIF(#REF!,\"=1\")*100+COUNTIF(#REF!,\"=2\")*80+COUNTIF(#REF!,\"=3\")*50+COUNTIF(#REF!,\"=8\")*20+COUNTIF(#REF!,\"=9\")*0)/COUNTA(#REF!)/100,\"N/A\")","v":{"$error":"#REF!"}},{"$f":"IF(COUNTA(#REF!)>0,(COUNTIF(#REF!,\"=0\")*0+COUNTIF(#REF!,\"=1\")*100+COUNTIF(#REF!,\"=2\")*80+COUNTIF(#REF!,\"=3\")*50+COUNTIF(#REF!,\"=8\")*20+COUNTIF(#REF!,\"=9\")*0)/COUNTA(#REF!)/100,\"N/A\")","v":{"$error":"#REF!"}},{"$f":"IF(AND(COUNTA(B308:V308)<>0,#REF!<>\"\"),AVERAGE(W308:AC308),\"N/A\")","v":{"$error":"#REF!"}},1,1,1,1,1,{"$error":"#REF!"},{"$error":"#REF!"},{"$error":"#REF!"}]
[{"$nulls":22},"N/A","N/A","N/A","N/A","N/A",{"$f":"IF(COUNTA(#REF!)>0,(COUNTIF(#REF!,\"=0\")*0+COUNTIF(#REF!,\"=1\")*100+COUNTIF(#REF!,\"=2\")*80+COUNTIF(#REF!,\"=3\")*50+COUNTIF(#REF!,\"=8\")*20+COUNTIF(#REF!,\"=9\")*0)/COUNTA(#REF!)/100,\"N/A\")","v":{"$error":"#REF!"}},{"$f":"IF(COUNTA(#REF!)>0,(COUNTIF(#REF!,\"=0\")*0+COUNTIF(#REF!,\"=1\")*100+COUNTIF(#REF!,\"=2\")*80+COUNTIF(#REF!,\"=3\")*50+COUNTIF(#REF!,\"=8\")*20+COUNTIF(#REF!,\"=9\")*0)/COUNTA(#REF!)/100,\"N/A\")","v":{"$error":"#REF!"}},{"$f":"IF(AND(COUNTA(B309:V309)<>0,#REF!<>\"\"),AVERAGE(W309:AC309),\"N/A\")","v":{"$error":"#REF!"}},1,1,1,1,1,{"$error":"#REF!"},{"$error":"#REF!"},{"$error":"#REF!"}]
[{"$nulls":22},"N/A","N/A","N/A","N/A","N/A",{"$f":"IF(COUNTA(#REF!)>0,(COUNTIF(#REF!,\"=0\")*0+COUNTIF(#REF!,\"=1\")*100+COUNTIF(#REF!,\"=2\")*80+COUNTIF(#REF!,\"=3\")*50+COUNTIF(#REF!,\"=8\")*20+COUNTIF(#REF!,\"=9\")*0)/COUNTA(#REF!)/100,\"N/A\")","v":{"$error":"#REF!"}},{"$f":"IF(COUNTA(#REF!)>0,(COUNTIF(#REF!,\"=0\")*0+COUNTIF(#REF!,\"=1\")*100+COUNTIF(#REF!,\"=2\")*80+COUNTIF(#REF!,\"=3\")*50+COUNTIF(#REF!,\"=8\")*20+COUNTIF(#REF!,\"=9\")*0)/COUNTA(#REF!)/100,\"N/A\")","v":{"$error":"#REF!"}},{"$f":"IF(AND(COUNTA(B310:V310)<>0,#REF!<>\"\"),AVERAGE(W310:AC310),\"N/A\")","v":{"$error":"#REF!"}},1,1,1,1,1,{"$error":"#REF!"},{"$error":"#REF!"},{"$error":"#REF!"}]
[{"$nulls":22},"N/A","N/A","N/A","N/A","N/A",{"$f":"IF(COUNTA(#REF!)>0,(COUNTIF(#REF!,\"=0\")*0+COUNTIF(#REF!,\"=1\")*100+COUNTIF(#REF!,\"=2\")*80+COUNTIF(#REF!,\"=3\")*50+COUNTIF(#REF!,\"=8\")*20+COUNTIF(#REF!,\"=9\")*0)/COUNTA(#REF!)/100,\"N/A\")","v":{"$error":"#REF!"}},{"$f":"IF(COUNTA(#REF!)>0,(COUNTIF(#REF!,\"=0\")*0+COUNTIF(#REF!,\"=1\")*100+COUNTIF(#REF!,\"=2\")*80+COUNTIF(#REF!,\"=3\")*50+COUNTIF(#REF!,\"=8\")*20+COUNTIF(#REF!,\"=9\")*0)/COUNTA(#REF!)/100,\"N/A\")","v":{"$error":"#REF!"}},{"$f":"IF(AND(COUNTA(B311:V311)<>0,#REF!<>\"\"),AVERAGE(W311:AC311),\"N/A\")","v":{"$error":"#REF!"}},1,1,1,1,1,{"$error":"#REF!"},{"$error":"#REF!"},{"$error":"#REF!"}]
[{"$nulls":22},"N/A","N/A","N/A","N/A","N/A",{"$f":"IF(COUNTA(#REF!)>0,(COUNTIF(#REF!,\"=0\")*0+COUNTIF(#REF!,\"=1\")*100+COUNTIF(#REF!,\"=2\")*80+COUNTIF(#REF!,\"=3\")*50+COUNTIF(#REF!,\"=8\")*20+COUNTIF(#REF!,\"=9\")*0)/COUNTA(#REF!)/100,\"N/A\")","v":{"$error":"#REF!"}},{"$f":"IF(COUNTA(#REF!)>0,(COUNTIF(#REF!,\"=0\")*0+COUNTIF(#REF!,\"=1\")*100+COUNTIF(#REF!,\"=2\")*80+COUNTIF(#REF!,\"=3\")*50+COUNTIF(#REF!,\"=8\")*20+COUNTIF(#REF!,\"=9\")*0)/COUNTA(#REF!)/100,\"N/A\")","v":{"$error":"#REF!"}},{"$f":"IF(AND(COUNTA(B312:V312)<>0,#REF!<>\"\"),AVERAGE(W312:AC312),\"N/A\")","v":{"$error":"#REF!"}},1,1,1,1,1,{"$error":"#REF!"},{"$error":"#REF!"},{"$error":"#REF!"}]
[{"$nulls":22},"N/A","N/A","N/A","N/A","N/A",{"$f":"IF(COUNTA(#REF!)>0,(COUNTIF(#REF!,\"=0\")*0+COUNTIF(#REF!,\"=1\")*100+COUNTIF(#REF!,\"=2\")*80+COUNTIF(#REF!,\"=3\")*50+COUNTIF(#REF!,\"=8\")*20+COUNTIF(#REF!,\"=9\")*0)/COUNTA(#REF!)/100,\"N/A\")","v":{"$error":"#REF!"}},{"$f":"IF(COUNTA(#REF!)>0,(COUNTIF(#REF!,\"=0\")*0+COUNTIF(#REF!,\"=1\")*100+COUNTIF(#REF!,\"=2\")*80+COUNTIF(#REF!,\"=3\")*50+COUNTIF(#REF!,\"=8\")*20+COUNTIF(#REF!,\"=9\")*0)/COUNTA(#REF!)/100,\"N/A\")","v":{"$error":"#REF!"}},{"$f":"IF(AND(COUNTA(B313:V313)<>0,#REF!<>\"\"),AVERAGE(W313:AC313),\"N/A\")","v":{"$error":"#REF!"}},1,1,1,1,1,{"$error":"#REF!"},{"$error":"#REF!"},{"$error":"#REF!"}]
[{"$nulls":22},"N/A","N/A","N/A","N/A","N/A",{"$f":"IF(COUNTA(#REF!)>0,(COUNTIF(#REF!,\"=0\")*0+COUNTIF(#REF!,\"=1\")*100+COUNTIF(#REF!,\"=2\")*80+COUNTIF(#REF!,\"=3\")*50+COUNTIF(#REF!,\"=8\")*20+COUNTIF(#REF!,\"=9\")*0)/COUNTA(#REF!)/100,\"N/A\")","v":{"$error":"#REF!"}},{"$f":"IF(COUNTA(#REF!)>0,(COUNTIF(#REF!,\"=0\")*0+COUNTIF(#REF!,\"=1\")*100+COUNTIF(#REF!,\"=2\")*80+COUNTIF(#REF!,\"=3\")*50+COUNTIF(#REF!,\"=8\")*20+COUNTIF(#REF!,\"=9\")*0)/COUNTA(#REF!)/100,\"N/A\")","v":{"$error":"#REF!"}},{"$f":"IF(AND(COUNTA(B314:V314)<>0,#REF!<>\"\"),AVERAGE(W314:AC314),\"N/A\")","v":{"$error":"#REF!"}},1,1,1,1,1,{"$error":"#REF!"},{"$error":"#REF!"},{"$error":"#REF!"}]
[{"$nulls":22},"N/A","N/A","N/A","N/A","N/A",{"$f":"IF(COUNTA(#REF!)>0,(COUNTIF(#REF!,\"=0\")*0+COUNTIF(#REF!,\"=1\")*100+COUNTIF(#REF!,\"=2\")*80+COUNTIF(#REF!,\"=3\")*50+COUNTIF(#REF!,\"=8\")*20+COUNTIF(#REF!,\"=9\")*0)/COUNTA(#REF!)/100,\"N/A\")","v":{"$error":"#REF!"}},{"$f":"IF(COUNTA(#REF!)>0,(COUNTIF(#REF!,\"=0\")*0+COUNTIF(#REF!,\"=1\")*100+COUNTIF(#REF!,\"=2\")*80+COUNTIF(#REF!,\"=3\")*50+COUNTIF(#REF!,\"=8\")*20+COUNTIF(#REF!,\"=9\")*0)/COUNTA(#REF!)/100,\"N/A\")","v":{"$error":"#REF!"}},{"$f":"IF(AND(COUNTA(B315:V315)<>0,#REF!<>\"\"),AVERAGE(W315:AC315),\"N/A\")","v":{"$error":"#REF!"}},1,1,1,1,1,{"$error":"#REF!"},{"$error":"#REF!"},{"$error":"#REF!"}]
[{"$nulls":22},"N/A","N/A","N/A","N/A","N/A",{"$f":"IF(COUNTA(#REF!)>0,(COUNTIF(#REF!,\"=0\")*0+COUNTIF(#REF!,\"=1\")*100+COUNTIF(#REF!,\"=2\")*80+COUNTIF(#REF!,\"=3\")*50+COUNTIF(#REF!,\"=8\")*20+COUNTIF(#REF!,\"=9\")*0)/COUNTA(#REF!)/100,\"N/A\")","v":{"$error":"#REF!"}},{"$f":"IF(COUNTA(#REF!)>0,(COUNTIF(#REF!,\"=0\")*0+COUNTIF(#REF!,\"=1\")*100+COUNTIF(#REF!,\"=2\")*80+COUNTIF(#REF!,\"=3\")*50+COUNTIF(#REF!,\"=8\")*20+COUNTIF(#REF!,\"=9\")*0)/COUNTA(#REF!)/100,\"N/A\")","v":{"$error":"#REF!"}},{"$f":"IF(AND(COUNTA(B316:V316)<>0,#REF!<>\"\"),AVERAGE(W316:AC316),\"N/A\")","v":{"$error":"#REF!"}},1,1,1,1,1,{"$error":"#REF!"},{"$error":"#REF!"},{"$error":"#REF!"}]
[{"$nulls":22},"N/A","N/A","N/A","N/A","N/A",{"$f":"IF(COUNTA(#REF!)>0,(COUNTIF(#REF!,\"=0\")*0+COUNTIF(#REF!,\"=1\")*100+COUNTIF(#REF!,\"=2\")*80+COUNTIF(#REF!,\"=3\")*50+COUNTIF(#REF!,\"=8\")*20+COUNTIF(#REF!,\"=9\")*0)/COUNTA(#REF!)/100,\"N/A\")","v":{"$error":"#REF!"}},{"$f":"IF(COUNTA(#REF!)>0,(COUNTIF(#REF!,\"=0\")*0+COUNTIF(#REF!,\"=1\")*100+COUNTIF(#REF!,\"=2\")*80+COUNTIF(#REF!,\"=3\")*50+COUNTIF(#REF!,\"=8\")*20+COUNTIF(#REF!,\"=9\")*0)/COUNTA(#REF!)/100,\"N/A\")","v":{"$error":"#REF!"}},{"$f":"IF(AND(COUNTA(B317:V317)<>0,#REF!<>\"\"),AVERAGE(W317:AC317),\"N/A\")","v":{"$error":"#REF!"}},1,1,1,1,1,{"$error":"#REF!"},{"$error":"#REF!"},{"$error":"#REF!"}]
[{"$nulls":22},"N/A","N/A","N/A","N/A","N/A",{"$f":"IF(COUNTA(#REF!)>0,(COUNTIF(#REF!,\"=0\")*0+COUNTIF(#REF!,\"=1\")*100+COUNTIF(#REF!,\"=2\")*80+COUNTIF(#REF!,\"=3\")*50+COUNTIF(#REF!,\"=8\")*20+COUNTIF(#REF!,\"=9\")*0)/COUNTA(#REF!)/100,\"N/A\")","v":{"$error":"#REF!"}},{"$f":"IF(COUNTA(#REF!)>0,(COUNTIF(#REF!,\"=0\")*0+COUNTIF(#REF!,\"=1\")*100+COUNTIF(#REF!,\"=2\")*80+COUNTIF(#REF!,\"=3\")*50+COUNTIF(#REF!,\"=8\")*20+COUNTIF(#REF!,\"=9\")*0)/COUNTA(#REF!)/100,\"N/A\")","v":{"$error":"#REF!"}},{"$f":"IF(AND(COUNTA(B318:V318)<>0,#REF!<>\"\"),AVERAGE(W318:AC318),\"N/A\")","v":{"$error":"#REF!"}},1,1,1,{"$f":"IF(Z318=\"N/A\",1,\"\")","v":1},1,{"$error":"#REF!"},{"$error":"#REF!"},{"$error":"#REF!"}]
[{"$nulls":22},"N/A","N/A","N/A","N/A","N/A",{"$f":"IF(COUNTA(#REF!)>0,(COUNTIF(#REF!,\"=0\")*0+COUNTIF(#REF!,\"=1\")*100+COUNTIF(#REF!,\"=2\")*80+COUNTIF(#REF!,\"=3\")*50+COUNTIF(#REF!,\"=8\")*20+COUNTIF(#REF!,\"=9\")*0)/COUNTA(#REF!)/100,\"N/A\")","v":{"$error":"#REF!"}},{"$f":"IF(COUNTA(#REF!)>0,(COUNTIF(#REF!,\"=0\")*0+COUNTIF(#REF!,\"=1\")*100+COUNTIF(#REF!,\"=2\")*80+COUNTIF(#REF!,\"=3\")*50+COUNTIF(#REF!,\"=8\")*20+COUNTIF(#REF!,\"=9\")*0)/COUNTA(#REF!)/100,\"N/A\")","v":{"$error":"#REF!"}},{"$f":"IF(AND(COUNTA(B319:V319)<>0,#REF!<>\"\"),AVERAGE(W319:AC319),\"N/A\")","v":{"$error":"#REF!"}},{"$f":"IF(W319=\"N/A\",1,\"\")","v":1},1,1,1,1,{"$error":"#REF!"},{"$error":"#REF!"},{"$error":"#REF!"}]
[{"$nulls":22},"N/A","N/A","N/A","N/A","N/A",{"$f":"IF(COUNTA(#REF!)>0,(COUNTIF(#REF!,\"=0\")*0+COUNTIF(#REF!,\"=1\")*100+COUNTIF(#REF!,\"=2\")*80+COUNTIF(#REF!,\"=3\")*50+COUNTIF(#REF!,\"=8\")*20+COUNTIF(#REF!,\"=9\")*0)/COUNTA(#REF!)/100,\"N/A\")","v":{"$error":"#REF!"}},{"$f":"IF(COUNTA(#REF!)>0,(COUNTIF(#REF!,\"=0\")*0+COUNTIF(#REF!,\"=1\")*100+COUNTIF(#REF!,\"=2\")*80+COUNTIF(#REF!,\"=3\")*50+COUNTIF(#REF!,\"=8\")*20+COUNTIF(#REF!,\"=9\")*0)/COUNTA(#REF!)/100,\"N/A\")","v":{"$error":"#REF!"}},{"$f":"IF(AND(COUNTA(B320:V320)<>0,#REF!<>\"\"),AVERAGE(W320:AC320),\"N/A\")","v":{"$error":"#REF!"}},1,1,1,1,1,{"$error":"#REF!"},{"$error":"#REF!"},{"$error":"#REF!"}]
[{"$nulls":22},{"$f":"IF(COUNTA(B321:G321)>0,(COUNTIF(B321:G321,\"=0\")*0+COUNTIF(B321:G321,\"=1\")*100+COUNTIF(B321:G321,\"=2\")*80+COUNTIF(B321:G321,\"=3\")*50+COUNTIF(B321:G321,\"=8\")*20+COUNTIF(B321:G321,\"=9\")*0)/COUNTA(B321:G321)/100,\"N/A\")","v":"N/A"},{"$f":"IF(COUNTA(K321:O321)>0,(COUNTIF(K321:O321,\"=0\")*0+COUNTIF(K321:O321,\"=1\")*100+COUNTIF(K321:O321,\"=2\")*80+COUNTIF(K321:O321,\"=3\")*50+COUNTIF(K321:O321,\"=8\")*20+COUNTIF(K321:O321,\"=9\")*0)/COUNTA(K321:O321)/100,\"N/A\")","v":"N/A"},{"$f":"IF(COUNTA(P321)>0,(COUNTIF(P321,\"=0\")*0+COUNTIF(P321,\"=1\")*100+COUNTIF(P321,\"=2\")*80+COUNTIF(P321,\"=3\")*50+COUNTIF(P321,\"=8\")*20+COUNTIF(P321,\"=9\")*0)/COUNTA(P321)/100,\"N/A\")","v":"N/A"},"N/A","N/A",{"$f":"IF(COUNTA(#REF!)>0,(COUNTIF(#REF!,\"=0\")*0+COUNTIF(#REF!,\"=1\")*100+COUNTIF(#REF!,\"=2\")*80+COUNTIF(#REF!,\"=3\")*50+COUNTIF(#REF!,\"=8\")*20+COUNTIF(#REF!,\"=9\")*0)/COUNTA(#REF!)/100,\"N/A\")","v":{"$error":"#REF!"}},{"$f":"IF(COUNTA(#REF!)>0,(COUNTIF(#REF!,\"=0\")*0+COUNTIF(#REF!,\"=1\")*100+COUNTIF(#REF!,\"=2\")*80+COUNTIF(#REF!,\"=3\")*50+COUNTIF(#REF!,\"=8\")*20+COUNTIF(#REF!,\"=9\")*0)/COUNTA(#REF!)/100,\"N/A\")","v":{"$error":"#REF!"}},{"$f":"IF(AND(COUNTA(B321:V321)<>0,#REF!<>\"\"),AVERAGE(W321:AC321),\"N/A\")","v":{"$error":"#REF!"}},1,1,1,1,1,{"$error":"#REF!"},{"$error":"#REF!"},{"$error":"#REF!"}]
[{"$nulls":22},"N/A","N/A","N/A","N/A","N/A",{"$f":"IF(COUNTA(#REF!)>0,(COUNTIF(#REF!,\"=0\")*0+COUNTIF(#REF!,\"=1\")*100+COUNTIF(#REF!,\"=2\")*80+COUNTIF(#REF!,\"=3\")*50+COUNTIF(#REF!,\"=8\")*20+COUNTIF(#REF!,\"=9\")*0)/COUNTA(#REF!)/100,\"N/A\")","v":{"$error":"#REF!"}},{"$f":"IF(COUNTA(#REF!)>0,(COUNTIF(#REF!,\"=0\")*0+COUNTIF(#REF!,\"=1\")*100+COUNTIF(#REF!,\"=2\")*80+COUNTIF(#REF!,\"=3\")*50+COUNTIF(#REF!,\"=8\")*20+COUNTIF(#REF!,\"=9\")*0)/COUNTA(#REF!)/100,\"N/A\")","v":{"$error":"#REF!"}},{"$f":"IF(AND(COUNTA(B322:V322)<>0,#REF!<>\"\"),AVERAGE(W322:AC322),\"N/A\")","v":{"$error":"#REF!"}},1,1,1,1,1,{"$error":"#REF!"},{"$error":"#REF!"},{"$error":"#REF!"}]
[{"$nulls":22},"N/A","N/A","N/A","N/A","N/A",{"$f":"IF(COUNTA(#REF!)>0,(COUNTIF(#REF!,\"=0\")*0+COUNTIF(#REF!,\"=1\")*100+COUNTIF(#REF!,\"=2\")*80+COUNTIF(#REF!,\"=3\")*50+COUNTIF(#REF!,\"=8\")*20+COUNTIF(#REF!,\"=9\")*0)/COUNTA(#REF!)/100,\"N/A\")","v":{"$error":"#REF!"}},{"$f":"IF(COUNTA(#REF!)>0,(COUNTIF(#REF!,\"=0\")*0+COUNTIF(#REF!,\"=1\")*100+COUNTIF(#REF!,\"=2\")*80+COUNTIF(#REF!,\"=3\")*50+COUNTIF(#REF!,\"=8\")*20+COUNTIF(#REF!,\"=9\")*0)/COUNTA(#REF!)/100,\"N/A\")","v":{"$error":"#REF!"}},{"$f":"IF(AND(COUNTA(B323:V323)<>0,#REF!<>\"\"),AVERAGE(W323:AC323),\"N/A\")","v":{"$error":"#REF!"}},1,1,1,1,1,{"$error":"#REF!"},{"$error":"#REF!"},{"$error":"#REF!"}]
[{"$nulls":22},"N/A","N/A","N/A","N/A","N/A",{"$f":"IF(COUNTA(#REF!)>0,(COUNTIF(#REF!,\"=0\")*0+COUNTIF(#REF!,\"=1\")*100+COUNTIF(#REF!,\"=2\")*80+COUNTIF(#REF!,\"=3\")*50+COUNTIF(#REF!,\"=8\")*20+COUNTIF(#REF!,\"=9\")*0)/COUNTA(#REF!)/100,\"N/A\")","v":{"$error":"#REF!"}},{"$f":"IF(COUNTA(#REF!)>0,(COUNTIF(#REF!,\"=0\")*0+COUNTIF(#REF!,\"=1\")*100+COUNTIF(#REF!,\"=2\")*80+COUNTIF(#REF!,\"=3\")*50+COUNTIF(#REF!,\"=8\")*20+COUNTIF(#REF!,\"=9\")*0)/COUNTA(#REF!)/100,\"N/A\")","v":{"$error":"#REF!"}},{"$f":"IF(AND(COUNTA(B324:V324)<>0,#REF!<>\"\"),AVERAGE(W324:AC324),\"N/A\")","v":{"$error":"#REF!"}},1,1,1,1,1,{"$error":"#REF!"},{"$error":"#REF!"},{"$error":"#REF!"}]
[{"$nulls":22},"N/A","N/A","N/A","N/A","N/A",{"$f":"IF(COUNTA(#REF!)>0,(COUNTIF(#REF!,\"=0\")*0+COUNTIF(#REF!,\"=1\")*100+COUNTIF(#REF!,\"=2\")*80+COUNTIF(#REF!,\"=3\")*50+COUNTIF(#REF!,\"=8\")*20+COUNTIF(#REF!,\"=9\")*0)/COUNTA(#REF!)/100,\"N/A\")","v":{"$error":"#REF!"}},{"$f":"IF(COUNTA(#REF!)>0,(COUNTIF(#REF!,\"=0\")*0+COUNTIF(#REF!,\"=1\")*100+COUNTIF(#REF!,\"=2\")*80+COUNTIF(#REF!,\"=3\")*50+COUNTIF(#REF!,\"=8\")*20+COUNTIF(#REF!,\"=9\")*0)/COUNTA(#REF!)/100,\"N/A\")","v":{"$error":"#REF!"}},{"$f":"IF(AND(COUNTA(B325:V325)<>0,#REF!<>\"\"),AVERAGE(W325:AC325),\"N/A\")","v":{"$error":"#REF!"}},1,1,1,1,1,{"$error":"#REF!"},{"$error":"#REF!"},{"$error":"#REF!"}]
[{"$nulls":22},"N/A","N/A","N/A","N/A","N/A",{"$f":"IF(COUNTA(#REF!)>0,(COUNTIF(#REF!,\"=0\")*0+COUNTIF(#REF!,\"=1\")*100+COUNTIF(#REF!,\"=2\")*80+COUNTIF(#REF!,\"=3\")*50+COUNTIF(#REF!,\"=8\")*20+COUNTIF(#REF!,\"=9\")*0)/COUNTA(#REF!)/100,\"N/A\")","v":{"$error":"#REF!"}},{"$f":"IF(COUNTA(#REF!)>0,(COUNTIF(#REF!,\"=0\")*0+COUNTIF(#REF!,\"=1\")*100+COUNTIF(#REF!,\"=2\")*80+COUNTIF(#REF!,\"=3\")*50+COUNTIF(#REF!,\"=8\")*20+COUNTIF(#REF!,\"=9\")*0)/COUNTA(#REF!)/100,\"N/A\")","v":{"$error":"#REF!"}},{"$f":"IF(AND(COUNTA(B326:V326)<>0,#REF!<>\"\"),AVERAGE(W326:AC326),\"N/A\")","v":{"$error":"#REF!"}},1,1,1,1,1,{"$error":"#REF!"},{"$error":"#REF!"},{"$error":"#REF!"}]
[{"$nulls":22},"N/A","N/A","N/A","N/A","N/A",{"$f":"IF(COUNTA(#REF!)>0,(COUNTIF(#REF!,\"=0\")*0+COUNTIF(#REF!,\"=1\")*100+COUNTIF(#REF!,\"=2\")*80+COUNTIF(#REF!,\"=3\")*50+COUNTIF(#REF!,\"=8\")*20+COUNTIF(#REF!,\"=9\")*0)/COUNTA(#REF!)/100,\"N/A\")","v":{"$error":"#REF!"}},{"$f":"IF(COUNTA(#REF!)>0,(COUNTIF(#REF!,\"=0\")*0+COUNTIF(#REF!,\"=1\")*100+COUNTIF(#REF!,\"=2\")*80+COUNTIF(#REF!,\"=3\")*50+COUNTIF(#REF!,\"=8\")*20+COUNTIF(#REF!,\"=9\")*0)/COUNTA(#REF!)/100,\"N/A\")","v":{"$error":"#REF!"}},{"$f":"IF(AND(COUNTA(B327:V327)<>0,#REF!<>\"\"),AVERAGE(W327:AC327),\"N/A\")","v":{"$error":"#REF!"}},1,1,1,1,1,{"$error":"#REF!"},{"$error":"#REF!"},{"$error":"#REF!"}]
[{"$nulls":22},"N/A","N/A","N/A","N/A","N/A",{"$f":"IF(COUNTA(#REF!)>0,(COUNTIF(#REF!,\"=0\")*0+COUNTIF(#REF!,\"=1\")*100+COUNTIF(#REF!,\"=2\")*80+COUNTIF(#REF!,\"=3\")*50+COUNTIF(#REF!,\"=8\")*20+COUNTIF(#REF!,\"=9\")*0)/COUNTA(#REF!)/100,\"N/A\")","v":{"$error":"#REF!"}},{"$f":"IF(COUNTA(#REF!)>0,(COUNTIF(#REF!,\"=0\")*0+COUNTIF(#REF!,\"=1\")*100+COUNTIF(#REF!,\"=2\")*80+COUNTIF(#REF!,\"=3\")*50+COUNTIF(#REF!,\"=8\")*20+COUNTIF(#REF!,\"=9\")*0)/COUNTA(#REF!)/100,\"N/A\")","v":{"$error":"#REF!"}},{"$f":"IF(AND(COUNTA(B328:V328)<>0,#REF!<>\"\"),AVERAGE(W328:AC328),\"N/A\")","v":{"$error":"#REF!"}},1,1,1,1,1,{"$error":"#REF!"},{"$error":"#REF!"},{"$error":"#REF!"}]
[{"$nulls":22},"N/A","N/A","N/A","N/A","N/A",{"$f":"IF(COUNTA(#REF!)>0,(COUNTIF(#REF!,\"=0\")*0+COUNTIF(#REF!,\"=1\")*100+COUNTIF(#REF!,\"=2\")*80+COUNTIF(#REF!,\"=3\")*50+COUNTIF(#REF!,\"=8\")*20+COUNTIF(#REF!,\"=9\")*0)/COUNTA(#REF!)/100,\"N/A\")","v":{"$error":"#REF!"}},{"$f":"IF(COUNTA(#REF!)>0,(COUNTIF(#REF!,\"=0\")*0+COUNTIF(#REF!,\"=1\")*100+COUNTIF(#REF!,\"=2\")*80+COUNTIF(#REF!,\"=3\")*50+COUNTIF(#REF!,\"=8\")*20+COUNTIF(#REF!,\"=9\")*0)/COUNTA(#REF!)/100,\"N/A\")","v":{"$error":"#REF!"}},{"$f":"IF(AND(COUNTA(B329:V329)<>0,#REF!<>\"\"),AVERAGE(W329:AC329),\"N/A\")","v":{"$error":"#REF!"}},1,1,1,1,1,{"$error":"#REF!"},{"$error":"#REF!"},{"$error":"#REF!"}]
[{"$nulls":22},"N/A","N/A","N/A","N/A","N/A",{"$f":"IF(COUNTA(#REF!)>0,(COUNTIF(#REF!,\"=0\")*0+COUNTIF(#REF!,\"=1\")*100+COUNTIF(#REF!,\"=2\")*80+COUNTIF(#REF!,\"=3\")*50+COUNTIF(#REF!,\"=8\")*20+COUNTIF(#REF!,\"=9\")*0)/COUNTA(#REF!)/100,\"N/A\")","v":{"$error":"#REF!"}},{"$f":"IF(COUNTA(#REF!)>0,(COUNTIF(#REF!,\"=0\")*0+COUNTIF(#REF!,\"=1\")*100+COUNTIF(#REF!,\"=2\")*80+COUNTIF(#REF!,\"=3\")*50+COUNTIF(#REF!,\"=8\")*20+COUNTIF(#REF!,\"=9\")*0)/COUNTA(#REF!)/100,\"N/A\")","v":{"$error":"#REF!"}},{"$f":"IF(AND(COUNTA(B330:V330)<>0,#REF!<>\"\"),AVERAGE(W330:AC330),\"N/A\")","v":{"$error":"#REF!"}},1,1,1,1,1,{"$error":"#REF!"},{"$error":"#REF!"},{"$error":"#REF!"}]
[{"$nulls":22},"N/A","N/A","N/A","N/A","N/A",{"$f":"IF(COUNTA(#REF!)>0,(COUNTIF(#REF!,\"=0\")*0+COUNTIF(#REF!,\"=1\")*100+COUNTIF(#REF!,\"=2\")*80+COUNTIF(#REF!,\"=3\")*50+COUNTIF(#REF!,\"=8\")*20+COUNTIF(#REF!,\"=9\")*0)/COUNTA(#REF!)/100,\"N/A\")","v":{"$error":"#REF!"}},{"$f":"IF(COUNTA(#REF!)>0,(COUNTIF(#REF!,\"=0\")*0+COUNTIF(#REF!,\"=1\")*100+COUNTIF(#REF!,\"=2\")*80+COUNTIF(#REF!,\"=3\")*50+COUNTIF(#REF!,\"=8\")*20+COUNTIF(#REF!,\"=9\")*0)/COUNTA(#REF!)/100,\"N/A\")","v":{"$error":"#REF!"}},{"$f":"IF(AND(COUNTA(B331:V331)<>0,#REF!<>\"\"),AVERAGE(W331:AC331),\"N/A\")","v":{"$error":"#REF!"}},1,1,1,1,1,{"$error":"#REF!"},{"$error":"#REF!"},{"$error":"#REF!"}]
[{"$nulls":22},"N/A","N/A","N/A","N/A","N/A",{"$f":"IF(COUNTA(#REF!)>0,(COUNTIF(#REF!,\"=0\")*0+COUNTIF(#REF!,\"=1\")*100+COUNTIF(#REF!,\"=2\")*80+COUNTIF(#REF!,\"=3\")*50+COUNTIF(#REF!,\"=8\")*20+COUNTIF(#REF!,\"=9\")*0)/COUNTA(#REF!)/100,\"N/A\")","v":{"$error":"#REF!"}},{"$f":"IF(COUNTA(#REF!)>0,(COUNTIF(#REF!,\"=0\")*0+COUNTIF(#REF!,\"=1\")*100+COUNTIF(#REF!,\"=2\")*80+COUNTIF(#REF!,\"=3\")*50+COUNTIF(#REF!,\"=8\")*20+COUNTIF(#REF!,\"=9\")*0)/COUNTA(#REF!)/100,\"N/A\")","v":{"$error":"#REF!"}},{"$f":"IF(AND(COUNTA(B332:V332)<>0,#REF!<>\"\"),AVERAGE(W332:AC332),\"N/A\")","v":{"$error":"#REF!"}},1,1,1,1,1,{"$error":"#REF!"},{"$error":"#REF!"},{"$error":"#REF!"}]
[{"$nulls":22},"N/A","N/A","N/A","N/A","N/A",{"$f":"IF(COUNTA(#REF!)>0,(COUNTIF(#REF!,\"=0\")*0+COUNTIF(#REF!,\"=1\")*100+COUNTIF(#REF!,\"=2\")*80+COUNTIF(#REF!,\"=3\")*50+COUNTIF(#REF!,\"=8\")*20+COUNTIF(#REF!,\"=9\")*0)/COUNTA(#REF!)/100,\"N/A\")","v":{"$error":"#REF!"}},{"$f":"IF(COUNTA(#REF!)>0,(COUNTIF(#REF!,\"=0\")*0+COUNTIF(#REF!,\"=1\")*100+COUNTIF(#REF!,\"=2\")*80+COUNTIF(#REF!,\"=3\")*50+COUNTIF(#REF!,\"=8\")*20+COUNTIF(#REF!,\"=9\")*0)/COUNTA(#REF!)/100,\"N/A\")","v":{"$error":"#REF!"}},{"$f":"IF(AND(COUNTA(B333:V333)<>0,#REF!<>\"\"),AVERAGE(W333:AC333),\"N/A\")","v":{"$error":"#REF!"}},1,1,1,1,1,{"$error":"#REF!"},{"$error":"#REF!"},{"$error":"#REF!"}]
[{"$nulls":22},"N/A","N/A","N/A","N/A","N/A",{"$f":"IF(COUNTA(#REF!)>0,(COUNTIF(#REF!,\"=0\")*0+COUNTIF(#REF!,\"=1\")*100+COUNTIF(#REF!,\"=2\")*80+COUNTIF(#REF!,\"=3\")*50+COUNTIF(#REF!,\"=8\")*20+COUNTIF(#REF!,\"=9\")*0)/COUNTA(#REF!)/100,\"N/A\")","v":{"$error":"#REF!"}},{"$f":"IF(COUNTA(#REF!)>0,(COUNTIF(#REF!,\"=0\")*0+COUNTIF(#REF!,\"=1\")*100+COUNTIF(#REF!,\"=2\")*80+COUNTIF(#REF!,\"=3\")*50+COUNTIF(#REF!,\"=8\")*20+COUNTIF(#REF!,\"=9\")*0)/COUNTA(#REF!)/100,\"N/A\")","v":{"$error":"#REF!"}},{"$f":"IF(AND(COUNTA(B334:V334)<>0,#REF!<>\"\"),AVERAGE(W334:AC334),\"N/A\")","v":{"$error":"#REF!"}},1,1,1,1,1,{"$error":"#REF!"},{"$error":"#REF!"},{"$error":"#REF!"}]
[{"$nulls":22},"N/A","N/A","N/A",{"$f":"IF(COUNTA(Q335:U335)<>0,(COUNTIF(Q335:U335,\"=0\")*0+COUNTIF(Q335:U335,\"=1\")*100+COUNTIF(Q335:U335,\"=2\")*80+COUNTIF(Q335:U335,\"=3\")*50+COUNTIF(Q335:U335,\"=8\")*20+COUNTIF(Q335:U335,\"=9\")*0)/COUNTA(Q335:U335)/100,\"N/A\")","v":"N/A"},{"$f":"IF(COUNTA(V335:V335)>0,(COUNTIF(V335:V335,\"=0\")*0+COUNTIF(V335:V335,\"=1\")*100+COUNTIF(V335:V335,\"=2\")*80+COUNTIF(V335:V335,\"=3\")*50+COUNTIF(V335:V335,\"=8\")*20+COUNTIF(V335:V335,\"=9\")*0)/COUNTA(V335:V335)/100,\"N/A\")","v":"N/A"},{"$f":"IF(COUNTA(#REF!)>0,(COUNTIF(#REF!,\"=0\")*0+COUNTIF(#REF!,\"=1\")*100+COUNTIF(#REF!,\"=2\")*80+COUNTIF(#REF!,\"=3\")*50+COUNTIF(#REF!,\"=8\")*20+COUNTIF(#REF!,\"=9\")*0)/COUNTA(#REF!)/100,\"N/A\")","v":{"$error":"#REF!"}},{"$f":"IF(COUNTA(#REF!)>0,(COUNTIF(#REF!,\"=0\")*0+COUNTIF(#REF!,\"=1\")*100+COUNTIF(#REF!,\"=2\")*80+COUNTIF(#REF!,\"=3\")*50+COUNTIF(#REF!,\"=8\")*20+COUNTIF(#REF!,\"=9\")*0)/COUNTA(#REF!)/100,\"N/A\")","v":{"$error":"#REF!"}},{"$f":"IF(AND(COUNTA(B335:V335)<>0,#REF!<>\"\"),AVERAGE(W335:AC335),\"N/A\")","v":{"$error":"#REF!"}},1,1,1,1,1,{"$error":"#REF!"},{"$error":"#REF!"},{"$error":"#REF!"}]
[{"$nulls":22},"N/A","N/A","N/A","N/A","N/A",{"$f":"IF(COUNTA(#REF!)>0,(COUNTIF(#REF!,\"=0\")*0+COUNTIF(#REF!,\"=1\")*100+COUNTIF(#REF!,\"=2\")*80+COUNTIF(#REF!,\"=3\")*50+COUNTIF(#REF!,\"=8\")*20+COUNTIF(#REF!,\"=9\")*0)/COUNTA(#REF!)/100,\"N/A\")","v":{"$error":"#REF!"}},{"$f":"IF(COUNTA(#REF!)>0,(COUNTIF(#REF!,\"=0\")*0+COUNTIF(#REF!,\"=1\")*100+COUNTIF(#REF!,\"=2\")*80+COUNTIF(#REF!,\"=3\")*50+COUNTIF(#REF!,\"=8\")*20+COUNTIF(#REF!,\"=9\")*0)/COUNTA(#REF!)/100,\"N/A\")","v":{"$error":"#REF!"}},{"$f":"IF(AND(COUNTA(B336:V336)<>0,#REF!<>\"\"),AVERAGE(W336:AC336),\"N/A\")","v":{"$error":"#REF!"}},1,1,1,1,1,{"$error":"#REF!"},{"$error":"#REF!"},{"$error":"#REF!"}]
[{"$nulls":22},"N/A","N/A","N/A","N/A","N/A",{"$f":"IF(COUNTA(#REF!)>0,(COUNTIF(#REF!,\"=0\")*0+COUNTIF(#REF!,\"=1\")*100+COUNTIF(#REF!,\"=2\")*80+COUNTIF(#REF!,\"=3\")*50+COUNTIF(#REF!,\"=8\")*20+COUNTIF(#REF!,\"=9\")*0)/COUNTA(#REF!)/100,\"N/A\")","v":{"$error":"#REF!"}},{"$f":"IF(COUNTA(#REF!)>0,(COUNTIF(#REF!,\"=0\")*0+COUNTIF(#REF!,\"=1\")*100+COUNTIF(#REF!,\"=2\")*80+COUNTIF(#REF!,\"=3\")*50+COUNTIF(#REF!,\"=8\")*20+COUNTIF(#REF!,\"=9\")*0)/COUNTA(#REF!)/100,\"N/A\")","v":{"$error":"#REF!"}},{"$f":"IF(AND(COUNTA(B337:V337)<>0,#REF!<>\"\"),AVERAGE(W337:AC337),\"N/A\")","v":{"$error":"#REF!"}},1,1,1,1,1,{"$error":"#REF!"},{"$error":"#REF!"},{"$error":"#REF!"}]
[{"$nulls":22},"N/A","N/A","N/A","N/A","N/A",{"$f":"IF(COUNTA(#REF!)>0,(COUNTIF(#REF!,\"=0\")*0+COUNTIF(#REF!,\"=1\")*100+COUNTIF(#REF!,\"=2\")*80+COUNTIF(#REF!,\"=3\")*50+COUNTIF(#REF!,\"=8\")*20+COUNTIF(#REF!,\"=9\")*0)/COUNTA(#REF!)/100,\"N/A\")","v":{"$error":"#REF!"}},{"$f":"IF(COUNTA(#REF!)>0,(COUNTIF(#REF!,\"=0\")*0+COUNTIF(#REF!,\"=1\")*100+COUNTIF(#REF!,\"=2\")*80+COUNTIF(#REF!,\"=3\")*50+COUNTIF(#REF!,\"=8\")*20+COUNTIF(#REF!,\"=9\")*0)/COUNTA(#REF!)/100,\"N/A\")","v":{"$error":"#REF!"}},{"$f":"IF(AND(COUNTA(B338:V338)<>0,#REF!<>\"\"),AVERAGE(W338:AC338),\"N/A\")","v":{"$error":"#REF!"}},1,1,1,1,1,{"$error":"#REF!"},{"$error":"#REF!"},{"$error":"#REF!"}]
[{"$nulls":22},"N/A","N/A","N/A","N/A","N/A",{"$f":"IF(COUNTA(#REF!)>0,(COUNTIF(#REF!,\"=0\")*0+COUNTIF(#REF!,\"=1\")*100+COUNTIF(#REF!,\"=2\")*80+COUNTIF(#REF!,\"=3\")*50+COUNTIF(#REF!,\"=8\")*20+COUNTIF(#REF!,\"=9\")*0)/COUNTA(#REF!)/100,\"N/A\")","v":{"$error":"#REF!"}},{"$f":"IF(COUNTA(#REF!)>0,(COUNTIF(#REF!,\"=0\")*0+COUNTIF(#REF!,\"=1\")*100+COUNTIF(#REF!,\"=2\")*80+COUNTIF(#REF!,\"=3\")*50+COUNTIF(#REF!,\"=8\")*20+COUNTIF(#REF!,\"=9\")*0)/COUNTA(#REF!)/100,\"N/A\")","v":{"$error":"#REF!"}},{"$f":"IF(AND(COUNTA(B339:V339)<>0,#REF!<>\"\"),AVERAGE(W339:AC339),\"N/A\")","v":{"$error":"#REF!"}},1,1,1,1,1,{"$error":"#REF!"},{"$error":"#REF!"},{"$error":"#REF!"}]
[{"$nulls":22},"N/A","N/A","N/A","N/A","N/A",{"$f":"IF(COUNTA(#REF!)>0,(COUNTIF(#REF!,\"=0\")*0+COUNTIF(#REF!,\"=1\")*100+COUNTIF(#REF!,\"=2\")*80+COUNTIF(#REF!,\"=3\")*50+COUNTIF(#REF!,\"=8\")*20+COUNTIF(#REF!,\"=9\")*0)/COUNTA(#REF!)/100,\"N/A\")","v":{"$error":"#REF!"}},{"$f":"IF(COUNTA(#REF!)>0,(COUNTIF(#REF!,\"=0\")*0+COUNTIF(#REF!,\"=1\")*100+COUNTIF(#REF!,\"=2\")*80+COUNTIF(#REF!,\"=3\")*50+COUNTIF(#REF!,\"=8\")*20+COUNTIF(#REF!,\"=9\")*0)/COUNTA(#REF!)/100,\"N/A\")","v":{"$error":"#REF!"}},{"$f":"IF(AND(COUNTA(B340:V340)<>0,#REF!<>\"\"),AVERAGE(W340:AC340),\"N/A\")","v":{"$error":"#REF!"}},1,1,1,1,1,{"$error":"#REF!"},{"$error":"#REF!"},{"$error":"#REF!"}]
[{"$nulls":22},"N/A","N/A","N/A","N/A","N/A",{"$f":"IF(COUNTA(#REF!)>0,(COUNTIF(#REF!,\"=0\")*0+COUNTIF(#REF!,\"=1\")*100+COUNTIF(#REF!,\"=2\")*80+COUNTIF(#REF!,\"=3\")*50+COUNTIF(#REF!,\"=8\")*20+COUNTIF(#REF!,\"=9\")*0)/COUNTA(#REF!)/100,\"N/A\")","v":{"$error":"#REF!"}},{"$f":"IF(COUNTA(#REF!)>0,(COUNTIF(#REF!,\"=0\")*0+COUNTIF(#REF!,\"=1\")*100+COUNTIF(#REF!,\"=2\")*80+COUNTIF(#REF!,\"=3\")*50+COUNTIF(#REF!,\"=8\")*20+COUNTIF(#REF!,\"=9\")*0)/COUNTA(#REF!)/100,\"N/A\")","v":{"$error":"#REF!"}},{"$f":"IF(AND(COUNTA(B341:V341)<>0,#REF!<>\"\"),AVERAGE(W341:AC341),\"N/A\")","v":{"$error":"#REF!"}},1,1,1,1,1,{"$error":"#REF!"},{"$error":"#REF!"},{"$error":"#REF!"}]
[{"$nulls":22},"N/A","N/A","N/A","N/A","N/A",{"$f":"IF(COUNTA(#REF!)>0,(COUNTIF(#REF!,\"=0\")*0+COUNTIF(#REF!,\"=1\")*100+COUNTIF(#REF!,\"=2\")*80+COUNTIF(#REF!,\"=3\")*50+COUNTIF(#REF!,\"=8\")*20+COUNTIF(#REF!,\"=9\")*0)/COUNTA(#REF!)/100,\"N/A\")","v":{"$error":"#REF!"}},{"$f":"IF(COUNTA(#REF!)>0,(COUNTIF(#REF!,\"=0\")*0+COUNTIF(#REF!,\"=1\")*100+COUNTIF(#REF!,\"=2\")*80+COUNTIF(#REF!,\"=3\")*50+COUNTIF(#REF!,\"=8\")*20+COUNTIF(#REF!,\"=9\")*0)/COUNTA(#REF!)/100,\"N/A\")","v":{"$error":"#REF!"}},{"$f":"IF(AND(COUNTA(B342:V342)<>0,#REF!<>\"\"),AVERAGE(W342:AC342),\"N/A\")","v":{"$error":"#REF!"}},1,1,1,1,1,{"$error":"#REF!"},{"$error":"#REF!"},{"$error":"#REF!"}]
[{"$nulls":22},"N/A","N/A","N/A","N/A","N/A",{"$f":"IF(COUNTA(#REF!)>0,(COUNTIF(#REF!,\"=0\")*0+COUNTIF(#REF!,\"=1\")*100+COUNTIF(#REF!,\"=2\")*80+COUNTIF(#REF!,\"=3\")*50+COUNTIF(#REF!,\"=8\")*20+COUNTIF(#REF!,\"=9\")*0)/COUNTA(#REF!)/100,\"N/A\")","v":{"$error":"#REF!"}},{"$f":"IF(COUNTA(#REF!)>0,(COUNTIF(#REF!,\"=0\")*0+COUNTIF(#REF!,\"=1\")*100+COUNTIF(#REF!,\"=2\")*80+COUNTIF(#REF!,\"=3\")*50+COUNTIF(#REF!,\"=8\")*20+COUNTIF(#REF!,\"=9\")*0)/COUNTA(#REF!)/100,\"N/A\")","v":{"$error":"#REF!"}},{"$f":"IF(AND(COUNTA(B343:V343)<>0,#REF!<>\"\"),AVERAGE(W343:AC343),\"N/A\")","v":{"$error":"#REF!"}},1,1,1,1,1,{"$error":"#REF!"},{"$error":"#REF!"},{"$error":"#REF!"}]
[{"$nulls":22},"N/A","N/A","N/A","N/A","N/A",{"$f":"IF(COUNTA(#REF!)>0,(COUNTIF(#REF!,\"=0\")*0+COUNTIF(#REF!,\"=1\")*100+COUNTIF(#REF!,\"=2\")*80+COUNTIF(#REF!,\"=3\")*50+COUNTIF(#REF!,\"=8\")*20+COUNTIF(#REF!,\"=9\")*0)/COUNTA(#REF!)/100,\"N/A\")","v":{"$error":"#REF!"}},{"$f":"IF(COUNTA(#REF!)>0,(COUNTIF(#REF!,\"=0\")*0+COUNTIF(#REF!,\"=1\")*100+COUNTIF(#REF!,\"=2\")*80+COUNTIF(#REF!,\"=3\")*50+COUNTIF(#REF!,\"=8\")*20+COUNTIF(#REF!,\"=9\")*0)/COUNTA(#REF!)/100,\"N/A\")","v":{"$error":"#REF!"}},{"$f":"IF(AND(COUNTA(B344:V344)<>0,#REF!<>\"\"),AVERAGE(W344:AC344),\"N/A\")","v":{"$error":"#REF!"}},1,1,1,1,1,{"$error":"#REF!"},{"$error":"#REF!"},{"$error":"#REF!"}]
[{"$nulls":22},"N/A","N/A","N/A","N/A","N/A",{"$f":"IF(COUNTA(#REF!)>0,(COUNTIF(#REF!,\"=0\")*0+COUNTIF(#REF!,\"=1\")*100+COUNTIF(#REF!,\"=2\")*80+COUNTIF(#REF!,\"=3\")*50+COUNTIF(#REF!,\"=8\")*20+COUNTIF(#REF!,\"=9\")*0)/COUNTA(#REF!)/100,\"N/A\")","v":{"$error":"#REF!"}},{"$f":"IF(COUNTA(#REF!)>0,(COUNTIF(#REF!,\"=0\")*0+COUNTIF(#REF!,\"=1\")*100+COUNTIF(#REF!,\"=2\")*80+COUNTIF(#REF!,\"=3\")*50+COUNTIF(#REF!,\"=8\")*20+COUNTIF(#REF!,\"=9\")*0)/COUNTA(#REF!)/100,\"N/A\")","v":{"$error":"#REF!"}},{"$f":"IF(AND(COUNTA(B345:V345)<>0,#REF!<>\"\"),AVERAGE(W345:AC345),\"N/A\")","v":{"$error":"#REF!"}},1,1,1,1,1,{"$error":"#REF!"},{"$error":"#REF!"},{"$error":"#REF!"}]
[{"$nulls":22},"N/A","N/A","N/A","N/A","N/A",{"$f":"IF(COUNTA(#REF!)>0,(COUNTIF(#REF!,\"=0\")*0+COUNTIF(#REF!,\"=1\")*100+COUNTIF(#REF!,\"=2\")*80+COUNTIF(#REF!,\"=3\")*50+COUNTIF(#REF!,\"=8\")*20+COUNTIF(#REF!,\"=9\")*0)/COUNTA(#REF!)/100,\"N/A\")","v":{"$error":"#REF!"}},{"$f":"IF(COUNTA(#REF!)>0,(COUNTIF(#REF!,\"=0\")*0+COUNTIF(#REF!,\"=1\")*100+COUNTIF(#REF!,\"=2\")*80+COUNTIF(#REF!,\"=3\")*50+COUNTIF(#REF!,\"=8\")*20+COUNTIF(#REF!,\"=9\")*0)/COUNTA(#REF!)/100,\"N/A\")","v":{"$error":"#REF!"}},{"$f":"IF(AND(COUNTA(B346:V346)<>0,#REF!<>\"\"),AVERAGE(W346:AC346),\"N/A\")","v":{"$error":"#REF!"}},1,1,1,1,1,{"$error":"#REF!"},{"$error":"#REF!"},{"$error":"#REF!"}]
[{"$nulls":22},"N/A","N/A","N/A","N/A","N/A",{"$f":"IF(COUNTA(#REF!)>0,(COUNTIF(#REF!,\"=0\")*0+COUNTIF(#REF!,\"=1\")*100+COUNTIF(#REF!,\"=2\")*80+COUNTIF(#REF!,\"=3\")*50+COUNTIF(#REF!,\"=8\")*20+COUNTIF(#REF!,\"=9\")*0)/COUNTA(#REF!)/100,\"N/A\")","v":{"$error":"#REF!"}},{"$f":"IF(COUNTA(#REF!)>0,(COUNTIF(#REF!,\"=0\")*0+COUNTIF(#REF!,\"=1\")*100+COUNTIF(#REF!,\"=2\")*80+COUNTIF(#REF!,\"=3\")*50+COUNTIF(#REF!,\"=8\")*20+COUNTIF(#REF!,\"=9\")*0)/COUNTA(#REF!)/100,\"N/A\")","v":{"$error":"#REF!"}},{"$f":"IF(AND(COUNTA(B347:V347)<>0,#REF!<>\"\"),AVERAGE(W347:AC347),\"N/A\")","v":{"$error":"#REF!"}},1,1,1,1,1,{"$error":"#REF!"},{"$error":"#REF!"},{"$error":"#REF!"}]
[{"$nulls":22},"N/A","N/A","N/A","N/A","N/A",{"$f":"IF(COUNTA(#REF!)>0,(COUNTIF(#REF!,\"=0\")*0+COUNTIF(#REF!,\"=1\")*100+COUNTIF(#REF!,\"=2\")*80+COUNTIF(#REF!,\"=3\")*50+COUNTIF(#REF!,\"=8\")*20+COUNTIF(#REF!,\"=9\")*0)/COUNTA(#REF!)/100,\"N/A\")","v":{"$error":"#REF!"}},{"$f":"IF(COUNTA(#REF!)>0,(COUNTIF(#REF!,\"=0\")*0+COUNTIF(#REF!,\"=1\")*100+COUNTIF(#REF!,\"=2\")*80+COUNTIF(#REF!,\"=3\")*50+COUNTIF(#REF!,\"=8\")*20+COUNTIF(#REF!,\"=9\")*0)/COUNTA(#REF!)/100,\"N/A\")","v":{"$error":"#REF!"}},{"$f":"IF(AND(COUNTA(B348:V348)<>0,#REF!<>\"\"),AVERAGE(W348:AC348),\"N/A\")","v":{"$error":"#REF!"}},1,1,1,1,1,{"$error":"#REF!"},{"$error":"#REF!"},{"$error":"#REF!"}]
[{"$nulls":22},"N/A","N/A","N/A","N/A","N/A",{"$f":"IF(COUNTA(#REF!)>0,(COUNTIF(#REF!,\"=0\")*0+COUNTIF(#REF!,\"=1\")*100+COUNTIF(#REF!,\"=2\")*80+COUNTIF(#REF!,\"=3\")*50+COUNTIF(#REF!,\"=8\")*20+COUNTIF(#REF!,\"=9\")*0)/COUNTA(#REF!)/100,\"N/A\")","v":{"$error":"#REF!"}},{"$f":"IF(COUNTA(#REF!)>0,(COUNTIF(#REF!,\"=0\")*0+COUNTIF(#REF!,\"=1\")*100+COUNTIF(#REF!,\"=2\")*80+COUNTIF(#REF!,\"=3\")*50+COUNTIF(#REF!,\"=8\")*20+COUNTIF(#REF!,\"=9\")*0)/COUNTA(#REF!)/100,\"N/A\")","v":{"$error":"#REF!"}},{"$f":"IF(AND(COUNTA(B349:V349)<>0,#REF!<>\"\"),AVERAGE(W349:AC349),\"N/A\")","v":{"$error":"#REF!"}},1,1,1,1,1,{"$error":"#REF!"},{"$error":"#REF!"},{"$error":"#REF!"}]
[{"$nulls":22},"N/A","N/A","N/A","N/A","N/A",{"$f":"IF(COUNTA(#REF!)>0,(COUNTIF(#REF!,\"=0\")*0+COUNTIF(#REF!,\"=1\")*100+COUNTIF(#REF!,\"=2\")*80+COUNTIF(#REF!,\"=3\")*50+COUNTIF(#REF!,\"=8\")*20+COUNTIF(#REF!,\"=9\")*0)/COUNTA(#REF!)/100,\"N/A\")","v":{"$error":"#REF!"}},{"$f":"IF(COUNTA(#REF!)>0,(COUNTIF(#REF!,\"=0\")*0+COUNTIF(#REF!,\"=1\")*100+COUNTIF(#REF!,\"=2\")*80+COUNTIF(#REF!,\"=3\")*50+COUNTIF(#REF!,\"=8\")*20+COUNTIF(#REF!,\"=9\")*0)/COUNTA(#REF!)/100,\"N/A\")","v":{"$error":"#REF!"}},{"$f":"IF(AND(COUNTA(B350:V350)<>0,#REF!<>\"\"),AVERAGE(W350:AC350),\"N/A\")","v":{"$error":"#REF!"}},1,1,1,1,1,{"$error":"#REF!"},{"$error":"#REF!"},{"$error":"#REF!"}]
[{"$nulls":22},"N/A","N/A","N/A","N/A","N/A",{"$f":"IF(COUNTA(#REF!)>0,(COUNTIF(#REF!,\"=0\")*0+COUNTIF(#REF!,\"=1\")*100+COUNTIF(#REF!,\"=2\")*80+COUNTIF(#REF!,\"=3\")*50+COUNTIF(#REF!,\"=8\")*20+COUNTIF(#REF!,\"=9\")*0)/COUNTA(#REF!)/100,\"N/A\")","v":{"$error":"#REF!"}},{"$f":"IF(COUNTA(#REF!)>0,(COUNTIF(#REF!,\"=0\")*0+COUNTIF(#REF!,\"=1\")*100+COUNTIF(#REF!,\"=2\")*80+COUNTIF(#REF!,\"=3\")*50+COUNTIF(#REF!,\"=8\")*20+COUNTIF(#REF!,\"=9\")*0)/COUNTA(#REF!)/100,\"N/A\")","v":{"$error":"#REF!"}},{"$f":"IF(AND(COUNTA(B351:V351)<>0,#REF!<>\"\"),AVERAGE(W351:AC351),\"N/A\")","v":{"$error":"#REF!"}},1,1,1,1,1,{"$error":"#REF!"},{"$error":"#REF!"},{"$error":"#REF!"}]
[{"$nulls":22},"N/A","N/A","N/A","N/A","N/A",{"$f":"IF(COUNTA(#REF!)>0,(COUNTIF(#REF!,\"=0\")*0+COUNTIF(#REF!,\"=1\")*100+COUNTIF(#REF!,\"=2\")*80+COUNTIF(#REF!,\"=3\")*50+COUNTIF(#REF!,\"=8\")*20+COUNTIF(#REF!,\"=9\")*0)/COUNTA(#REF!)/100,\"N/A\")","v":{"$error":"#REF!"}},{"$f":"IF(COUNTA(#REF!)>0,(COUNTIF(#REF!,\"=0\")*0+COUNTIF(#REF!,\"=1\")*100+COUNTIF(#REF!,\"=2\")*80+COUNTIF(#REF!,\"=3\")*50+COUNTIF(#REF!,\"=8\")*20+COUNTIF(#REF!,\"=9\")*0)/COUNTA(#REF!)/100,\"N/A\")","v":{"$error":"#REF!"}},{"$f":"IF(AND(COUNTA(B352:V352)<>0,#REF!<>\"\"),AVERAGE(W352:AC352),\"N/A\")","v":{"$error":"#REF!"}},1,1,1,1,1,{"$error":"#REF!"},{"$error":"#REF!"},{"$error":"#REF!"}]
[{"$nulls":22},"N/A","N/A","N/A","N/A","N/A",{"$f":"IF(COUNTA(#REF!)>0,(COUNTIF(#REF!,\"=0\")*0+COUNTIF(#REF!,\"=1\")*100+COUNTIF(#REF!,\"=2\")*80+COUNTIF(#REF!,\"=3\")*50+COUNTIF(#REF!,\"=8\")*20+COUNTIF(#REF!,\"=9\")*0)/COUNTA(#REF!)/100,\"N/A\")","v":{"$error":"#REF!"}},{"$f":"IF(COUNTA(#REF!)>0,(COUNTIF(#REF!,\"=0\")*0+COUNTIF(#REF!,\"=1\")*100+COUNTIF(#REF!,\"=2\")*80+COUNTIF(#REF!,\"=3\")*50+COUNTIF(#REF!,\"=8\")*20+COUNTIF(#REF!,\"=9\")*0)/COUNTA(#REF!)/100,\"N/A\")","v":{"$error":"#REF!"}},{"$f":"IF(AND(COUNTA(B353:V353)<>0,#REF!<>\"\"),AVERAGE(W353:AC353),\"N/A\")","v":{"$error":"#REF!"}},1,1,1,1,1,{"$error":"#REF!"},{"$error":"#REF!"},{"$error":"#REF!"}]
[{"$nulls":22},"N/A","N/A","N/A","N/A","N/A",{"$f":"IF(COUNTA(#REF!)>0,(COUNTIF(#REF!,\"=0\")*0+COUNTIF(#REF!,\"=1\")*100+COUNTIF(#REF!,\"=2\")*80+COUNTIF(#REF!,\"=3\")*50+COUNTIF(#REF!,\"=8\")*20+COUNTIF(#REF!,\"=9\")*0)/COUNTA(#REF!)/100,\"N/A\")","v":{"$error":"#REF!"}},{"$f":"IF(COUNTA(#REF!)>0,(COUNTIF(#REF!,\"=0\")*0+COUNTIF(#REF!,\"=1\")*100+COUNTIF(#REF!,\"=2\")*80+COUNTIF(#REF!,\"=3\")*50+COUNTIF(#REF!,\"=8\")*20+COUNTIF(#REF!,\"=9\")*0)/COUNTA(#REF!)/100,\"N/A\")","v":{"$error":"#REF!"}},{"$f":"IF(AND(COUNTA(B354:V354)<>0,#REF!<>\"\"),AVERAGE(W354:AC354),\"N/A\")","v":{"$error":"#REF!"}},1,1,1,1,1,{"$error":"#REF!"},{"$error":"#REF!"},{"$error":"#REF!"}]
[{"$nulls":22},"N/A","N/A","N/A","N/A","N/A",{"$f":"IF(COUNTA(#REF!)>0,(COUNTIF(#REF!,\"=0\")*0+COUNTIF(#REF!,\"=1\")*100+COUNTIF(#REF!,\"=2\")*80+COUNTIF(#REF!,\"=3\")*50+COUNTIF(#REF!,\"=8\")*20+COUNTIF(#REF!,\"=9\")*0)/COUNTA(#REF!)/100,\"N/A\")","v":{"$error":"#REF!"}},{"$f":"IF(COUNTA(#REF!)>0,(COUNTIF(#REF!,\"=0\")*0+COUNTIF(#REF!,\"=1\")*100+COUNTIF(#REF!,\"=2\")*80+COUNTIF(#REF!,\"=3\")*50+COUNTIF(#REF!,\"=8\")*20+COUNTIF(#REF!,\"=9\")*0)/COUNTA(#REF!)/100,\"N/A\")","v":{"$error":"#REF!"}},{"$f":"IF(AND(COUNTA(B355:V355)<>0,#REF!<>\"\"),AVERAGE(W355:AC355),\"N/A\")","v":{"$error":"#REF!"}},1,1,1,1,1,{"$error":"#REF!"},{"$error":"#REF!"},{"$error":"#REF!"}]
[{"$nulls":22},"N/A","N/A","N/A","N/A","N/A",{"$f":"IF(COUNTA(#REF!)>0,(COUNTIF(#REF!,\"=0\")*0+COUNTIF(#REF!,\"=1\")*100+COUNTIF(#REF!,\"=2\")*80+COUNTIF(#REF!,\"=3\")*50+COUNTIF(#REF!,\"=8\")*20+COUNTIF(#REF!,\"=9\")*0)/COUNTA(#REF!)/100,\"N/A\")","v":{"$error":"#REF!"}},{"$f":"IF(COUNTA(#REF!)>0,(COUNTIF(#REF!,\"=0\")*0+COUNTIF(#REF!,\"=1\")*100+COUNTIF(#REF!,\"=2\")*80+COUNTIF(#REF!,\"=3\")*50+COUNTIF(#REF!,\"=8\")*20+COUNTIF(#REF!,\"=9\")*0)/COUNTA(#REF!)/100,\"N/A\")","v":{"$error":"#REF!"}},{"$f":"IF(AND(COUNTA(B356:V356)<>0,#REF!<>\"\"),AVERAGE(W356:AC356),\"N/A\")","v":{"$error":"#REF!"}},1,1,1,1,1,{"$error":"#REF!"},{"$error":"#REF!"},{"$error":"#REF!"}]
[{"$nulls":22},"N/A","N/A","N/A","N/A","N/A",{"$f":"IF(COUNTA(#REF!)>0,(COUNTIF(#REF!,\"=0\")*0+COUNTIF(#REF!,\"=1\")*100+COUNTIF(#REF!,\"=2\")*80+COUNTIF(#REF!,\"=3\")*50+COUNTIF(#REF!,\"=8\")*20+COUNTIF(#REF!,\"=9\")*0)/COUNTA(#REF!)/100,\"N/A\")","v":{"$error":"#REF!"}},{"$f":"IF(COUNTA(#REF!)>0,(COUNTIF(#REF!,\"=0\")*0+COUNTIF(#REF!,\"=1\")*100+COUNTIF(#REF!,\"=2\")*80+COUNTIF(#REF!,\"=3\")*50+COUNTIF(#REF!,\"=8\")*20+COUNTIF(#REF!,\"=9\")*0)/COUNTA(#REF!)/100,\"N/A\")","v":{"$error":"#REF!"}},{"$f":"IF(AND(COUNTA(B357:V357)<>0,#REF!<>\"\"),AVERAGE(W357:AC357),\"N/A\")","v":{"$error":"#REF!"}},1,1,1,1,1,{"$error":"#REF!"},{"$error":"#REF!"},{"$error":"#REF!"}]
[{"$nulls":22},"N/A","N/A","N/A","N/A","N/A",{"$f":"IF(COUNTA(#REF!)>0,(COUNTIF(#REF!,\"=0\")*0+COUNTIF(#REF!,\"=1\")*100+COUNTIF(#REF!,\"=2\")*80+COUNTIF(#REF!,\"=3\")*50+COUNTIF(#REF!,\"=8\")*20+COUNTIF(#REF!,\"=9\")*0)/COUNTA(#REF!)/100,\"N/A\")","v":{"$error":"#REF!"}},{"$f":"IF(COUNTA(#REF!)>0,(COUNTIF(#REF!,\"=0\")*0+COUNTIF(#REF!,\"=1\")*100+COUNTIF(#REF!,\"=2\")*80+COUNTIF(#REF!,\"=3\")*50+COUNTIF(#REF!,\"=8\")*20+COUNTIF(#REF!,\"=9\")*0)/COUNTA(#REF!)/100,\"N/A\")","v":{"$error":"#REF!"}},{"$f":"IF(AND(COUNTA(B358:V358)<>0,#REF!<>\"\"),AVERAGE(W358:AC358),\"N/A\")","v":{"$error":"#REF!"}},1,1,1,1,1,{"$error":"#REF!"},{"$error":"#REF!"},{"$error":"#REF!"}]
[{"$nulls":22},"N/A","N/A","N/A","N/A","N/A",{"$f":"IF(COUNTA(#REF!)>0,(COUNTIF(#REF!,\"=0\")*0+COUNTIF(#REF!,\"=1\")*100+COUNTIF(#REF!,\"=2\")*80+COUNTIF(#REF!,\"=3\")*50+COUNTIF(#REF!,\"=8\")*20+COUNTIF(#REF!,\"=9\")*0)/COUNTA(#REF!)/100,\"N/A\")","v":{"$error":"#REF!"}},{"$f":"IF(COUNTA(#REF!)>0,(COUNTIF(#REF!,\"=0\")*0+COUNTIF(#REF!,\"=1\")*100+COUNTIF(#REF!,\"=2\")*80+COUNTIF(#REF!,\"=3\")*50+COUNTIF(#REF!,\"=8\")*20+COUNTIF(#REF!,\"=9\")*0)/COUNTA(#REF!)/100,\"N/A\")","v":{"$error":"#REF!"}},{"$f":"IF(AND(COUNTA(B359:V359)<>0,#REF!<>\"\"),AVERAGE(W359:AC359),\"N/A\")","v":{"$error":"#REF!"}},1,1,1,1,1,{"$error":"#REF!"},{"$error":"#REF!"},{"$error":"#REF!"}]
[{"$nulls":22},"N/A","N/A","N/A","N/A","N/A",{"$f":"IF(COUNTA(#REF!)>0,(COUNTIF(#REF!,\"=0\")*0+COUNTIF(#REF!,\"=1\")*100+COUNTIF(#REF!,\"=2\")*80+COUNTIF(#REF!,\"=3\")*50+COUNTIF(#REF!,\"=8\")*20+COUNTIF(#REF!,\"=9\")*0)/COUNTA(#REF!)/100,\"N/A\")","v":{"$error":"#REF!"}},{"$f":"IF(COUNTA(#REF!)>0,(COUNTIF(#REF!,\"=0\")*0+COUNTIF(#REF!,\"=1\")*100+COUNTIF(#REF!,\"=2\")*80+COUNTIF(#REF!,\"=3\")*50+COUNTIF(#REF!,\"=8\")*20+COUNTIF(#REF!,\"=9\")*0)/COUNTA(#REF!)/100,\"N/A\")","v":{"$error":"#REF!"}},{"$f":"IF(AND(COUNTA(B360:V360)<>0,#REF!<>\"\"),AVERAGE(W360:AC360),\"N/A\")","v":{"$error":"#REF!"}},1,1,1,1,1,{"$error":"#REF!"},{"$error":"#REF!"},{"$error":"#REF!"}]
[{"$nulls":22},"N/A","N/A","N/A","N/A","N/A",{"$f":"IF(COUNTA(#REF!)>0,(COUNTIF(#REF!,\"=0\")*0+COUNTIF(#REF!,\"=1\")*100+COUNTIF(#REF!,\"=2\")*80+COUNTIF(#REF!,\"=3\")*50+COUNTIF(#REF!,\"=8\")*20+COUNTIF(#REF!,\"=9\")*0)/COUNTA(#REF!)/100,\"N/A\")","v":{"$error":"#REF!"}},{"$f":"IF(COUNTA(#REF!)>0,(COUNTIF(#REF!,\"=0\")*0+COUNTIF(#REF!,\"=1\")*100+COUNTIF(#REF!,\"=2\")*80+COUNTIF(#REF!,\"=3\")*50+COUNTIF(#REF!,\"=8\")*20+COUNTIF(#REF!,\"=9\")*0)/COUNTA(#REF!)/100,\"N/A\")","v":{"$error":"#REF!"}},{"$f":"IF(AND(COUNTA(B361:V361)<>0,#REF!<>\"\"),AVERAGE(W361:AC361),\"N/A\")","v":{"$error":"#REF!"}},1,1,1,1,1,{"$error":"#REF!"},{"$error":"#REF!"},{"$error":"#REF!"}]
[{"$nulls":22},"N/A","N/A","N/A","N/A","N/A",{"$f":"IF(COUNTA(#REF!)>0,(COUNTIF(#REF!,\"=0\")*0+COUNTIF(#REF!,\"=1\")*100+COUNTIF(#REF!,\"=2\")*80+COUNTIF(#REF!,\"=3\")*50+COUNTIF(#REF!,\"=8\")*20+COUNTIF(#REF!,\"=9\")*0)/COUNTA(#REF!)/100,\"N/A\")","v":{"$error":"#REF!"}},{"$f":"IF(COUNTA(#REF!)>0,(COUNTIF(#REF!,\"=0\")*0+COUNTIF(#REF!,\"=1\")*100+COUNTIF(#REF!,\"=2\")*80+COUNTIF(#REF!,\"=3\")*50+COUNTIF(#REF!,\"=8\")*20+COUNTIF(#REF!,\"=9\")*0)/COUNTA(#REF!)/100,\"N/A\")","v":{"$error":"#REF!"}},{"$f":"IF(AND(COUNTA(B362:V362)<>0,#REF!<>\"\"),AVERAGE(W362:AC362),\"N/A\")","v":{"$error":"#REF!"}},1,1,1,1,1,{"$error":"#REF!"},{"$error":"#REF!"},{"$error":"#REF!"}]
[{"$nulls":22},"N/A","N/A","N/A","N/A","N/A",{"$f":"IF(COUNTA(#REF!)>0,(COUNTIF(#REF!,\"=0\")*0+COUNTIF(#REF!,\"=1\")*100+COUNTIF(#REF!,\"=2\")*80+COUNTIF(#REF!,\"=3\")*50+COUNTIF(#REF!,\"=8\")*20+COUNTIF(#REF!,\"=9\")*0)/COUNTA(#REF!)/100,\"N/A\")","v":{"$error":"#REF!"}},{"$f":"IF(COUNTA(#REF!)>0,(COUNTIF(#REF!,\"=0\")*0+COUNTIF(#REF!,\"=1\")*100+COUNTIF(#REF!,\"=2\")*80+COUNTIF(#REF!,\"=3\")*50+COUNTIF(#REF!,\"=8\")*20+COUNTIF(#REF!,\"=9\")*0)/COUNTA(#REF!)/100,\"N/A\")","v":{"$error":"#REF!"}},{"$f":"IF(AND(COUNTA(B363:V363)<>0,#REF!<>\"\"),AVERAGE(W363:AC363),\"N/A\")","v":{"$error":"#REF!"}},1,1,1,1,1,{"$error":"#REF!"},{"$error":"#REF!"},{"$error":"#REF!"}]
[{"$nulls":22},"N/A","N/A","N/A","N/A","N/A",{"$f":"IF(COUNTA(#REF!)>0,(COUNTIF(#REF!,\"=0\")*0+COUNTIF(#REF!,\"=1\")*100+COUNTIF(#REF!,\"=2\")*80+COUNTIF(#REF!,\"=3\")*50+COUNTIF(#REF!,\"=8\")*20+COUNTIF(#REF!,\"=9\")*0)/COUNTA(#REF!)/100,\"N/A\")","v":{"$error":"#REF!"}},{"$f":"IF(COUNTA(#REF!)>0,(COUNTIF(#REF!,\"=0\")*0+COUNTIF(#REF!,\"=1\")*100+COUNTIF(#REF!,\"=2\")*80+COUNTIF(#REF!,\"=3\")*50+COUNTIF(#REF!,\"=8\")*20+COUNTIF(#REF!,\"=9\")*0)/COUNTA(#REF!)/100,\"N/A\")","v":{"$error":"#REF!"}},{"$f":"IF(AND(COUNTA(B364:V364)<>0,#REF!<>\"\"),AVERAGE(W364:AC364),\"N/A\")","v":{"$error":"#REF!"}},1,1,1,1,1,{"$error":"#REF!"},{"$error":"#REF!"},{"$error":"#REF!"}]
[{"$nulls":22},"N/A","N/A","N/A","N/A","N/A",{"$f":"IF(COUNTA(#REF!)>0,(COUNTIF(#REF!,\"=0\")*0+COUNTIF(#REF!,\"=1\")*100+COUNTIF(#REF!,\"=2\")*80+COUNTIF(#REF!,\"=3\")*50+COUNTIF(#REF!,\"=8\")*20+COUNTIF(#REF!,\"=9\")*0)/COUNTA(#REF!)/100,\"N/A\")","v":{"$error":"#REF!"}},{"$f":"IF(COUNTA(#REF!)>0,(COUNTIF(#REF!,\"=0\")*0+COUNTIF(#REF!,\"=1\")*100+COUNTIF(#REF!,\"=2\")*80+COUNTIF(#REF!,\"=3\")*50+COUNTIF(#REF!,\"=8\")*20+COUNTIF(#REF!,\"=9\")*0)/COUNTA(#REF!)/100,\"N/A\")","v":{"$error":"#REF!"}},{"$f":"IF(AND(COUNTA(B365:V365)<>0,#REF!<>\"\"),AVERAGE(W365:AC365),\"N/A\")","v":{"$error":"#REF!"}},1,1,1,1,1,{"$error":"#REF!"},{"$error":"#REF!"},{"$error":"#REF!"}]
[{"$nulls":22},"N/A","N/A","N/A","N/A","N/A",{"$f":"IF(COUNTA(#REF!)>0,(COUNTIF(#REF!,\"=0\")*0+COUNTIF(#REF!,\"=1\")*100+COUNTIF(#REF!,\"=2\")*80+COUNTIF(#REF!,\"=3\")*50+COUNTIF(#REF!,\"=8\")*20+COUNTIF(#REF!,\"=9\")*0)/COUNTA(#REF!)/100,\"N/A\")","v":{"$error":"#REF!"}},{"$f":"IF(COUNTA(#REF!)>0,(COUNTIF(#REF!,\"=0\")*0+COUNTIF(#REF!,\"=1\")*100+COUNTIF(#REF!,\"=2\")*80+COUNTIF(#REF!,\"=3\")*50+COUNTIF(#REF!,\"=8\")*20+COUNTIF(#REF!,\"=9\")*0)/COUNTA(#REF!)/100,\"N/A\")","v":{"$error":"#REF!"}},{"$f":"IF(AND(COUNTA(B366:V366)<>0,#REF!<>\"\"),AVERAGE(W366:AC366),\"N/A\")","v":{"$error":"#REF!"}},1,1,1,1,1,{"$error":"#REF!"},{"$error":"#REF!"},{"$error":"#REF!"}]
[{"$nulls":22},"N/A","N/A","N/A","N/A","N/A",{"$f":"IF(COUNTA(#REF!)>0,(COUNTIF(#REF!,\"=0\")*0+COUNTIF(#REF!,\"=1\")*100+COUNTIF(#REF!,\"=2\")*80+COUNTIF(#REF!,\"=3\")*50+COUNTIF(#REF!,\"=8\")*20+COUNTIF(#REF!,\"=9\")*0)/COUNTA(#REF!)/100,\"N/A\")","v":{"$error":"#REF!"}},{"$f":"IF(COUNTA(#REF!)>0,(COUNTIF(#REF!,\"=0\")*0+COUNTIF(#REF!,\"=1\")*100+COUNTIF(#REF!,\"=2\")*80+COUNTIF(#REF!,\"=3\")*50+COUNTIF(#REF!,\"=8\")*20+COUNTIF(#REF!,\"=9\")*0)/COUNTA(#REF!)/100,\"N/A\")","v":{"$error":"#REF!"}},{"$f":"IF(AND(COUNTA(B367:V367)<>0,#REF!<>\"\"),AVERAGE(W367:AC367),\"N/A\")","v":{"$error":"#REF!"}},1,1,1,1,1,{"$error":"#REF!"},{"$error":"#REF!"},{"$error":"#REF!"}]
[{"$nulls":22},"N/A","N/A","N/A","N/A","N/A",{"$f":"IF(COUNTA(#REF!)>0,(COUNTIF(#REF!,\"=0\")*0+COUNTIF(#REF!,\"=1\")*100+COUNTIF(#REF!,\"=2\")*80+COUNTIF(#REF!,\"=3\")*50+COUNTIF(#REF!,\"=8\")*20+COUNTIF(#REF!,\"=9\")*0)/COUNTA(#REF!)/100,\"N/A\")","v":{"$error":"#REF!"}},{"$f":"IF(COUNTA(#REF!)>0,(COUNTIF(#REF!,\"=0\")*0+COUNTIF(#REF!,\"=1\")*100+COUNTIF(#REF!,\"=2\")*80+COUNTIF(#REF!,\"=3\")*50+COUNTIF(#REF!,\"=8\")*20+COUNTIF(#REF!,\"=9\")*0)/COUNTA(#REF!)/100,\"N/A\")","v":{"$error":"#REF!"}},{"$f":"IF(AND(COUNTA(B368:V368)<>0,#REF!<>\"\"),AVERAGE(W368:AC368),\"N/A\")","v":{"$error":"#REF!"}},1,1,1,1,1,{"$error":"#REF!"},{"$error":"#REF!"},{"$error":"#REF!"}]
[{"$nulls":22},"N/A","N/A","N/A","N/A","N/A",{"$f":"IF(COUNTA(#REF!)>0,(COUNTIF(#REF!,\"=0\")*0+COUNTIF(#REF!,\"=1\")*100+COUNTIF(#REF!,\"=2\")*80+COUNTIF(#REF!,\"=3\")*50+COUNTIF(#REF!,\"=8\")*20+COUNTIF(#REF!,\"=9\")*0)/COUNTA(#REF!)/100,\"N/A\")","v":{"$error":"#REF!"}},{"$f":"IF(COUNTA(#REF!)>0,(COUNTIF(#REF!,\"=0\")*0+COUNTIF(#REF!,\"=1\")*100+COUNTIF(#REF!,\"=2\")*80+COUNTIF(#REF!,\"=3\")*50+COUNTIF(#REF!,\"=8\")*20+COUNTIF(#REF!,\"=9\")*0)/COUNTA(#REF!)/100,\"N/A\")","v":{"$error":"#REF!"}},{"$f":"IF(AND(COUNTA(B369:V369)<>0,#REF!<>\"\"),AVERAGE(W369:AC369),\"N/A\")","v":{"$error":"#REF!"}},1,1,1,1,1,{"$error":"#REF!"},{"$error":"#REF!"},{"$error":"#REF!"}]
[{"$nulls":22},"N/A","N/A","N/A","N/A","N/A",{"$f":"IF(COUNTA(#REF!)>0,(COUNTIF(#REF!,\"=0\")*0+COUNTIF(#REF!,\"=1\")*100+COUNTIF(#REF!,\"=2\")*80+COUNTIF(#REF!,\"=3\")*50+COUNTIF(#REF!,\"=8\")*20+COUNTIF(#REF!,\"=9\")*0)/COUNTA(#REF!)/100,\"N/A\")","v":{"$error":"#REF!"}},{"$f":"IF(COUNTA(#REF!)>0,(COUNTIF(#REF!,\"=0\")*0+COUNTIF(#REF!,\"=1\")*100+COUNTIF(#REF!,\"=2\")*80+COUNTIF(#REF!,\"=3\")*50+COUNTIF(#REF!,\"=8\")*20+COUNTIF(#REF!,\"=9\")*0)/COUNTA(#REF!)/100,\"N/A\")","v":{"$error":"#REF!"}},{"$f":"IF(AND(COUNTA(B370:V370)<>0,#REF!<>\"\"),AVERAGE(W370:AC370),\"N/A\")","v":{"$error":"#REF!"}},1,1,1,1,1,{"$error":"#REF!"},{"$error":"#REF!"},{"$error":"#REF!"}]
[{"$nulls":22},"N/A","N/A","N/A","N/A","N/A",{"$f":"IF(COUNTA(#REF!)>0,(COUNTIF(#REF!,\"=0\")*0+COUNTIF(#REF!,\"=1\")*100+COUNTIF(#REF!,\"=2\")*80+COUNTIF(#REF!,\"=3\")*50+COUNTIF(#REF!,\"=8\")*20+COUNTIF(#REF!,\"=9\")*0)/COUNTA(#REF!)/100,\"N/A\")","v":{"$error":"#REF!"}},{"$f":"IF(COUNTA(#REF!)>0,(COUNTIF(#REF!,\"=0\")*0+COUNTIF(#REF!,\"=1\")*100+COUNTIF(#REF!,\"=2\")*80+COUNTIF(#REF!,\"=3\")*50+COUNTIF(#REF!,\"=8\")*20+COUNTIF(#REF!,\"=9\")*0)/COUNTA(#REF!)/100,\"N/A\")","v":{"$error":"#REF!"}},{"$f":"IF(AND(COUNTA(B371:V371)<>0,#REF!<>\"\"),AVERAGE(W371:AC371),\"N/A\")","v":{"$error":"#REF!"}},1,1,1,1,1,{"$error":"#REF!"},{"$error":"#REF!"},{"$error":"#REF!"}]
[{"$nulls":22},"N/A","N/A","N/A","N/A","N/A",{"$f":"IF(COUNTA(#REF!)>0,(COUNTIF(#REF!,\"=0\")*0+COUNTIF(#REF!,\"=1\")*100+COUNTIF(#REF!,\"=2\")*80+COUNTIF(#REF!,\"=3\")*50+COUNTIF(#REF!,\"=8\")*20+COUNTIF(#REF!,\"=9\")*0)/COUNTA(#REF!)/100,\"N/A\")","v":{"$error":"#REF!"}},{"$f":"IF(COUNTA(#REF!)>0,(COUNTIF(#REF!,\"=0\")*0+COUNTIF(#REF!,\"=1\")*100+COUNTIF(#REF!,\"=2\")*80+COUNTIF(#REF!,\"=3\")*50+COUNTIF(#REF!,\"=8\")*20+COUNTIF(#REF!,\"=9\")*0)/COUNTA(#REF!)/100,\"N/A\")","v":{"$error":"#REF!"}},{"$f":"IF(AND(COUNTA(B372:V372)<>0,#REF!<>\"\"),AVERAGE(W372:AC372),\"N/A\")","v":{"$error":"#REF!"}},1,1,1,1,1,{"$error":"#REF!"},{"$error":"#REF!"},{"$error":"#REF!"}]
[{"$nulls":22},"N/A","N/A","N/A","N/A","N/A",{"$f":"IF(COUNTA(#REF!)>0,(COUNTIF(#REF!,\"=0\")*0+COUNTIF(#REF!,\"=1\")*100+COUNTIF(#REF!,\"=2\")*80+COUNTIF(#REF!,\"=3\")*50+COUNTIF(#REF!,\"=8\")*20+COUNTIF(#REF!,\"=9\")*0)/COUNTA(#REF!)/100,\"N/A\")","v":{"$error":"#REF!"}},{"$f":"IF(COUNTA(#REF!)>0,(COUNTIF(#REF!,\"=0\")*0+COUNTIF(#REF!,\"=1\")*100+COUNTIF(#REF!,\"=2\")*80+COUNTIF(#REF!,\"=3\")*50+COUNTIF(#REF!,\"=8\")*20+COUNTIF(#REF!,\"=9\")*0)/COUNTA(#REF!)/100,\"N/A\")","v":{"$error":"#REF!"}},{"$f":"IF(AND(COUNTA(B373:V373)<>0,#REF!<>\"\"),AVERAGE(W373:AC373),\"N/A\")","v":{"$error":"#REF!"}},1,1,1,1,1,{"$error":"#REF!"},{"$error":"#REF!"},{"$error":"#REF!"}]
[{"$nulls":22},"N/A","N/A","N/A","N/A","N/A",{"$f":"IF(COUNTA(#REF!)>0,(COUNTIF(#REF!,\"=0\")*0+COUNTIF(#REF!,\"=1\")*100+COUNTIF(#REF!,\"=2\")*80+COUNTIF(#REF!,\"=3\")*50+COUNTIF(#REF!,\"=8\")*20+COUNTIF(#REF!,\"=9\")*0)/COUNTA(#REF!)/100,\"N/A\")","v":{"$error":"#REF!"}},{"$f":"IF(COUNTA(#REF!)>0,(COUNTIF(#REF!,\"=0\")*0+COUNTIF(#REF!,\"=1\")*100+COUNTIF(#REF!,\"=2\")*80+COUNTIF(#REF!,\"=3\")*50+COUNTIF(#REF!,\"=8\")*20+COUNTIF(#REF!,\"=9\")*0)/COUNTA(#REF!)/100,\"N/A\")","v":{"$error":"#REF!"}},{"$f":"IF(AND(COUNTA(B374:V374)<>0,#REF!<>\"\"),AVERAGE(W374:AC374),\"N/A\")","v":{"$error":"#REF!"}},1,1,1,1,1,{"$f":"IF(AB374=\"N/A\",1,\"\")","v":{"$error":"#REF!"}},{"$error":"#REF!"},{"$error":"#REF!"}]
[{"$nulls":22},"N/A","N/A","N/A","N/A","N/A",{"$f":"IF(COUNTA(#REF!)>0,(COUNTIF(#REF!,\"=0\")*0+COUNTIF(#REF!,\"=1\")*100+COUNTIF(#REF!,\"=2\")*80+COUNTIF(#REF!,\"=3\")*50+COUNTIF(#REF!,\"=8\")*20+COUNTIF(#REF!,\"=9\")*0)/COUNTA(#REF!)/100,\"N/A\")","v":{"$error":"#REF!"}},{"$f":"IF(COUNTA(#REF!)>0,(COUNTIF(#REF!,\"=0\")*0+COUNTIF(#REF!,\"=1\")*100+COUNTIF(#REF!,\"=2\")*80+COUNTIF(#REF!,\"=3\")*50+COUNTIF(#REF!,\"=8\")*20+COUNTIF(#REF!,\"=9\")*0)/COUNTA(#REF!)/100,\"N/A\")","v":{"$error":"#REF!"}},{"$f":"IF(AND(COUNTA(B375:V375)<>0,#REF!<>\"\"),AVERAGE(W375:AC375),\"N/A\")","v":{"$error":"#REF!"}},1,1,1,1,1,{"$error":"#REF!"},{"$error":"#REF!"},{"$error":"#REF!"}]
[{"$nulls":22},"N/A","N/A","N/A","N/A","N/A",{"$f":"IF(COUNTA(#REF!)>0,(COUNTIF(#REF!,\"=0\")*0+COUNTIF(#REF!,\"=1\")*100+COUNTIF(#REF!,\"=2\")*80+COUNTIF(#REF!,\"=3\")*50+COUNTIF(#REF!,\"=8\")*20+COUNTIF(#REF!,\"=9\")*0)/COUNTA(#REF!)/100,\"N/A\")","v":{"$error":"#REF!"}},{"$f":"IF(COUNTA(#REF!)>0,(COUNTIF(#REF!,\"=0\")*0+COUNTIF(#REF!,\"=1\")*100+COUNTIF(#REF!,\"=2\")*80+COUNTIF(#REF!,\"=3\")*50+COUNTIF(#REF!,\"=8\")*20+COUNTIF(#REF!,\"=9\")*0)/COUNTA(#REF!)/100,\"N/A\")","v":{"$error":"#REF!"}},{"$f":"IF(AND(COUNTA(B376:V376)<>0,#REF!<>\"\"),AVERAGE(W376:AC376),\"N/A\")","v":{"$error":"#REF!"}},1,1,1,1,1,{"$error":"#REF!"},{"$error":"#REF!"},{"$error":"#REF!"}]
[{"$nulls":22},"N/A","N/A","N/A","N/A","N/A",{"$f":"IF(COUNTA(#REF!)>0,(COUNTIF(#REF!,\"=0\")*0+COUNTIF(#REF!,\"=1\")*100+COUNTIF(#REF!,\"=2\")*80+COUNTIF(#REF!,\"=3\")*50+COUNTIF(#REF!,\"=8\")*20+COUNTIF(#REF!,\"=9\")*0)/COUNTA(#REF!)/100,\"N/A\")","v":{"$error":"#REF!"}},{"$f":"IF(COUNTA(#REF!)>0,(COUNTIF(#REF!,\"=0\")*0+COUNTIF(#REF!,\"=1\")*100+COUNTIF(#REF!,\"=2\")*80+COUNTIF(#REF!,\"=3\")*50+COUNTIF(#REF!,\"=8\")*20+COUNTIF(#REF!,\"=9\")*0)/COUNTA(#REF!)/100,\"N/A\")","v":{"$error":"#REF!"}},{"$f":"IF(AND(COUNTA(B377:V377)<>0,#REF!<>\"\"),AVERAGE(W377:AC377),\"N/A\")","v":{"$error":"#REF!"}},1,1,1,1,1,{"$error":"#REF!"},{"$error":"#REF!"},{"$error":"#REF!"}]
[{"$nulls":22},"N/A","N/A","N/A","N/A","N/A",{"$f":"IF(COUNTA(#REF!)>0,(COUNTIF(#REF!,\"=0\")*0+COUNTIF(#REF!,\"=1\")*100+COUNTIF(#REF!,\"=2\")*80+COUNTIF(#REF!,\"=3\")*50+COUNTIF(#REF!,\"=8\")*20+COUNTIF(#REF!,\"=9\")*0)/COUNTA(#REF!)/100,\"N/A\")","v":{"$error":"#REF!"}},{"$f":"IF(COUNTA(#REF!)>0,(COUNTIF(#REF!,\"=0\")*0+COUNTIF(#REF!,\"=1\")*100+COUNTIF(#REF!,\"=2\")*80+COUNTIF(#REF!,\"=3\")*50+COUNTIF(#REF!,\"=8\")*20+COUNTIF(#REF!,\"=9\")*0)/COUNTA(#REF!)/100,\"N/A\")","v":{"$error":"#REF!"}},{"$f":"IF(AND(COUNTA(B378:V378)<>0,#REF!<>\"\"),AVERAGE(W378:AC378),\"N/A\")","v":{"$error":"#REF!"}},1,1,1,1,1,{"$error":"#REF!"},{"$error":"#REF!"},{"$error":"#REF!"}]
[{"$nulls":22},"N/A","N/A","N/A","N/A","N/A",{"$f":"IF(COUNTA(#REF!)>0,(COUNTIF(#REF!,\"=0\")*0+COUNTIF(#REF!,\"=1\")*100+COUNTIF(#REF!,\"=2\")*80+COUNTIF(#REF!,\"=3\")*50+COUNTIF(#REF!,\"=8\")*20+COUNTIF(#REF!,\"=9\")*0)/COUNTA(#REF!)/100,\"N/A\")","v":{"$error":"#REF!"}},{"$f":"IF(COUNTA(#REF!)>0,(COUNTIF(#REF!,\"=0\")*0+COUNTIF(#REF!,\"=1\")*100+COUNTIF(#REF!,\"=2\")*80+COUNTIF(#REF!,\"=3\")*50+COUNTIF(#REF!,\"=8\")*20+COUNTIF(#REF!,\"=9\")*0)/COUNTA(#REF!)/100,\"N/A\")","v":{"$error":"#REF!"}},{"$f":"IF(AND(COUNTA(B379:V379)<>0,#REF!<>\"\"),AVERAGE(W379:AC379),\"N/A\")","v":{"$error":"#REF!"}},1,1,1,1,1,{"$error":"#REF!"},{"$error":"#REF!"},{"$error":"#REF!"}]
[{"$nulls":22},"N/A","N/A","N/A","N/A","N/A",{"$f":"IF(COUNTA(#REF!)>0,(COUNTIF(#REF!,\"=0\")*0+COUNTIF(#REF!,\"=1\")*100+COUNTIF(#REF!,\"=2\")*80+COUNTIF(#REF!,\"=3\")*50+COUNTIF(#REF!,\"=8\")*20+COUNTIF(#REF!,\"=9\")*0)/COUNTA(#REF!)/100,\"N/A\")","v":{"$error":"#REF!"}},{"$f":"IF(COUNTA(#REF!)>0,(COUNTIF(#REF!,\"=0\")*0+COUNTIF(#REF!,\"=1\")*100+COUNTIF(#REF!,\"=2\")*80+COUNTIF(#REF!,\"=3\")*50+COUNTIF(#REF!,\"=8\")*20+COUNTIF(#REF!,\"=9\")*0)/COUNTA(#REF!)/100,\"N/A\")","v":{"$error":"#REF!"}},{"$f":"IF(AND(COUNTA(B380:V380)<>0,#REF!<>\"\"),AVERAGE(W380:AC380),\"N/A\")","v":{"$error":"#REF!"}},1,1,1,1,1,{"$error":"#REF!"},{"$error":"#REF!"},{"$error":"#REF!"}]
[{"$nulls":22},"N/A","N/A","N/A","N/A","N/A",{"$f":"IF(COUNTA(#REF!)>0,(COUNTIF(#REF!,\"=0\")*0+COUNTIF(#REF!,\"=1\")*100+COUNTIF(#REF!,\"=2\")*80+COUNTIF(#REF!,\"=3\")*50+COUNTIF(#REF!,\"=8\")*20+COUNTIF(#REF!,\"=9\")*0)/COUNTA(#REF!)/100,\"N/A\")","v":{"$error":"#REF!"}},{"$f":"IF(COUNTA(#REF!)>0,(COUNTIF(#REF!,\"=0\")*0+COUNTIF(#REF!,\"=1\")*100+COUNTIF(#REF!,\"=2\")*80+COUNTIF(#REF!,\"=3\")*50+COUNTIF(#REF!,\"=8\")*20+COUNTIF(#REF!,\"=9\")*0)/COUNTA(#REF!)/100,\"N/A\")","v":{"$error":"#REF!"}},{"$f":"IF(AND(COUNTA(B381:V381)<>0,#REF!<>\"\"),AVERAGE(W381:AC381),\"N/A\")","v":{"$error":"#REF!"}},1,1,1,1,1,{"$error":"#REF!"},{"$error":"#REF!"},{"$error":"#REF!"}]
[{"$nulls":22},"N/A","N/A","N/A","N/A","N/A",{"$f":"IF(COUNTA(#REF!)>0,(COUNTIF(#REF!,\"=0\")*0+COUNTIF(#REF!,\"=1\")*100+COUNTIF(#REF!,\"=2\")*80+COUNTIF(#REF!,\"=3\")*50+COUNTIF(#REF!,\"=8\")*20+COUNTIF(#REF!,\"=9\")*0)/COUNTA(#REF!)/100,\"N/A\")","v":{"$error":"#REF!"}},{"$f":"IF(COUNTA(#REF!)>0,(COUNTIF(#REF!,\"=0\")*0+COUNTIF(#REF!,\"=1\")*100+COUNTIF(#REF!,\"=2\")*80+COUNTIF(#REF!,\"=3\")*50+COUNTIF(#REF!,\"=8\")*20+COUNTIF(#REF!,\"=9\")*0)/COUNTA(#REF!)/100,\"N/A\")","v":{"$error":"#REF!"}},{"$f":"IF(AND(COUNTA(B382:V382)<>0,#REF!<>\"\"),AVERAGE(W382:AC382),\"N/A\")","v":{"$error":"#REF!"}},1,1,1,1,1,{"$error":"#REF!"},{"$error":"#REF!"},{"$error":"#REF!"}]
[{"$nulls":22},"N/A","N/A","N/A","N/A","N/A",{"$f":"IF(COUNTA(#REF!)>0,(COUNTIF(#REF!,\"=0\")*0+COUNTIF(#REF!,\"=1\")*100+COUNTIF(#REF!,\"=2\")*80+COUNTIF(#REF!,\"=3\")*50+COUNTIF(#REF!,\"=8\")*20+COUNTIF(#REF!,\"=9\")*0)/COUNTA(#REF!)/100,\"N/A\")","v":{"$error":"#REF!"}},{"$f":"IF(COUNTA(#REF!)>0,(COUNTIF(#REF!,\"=0\")*0+COUNTIF(#REF!,\"=1\")*100+COUNTIF(#REF!,\"=2\")*80+COUNTIF(#REF!,\"=3\")*50+COUNTIF(#REF!,\"=8\")*20+COUNTIF(#REF!,\"=9\")*0)/COUNTA(#REF!)/100,\"N/A\")","v":{"$error":"#REF!"}},{"$f":"IF(AND(COUNTA(B383:V383)<>0,#REF!<>\"\"),AVERAGE(W383:AC383),\"N/A\")","v":{"$error":"#REF!"}},{"$f":"IF(W383=\"N/A\",1,\"\")","v":1},1,1,1,1,{"$error":"#REF!"},{"$error":"#REF!"},{"$error":"#REF!"}]
[{"$nulls":22},"N/A","N/A","N/A","N/A","N/A",{"$f":"IF(COUNTA(#REF!)>0,(COUNTIF(#REF!,\"=0\")*0+COUNTIF(#REF!,\"=1\")*100+COUNTIF(#REF!,\"=2\")*80+COUNTIF(#REF!,\"=3\")*50+COUNTIF(#REF!,\"=8\")*20+COUNTIF(#REF!,\"=9\")*0)/COUNTA(#REF!)/100,\"N/A\")","v":{"$error":"#REF!"}},{"$f":"IF(COUNTA(#REF!)>0,(COUNTIF(#REF!,\"=0\")*0+COUNTIF(#REF!,\"=1\")*100+COUNTIF(#REF!,\"=2\")*80+COUNTIF(#REF!,\"=3\")*50+COUNTIF(#REF!,\"=8\")*20+COUNTIF(#REF!,\"=9\")*0)/COUNTA(#REF!)/100,\"N/A\")","v":{"$error":"#REF!"}},{"$f":"IF(AND(COUNTA(B384:V384)<>0,#REF!<>\"\"),AVERAGE(W384:AC384),\"N/A\")","v":{"$error":"#REF!"}},1,1,1,1,1,{"$error":"#REF!"},{"$error":"#REF!"},{"$error":"#REF!"}]
[{"$nulls":22},{"$f":"IF(COUNTA(B385:G385)>0,(COUNTIF(B385:G385,\"=0\")*0+COUNTIF(B385:G385,\"=1\")*100+COUNTIF(B385:G385,\"=2\")*80+COUNTIF(B385:G385,\"=3\")*50+COUNTIF(B385:G385,\"=8\")*20+COUNTIF(B385:G385,\"=9\")*0)/COUNTA(B385:G385)/100,\"N/A\")","v":"N/A"},{"$f":"IF(COUNTA(K385:O385)>0,(COUNTIF(K385:O385,\"=0\")*0+COUNTIF(K385:O385,\"=1\")*100+COUNTIF(K385:O385,\"=2\")*80+COUNTIF(K385:O385,\"=3\")*50+COUNTIF(K385:O385,\"=8\")*20+COUNTIF(K385:O385,\"=9\")*0)/COUNTA(K385:O385)/100,\"N/A\")","v":"N/A"},{"$f":"IF(COUNTA(P385)>0,(COUNTIF(P385,\"=0\")*0+COUNTIF(P385,\"=1\")*100+COUNTIF(P385,\"=2\")*80+COUNTIF(P385,\"=3\")*50+COUNTIF(P385,\"=8\")*20+COUNTIF(P385,\"=9\")*0)/COUNTA(P385)/100,\"N/A\")","v":"N/A"},"N/A","N/A",{"$f":"IF(COUNTA(#REF!)>0,(COUNTIF(#REF!,\"=0\")*0+COUNTIF(#REF!,\"=1\")*100+COUNTIF(#REF!,\"=2\")*80+COUNTIF(#REF!,\"=3\")*50+COUNTIF(#REF!,\"=8\")*20+COUNTIF(#REF!,\"=9\")*0)/COUNTA(#REF!)/100,\"N/A\")","v":{"$error":"#REF!"}},{"$f":"IF(COUNTA(#REF!)>0,(COUNTIF(#REF!,\"=0\")*0+COUNTIF(#REF!,\"=1\")*100+COUNTIF(#REF!,\"=2\")*80+COUNTIF(#REF!,\"=3\")*50+COUNTIF(#REF!,\"=8\")*20+COUNTIF(#REF!,\"=9\")*0)/COUNTA(#REF!)/100,\"N/A\")","v":{"$error":"#REF!"}},{"$f":"IF(AND(COUNTA(B385:V385)<>0,#REF!<>\"\"),AVERAGE(W385:AC385),\"N/A\")","v":{"$error":"#REF!"}},1,1,1,1,1,{"$error":"#REF!"},{"$error":"#REF!"},{"$error":"#REF!"}]
[{"$nulls":22},"N/A","N/A","N/A","N/A","N/A",{"$f":"IF(COUNTA(#REF!)>0,(COUNTIF(#REF!,\"=0\")*0+COUNTIF(#REF!,\"=1\")*100+COUNTIF(#REF!,\"=2\")*80+COUNTIF(#REF!,\"=3\")*50+COUNTIF(#REF!,\"=8\")*20+COUNTIF(#REF!,\"=9\")*0)/COUNTA(#REF!)/100,\"N/A\")","v":{"$error":"#REF!"}},{"$f":"IF(COUNTA(#REF!)>0,(COUNTIF(#REF!,\"=0\")*0+COUNTIF(#REF!,\"=1\")*100+COUNTIF(#REF!,\"=2\")*80+COUNTIF(#REF!,\"=3\")*50+COUNTIF(#REF!,\"=8\")*20+COUNTIF(#REF!,\"=9\")*0)/COUNTA(#REF!)/100,\"N/A\")","v":{"$error":"#REF!"}},{"$f":"IF(AND(COUNTA(B386:V386)<>0,#REF!<>\"\"),AVERAGE(W386:AC386),\"N/A\")","v":{"$error":"#REF!"}},1,1,1,1,1,{"$error":"#REF!"},{"$error":"#REF!"},{"$error":"#REF!"}]
[{"$nulls":22},"N/A","N/A","N/A","N/A","N/A",{"$f":"IF(COUNTA(#REF!)>0,(COUNTIF(#REF!,\"=0\")*0+COUNTIF(#REF!,\"=1\")*100+COUNTIF(#REF!,\"=2\")*80+COUNTIF(#REF!,\"=3\")*50+COUNTIF(#REF!,\"=8\")*20+COUNTIF(#REF!,\"=9\")*0)/COUNTA(#REF!)/100,\"N/A\")","v":{"$error":"#REF!"}},{"$f":"IF(COUNTA(#REF!)>0,(COUNTIF(#REF!,\"=0\")*0+COUNTIF(#REF!,\"=1\")*100+COUNTIF(#REF!,\"=2\")*80+COUNTIF(#REF!,\"=3\")*50+COUNTIF(#REF!,\"=8\")*20+COUNTIF(#REF!,\"=9\")*0)/COUNTA(#REF!)/100,\"N/A\")","v":{"$error":"#REF!"}},{"$f":"IF(AND(COUNTA(B387:V387)<>0,#REF!<>\"\"),AVERAGE(W387:AC387),\"N/A\")","v":{"$error":"#REF!"}},1,1,1,1,1,{"$error":"#REF!"},{"$error":"#REF!"},{"$error":"#REF!"}]
[{"$nulls":22},"N/A","N/A","N/A","N/A","N/A",{"$f":"IF(COUNTA(#REF!)>0,(COUNTIF(#REF!,\"=0\")*0+COUNTIF(#REF!,\"=1\")*100+COUNTIF(#REF!,\"=2\")*80+COUNTIF(#REF!,\"=3\")*50+COUNTIF(#REF!,\"=8\")*20+COUNTIF(#REF!,\"=9\")*0)/COUNTA(#REF!)/100,\"N/A\")","v":{"$error":"#REF!"}},{"$f":"IF(COUNTA(#REF!)>0,(COUNTIF(#REF!,\"=0\")*0+COUNTIF(#REF!,\"=1\")*100+COUNTIF(#REF!,\"=2\")*80+COUNTIF(#REF!,\"=3\")*50+COUNTIF(#REF!,\"=8\")*20+COUNTIF(#REF!,\"=9\")*0)/COUNTA(#REF!)/100,\"N/A\")","v":{"$error":"#REF!"}},{"$f":"IF(AND(COUNTA(B388:V388)<>0,#REF!<>\"\"),AVERAGE(W388:AC388),\"N/A\")","v":{"$error":"#REF!"}},1,1,1,1,1,{"$error":"#REF!"},{"$error":"#REF!"},{"$error":"#REF!"}]
[{"$nulls":22},"N/A","N/A","N/A","N/A","N/A",{"$f":"IF(COUNTA(#REF!)>0,(COUNTIF(#REF!,\"=0\")*0+COUNTIF(#REF!,\"=1\")*100+COUNTIF(#REF!,\"=2\")*80+COUNTIF(#REF!,\"=3\")*50+COUNTIF(#REF!,\"=8\")*20+COUNTIF(#REF!,\"=9\")*0)/COUNTA(#REF!)/100,\"N/A\")","v":{"$error":"#REF!"}},{"$f":"IF(COUNTA(#REF!)>0,(COUNTIF(#REF!,\"=0\")*0+COUNTIF(#REF!,\"=1\")*100+COUNTIF(#REF!,\"=2\")*80+COUNTIF(#REF!,\"=3\")*50+COUNTIF(#REF!,\"=8\")*20+COUNTIF(#REF!,\"=9\")*0)/COUNTA(#REF!)/100,\"N/A\")","v":{"$error":"#REF!"}},{"$f":"IF(AND(COUNTA(B389:V389)<>0,#REF!<>\"\"),AVERAGE(W389:AC389),\"N/A\")","v":{"$error":"#REF!"}},1,1,1,1,1,{"$error":"#REF!"},{"$error":"#REF!"},{"$error":"#REF!"}]
[{"$nulls":22},"N/A","N/A","N/A","N/A","N/A",{"$f":"IF(COUNTA(#REF!)>0,(COUNTIF(#REF!,\"=0\")*0+COUNTIF(#REF!,\"=1\")*100+COUNTIF(#REF!,\"=2\")*80+COUNTIF(#REF!,\"=3\")*50+COUNTIF(#REF!,\"=8\")*20+COUNTIF(#REF!,\"=9\")*0)/COUNTA(#REF!)/100,\"N/A\")","v":{"$error":"#REF!"}},{"$f":"IF(COUNTA(#REF!)>0,(COUNTIF(#REF!,\"=0\")*0+COUNTIF(#REF!,\"=1\")*100+COUNTIF(#REF!,\"=2\")*80+COUNTIF(#REF!,\"=3\")*50+COUNTIF(#REF!,\"=8\")*20+COUNTIF(#REF!,\"=9\")*0)/COUNTA(#REF!)/100,\"N/A\")","v":{"$error":"#REF!"}},{"$f":"IF(AND(COUNTA(B390:V390)<>0,#REF!<>\"\"),AVERAGE(W390:AC390),\"N/A\")","v":{"$error":"#REF!"}},1,1,1,1,1,{"$error":"#REF!"},{"$error":"#REF!"},{"$error":"#REF!"}]
[{"$nulls":22},"N/A","N/A","N/A","N/A","N/A",{"$f":"IF(COUNTA(#REF!)>0,(COUNTIF(#REF!,\"=0\")*0+COUNTIF(#REF!,\"=1\")*100+COUNTIF(#REF!,\"=2\")*80+COUNTIF(#REF!,\"=3\")*50+COUNTIF(#REF!,\"=8\")*20+COUNTIF(#REF!,\"=9\")*0)/COUNTA(#REF!)/100,\"N/A\")","v":{"$error":"#REF!"}},{"$f":"IF(COUNTA(#REF!)>0,(COUNTIF(#REF!,\"=0\")*0+COUNTIF(#REF!,\"=1\")*100+COUNTIF(#REF!,\"=2\")*80+COUNTIF(#REF!,\"=3\")*50+COUNTIF(#REF!,\"=8\")*20+COUNTIF(#REF!,\"=9\")*0)/COUNTA(#REF!)/100,\"N/A\")","v":{"$error":"#REF!"}},{"$f":"IF(AND(COUNTA(B391:V391)<>0,#REF!<>\"\"),AVERAGE(W391:AC391),\"N/A\")","v":{"$error":"#REF!"}},1,1,1,1,1,{"$error":"#REF!"},{"$error":"#REF!"},{"$error":"#REF!"}]
[{"$nulls":22},"N/A","N/A","N/A","N/A","N/A",{"$f":"IF(COUNTA(#REF!)>0,(COUNTIF(#REF!,\"=0\")*0+COUNTIF(#REF!,\"=1\")*100+COUNTIF(#REF!,\"=2\")*80+COUNTIF(#REF!,\"=3\")*50+COUNTIF(#REF!,\"=8\")*20+COUNTIF(#REF!,\"=9\")*0)/COUNTA(#REF!)/100,\"N/A\")","v":{"$error":"#REF!"}},{"$f":"IF(COUNTA(#REF!)>0,(COUNTIF(#REF!,\"=0\")*0+COUNTIF(#REF!,\"=1\")*100+COUNTIF(#REF!,\"=2\")*80+COUNTIF(#REF!,\"=3\")*50+COUNTIF(#REF!,\"=8\")*20+COUNTIF(#REF!,\"=9\")*0)/COUNTA(#REF!)/100,\"N/A\")","v":{"$error":"#REF!"}},{"$f":"IF(AND(COUNTA(B392:V392)<>0,#REF!<>\"\"),AVERAGE(W392:AC392),\"N/A\")","v":{"$error":"#REF!"}},1,1,1,1,1,{"$error":"#REF!"},{"$error":"#REF!"},{"$error":"#REF!"}]
[{"$nulls":22},"N/A","N/A","N/A","N/A","N/A",{"$f":"IF(COUNTA(#REF!)>0,(COUNTIF(#REF!,\"=0\")*0+COUNTIF(#REF!,\"=1\")*100+COUNTIF(#REF!,\"=2\")*80+COUNTIF(#REF!,\"=3\")*50+COUNTIF(#REF!,\"=8\")*20+COUNTIF(#REF!,\"=9\")*0)/COUNTA(#REF!)/100,\"N/A\")","v":{"$error":"#REF!"}},{"$f":"IF(COUNTA(#REF!)>0,(COUNTIF(#REF!,\"=0\")*0+COUNTIF(#REF!,\"=1\")*100+COUNTIF(#REF!,\"=2\")*80+COUNTIF(#REF!,\"=3\")*50+COUNTIF(#REF!,\"=8\")*20+COUNTIF(#REF!,\"=9\")*0)/COUNTA(#REF!)/100,\"N/A\")","v":{"$error":"#REF!"}},{"$f":"IF(AND(COUNTA(B393:V393)<>0,#REF!<>\"\"),AVERAGE(W393:AC393),\"N/A\")","v":{"$error":"#REF!"}},1,1,1,1,1,{"$error":"#REF!"},{"$error":"#REF!"},{"$error":"#REF!"}]
[{"$nulls":22},"N/A","N/A","N/A","N/A","N/A",{"$f":"IF(COUNTA(#REF!)>0,(COUNTIF(#REF!,\"=0\")*0+COUNTIF(#REF!,\"=1\")*100+COUNTIF(#REF!,\"=2\")*80+COUNTIF(#REF!,\"=3\")*50+COUNTIF(#REF!,\"=8\")*20+COUNTIF(#REF!,\"=9\")*0)/COUNTA(#REF!)/100,\"N/A\")","v":{"$error":"#REF!"}},{"$f":"IF(COUNTA(#REF!)>0,(COUNTIF(#REF!,\"=0\")*0+COUNTIF(#REF!,\"=1\")*100+COUNTIF(#REF!,\"=2\")*80+COUNTIF(#REF!,\"=3\")*50+COUNTIF(#REF!,\"=8\")*20+COUNTIF(#REF!,\"=9\")*0)/COUNTA(#REF!)/100,\"N/A\")","v":{"$error":"#REF!"}},{"$f":"IF(AND(COUNTA(B394:V394)<>0,#REF!<>\"\"),AVERAGE(W394:AC394),\"N/A\")","v":{"$error":"#REF!"}},1,1,1,1,1,{"$error":"#REF!"},{"$error":"#REF!"},{"$error":"#REF!"}]
[{"$nulls":22},"N/A","N/A","N/A","N/A","N/A",{"$f":"IF(COUNTA(#REF!)>0,(COUNTIF(#REF!,\"=0\")*0+COUNTIF(#REF!,\"=1\")*100+COUNTIF(#REF!,\"=2\")*80+COUNTIF(#REF!,\"=3\")*50+COUNTIF(#REF!,\"=8\")*20+COUNTIF(#REF!,\"=9\")*0)/COUNTA(#REF!)/100,\"N/A\")","v":{"$error":"#REF!"}},{"$f":"IF(COUNTA(#REF!)>0,(COUNTIF(#REF!,\"=0\")*0+COUNTIF(#REF!,\"=1\")*100+COUNTIF(#REF!,\"=2\")*80+COUNTIF(#REF!,\"=3\")*50+COUNTIF(#REF!,\"=8\")*20+COUNTIF(#REF!,\"=9\")*0)/COUNTA(#REF!)/100,\"N/A\")","v":{"$error":"#REF!"}},{"$f":"IF(AND(COUNTA(B395:V395)<>0,#REF!<>\"\"),AVERAGE(W395:AC395),\"N/A\")","v":{"$error":"#REF!"}},1,1,1,1,1,{"$error":"#REF!"},{"$error":"#REF!"},{"$error":"#REF!"}]
[{"$nulls":22},"N/A","N/A","N/A","N/A","N/A",{"$f":"IF(COUNTA(#REF!)>0,(COUNTIF(#REF!,\"=0\")*0+COUNTIF(#REF!,\"=1\")*100+COUNTIF(#REF!,\"=2\")*80+COUNTIF(#REF!,\"=3\")*50+COUNTIF(#REF!,\"=8\")*20+COUNTIF(#REF!,\"=9\")*0)/COUNTA(#REF!)/100,\"N/A\")","v":{"$error":"#REF!"}},{"$f":"IF(COUNTA(#REF!)>0,(COUNTIF(#REF!,\"=0\")*0+COUNTIF(#REF!,\"=1\")*100+COUNTIF(#REF!,\"=2\")*80+COUNTIF(#REF!,\"=3\")*50+COUNTIF(#REF!,\"=8\")*20+COUNTIF(#REF!,\"=9\")*0)/COUNTA(#REF!)/100,\"N/A\")","v":{"$error":"#REF!"}},{"$f":"IF(AND(COUNTA(B396:V396)<>0,#REF!<>\"\"),AVERAGE(W396:AC396),\"N/A\")","v":{"$error":"#REF!"}},1,1,1,1,1,{"$error":"#REF!"},{"$error":"#REF!"},{"$error":"#REF!"}]
[{"$nulls":22},"N/A","N/A","N/A","N/A","N/A",{"$f":"IF(COUNTA(#REF!)>0,(COUNTIF(#REF!,\"=0\")*0+COUNTIF(#REF!,\"=1\")*100+COUNTIF(#REF!,\"=2\")*80+COUNTIF(#REF!,\"=3\")*50+COUNTIF(#REF!,\"=8\")*20+COUNTIF(#REF!,\"=9\")*0)/COUNTA(#REF!)/100,\"N/A\")","v":{"$error":"#REF!"}},{"$f":"IF(COUNTA(#REF!)>0,(COUNTIF(#REF!,\"=0\")*0+COUNTIF(#REF!,\"=1\")*100+COUNTIF(#REF!,\"=2\")*80+COUNTIF(#REF!,\"=3\")*50+COUNTIF(#REF!,\"=8\")*20+COUNTIF(#REF!,\"=9\")*0)/COUNTA(#REF!)/100,\"N/A\")","v":{"$error":"#REF!"}},{"$f":"IF(AND(COUNTA(B397:V397)<>0,#REF!<>\"\"),AVERAGE(W397:AC397),\"N/A\")","v":{"$error":"#REF!"}},1,1,1,1,1,{"$error":"#REF!"},{"$error":"#REF!"},{"$error":"#REF!"}]
[{"$nulls":22},"N/A","N/A","N/A","N/A","N/A",{"$f":"IF(COUNTA(#REF!)>0,(COUNTIF(#REF!,\"=0\")*0+COUNTIF(#REF!,\"=1\")*100+COUNTIF(#REF!,\"=2\")*80+COUNTIF(#REF!,\"=3\")*50+COUNTIF(#REF!,\"=8\")*20+COUNTIF(#REF!,\"=9\")*0)/COUNTA(#REF!)/100,\"N/A\")","v":{"$error":"#REF!"}},{"$f":"IF(COUNTA(#REF!)>0,(COUNTIF(#REF!,\"=0\")*0+COUNTIF(#REF!,\"=1\")*100+COUNTIF(#REF!,\"=2\")*80+COUNTIF(#REF!,\"=3\")*50+COUNTIF(#REF!,\"=8\")*20+COUNTIF(#REF!,\"=9\")*0)/COUNTA(#REF!)/100,\"N/A\")","v":{"$error":"#REF!"}},{"$f":"IF(AND(COUNTA(B398:V398)<>0,#REF!<>\"\"),AVERAGE(W398:AC398),\"N/A\")","v":{"$error":"#REF!"}},1,1,1,1,1,{"$error":"#REF!"},{"$error":"#REF!"},{"$error":"#REF!"}]
[{"$nulls":22},"N/A","N/A","N/A",{"$f":"IF(COUNTA(Q399:U399)<>0,(COUNTIF(Q399:U399,\"=0\")*0+COUNTIF(Q399:U399,\"=1\")*100+COUNTIF(Q399:U399,\"=2\")*80+COUNTIF(Q399:U399,\"=3\")*50+COUNTIF(Q399:U399,\"=8\")*20+COUNTIF(Q399:U399,\"=9\")*0)/COUNTA(Q399:U399)/100,\"N/A\")","v":"N/A"},{"$f":"IF(COUNTA(V399:V399)>0,(COUNTIF(V399:V399,\"=0\")*0+COUNTIF(V399:V399,\"=1\")*100+COUNTIF(V399:V399,\"=2\")*80+COUNTIF(V399:V399,\"=3\")*50+COUNTIF(V399:V399,\"=8\")*20+COUNTIF(V399:V399,\"=9\")*0)/COUNTA(V399:V399)/100,\"N/A\")","v":"N/A"},{"$f":"IF(COUNTA(#REF!)>0,(COUNTIF(#REF!,\"=0\")*0+COUNTIF(#REF!,\"=1\")*100+COUNTIF(#REF!,\"=2\")*80+COUNTIF(#REF!,\"=3\")*50+COUNTIF(#REF!,\"=8\")*20+COUNTIF(#REF!,\"=9\")*0)/COUNTA(#REF!)/100,\"N/A\")","v":{"$error":"#REF!"}},{"$f":"IF(COUNTA(#REF!)>0,(COUNTIF(#REF!,\"=0\")*0+COUNTIF(#REF!,\"=1\")*100+COUNTIF(#REF!,\"=2\")*80+COUNTIF(#REF!,\"=3\")*50+COUNTIF(#REF!,\"=8\")*20+COUNTIF(#REF!,\"=9\")*0)/COUNTA(#REF!)/100,\"N/A\")","v":{"$error":"#REF!"}},{"$f":"IF(AND(COUNTA(B399:V399)<>0,#REF!<>\"\"),AVERAGE(W399:AC399),\"N/A\")","v":{"$error":"#REF!"}},1,1,1,1,1,{"$error":"#REF!"},{"$error":"#REF!"},{"$error":"#REF!"}]
[{"$nulls":22},"N/A","N/A","N/A","N/A","N/A",{"$f":"IF(COUNTA(#REF!)>0,(COUNTIF(#REF!,\"=0\")*0+COUNTIF(#REF!,\"=1\")*100+COUNTIF(#REF!,\"=2\")*80+COUNTIF(#REF!,\"=3\")*50+COUNTIF(#REF!,\"=8\")*20+COUNTIF(#REF!,\"=9\")*0)/COUNTA(#REF!)/100,\"N/A\")","v":{"$error":"#REF!"}},{"$f":"IF(COUNTA(#REF!)>0,(COUNTIF(#REF!,\"=0\")*0+COUNTIF(#REF!,\"=1\")*100+COUNTIF(#REF!,\"=2\")*80+COUNTIF(#REF!,\"=3\")*50+COUNTIF(#REF!,\"=8\")*20+COUNTIF(#REF!,\"=9\")*0)/COUNTA(#REF!)/100,\"N/A\")","v":{"$error":"#REF!"}},{"$f":"IF(AND(COUNTA(B400:V400)<>0,#REF!<>\"\"),AVERAGE(W400:AC400),\"N/A\")","v":{"$error":"#REF!"}},1,1,1,1,1,{"$error":"#REF!"},{"$error":"#REF!"},{"$error":"#REF!"}]
[{"$nulls":22},"N/A","N/A","N/A","N/A","N/A",{"$f":"IF(COUNTA(#REF!)>0,(COUNTIF(#REF!,\"=0\")*0+COUNTIF(#REF!,\"=1\")*100+COUNTIF(#REF!,\"=2\")*80+COUNTIF(#REF!,\"=3\")*50+COUNTIF(#REF!,\"=8\")*20+COUNTIF(#REF!,\"=9\")*0)/COUNTA(#REF!)/100,\"N/A\")","v":{"$error":"#REF!"}},{"$f":"IF(COUNTA(#REF!)>0,(COUNTIF(#REF!,\"=0\")*0+COUNTIF(#REF!,\"=1\")*100+COUNTIF(#REF!,\"=2\")*80+COUNTIF(#REF!,\"=3\")*50+COUNTIF(#REF!,\"=8\")*20+COUNTIF(#REF!,\"=9\")*0)/COUNTA(#REF!)/100,\"N/A\")","v":{"$error":"#REF!"}},{"$f":"IF(AND(COUNTA(B401:V401)<>0,#REF!<>\"\"),AVERAGE(W401:AC401),\"N/A\")","v":{"$error":"#REF!"}},1,1,1,1,1,{"$error":"#REF!"},{"$error":"#REF!"},{"$error":"#REF!"}]
[{"$nulls":22},"N/A","N/A","N/A","N/A","N/A",{"$f":"IF(COUNTA(#REF!)>0,(COUNTIF(#REF!,\"=0\")*0+COUNTIF(#REF!,\"=1\")*100+COUNTIF(#REF!,\"=2\")*80+COUNTIF(#REF!,\"=3\")*50+COUNTIF(#REF!,\"=8\")*20+COUNTIF(#REF!,\"=9\")*0)/COUNTA(#REF!)/100,\"N/A\")","v":{"$error":"#REF!"}},{"$f":"IF(COUNTA(#REF!)>0,(COUNTIF(#REF!,\"=0\")*0+COUNTIF(#REF!,\"=1\")*100+COUNTIF(#REF!,\"=2\")*80+COUNTIF(#REF!,\"=3\")*50+COUNTIF(#REF!,\"=8\")*20+COUNTIF(#REF!,\"=9\")*0)/COUNTA(#REF!)/100,\"N/A\")","v":{"$error":"#REF!"}},{"$f":"IF(AND(COUNTA(B402:V402)<>0,#REF!<>\"\"),AVERAGE(W402:AC402),\"N/A\")","v":{"$error":"#REF!"}},1,1,1,1,1,{"$error":"#REF!"},{"$error":"#REF!"},{"$error":"#REF!"}]
[{"$nulls":22},"N/A","N/A","N/A","N/A","N/A",{"$f":"IF(COUNTA(#REF!)>0,(COUNTIF(#REF!,\"=0\")*0+COUNTIF(#REF!,\"=1\")*100+COUNTIF(#REF!,\"=2\")*80+COUNTIF(#REF!,\"=3\")*50+COUNTIF(#REF!,\"=8\")*20+COUNTIF(#REF!,\"=9\")*0)/COUNTA(#REF!)/100,\"N/A\")","v":{"$error":"#REF!"}},{"$f":"IF(COUNTA(#REF!)>0,(COUNTIF(#REF!,\"=0\")*0+COUNTIF(#REF!,\"=1\")*100+COUNTIF(#REF!,\"=2\")*80+COUNTIF(#REF!,\"=3\")*50+COUNTIF(#REF!,\"=8\")*20+COUNTIF(#REF!,\"=9\")*0)/COUNTA(#REF!)/100,\"N/A\")","v":{"$error":"#REF!"}},{"$f":"IF(AND(COUNTA(B403:V403)<>0,#REF!<>\"\"),AVERAGE(W403:AC403),\"N/A\")","v":{"$error":"#REF!"}},1,1,1,1,1,{"$error":"#REF!"},{"$error":"#REF!"},{"$error":"#REF!"}]
[{"$nulls":22},"N/A","N/A","N/A","N/A","N/A",{"$f":"IF(COUNTA(#REF!)>0,(COUNTIF(#REF!,\"=0\")*0+COUNTIF(#REF!,\"=1\")*100+COUNTIF(#REF!,\"=2\")*80+COUNTIF(#REF!,\"=3\")*50+COUNTIF(#REF!,\"=8\")*20+COUNTIF(#REF!,\"=9\")*0)/COUNTA(#REF!)/100,\"N/A\")","v":{"$error":"#REF!"}},{"$f":"IF(COUNTA(#REF!)>0,(COUNTIF(#REF!,\"=0\")*0+COUNTIF(#REF!,\"=1\")*100+COUNTIF(#REF!,\"=2\")*80+COUNTIF(#REF!,\"=3\")*50+COUNTIF(#REF!,\"=8\")*20+COUNTIF(#REF!,\"=9\")*0)/COUNTA(#REF!)/100,\"N/A\")","v":{"$error":"#REF!"}},{"$f":"IF(AND(COUNTA(B404:V404)<>0,#REF!<>\"\"),AVERAGE(W404:AC404),\"N/A\")","v":{"$error":"#REF!"}},1,1,1,1,1,{"$error":"#REF!"},{"$error":"#REF!"},{"$error":"#REF!"}]
[{"$nulls":22},"N/A","N/A","N/A","N/A","N/A",{"$f":"IF(COUNTA(#REF!)>0,(COUNTIF(#REF!,\"=0\")*0+COUNTIF(#REF!,\"=1\")*100+COUNTIF(#REF!,\"=2\")*80+COUNTIF(#REF!,\"=3\")*50+COUNTIF(#REF!,\"=8\")*20+COUNTIF(#REF!,\"=9\")*0)/COUNTA(#REF!)/100,\"N/A\")","v":{"$error":"#REF!"}},{"$f":"IF(COUNTA(#REF!)>0,(COUNTIF(#REF!,\"=0\")*0+COUNTIF(#REF!,\"=1\")*100+COUNTIF(#REF!,\"=2\")*80+COUNTIF(#REF!,\"=3\")*50+COUNTIF(#REF!,\"=8\")*20+COUNTIF(#REF!,\"=9\")*0)/COUNTA(#REF!)/100,\"N/A\")","v":{"$error":"#REF!"}},{"$f":"IF(AND(COUNTA(B405:V405)<>0,#REF!<>\"\"),AVERAGE(W405:AC405),\"N/A\")","v":{"$error":"#REF!"}},1,1,1,1,1,{"$error":"#REF!"},{"$error":"#REF!"},{"$error":"#REF!"}]
[{"$nulls":22},"N/A","N/A","N/A","N/A","N/A",{"$f":"IF(COUNTA(#REF!)>0,(COUNTIF(#REF!,\"=0\")*0+COUNTIF(#REF!,\"=1\")*100+COUNTIF(#REF!,\"=2\")*80+COUNTIF(#REF!,\"=3\")*50+COUNTIF(#REF!,\"=8\")*20+COUNTIF(#REF!,\"=9\")*0)/COUNTA(#REF!)/100,\"N/A\")","v":{"$error":"#REF!"}},{"$f":"IF(COUNTA(#REF!)>0,(COUNTIF(#REF!,\"=0\")*0+COUNTIF(#REF!,\"=1\")*100+COUNTIF(#REF!,\"=2\")*80+COUNTIF(#REF!,\"=3\")*50+COUNTIF(#REF!,\"=8\")*20+COUNTIF(#REF!,\"=9\")*0)/COUNTA(#REF!)/100,\"N/A\")","v":{"$error":"#REF!"}},{"$f":"IF(AND(COUNTA(B406:V406)<>0,#REF!<>\"\"),AVERAGE(W406:AC406),\"N/A\")","v":{"$error":"#REF!"}},1,1,1,1,1,{"$error":"#REF!"},{"$error":"#REF!"},{"$error":"#REF!"}]
[{"$nulls":22},"N/A","N/A","N/A","N/A","N/A",{"$f":"IF(COUNTA(#REF!)>0,(COUNTIF(#REF!,\"=0\")*0+COUNTIF(#REF!,\"=1\")*100+COUNTIF(#REF!,\"=2\")*80+COUNTIF(#REF!,\"=3\")*50+COUNTIF(#REF!,\"=8\")*20+COUNTIF(#REF!,\"=9\")*0)/COUNTA(#REF!)/100,\"N/A\")","v":{"$error":"#REF!"}},{"$f":"IF(COUNTA(#REF!)>0,(COUNTIF(#REF!,\"=0\")*0+COUNTIF(#REF!,\"=1\")*100+COUNTIF(#REF!,\"=2\")*80+COUNTIF(#REF!,\"=3\")*50+COUNTIF(#REF!,\"=8\")*20+COUNTIF(#REF!,\"=9\")*0)/COUNTA(#REF!)/100,\"N/A\")","v":{"$error":"#REF!"}},{"$f":"IF(AND(COUNTA(B407:V407)<>0,#REF!<>\"\"),AVERAGE(W407:AC407),\"N/A\")","v":{"$error":"#REF!"}},1,1,1,1,1,{"$error":"#REF!"},{"$error":"#REF!"},{"$error":"#REF!"}]
[{"$nulls":22},"N/A","N/A","N/A","N/A","N/A",{"$f":"IF(COUNTA(#REF!)>0,(COUNTIF(#REF!,\"=0\")*0+COUNTIF(#REF!,\"=1\")*100+COUNTIF(#REF!,\"=2\")*80+COUNTIF(#REF!,\"=3\")*50+COUNTIF(#REF!,\"=8\")*20+COUNTIF(#REF!,\"=9\")*0)/COUNTA(#REF!)/100,\"N/A\")","v":{"$error":"#REF!"}},{"$f":"IF(COUNTA(#REF!)>0,(COUNTIF(#REF!,\"=0\")*0+COUNTIF(#REF!,\"=1\")*100+COUNTIF(#REF!,\"=2\")*80+COUNTIF(#REF!,\"=3\")*50+COUNTIF(#REF!,\"=8\")*20+COUNTIF(#REF!,\"=9\")*0)/COUNTA(#REF!)/100,\"N/A\")","v":{"$error":"#REF!"}},{"$f":"IF(AND(COUNTA(B408:V408)<>0,#REF!<>\"\"),AVERAGE(W408:AC408),\"N/A\")","v":{"$error":"#REF!"}},1,1,1,1,1,{"$error":"#REF!"},{"$error":"#REF!"},{"$error":"#REF!"}]
[{"$nulls":22},"N/A","N/A","N/A","N/A","N/A",{"$f":"IF(COUNTA(#REF!)>0,(COUNTIF(#REF!,\"=0\")*0+COUNTIF(#REF!,\"=1\")*100+COUNTIF(#REF!,\"=2\")*80+COUNTIF(#REF!,\"=3\")*50+COUNTIF(#REF!,\"=8\")*20+COUNTIF(#REF!,\"=9\")*0)/COUNTA(#REF!)/100,\"N/A\")","v":{"$error":"#REF!"}},{"$f":"IF(COUNTA(#REF!)>0,(COUNTIF(#REF!,\"=0\")*0+COUNTIF(#REF!,\"=1\")*100+COUNTIF(#REF!,\"=2\")*80+COUNTIF(#REF!,\"=3\")*50+COUNTIF(#REF!,\"=8\")*20+COUNTIF(#REF!,\"=9\")*0)/COUNTA(#REF!)/100,\"N/A\")","v":{"$error":"#REF!"}},{"$f":"IF(AND(COUNTA(B409:V409)<>0,#REF!<>\"\"),AVERAGE(W409:AC409),\"N/A\")","v":{"$error":"#REF!"}},1,1,1,1,1,{"$error":"#REF!"},{"$error":"#REF!"},{"$error":"#REF!"}]
[{"$nulls":22},"N/A","N/A","N/A","N/A","N/A",{"$f":"IF(COUNTA(#REF!)>0,(COUNTIF(#REF!,\"=0\")*0+COUNTIF(#REF!,\"=1\")*100+COUNTIF(#REF!,\"=2\")*80+COUNTIF(#REF!,\"=3\")*50+COUNTIF(#REF!,\"=8\")*20+COUNTIF(#REF!,\"=9\")*0)/COUNTA(#REF!)/100,\"N/A\")","v":{"$error":"#REF!"}},{"$f":"IF(COUNTA(#REF!)>0,(COUNTIF(#REF!,\"=0\")*0+COUNTIF(#REF!,\"=1\")*100+COUNTIF(#REF!,\"=2\")*80+COUNTIF(#REF!,\"=3\")*50+COUNTIF(#REF!,\"=8\")*20+COUNTIF(#REF!,\"=9\")*0)/COUNTA(#REF!)/100,\"N/A\")","v":{"$error":"#REF!"}},{"$f":"IF(AND(COUNTA(B410:V410)<>0,#REF!<>\"\"),AVERAGE(W410:AC410),\"N/A\")","v":{"$error":"#REF!"}},1,1,1,1,1,{"$error":"#REF!"},{"$error":"#REF!"},{"$error":"#REF!"}]
[{"$nulls":22},"N/A","N/A","N/A","N/A","N/A",{"$f":"IF(COUNTA(#REF!)>0,(COUNTIF(#REF!,\"=0\")*0+COUNTIF(#REF!,\"=1\")*100+COUNTIF(#REF!,\"=2\")*80+COUNTIF(#REF!,\"=3\")*50+COUNTIF(#REF!,\"=8\")*20+COUNTIF(#REF!,\"=9\")*0)/COUNTA(#REF!)/100,\"N/A\")","v":{"$error":"#REF!"}},{"$f":"IF(COUNTA(#REF!)>0,(COUNTIF(#REF!,\"=0\")*0+COUNTIF(#REF!,\"=1\")*100+COUNTIF(#REF!,\"=2\")*80+COUNTIF(#REF!,\"=3\")*50+COUNTIF(#REF!,\"=8\")*20+COUNTIF(#REF!,\"=9\")*0)/COUNTA(#REF!)/100,\"N/A\")","v":{"$error":"#REF!"}},{"$f":"IF(AND(COUNTA(B411:V411)<>0,#REF!<>\"\"),AVERAGE(W411:AC411),\"N/A\")","v":{"$error":"#REF!"}},1,1,1,1,1,{"$error":"#REF!"},{"$error":"#REF!"},{"$error":"#REF!"}]
[{"$nulls":22},"N/A","N/A","N/A","N/A","N/A",{"$f":"IF(COUNTA(#REF!)>0,(COUNTIF(#REF!,\"=0\")*0+COUNTIF(#REF!,\"=1\")*100+COUNTIF(#REF!,\"=2\")*80+COUNTIF(#REF!,\"=3\")*50+COUNTIF(#REF!,\"=8\")*20+COUNTIF(#REF!,\"=9\")*0)/COUNTA(#REF!)/100,\"N/A\")","v":{"$error":"#REF!"}},{"$f":"IF(COUNTA(#REF!)>0,(COUNTIF(#REF!,\"=0\")*0+COUNTIF(#REF!,\"=1\")*100+COUNTIF(#REF!,\"=2\")*80+COUNTIF(#REF!,\"=3\")*50+COUNTIF(#REF!,\"=8\")*20+COUNTIF(#REF!,\"=9\")*0)/COUNTA(#REF!)/100,\"N/A\")","v":{"$error":"#REF!"}},{"$f":"IF(AND(COUNTA(B412:V412)<>0,#REF!<>\"\"),AVERAGE(W412:AC412),\"N/A\")","v":{"$error":"#REF!"}},1,1,1,1,1,{"$error":"#REF!"},{"$error":"#REF!"},{"$error":"#REF!"}]
[{"$nulls":22},"N/A","N/A","N/A","N/A","N/A",{"$f":"IF(COUNTA(#REF!)>0,(COUNTIF(#REF!,\"=0\")*0+COUNTIF(#REF!,\"=1\")*100+COUNTIF(#REF!,\"=2\")*80+COUNTIF(#REF!,\"=3\")*50+COUNTIF(#REF!,\"=8\")*20+COUNTIF(#REF!,\"=9\")*0)/COUNTA(#REF!)/100,\"N/A\")","v":{"$error":"#REF!"}},{"$f":"IF(COUNTA(#REF!)>0,(COUNTIF(#REF!,\"=0\")*0+COUNTIF(#REF!,\"=1\")*100+COUNTIF(#REF!,\"=2\")*80+COUNTIF(#REF!,\"=3\")*50+COUNTIF(#REF!,\"=8\")*20+COUNTIF(#REF!,\"=9\")*0)/COUNTA(#REF!)/100,\"N/A\")","v":{"$error":"#REF!"}},{"$f":"IF(AND(COUNTA(B413:V413)<>0,#REF!<>\"\"),AVERAGE(W413:AC413),\"N/A\")","v":{"$error":"#REF!"}},1,1,1,1,1,{"$error":"#REF!"},{"$error":"#REF!"},{"$error":"#REF!"}]
[{"$nulls":22},"N/A","N/A","N/A","N/A","N/A",{"$f":"IF(COUNTA(#REF!)>0,(COUNTIF(#REF!,\"=0\")*0+COUNTIF(#REF!,\"=1\")*100+COUNTIF(#REF!,\"=2\")*80+COUNTIF(#REF!,\"=3\")*50+COUNTIF(#REF!,\"=8\")*20+COUNTIF(#REF!,\"=9\")*0)/COUNTA(#REF!)/100,\"N/A\")","v":{"$error":"#REF!"}},{"$f":"IF(COUNTA(#REF!)>0,(COUNTIF(#REF!,\"=0\")*0+COUNTIF(#REF!,\"=1\")*100+COUNTIF(#REF!,\"=2\")*80+COUNTIF(#REF!,\"=3\")*50+COUNTIF(#REF!,\"=8\")*20+COUNTIF(#REF!,\"=9\")*0)/COUNTA(#REF!)/100,\"N/A\")","v":{"$error":"#REF!"}},{"$f":"IF(AND(COUNTA(B414:V414)<>0,#REF!<>\"\"),AVERAGE(W414:AC414),\"N/A\")","v":{"$error":"#REF!"}},1,1,1,1,1,{"$error":"#REF!"},{"$error":"#REF!"},{"$error":"#REF!"}]
[{"$nulls":22},"N/A","N/A","N/A","N/A","N/A",{"$f":"IF(COUNTA(#REF!)>0,(COUNTIF(#REF!,\"=0\")*0+COUNTIF(#REF!,\"=1\")*100+COUNTIF(#REF!,\"=2\")*80+COUNTIF(#REF!,\"=3\")*50+COUNTIF(#REF!,\"=8\")*20+COUNTIF(#REF!,\"=9\")*0)/COUNTA(#REF!)/100,\"N/A\")","v":{"$error":"#REF!"}},{"$f":"IF(COUNTA(#REF!)>0,(COUNTIF(#REF!,\"=0\")*0+COUNTIF(#REF!,\"=1\")*100+COUNTIF(#REF!,\"=2\")*80+COUNTIF(#REF!,\"=3\")*50+COUNTIF(#REF!,\"=8\")*20+COUNTIF(#REF!,\"=9\")*0)/COUNTA(#REF!)/100,\"N/A\")","v":{"$error":"#REF!"}},{"$f":"IF(AND(COUNTA(B415:V415)<>0,#REF!<>\"\"),AVERAGE(W415:AC415),\"N/A\")","v":{"$error":"#REF!"}},1,1,1,1,1,{"$error":"#REF!"},{"$error":"#REF!"},{"$error":"#REF!"}]
[{"$nulls":22},"N/A","N/A","N/A","N/A","N/A",{"$f":"IF(COUNTA(#REF!)>0,(COUNTIF(#REF!,\"=0\")*0+COUNTIF(#REF!,\"=1\")*100+COUNTIF(#REF!,\"=2\")*80+COUNTIF(#REF!,\"=3\")*50+COUNTIF(#REF!,\"=8\")*20+COUNTIF(#REF!,\"=9\")*0)/COUNTA(#REF!)/100,\"N/A\")","v":{"$error":"#REF!"}},{"$f":"IF(COUNTA(#REF!)>0,(COUNTIF(#REF!,\"=0\")*0+COUNTIF(#REF!,\"=1\")*100+COUNTIF(#REF!,\"=2\")*80+COUNTIF(#REF!,\"=3\")*50+COUNTIF(#REF!,\"=8\")*20+COUNTIF(#REF!,\"=9\")*0)/COUNTA(#REF!)/100,\"N/A\")","v":{"$error":"#REF!"}},{"$f":"IF(AND(COUNTA(B416:V416)<>0,#REF!<>\"\"),AVERAGE(W416:AC416),\"N/A\")","v":{"$error":"#REF!"}},1,1,1,1,1,{"$error":"#REF!"},{"$error":"#REF!"},{"$error":"#REF!"}]
[{"$nulls":22},"N/A","N/A","N/A","N/A","N/A",{"$f":"IF(COUNTA(#REF!)>0,(COUNTIF(#REF!,\"=0\")*0+COUNTIF(#REF!,\"=1\")*100+COUNTIF(#REF!,\"=2\")*80+COUNTIF(#REF!,\"=3\")*50+COUNTIF(#REF!,\"=8\")*20+COUNTIF(#REF!,\"=9\")*0)/COUNTA(#REF!)/100,\"N/A\")","v":{"$error":"#REF!"}},{"$f":"IF(COUNTA(#REF!)>0,(COUNTIF(#REF!,\"=0\")*0+COUNTIF(#REF!,\"=1\")*100+COUNTIF(#REF!,\"=2\")*80+COUNTIF(#REF!,\"=3\")*50+COUNTIF(#REF!,\"=8\")*20+COUNTIF(#REF!,\"=9\")*0)/COUNTA(#REF!)/100,\"N/A\")","v":{"$error":"#REF!"}},{"$f":"IF(AND(COUNTA(B417:V417)<>0,#REF!<>\"\"),AVERAGE(W417:AC417),\"N/A\")","v":{"$error":"#REF!"}},1,1,1,1,1,{"$error":"#REF!"},{"$error":"#REF!"},{"$error":"#REF!"}]
[{"$nulls":22},"N/A","N/A","N/A","N/A","N/A",{"$f":"IF(COUNTA(#REF!)>0,(COUNTIF(#REF!,\"=0\")*0+COUNTIF(#REF!,\"=1\")*100+COUNTIF(#REF!,\"=2\")*80+COUNTIF(#REF!,\"=3\")*50+COUNTIF(#REF!,\"=8\")*20+COUNTIF(#REF!,\"=9\")*0)/COUNTA(#REF!)/100,\"N/A\")","v":{"$error":"#REF!"}},{"$f":"IF(COUNTA(#REF!)>0,(COUNTIF(#REF!,\"=0\")*0+COUNTIF(#REF!,\"=1\")*100+COUNTIF(#REF!,\"=2\")*80+COUNTIF(#REF!,\"=3\")*50+COUNTIF(#REF!,\"=8\")*20+COUNTIF(#REF!,\"=9\")*0)/COUNTA(#REF!)/100,\"N/A\")","v":{"$error":"#REF!"}},{"$f":"IF(AND(COUNTA(B418:V418)<>0,#REF!<>\"\"),AVERAGE(W418:AC418),\"N/A\")","v":{"$error":"#REF!"}},1,1,1,1,1,{"$error":"#REF!"},{"$error":"#REF!"},{"$error":"#REF!"}]
[{"$nulls":22},"N/A","N/A","N/A","N/A","N/A",{"$f":"IF(COUNTA(#REF!)>0,(COUNTIF(#REF!,\"=0\")*0+COUNTIF(#REF!,\"=1\")*100+COUNTIF(#REF!,\"=2\")*80+COUNTIF(#REF!,\"=3\")*50+COUNTIF(#REF!,\"=8\")*20+COUNTIF(#REF!,\"=9\")*0)/COUNTA(#REF!)/100,\"N/A\")","v":{"$error":"#REF!"}},{"$f":"IF(COUNTA(#REF!)>0,(COUNTIF(#REF!,\"=0\")*0+COUNTIF(#REF!,\"=1\")*100+COUNTIF(#REF!,\"=2\")*80+COUNTIF(#REF!,\"=3\")*50+COUNTIF(#REF!,\"=8\")*20+COUNTIF(#REF!,\"=9\")*0)/COUNTA(#REF!)/100,\"N/A\")","v":{"$error":"#REF!"}},{"$f":"IF(AND(COUNTA(B419:V419)<>0,#REF!<>\"\"),AVERAGE(W419:AC419),\"N/A\")","v":{"$error":"#REF!"}},1,1,1,1,1,{"$error":"#REF!"},{"$error":"#REF!"},{"$error":"#REF!"}]
[{"$nulls":22},"N/A","N/A","N/A","N/A","N/A",{"$f":"IF(COUNTA(#REF!)>0,(COUNTIF(#REF!,\"=0\")*0+COUNTIF(#REF!,\"=1\")*100+COUNTIF(#REF!,\"=2\")*80+COUNTIF(#REF!,\"=3\")*50+COUNTIF(#REF!,\"=8\")*20+COUNTIF(#REF!,\"=9\")*0)/COUNTA(#REF!)/100,\"N/A\")","v":{"$error":"#REF!"}},{"$f":"IF(COUNTA(#REF!)>0,(COUNTIF(#REF!,\"=0\")*0+COUNTIF(#REF!,\"=1\")*100+COUNTIF(#REF!,\"=2\")*80+COUNTIF(#REF!,\"=3\")*50+COUNTIF(#REF!,\"=8\")*20+COUNTIF(#REF!,\"=9\")*0)/COUNTA(#REF!)/100,\"N/A\")","v":{"$error":"#REF!"}},{"$f":"IF(AND(COUNTA(B420:V420)<>0,#REF!<>\"\"),AVERAGE(W420:AC420),\"N/A\")","v":{"$error":"#REF!"}},1,1,1,1,1,{"$error":"#REF!"},{"$error":"#REF!"},{"$error":"#REF!"}]
[{"$nulls":22},"N/A","N/A","N/A","N/A","N/A",{"$f":"IF(COUNTA(#REF!)>0,(COUNTIF(#REF!,\"=0\")*0+COUNTIF(#REF!,\"=1\")*100+COUNTIF(#REF!,\"=2\")*80+COUNTIF(#REF!,\"=3\")*50+COUNTIF(#REF!,\"=8\")*20+COUNTIF(#REF!,\"=9\")*0)/COUNTA(#REF!)/100,\"N/A\")","v":{"$error":"#REF!"}},{"$f":"IF(COUNTA(#REF!)>0,(COUNTIF(#REF!,\"=0\")*0+COUNTIF(#REF!,\"=1\")*100+COUNTIF(#REF!,\"=2\")*80+COUNTIF(#REF!,\"=3\")*50+COUNTIF(#REF!,\"=8\")*20+COUNTIF(#REF!,\"=9\")*0)/COUNTA(#REF!)/100,\"N/A\")","v":{"$error":"#REF!"}},{"$f":"IF(AND(COUNTA(B421:V421)<>0,#REF!<>\"\"),AVERAGE(W421:AC421),\"N/A\")","v":{"$error":"#REF!"}},1,1,1,1,1,{"$error":"#REF!"},{"$error":"#REF!"},{"$error":"#REF!"}]
[{"$nulls":22},"N/A","N/A","N/A","N/A","N/A",{"$f":"IF(COUNTA(#REF!)>0,(COUNTIF(#REF!,\"=0\")*0+COUNTIF(#REF!,\"=1\")*100+COUNTIF(#REF!,\"=2\")*80+COUNTIF(#REF!,\"=3\")*50+COUNTIF(#REF!,\"=8\")*20+COUNTIF(#REF!,\"=9\")*0)/COUNTA(#REF!)/100,\"N/A\")","v":{"$error":"#REF!"}},{"$f":"IF(COUNTA(#REF!)>0,(COUNTIF(#REF!,\"=0\")*0+COUNTIF(#REF!,\"=1\")*100+COUNTIF(#REF!,\"=2\")*80+COUNTIF(#REF!,\"=3\")*50+COUNTIF(#REF!,\"=8\")*20+COUNTIF(#REF!,\"=9\")*0)/COUNTA(#REF!)/100,\"N/A\")","v":{"$error":"#REF!"}},{"$f":"IF(AND(COUNTA(B422:V422)<>0,#REF!<>\"\"),AVERAGE(W422:AC422),\"N/A\")","v":{"$error":"#REF!"}},1,1,1,1,1,{"$error":"#REF!"},{"$error":"#REF!"},{"$error":"#REF!"}]
[{"$nulls":22},"N/A","N/A","N/A","N/A","N/A",{"$f":"IF(COUNTA(#REF!)>0,(COUNTIF(#REF!,\"=0\")*0+COUNTIF(#REF!,\"=1\")*100+COUNTIF(#REF!,\"=2\")*80+COUNTIF(#REF!,\"=3\")*50+COUNTIF(#REF!,\"=8\")*20+COUNTIF(#REF!,\"=9\")*0)/COUNTA(#REF!)/100,\"N/A\")","v":{"$error":"#REF!"}},{"$f":"IF(COUNTA(#REF!)>0,(COUNTIF(#REF!,\"=0\")*0+COUNTIF(#REF!,\"=1\")*100+COUNTIF(#REF!,\"=2\")*80+COUNTIF(#REF!,\"=3\")*50+COUNTIF(#REF!,\"=8\")*20+COUNTIF(#REF!,\"=9\")*0)/COUNTA(#REF!)/100,\"N/A\")","v":{"$error":"#REF!"}},{"$f":"IF(AND(COUNTA(B423:V423)<>0,#REF!<>\"\"),AVERAGE(W423:AC423),\"N/A\")","v":{"$error":"#REF!"}},1,1,1,1,1,{"$error":"#REF!"},{"$error":"#REF!"},{"$error":"#REF!"}]
[{"$nulls":22},"N/A","N/A","N/A","N/A","N/A",{"$f":"IF(COUNTA(#REF!)>0,(COUNTIF(#REF!,\"=0\")*0+COUNTIF(#REF!,\"=1\")*100+COUNTIF(#REF!,\"=2\")*80+COUNTIF(#REF!,\"=3\")*50+COUNTIF(#REF!,\"=8\")*20+COUNTIF(#REF!,\"=9\")*0)/COUNTA(#REF!)/100,\"N/A\")","v":{"$error":"#REF!"}},{"$f":"IF(COUNTA(#REF!)>0,(COUNTIF(#REF!,\"=0\")*0+COUNTIF(#REF!,\"=1\")*100+COUNTIF(#REF!,\"=2\")*80+COUNTIF(#REF!,\"=3\")*50+COUNTIF(#REF!,\"=8\")*20+COUNTIF(#REF!,\"=9\")*0)/COUNTA(#REF!)/100,\"N/A\")","v":{"$error":"#REF!"}},{"$f":"IF(AND(COUNTA(B424:V424)<>0,#REF!<>\"\"),AVERAGE(W424:AC424),\"N/A\")","v":{"$error":"#REF!"}},1,1,1,1,1,{"$error":"#REF!"},{"$error":"#REF!"},{"$error":"#REF!"}]
[{"$nulls":22},"N/A","N/A","N/A","N/A","N/A",{"$f":"IF(COUNTA(#REF!)>0,(COUNTIF(#REF!,\"=0\")*0+COUNTIF(#REF!,\"=1\")*100+COUNTIF(#REF!,\"=2\")*80+COUNTIF(#REF!,\"=3\")*50+COUNTIF(#REF!,\"=8\")*20+COUNTIF(#REF!,\"=9\")*0)/COUNTA(#REF!)/100,\"N/A\")","v":{"$error":"#REF!"}},{"$f":"IF(COUNTA(#REF!)>0,(COUNTIF(#REF!,\"=0\")*0+COUNTIF(#REF!,\"=1\")*100+COUNTIF(#REF!,\"=2\")*80+COUNTIF(#REF!,\"=3\")*50+COUNTIF(#REF!,\"=8\")*20+COUNTIF(#REF!,\"=9\")*0)/COUNTA(#REF!)/100,\"N/A\")","v":{"$error":"#REF!"}},{"$f":"IF(AND(COUNTA(B425:V425)<>0,#REF!<>\"\"),AVERAGE(W425:AC425),\"N/A\")","v":{"$error":"#REF!"}},1,1,1,1,1,{"$error":"#REF!"},{"$error":"#REF!"},{"$error":"#REF!"}]
[{"$nulls":22},"N/A","N/A","N/A","N/A","N/A",{"$f":"IF(COUNTA(#REF!)>0,(COUNTIF(#REF!,\"=0\")*0+COUNTIF(#REF!,\"=1\")*100+COUNTIF(#REF!,\"=2\")*80+COUNTIF(#REF!,\"=3\")*50+COUNTIF(#REF!,\"=8\")*20+COUNTIF(#REF!,\"=9\")*0)/COUNTA(#REF!)/100,\"N/A\")","v":{"$error":"#REF!"}},{"$f":"IF(COUNTA(#REF!)>0,(COUNTIF(#REF!,\"=0\")*0+COUNTIF(#REF!,\"=1\")*100+COUNTIF(#REF!,\"=2\")*80+COUNTIF(#REF!,\"=3\")*50+COUNTIF(#REF!,\"=8\")*20+COUNTIF(#REF!,\"=9\")*0)/COUNTA(#REF!)/100,\"N/A\")","v":{"$error":"#REF!"}},{"$f":"IF(AND(COUNTA(B426:V426)<>0,#REF!<>\"\"),AVERAGE(W426:AC426),\"N/A\")","v":{"$error":"#REF!"}},1,1,1,1,1,{"$error":"#REF!"},{"$error":"#REF!"},{"$error":"#REF!"}]
[{"$nulls":22},"N/A","N/A","N/A","N/A","N/A",{"$f":"IF(COUNTA(#REF!)>0,(COUNTIF(#REF!,\"=0\")*0+COUNTIF(#REF!,\"=1\")*100+COUNTIF(#REF!,\"=2\")*80+COUNTIF(#REF!,\"=3\")*50+COUNTIF(#REF!,\"=8\")*20+COUNTIF(#REF!,\"=9\")*0)/COUNTA(#REF!)/100,\"N/A\")","v":{"$error":"#REF!"}},{"$f":"IF(COUNTA(#REF!)>0,(COUNTIF(#REF!,\"=0\")*0+COUNTIF(#REF!,\"=1\")*100+COUNTIF(#REF!,\"=2\")*80+COUNTIF(#REF!,\"=3\")*50+COUNTIF(#REF!,\"=8\")*20+COUNTIF(#REF!,\"=9\")*0)/COUNTA(#REF!)/100,\"N/A\")","v":{"$error":"#REF!"}},{"$f":"IF(AND(COUNTA(B427:V427)<>0,#REF!<>\"\"),AVERAGE(W427:AC427),\"N/A\")","v":{"$error":"#REF!"}},1,1,1,1,1,{"$error":"#REF!"},{"$error":"#REF!"},{"$error":"#REF!"}]
[{"$nulls":22},"N/A","N/A","N/A","N/A","N/A",{"$f":"IF(COUNTA(#REF!)>0,(COUNTIF(#REF!,\"=0\")*0+COUNTIF(#REF!,\"=1\")*100+COUNTIF(#REF!,\"=2\")*80+COUNTIF(#REF!,\"=3\")*50+COUNTIF(#REF!,\"=8\")*20+COUNTIF(#REF!,\"=9\")*0)/COUNTA(#REF!)/100,\"N/A\")","v":{"$error":"#REF!"}},{"$f":"IF(COUNTA(#REF!)>0,(COUNTIF(#REF!,\"=0\")*0+COUNTIF(#REF!,\"=1\")*100+COUNTIF(#REF!,\"=2\")*80+COUNTIF(#REF!,\"=3\")*50+COUNTIF(#REF!,\"=8\")*20+COUNTIF(#REF!,\"=9\")*0)/COUNTA(#REF!)/100,\"N/A\")","v":{"$error":"#REF!"}},{"$f":"IF(AND(COUNTA(B428:V428)<>0,#REF!<>\"\"),AVERAGE(W428:AC428),\"N/A\")","v":{"$error":"#REF!"}},1,1,1,1,1,{"$error":"#REF!"},{"$error":"#REF!"},{"$error":"#REF!"}]
[{"$nulls":22},"N/A","N/A","N/A","N/A","N/A",{"$f":"IF(COUNTA(#REF!)>0,(COUNTIF(#REF!,\"=0\")*0+COUNTIF(#REF!,\"=1\")*100+COUNTIF(#REF!,\"=2\")*80+COUNTIF(#REF!,\"=3\")*50+COUNTIF(#REF!,\"=8\")*20+COUNTIF(#REF!,\"=9\")*0)/COUNTA(#REF!)/100,\"N/A\")","v":{"$error":"#REF!"}},{"$f":"IF(COUNTA(#REF!)>0,(COUNTIF(#REF!,\"=0\")*0+COUNTIF(#REF!,\"=1\")*100+COUNTIF(#REF!,\"=2\")*80+COUNTIF(#REF!,\"=3\")*50+COUNTIF(#REF!,\"=8\")*20+COUNTIF(#REF!,\"=9\")*0)/COUNTA(#REF!)/100,\"N/A\")","v":{"$error":"#REF!"}},{"$f":"IF(AND(COUNTA(B429:V429)<>0,#REF!<>\"\"),AVERAGE(W429:AC429),\"N/A\")","v":{"$error":"#REF!"}},1,1,1,1,1,{"$error":"#REF!"},{"$error":"#REF!"},{"$error":"#REF!"}]
[{"$nulls":22},"N/A","N/A","N/A","N/A","N/A",{"$f":"IF(COUNTA(#REF!)>0,(COUNTIF(#REF!,\"=0\")*0+COUNTIF(#REF!,\"=1\")*100+COUNTIF(#REF!,\"=2\")*80+COUNTIF(#REF!,\"=3\")*50+COUNTIF(#REF!,\"=8\")*20+COUNTIF(#REF!,\"=9\")*0)/COUNTA(#REF!)/100,\"N/A\")","v":{"$error":"#REF!"}},{"$f":"IF(COUNTA(#REF!)>0,(COUNTIF(#REF!,\"=0\")*0+COUNTIF(#REF!,\"=1\")*100+COUNTIF(#REF!,\"=2\")*80+COUNTIF(#REF!,\"=3\")*50+COUNTIF(#REF!,\"=8\")*20+COUNTIF(#REF!,\"=9\")*0)/COUNTA(#REF!)/100,\"N/A\")","v":{"$error":"#REF!"}},{"$f":"IF(AND(COUNTA(B430:V430)<>0,#REF!<>\"\"),AVERAGE(W430:AC430),\"N/A\")","v":{"$error":"#REF!"}},1,1,1,1,1,{"$error":"#REF!"},{"$error":"#REF!"},{"$error":"#REF!"}]
[{"$nulls":22},"N/A","N/A","N/A","N/A","N/A",{"$f":"IF(COUNTA(#REF!)>0,(COUNTIF(#REF!,\"=0\")*0+COUNTIF(#REF!,\"=1\")*100+COUNTIF(#REF!,\"=2\")*80+COUNTIF(#REF!,\"=3\")*50+COUNTIF(#REF!,\"=8\")*20+COUNTIF(#REF!,\"=9\")*0)/COUNTA(#REF!)/100,\"N/A\")","v":{"$error":"#REF!"}},{"$f":"IF(COUNTA(#REF!)>0,(COUNTIF(#REF!,\"=0\")*0+COUNTIF(#REF!,\"=1\")*100+COUNTIF(#REF!,\"=2\")*80+COUNTIF(#REF!,\"=3\")*50+COUNTIF(#REF!,\"=8\")*20+COUNTIF(#REF!,\"=9\")*0)/COUNTA(#REF!)/100,\"N/A\")","v":{"$error":"#REF!"}},{"$f":"IF(AND(COUNTA(B431:V431)<>0,#REF!<>\"\"),AVERAGE(W431:AC431),\"N/A\")","v":{"$error":"#REF!"}},1,1,1,1,1,{"$error":"#REF!"},{"$error":"#REF!"},{"$error":"#REF!"}]
[{"$nulls":22},"N/A","N/A","N/A","N/A","N/A",{"$f":"IF(COUNTA(#REF!)>0,(COUNTIF(#REF!,\"=0\")*0+COUNTIF(#REF!,\"=1\")*100+COUNTIF(#REF!,\"=2\")*80+COUNTIF(#REF!,\"=3\")*50+COUNTIF(#REF!,\"=8\")*20+COUNTIF(#REF!,\"=9\")*0)/COUNTA(#REF!)/100,\"N/A\")","v":{"$error":"#REF!"}},{"$f":"IF(COUNTA(#REF!)>0,(COUNTIF(#REF!,\"=0\")*0+COUNTIF(#REF!,\"=1\")*100+COUNTIF(#REF!,\"=2\")*80+COUNTIF(#REF!,\"=3\")*50+COUNTIF(#REF!,\"=8\")*20+COUNTIF(#REF!,\"=9\")*0)/COUNTA(#REF!)/100,\"N/A\")","v":{"$error":"#REF!"}},{"$f":"IF(AND(COUNTA(B432:V432)<>0,#REF!<>\"\"),AVERAGE(W432:AC432),\"N/A\")","v":{"$error":"#REF!"}},1,1,1,1,1,{"$error":"#REF!"},{"$error":"#REF!"},{"$error":"#REF!"}]
[{"$nulls":22},"N/A","N/A","N/A","N/A","N/A",{"$f":"IF(COUNTA(#REF!)>0,(COUNTIF(#REF!,\"=0\")*0+COUNTIF(#REF!,\"=1\")*100+COUNTIF(#REF!,\"=2\")*80+COUNTIF(#REF!,\"=3\")*50+COUNTIF(#REF!,\"=8\")*20+COUNTIF(#REF!,\"=9\")*0)/COUNTA(#REF!)/100,\"N/A\")","v":{"$error":"#REF!"}},{"$f":"IF(COUNTA(#REF!)>0,(COUNTIF(#REF!,\"=0\")*0+COUNTIF(#REF!,\"=1\")*100+COUNTIF(#REF!,\"=2\")*80+COUNTIF(#REF!,\"=3\")*50+COUNTIF(#REF!,\"=8\")*20+COUNTIF(#REF!,\"=9\")*0)/COUNTA(#REF!)/100,\"N/A\")","v":{"$error":"#REF!"}},{"$f":"IF(AND(COUNTA(B433:V433)<>0,#REF!<>\"\"),AVERAGE(W433:AC433),\"N/A\")","v":{"$error":"#REF!"}},1,1,1,1,1,{"$error":"#REF!"},{"$error":"#REF!"},{"$error":"#REF!"}]
[{"$nulls":22},"N/A","N/A","N/A","N/A","N/A",{"$f":"IF(COUNTA(#REF!)>0,(COUNTIF(#REF!,\"=0\")*0+COUNTIF(#REF!,\"=1\")*100+COUNTIF(#REF!,\"=2\")*80+COUNTIF(#REF!,\"=3\")*50+COUNTIF(#REF!,\"=8\")*20+COUNTIF(#REF!,\"=9\")*0)/COUNTA(#REF!)/100,\"N/A\")","v":{"$error":"#REF!"}},{"$f":"IF(COUNTA(#REF!)>0,(COUNTIF(#REF!,\"=0\")*0+COUNTIF(#REF!,\"=1\")*100+COUNTIF(#REF!,\"=2\")*80+COUNTIF(#REF!,\"=3\")*50+COUNTIF(#REF!,\"=8\")*20+COUNTIF(#REF!,\"=9\")*0)/COUNTA(#REF!)/100,\"N/A\")","v":{"$error":"#REF!"}},{"$f":"IF(AND(COUNTA(B434:V434)<>0,#REF!<>\"\"),AVERAGE(W434:AC434),\"N/A\")","v":{"$error":"#REF!"}},{"$f":"IF(W434=\"N/A\",1,\"\")","v":1},1,1,1,1,{"$error":"#REF!"},{"$error":"#REF!"},{"$error":"#REF!"}]
[{"$nulls":22},"N/A","N/A","N/A","N/A","N/A",{"$f":"IF(COUNTA(#REF!)>0,(COUNTIF(#REF!,\"=0\")*0+COUNTIF(#REF!,\"=1\")*100+COUNTIF(#REF!,\"=2\")*80+COUNTIF(#REF!,\"=3\")*50+COUNTIF(#REF!,\"=8\")*20+COUNTIF(#REF!,\"=9\")*0)/COUNTA(#REF!)/100,\"N/A\")","v":{"$error":"#REF!"}},{"$f":"IF(COUNTA(#REF!)>0,(COUNTIF(#REF!,\"=0\")*0+COUNTIF(#REF!,\"=1\")*100+COUNTIF(#REF!,\"=2\")*80+COUNTIF(#REF!,\"=3\")*50+COUNTIF(#REF!,\"=8\")*20+COUNTIF(#REF!,\"=9\")*0)/COUNTA(#REF!)/100,\"N/A\")","v":{"$error":"#REF!"}},{"$f":"IF(AND(COUNTA(B435:V435)<>0,#REF!<>\"\"),AVERAGE(W435:AC435),\"N/A\")","v":{"$error":"#REF!"}},1,1,1,1,1,{"$error":"#REF!"},{"$error":"#REF!"},{"$error":"#REF!"}]
[{"$nulls":22},"N/A","N/A","N/A","N/A","N/A",{"$f":"IF(COUNTA(#REF!)>0,(COUNTIF(#REF!,\"=0\")*0+COUNTIF(#REF!,\"=1\")*100+COUNTIF(#REF!,\"=2\")*80+COUNTIF(#REF!,\"=3\")*50+COUNTIF(#REF!,\"=8\")*20+COUNTIF(#REF!,\"=9\")*0)/COUNTA(#REF!)/100,\"N/A\")","v":{"$error":"#REF!"}},{"$f":"IF(COUNTA(#REF!)>0,(COUNTIF(#REF!,\"=0\")*0+COUNTIF(#REF!,\"=1\")*100+COUNTIF(#REF!,\"=2\")*80+COUNTIF(#REF!,\"=3\")*50+COUNTIF(#REF!,\"=8\")*20+COUNTIF(#REF!,\"=9\")*0)/COUNTA(#REF!)/100,\"N/A\")","v":{"$error":"#REF!"}},{"$f":"IF(AND(COUNTA(B436:V436)<>0,#REF!<>\"\"),AVERAGE(W436:AC436),\"N/A\")","v":{"$error":"#REF!"}},1,1,1,1,1,{"$error":"#REF!"},{"$error":"#REF!"},{"$error":"#REF!"}]
[{"$nulls":22},"N/A","N/A","N/A","N/A","N/A",{"$f":"IF(COUNTA(#REF!)>0,(COUNTIF(#REF!,\"=0\")*0+COUNTIF(#REF!,\"=1\")*100+COUNTIF(#REF!,\"=2\")*80+COUNTIF(#REF!,\"=3\")*50+COUNTIF(#REF!,\"=8\")*20+COUNTIF(#REF!,\"=9\")*0)/COUNTA(#REF!)/100,\"N/A\")","v":{"$error":"#REF!"}},{"$f":"IF(COUNTA(#REF!)>0,(COUNTIF(#REF!,\"=0\")*0+COUNTIF(#REF!,\"=1\")*100+COUNTIF(#REF!,\"=2\")*80+COUNTIF(#REF!,\"=3\")*50+COUNTIF(#REF!,\"=8\")*20+COUNTIF(#REF!,\"=9\")*0)/COUNTA(#REF!)/100,\"N/A\")","v":{"$error":"#REF!"}},{"$f":"IF(AND(COUNTA(B437:V437)<>0,#REF!<>\"\"),AVERAGE(W437:AC437),\"N/A\")","v":{"$error":"#REF!"}},1,1,1,1,1,{"$error":"#REF!"},{"$error":"#REF!"},{"$error":"#REF!"}]
[{"$nulls":22},"N/A","N/A","N/A","N/A","N/A",{"$f":"IF(COUNTA(#REF!)>0,(COUNTIF(#REF!,\"=0\")*0+COUNTIF(#REF!,\"=1\")*100+COUNTIF(#REF!,\"=2\")*80+COUNTIF(#REF!,\"=3\")*50+COUNTIF(#REF!,\"=8\")*20+COUNTIF(#REF!,\"=9\")*0)/COUNTA(#REF!)/100,\"N/A\")","v":{"$error":"#REF!"}},{"$f":"IF(COUNTA(#REF!)>0,(COUNTIF(#REF!,\"=0\")*0+COUNTIF(#REF!,\"=1\")*100+COUNTIF(#REF!,\"=2\")*80+COUNTIF(#REF!,\"=3\")*50+COUNTIF(#REF!,\"=8\")*20+COUNTIF(#REF!,\"=9\")*0)/COUNTA(#REF!)/100,\"N/A\")","v":{"$error":"#REF!"}},{"$f":"IF(AND(COUNTA(B438:V438)<>0,#REF!<>\"\"),AVERAGE(W438:AC438),\"N/A\")","v":{"$error":"#REF!"}},1,1,1,1,1,{"$error":"#REF!"},{"$error":"#REF!"},{"$error":"#REF!"}]
[{"$nulls":22},"N/A","N/A","N/A","N/A","N/A",{"$f":"IF(COUNTA(#REF!)>0,(COUNTIF(#REF!,\"=0\")*0+COUNTIF(#REF!,\"=1\")*100+COUNTIF(#REF!,\"=2\")*80+COUNTIF(#REF!,\"=3\")*50+COUNTIF(#REF!,\"=8\")*20+COUNTIF(#REF!,\"=9\")*0)/COUNTA(#REF!)/100,\"N/A\")","v":{"$error":"#REF!"}},{"$f":"IF(COUNTA(#REF!)>0,(COUNTIF(#REF!,\"=0\")*0+COUNTIF(#REF!,\"=1\")*100+COUNTIF(#REF!,\"=2\")*80+COUNTIF(#REF!,\"=3\")*50+COUNTIF(#REF!,\"=8\")*20+COUNTIF(#REF!,\"=9\")*0)/COUNTA(#REF!)/100,\"N/A\")","v":{"$error":"#REF!"}},{"$f":"IF(AND(COUNTA(B439:V439)<>0,#REF!<>\"\"),AVERAGE(W439:AC439),\"N/A\")","v":{"$error":"#REF!"}},1,1,1,1,1,{"$error":"#REF!"},{"$error":"#REF!"},{"$error":"#REF!"}]
[{"$nulls":22},"N/A","N/A","N/A","N/A","N/A",{"$f":"IF(COUNTA(#REF!)>0,(COUNTIF(#REF!,\"=0\")*0+COUNTIF(#REF!,\"=1\")*100+COUNTIF(#REF!,\"=2\")*80+COUNTIF(#REF!,\"=3\")*50+COUNTIF(#REF!,\"=8\")*20+COUNTIF(#REF!,\"=9\")*0)/COUNTA(#REF!)/100,\"N/A\")","v":{"$error":"#REF!"}},{"$f":"IF(COUNTA(#REF!)>0,(COUNTIF(#REF!,\"=0\")*0+COUNTIF(#REF!,\"=1\")*100+COUNTIF(#REF!,\"=2\")*80+COUNTIF(#REF!,\"=3\")*50+COUNTIF(#REF!,\"=8\")*20+COUNTIF(#REF!,\"=9\")*0)/COUNTA(#REF!)/100,\"N/A\")","v":{"$error":"#REF!"}},{"$f":"IF(AND(COUNTA(B440:V440)<>0,#REF!<>\"\"),AVERAGE(W440:AC440),\"N/A\")","v":{"$error":"#REF!"}},1,1,1,1,1,{"$error":"#REF!"},{"$error":"#REF!"},{"$error":"#REF!"}]
[{"$nulls":22},"N/A","N/A","N/A","N/A","N/A",{"$f":"IF(COUNTA(#REF!)>0,(COUNTIF(#REF!,\"=0\")*0+COUNTIF(#REF!,\"=1\")*100+COUNTIF(#REF!,\"=2\")*80+COUNTIF(#REF!,\"=3\")*50+COUNTIF(#REF!,\"=8\")*20+COUNTIF(#REF!,\"=9\")*0)/COUNTA(#REF!)/100,\"N/A\")","v":{"$error":"#REF!"}},{"$f":"IF(COUNTA(#REF!)>0,(COUNTIF(#REF!,\"=0\")*0+COUNTIF(#REF!,\"=1\")*100+COUNTIF(#REF!,\"=2\")*80+COUNTIF(#REF!,\"=3\")*50+COUNTIF(#REF!,\"=8\")*20+COUNTIF(#REF!,\"=9\")*0)/COUNTA(#REF!)/100,\"N/A\")","v":{"$error":"#REF!"}},{"$f":"IF(AND(COUNTA(B441:V441)<>0,#REF!<>\"\"),AVERAGE(W441:AC441),\"N/A\")","v":{"$error":"#REF!"}},1,1,1,1,1,{"$error":"#REF!"},{"$error":"#REF!"},{"$error":"#REF!"}]
[{"$nulls":22},"N/A","N/A","N/A","N/A","N/A",{"$f":"IF(COUNTA(#REF!)>0,(COUNTIF(#REF!,\"=0\")*0+COUNTIF(#REF!,\"=1\")*100+COUNTIF(#REF!,\"=2\")*80+COUNTIF(#REF!,\"=3\")*50+COUNTIF(#REF!,\"=8\")*20+COUNTIF(#REF!,\"=9\")*0)/COUNTA(#REF!)/100,\"N/A\")","v":{"$error":"#REF!"}},{"$f":"IF(COUNTA(#REF!)>0,(COUNTIF(#REF!,\"=0\")*0+COUNTIF(#REF!,\"=1\")*100+COUNTIF(#REF!,\"=2\")*80+COUNTIF(#REF!,\"=3\")*50+COUNTIF(#REF!,\"=8\")*20+COUNTIF(#REF!,\"=9\")*0)/COUNTA(#REF!)/100,\"N/A\")","v":{"$error":"#REF!"}},{"$f":"IF(AND(COUNTA(B442:V442)<>0,#REF!<>\"\"),AVERAGE(W442:AC442),\"N/A\")","v":{"$error":"#REF!"}},1,1,1,1,1,{"$error":"#REF!"},{"$error":"#REF!"},{"$error":"#REF!"}]
[{"$nulls":22},"N/A","N/A","N/A","N/A","N/A",{"$f":"IF(COUNTA(#REF!)>0,(COUNTIF(#REF!,\"=0\")*0+COUNTIF(#REF!,\"=1\")*100+COUNTIF(#REF!,\"=2\")*80+COUNTIF(#REF!,\"=3\")*50+COUNTIF(#REF!,\"=8\")*20+COUNTIF(#REF!,\"=9\")*0)/COUNTA(#REF!)/100,\"N/A\")","v":{"$error":"#REF!"}},{"$f":"IF(COUNTA(#REF!)>0,(COUNTIF(#REF!,\"=0\")*0+COUNTIF(#REF!,\"=1\")*100+COUNTIF(#REF!,\"=2\")*80+COUNTIF(#REF!,\"=3\")*50+COUNTIF(#REF!,\"=8\")*20+COUNTIF(#REF!,\"=9\")*0)/COUNTA(#REF!)/100,\"N/A\")","v":{"$error":"#REF!"}},{"$f":"IF(AND(COUNTA(B443:V443)<>0,#REF!<>\"\"),AVERAGE(W443:AC443),\"N/A\")","v":{"$error":"#REF!"}},1,1,1,1,1,{"$error":"#REF!"},{"$error":"#REF!"},{"$error":"#REF!"}]
[{"$nulls":22},"N/A","N/A","N/A","N/A","N/A",{"$f":"IF(COUNTA(#REF!)>0,(COUNTIF(#REF!,\"=0\")*0+COUNTIF(#REF!,\"=1\")*100+COUNTIF(#REF!,\"=2\")*80+COUNTIF(#REF!,\"=3\")*50+COUNTIF(#REF!,\"=8\")*20+COUNTIF(#REF!,\"=9\")*0)/COUNTA(#REF!)/100,\"N/A\")","v":{"$error":"#REF!"}},{"$f":"IF(COUNTA(#REF!)>0,(COUNTIF(#REF!,\"=0\")*0+COUNTIF(#REF!,\"=1\")*100+COUNTIF(#REF!,\"=2\")*80+COUNTIF(#REF!,\"=3\")*50+COUNTIF(#REF!,\"=8\")*20+COUNTIF(#REF!,\"=9\")*0)/COUNTA(#REF!)/100,\"N/A\")","v":{"$error":"#REF!"}},{"$f":"IF(AND(COUNTA(B444:V444)<>0,#REF!<>\"\"),AVERAGE(W444:AC444),\"N/A\")","v":{"$error":"#REF!"}},1,1,1,1,1,{"$error":"#REF!"},{"$error":"#REF!"},{"$error":"#REF!"}]
[{"$nulls":22},"N/A","N/A","N/A","N/A","N/A",{"$f":"IF(COUNTA(#REF!)>0,(COUNTIF(#REF!,\"=0\")*0+COUNTIF(#REF!,\"=1\")*100+COUNTIF(#REF!,\"=2\")*80+COUNTIF(#REF!,\"=3\")*50+COUNTIF(#REF!,\"=8\")*20+COUNTIF(#REF!,\"=9\")*0)/COUNTA(#REF!)/100,\"N/A\")","v":{"$error":"#REF!"}},{"$f":"IF(COUNTA(#REF!)>0,(COUNTIF(#REF!,\"=0\")*0+COUNTIF(#REF!,\"=1\")*100+COUNTIF(#REF!,\"=2\")*80+COUNTIF(#REF!,\"=3\")*50+COUNTIF(#REF!,\"=8\")*20+COUNTIF(#REF!,\"=9\")*0)/COUNTA(#REF!)/100,\"N/A\")","v":{"$error":"#REF!"}},{"$f":"IF(AND(COUNTA(B445:V445)<>0,#REF!<>\"\"),AVERAGE(W445:AC445),\"N/A\")","v":{"$error":"#REF!"}},1,1,1,1,1,{"$error":"#REF!"},{"$error":"#REF!"},{"$error":"#REF!"}]
[{"$nulls":22},"N/A","N/A","N/A","N/A","N/A",{"$f":"IF(COUNTA(#REF!)>0,(COUNTIF(#REF!,\"=0\")*0+COUNTIF(#REF!,\"=1\")*100+COUNTIF(#REF!,\"=2\")*80+COUNTIF(#REF!,\"=3\")*50+COUNTIF(#REF!,\"=8\")*20+COUNTIF(#REF!,\"=9\")*0)/COUNTA(#REF!)/100,\"N/A\")","v":{"$error":"#REF!"}},{"$f":"IF(COUNTA(#REF!)>0,(COUNTIF(#REF!,\"=0\")*0+COUNTIF(#REF!,\"=1\")*100+COUNTIF(#REF!,\"=2\")*80+COUNTIF(#REF!,\"=3\")*50+COUNTIF(#REF!,\"=8\")*20+COUNTIF(#REF!,\"=9\")*0)/COUNTA(#REF!)/100,\"N/A\")","v":{"$error":"#REF!"}},{"$f":"IF(AND(COUNTA(B446:V446)<>0,#REF!<>\"\"),AVERAGE(W446:AC446),\"N/A\")","v":{"$error":"#REF!"}},1,1,1,1,1,{"$error":"#REF!"},{"$error":"#REF!"},{"$error":"#REF!"}]
[{"$nulls":22},"N/A","N/A","N/A","N/A","N/A",{"$f":"IF(COUNTA(#REF!)>0,(COUNTIF(#REF!,\"=0\")*0+COUNTIF(#REF!,\"=1\")*100+COUNTIF(#REF!,\"=2\")*80+COUNTIF(#REF!,\"=3\")*50+COUNTIF(#REF!,\"=8\")*20+COUNTIF(#REF!,\"=9\")*0)/COUNTA(#REF!)/100,\"N/A\")","v":{"$error":"#REF!"}},{"$f":"IF(COUNTA(#REF!)>0,(COUNTIF(#REF!,\"=0\")*0+COUNTIF(#REF!,\"=1\")*100+COUNTIF(#REF!,\"=2\")*80+COUNTIF(#REF!,\"=3\")*50+COUNTIF(#REF!,\"=8\")*20+COUNTIF(#REF!,\"=9\")*0)/COUNTA(#REF!)/100,\"N/A\")","v":{"$error":"#REF!"}},{"$f":"IF(AND(COUNTA(B447:V447)<>0,#REF!<>\"\"),AVERAGE(W447:AC447),\"N/A\")","v":{"$error":"#REF!"}},1,1,1,1,1,{"$error":"#REF!"},{"$error":"#REF!"},{"$error":"#REF!"}]
[{"$nulls":22},"N/A","N/A","N/A","N/A","N/A",{"$f":"IF(COUNTA(#REF!)>0,(COUNTIF(#REF!,\"=0\")*0+COUNTIF(#REF!,\"=1\")*100+COUNTIF(#REF!,\"=2\")*80+COUNTIF(#REF!,\"=3\")*50+COUNTIF(#REF!,\"=8\")*20+COUNTIF(#REF!,\"=9\")*0)/COUNTA(#REF!)/100,\"N/A\")","v":{"$error":"#REF!"}},{"$f":"IF(COUNTA(#REF!)>0,(COUNTIF(#REF!,\"=0\")*0+COUNTIF(#REF!,\"=1\")*100+COUNTIF(#REF!,\"=2\")*80+COUNTIF(#REF!,\"=3\")*50+COUNTIF(#REF!,\"=8\")*20+COUNTIF(#REF!,\"=9\")*0)/COUNTA(#REF!)/100,\"N/A\")","v":{"$error":"#REF!"}},{"$f":"IF(AND(COUNTA(B448:V448)<>0,#REF!<>\"\"),AVERAGE(W448:AC448),\"N/A\")","v":{"$error":"#REF!"}},1,1,1,1,1,{"$error":"#REF!"},{"$error":"#REF!"},{"$error":"#REF!"}]
[{"$nulls":22},{"$f":"IF(COUNTA(B449:G449)>0,(COUNTIF(B449:G449,\"=0\")*0+COUNTIF(B449:G449,\"=1\")*100+COUNTIF(B449:G449,\"=2\")*80+COUNTIF(B449:G449,\"=3\")*50+COUNTIF(B449:G449,\"=8\")*20+COUNTIF(B449:G449,\"=9\")*0)/COUNTA(B449:G449)/100,\"N/A\")","v":"N/A"},{"$f":"IF(COUNTA(K449:O449)>0,(COUNTIF(K449:O449,\"=0\")*0+COUNTIF(K449:O449,\"=1\")*100+COUNTIF(K449:O449,\"=2\")*80+COUNTIF(K449:O449,\"=3\")*50+COUNTIF(K449:O449,\"=8\")*20+COUNTIF(K449:O449,\"=9\")*0)/COUNTA(K449:O449)/100,\"N/A\")","v":"N/A"},{"$f":"IF(COUNTA(P449)>0,(COUNTIF(P449,\"=0\")*0+COUNTIF(P449,\"=1\")*100+COUNTIF(P449,\"=2\")*80+COUNTIF(P449,\"=3\")*50+COUNTIF(P449,\"=8\")*20+COUNTIF(P449,\"=9\")*0)/COUNTA(P449)/100,\"N/A\")","v":"N/A"},"N/A","N/A",{"$f":"IF(COUNTA(#REF!)>0,(COUNTIF(#REF!,\"=0\")*0+COUNTIF(#REF!,\"=1\")*100+COUNTIF(#REF!,\"=2\")*80+COUNTIF(#REF!,\"=3\")*50+COUNTIF(#REF!,\"=8\")*20+COUNTIF(#REF!,\"=9\")*0)/COUNTA(#REF!)/100,\"N/A\")","v":{"$error":"#REF!"}},{"$f":"IF(COUNTA(#REF!)>0,(COUNTIF(#REF!,\"=0\")*0+COUNTIF(#REF!,\"=1\")*100+COUNTIF(#REF!,\"=2\")*80+COUNTIF(#REF!,\"=3\")*50+COUNTIF(#REF!,\"=8\")*20+COUNTIF(#REF!,\"=9\")*0)/COUNTA(#REF!)/100,\"N/A\")","v":{"$error":"#REF!"}},{"$f":"IF(AND(COUNTA(B449:V449)<>0,#REF!<>\"\"),AVERAGE(W449:AC449),\"N/A\")","v":{"$error":"#REF!"}},1,1,1,1,1,{"$error":"#REF!"},{"$error":"#REF!"},{"$error":"#REF!"}]
[{"$nulls":22},"N/A","N/A","N/A","N/A","N/A",{"$f":"IF(COUNTA(#REF!)>0,(COUNTIF(#REF!,\"=0\")*0+COUNTIF(#REF!,\"=1\")*100+COUNTIF(#REF!,\"=2\")*80+COUNTIF(#REF!,\"=3\")*50+COUNTIF(#REF!,\"=8\")*20+COUNTIF(#REF!,\"=9\")*0)/COUNTA(#REF!)/100,\"N/A\")","v":{"$error":"#REF!"}},{"$f":"IF(COUNTA(#REF!)>0,(COUNTIF(#REF!,\"=0\")*0+COUNTIF(#REF!,\"=1\")*100+COUNTIF(#REF!,\"=2\")*80+COUNTIF(#REF!,\"=3\")*50+COUNTIF(#REF!,\"=8\")*20+COUNTIF(#REF!,\"=9\")*0)/COUNTA(#REF!)/100,\"N/A\")","v":{"$error":"#REF!"}},{"$f":"IF(AND(COUNTA(B450:V450)<>0,#REF!<>\"\"),AVERAGE(W450:AC450),\"N/A\")","v":{"$error":"#REF!"}},1,1,1,1,1,{"$error":"#REF!"},{"$error":"#REF!"},{"$error":"#REF!"}]
[{"$nulls":22},"N/A","N/A","N/A","N/A","N/A",{"$f":"IF(COUNTA(#REF!)>0,(COUNTIF(#REF!,\"=0\")*0+COUNTIF(#REF!,\"=1\")*100+COUNTIF(#REF!,\"=2\")*80+COUNTIF(#REF!,\"=3\")*50+COUNTIF(#REF!,\"=8\")*20+COUNTIF(#REF!,\"=9\")*0)/COUNTA(#REF!)/100,\"N/A\")","v":{"$error":"#REF!"}},{"$f":"IF(COUNTA(#REF!)>0,(COUNTIF(#REF!,\"=0\")*0+COUNTIF(#REF!,\"=1\")*100+COUNTIF(#REF!,\"=2\")*80+COUNTIF(#REF!,\"=3\")*50+COUNTIF(#REF!,\"=8\")*20+COUNTIF(#REF!,\"=9\")*0)/COUNTA(#REF!)/100,\"N/A\")","v":{"$error":"#REF!"}},{"$f":"IF(AND(COUNTA(B451:V451)<>0,#REF!<>\"\"),AVERAGE(W451:AC451),\"N/A\")","v":{"$error":"#REF!"}},1,1,1,1,1,{"$error":"#REF!"},{"$error":"#REF!"},{"$error":"#REF!"}]
[{"$nulls":22},"N/A","N/A","N/A","N/A","N/A",{"$f":"IF(COUNTA(#REF!)>0,(COUNTIF(#REF!,\"=0\")*0+COUNTIF(#REF!,\"=1\")*100+COUNTIF(#REF!,\"=2\")*80+COUNTIF(#REF!,\"=3\")*50+COUNTIF(#REF!,\"=8\")*20+COUNTIF(#REF!,\"=9\")*0)/COUNTA(#REF!)/100,\"N/A\")","v":{"$error":"#REF!"}},{"$f":"IF(COUNTA(#REF!)>0,(COUNTIF(#REF!,\"=0\")*0+COUNTIF(#REF!,\"=1\")*100+COUNTIF(#REF!,\"=2\")*80+COUNTIF(#REF!,\"=3\")*50+COUNTIF(#REF!,\"=8\")*20+COUNTIF(#REF!,\"=9\")*0)/COUNTA(#REF!)/100,\"N/A\")","v":{"$error":"#REF!"}},{"$f":"IF(AND(COUNTA(B452:V452)<>0,#REF!<>\"\"),AVERAGE(W452:AC452),\"N/A\")","v":{"$error":"#REF!"}},1,1,1,1,1,{"$error":"#REF!"},{"$error":"#REF!"},{"$error":"#REF!"}]
[{"$nulls":22},"N/A","N/A","N/A","N/A","N/A",{"$f":"IF(COUNTA(#REF!)>0,(COUNTIF(#REF!,\"=0\")*0+COUNTIF(#REF!,\"=1\")*100+COUNTIF(#REF!,\"=2\")*80+COUNTIF(#REF!,\"=3\")*50+COUNTIF(#REF!,\"=8\")*20+COUNTIF(#REF!,\"=9\")*0)/COUNTA(#REF!)/100,\"N/A\")","v":{"$error":"#REF!"}},{"$f":"IF(COUNTA(#REF!)>0,(COUNTIF(#REF!,\"=0\")*0+COUNTIF(#REF!,\"=1\")*100+COUNTIF(#REF!,\"=2\")*80+COUNTIF(#REF!,\"=3\")*50+COUNTIF(#REF!,\"=8\")*20+COUNTIF(#REF!,\"=9\")*0)/COUNTA(#REF!)/100,\"N/A\")","v":{"$error":"#REF!"}},{"$f":"IF(AND(COUNTA(B453:V453)<>0,#REF!<>\"\"),AVERAGE(W453:AC453),\"N/A\")","v":{"$error":"#REF!"}},1,1,1,1,1,{"$error":"#REF!"},{"$error":"#REF!"},{"$error":"#REF!"}]
[{"$nulls":22},"N/A","N/A","N/A","N/A","N/A",{"$f":"IF(COUNTA(#REF!)>0,(COUNTIF(#REF!,\"=0\")*0+COUNTIF(#REF!,\"=1\")*100+COUNTIF(#REF!,\"=2\")*80+COUNTIF(#REF!,\"=3\")*50+COUNTIF(#REF!,\"=8\")*20+COUNTIF(#REF!,\"=9\")*0)/COUNTA(#REF!)/100,\"N/A\")","v":{"$error":"#REF!"}},{"$f":"IF(COUNTA(#REF!)>0,(COUNTIF(#REF!,\"=0\")*0+COUNTIF(#REF!,\"=1\")*100+COUNTIF(#REF!,\"=2\")*80+COUNTIF(#REF!,\"=3\")*50+COUNTIF(#REF!,\"=8\")*20+COUNTIF(#REF!,\"=9\")*0)/COUNTA(#REF!)/100,\"N/A\")","v":{"$error":"#REF!"}},{"$f":"IF(AND(COUNTA(B454:V454)<>0,#REF!<>\"\"),AVERAGE(W454:AC454),\"N/A\")","v":{"$error":"#REF!"}},1,1,1,1,1,{"$error":"#REF!"},{"$error":"#REF!"},{"$error":"#REF!"}]
[{"$nulls":22},"N/A","N/A","N/A","N/A","N/A",{"$f":"IF(COUNTA(#REF!)>0,(COUNTIF(#REF!,\"=0\")*0+COUNTIF(#REF!,\"=1\")*100+COUNTIF(#REF!,\"=2\")*80+COUNTIF(#REF!,\"=3\")*50+COUNTIF(#REF!,\"=8\")*20+COUNTIF(#REF!,\"=9\")*0)/COUNTA(#REF!)/100,\"N/A\")","v":{"$error":"#REF!"}},{"$f":"IF(COUNTA(#REF!)>0,(COUNTIF(#REF!,\"=0\")*0+COUNTIF(#REF!,\"=1\")*100+COUNTIF(#REF!,\"=2\")*80+COUNTIF(#REF!,\"=3\")*50+COUNTIF(#REF!,\"=8\")*20+COUNTIF(#REF!,\"=9\")*0)/COUNTA(#REF!)/100,\"N/A\")","v":{"$error":"#REF!"}},{"$f":"IF(AND(COUNTA(B455:V455)<>0,#REF!<>\"\"),AVERAGE(W455:AC455),\"N/A\")","v":{"$error":"#REF!"}},1,1,1,1,1,{"$error":"#REF!"},{"$error":"#REF!"},{"$error":"#REF!"}]
[{"$nulls":22},"N/A","N/A","N/A","N/A","N/A",{"$f":"IF(COUNTA(#REF!)>0,(COUNTIF(#REF!,\"=0\")*0+COUNTIF(#REF!,\"=1\")*100+COUNTIF(#REF!,\"=2\")*80+COUNTIF(#REF!,\"=3\")*50+COUNTIF(#REF!,\"=8\")*20+COUNTIF(#REF!,\"=9\")*0)/COUNTA(#REF!)/100,\"N/A\")","v":{"$error":"#REF!"}},{"$f":"IF(COUNTA(#REF!)>0,(COUNTIF(#REF!,\"=0\")*0+COUNTIF(#REF!,\"=1\")*100+COUNTIF(#REF!,\"=2\")*80+COUNTIF(#REF!,\"=3\")*50+COUNTIF(#REF!,\"=8\")*20+COUNTIF(#REF!,\"=9\")*0)/COUNTA(#REF!)/100,\"N/A\")","v":{"$error":"#REF!"}},{"$f":"IF(AND(COUNTA(B456:V456)<>0,#REF!<>\"\"),AVERAGE(W456:AC456),\"N/A\")","v":{"$error":"#REF!"}},1,1,1,1,1,{"$error":"#REF!"},{"$error":"#REF!"},{"$error":"#REF!"}]
[{"$nulls":22},"N/A","N/A","N/A","N/A","N/A",{"$f":"IF(COUNTA(#REF!)>0,(COUNTIF(#REF!,\"=0\")*0+COUNTIF(#REF!,\"=1\")*100+COUNTIF(#REF!,\"=2\")*80+COUNTIF(#REF!,\"=3\")*50+COUNTIF(#REF!,\"=8\")*20+COUNTIF(#REF!,\"=9\")*0)/COUNTA(#REF!)/100,\"N/A\")","v":{"$error":"#REF!"}},{"$f":"IF(COUNTA(#REF!)>0,(COUNTIF(#REF!,\"=0\")*0+COUNTIF(#REF!,\"=1\")*100+COUNTIF(#REF!,\"=2\")*80+COUNTIF(#REF!,\"=3\")*50+COUNTIF(#REF!,\"=8\")*20+COUNTIF(#REF!,\"=9\")*0)/COUNTA(#REF!)/100,\"N/A\")","v":{"$error":"#REF!"}},{"$f":"IF(AND(COUNTA(B457:V457)<>0,#REF!<>\"\"),AVERAGE(W457:AC457),\"N/A\")","v":{"$error":"#REF!"}},1,1,1,1,1,{"$error":"#REF!"},{"$error":"#REF!"},{"$error":"#REF!"}]
[{"$nulls":22},"N/A","N/A","N/A","N/A","N/A",{"$f":"IF(COUNTA(#REF!)>0,(COUNTIF(#REF!,\"=0\")*0+COUNTIF(#REF!,\"=1\")*100+COUNTIF(#REF!,\"=2\")*80+COUNTIF(#REF!,\"=3\")*50+COUNTIF(#REF!,\"=8\")*20+COUNTIF(#REF!,\"=9\")*0)/COUNTA(#REF!)/100,\"N/A\")","v":{"$error":"#REF!"}},{"$f":"IF(COUNTA(#REF!)>0,(COUNTIF(#REF!,\"=0\")*0+COUNTIF(#REF!,\"=1\")*100+COUNTIF(#REF!,\"=2\")*80+COUNTIF(#REF!,\"=3\")*50+COUNTIF(#REF!,\"=8\")*20+COUNTIF(#REF!,\"=9\")*0)/COUNTA(#REF!)/100,\"N/A\")","v":{"$error":"#REF!"}},{"$f":"IF(AND(COUNTA(B458:V458)<>0,#REF!<>\"\"),AVERAGE(W458:AC458),\"N/A\")","v":{"$error":"#REF!"}},1,1,1,1,1,{"$error":"#REF!"},{"$error":"#REF!"},{"$error":"#REF!"}]
[{"$nulls":22},"N/A","N/A","N/A","N/A","N/A",{"$f":"IF(COUNTA(#REF!)>0,(COUNTIF(#REF!,\"=0\")*0+COUNTIF(#REF!,\"=1\")*100+COUNTIF(#REF!,\"=2\")*80+COUNTIF(#REF!,\"=3\")*50+COUNTIF(#REF!,\"=8\")*20+COUNTIF(#REF!,\"=9\")*0)/COUNTA(#REF!)/100,\"N/A\")","v":{"$error":"#REF!"}},{"$f":"IF(COUNTA(#REF!)>0,(COUNTIF(#REF!,\"=0\")*0+COUNTIF(#REF!,\"=1\")*100+COUNTIF(#REF!,\"=2\")*80+COUNTIF(#REF!,\"=3\")*50+COUNTIF(#REF!,\"=8\")*20+COUNTIF(#REF!,\"=9\")*0)/COUNTA(#REF!)/100,\"N/A\")","v":{"$error":"#REF!"}},{"$f":"IF(AND(COUNTA(B459:V459)<>0,#REF!<>\"\"),AVERAGE(W459:AC459),\"N/A\")","v":{"$error":"#REF!"}},1,1,1,1,1,{"$error":"#REF!"},{"$error":"#REF!"},{"$error":"#REF!"}]
[{"$nulls":22},"N/A","N/A","N/A","N/A","N/A",{"$f":"IF(COUNTA(#REF!)>0,(COUNTIF(#REF!,\"=0\")*0+COUNTIF(#REF!,\"=1\")*100+COUNTIF(#REF!,\"=2\")*80+COUNTIF(#REF!,\"=3\")*50+COUNTIF(#REF!,\"=8\")*20+COUNTIF(#REF!,\"=9\")*0)/COUNTA(#REF!)/100,\"N/A\")","v":{"$error":"#REF!"}},{"$f":"IF(COUNTA(#REF!)>0,(COUNTIF(#REF!,\"=0\")*0+COUNTIF(#REF!,\"=1\")*100+COUNTIF(#REF!,\"=2\")*80+COUNTIF(#REF!,\"=3\")*50+COUNTIF(#REF!,\"=8\")*20+COUNTIF(#REF!,\"=9\")*0)/COUNTA(#REF!)/100,\"N/A\")","v":{"$error":"#REF!"}},{"$f":"IF(AND(COUNTA(B460:V460)<>0,#REF!<>\"\"),AVERAGE(W460:AC460),\"N/A\")","v":{"$error":"#REF!"}},1,1,1,1,1,{"$error":"#REF!"},{"$error":"#REF!"},{"$error":"#REF!"}]
[{"$nulls":22},"N/A","N/A","N/A","N/A","N/A",{"$f":"IF(COUNTA(#REF!)>0,(COUNTIF(#REF!,\"=0\")*0+COUNTIF(#REF!,\"=1\")*100+COUNTIF(#REF!,\"=2\")*80+COUNTIF(#REF!,\"=3\")*50+COUNTIF(#REF!,\"=8\")*20+COUNTIF(#REF!,\"=9\")*0)/COUNTA(#REF!)/100,\"N/A\")","v":{"$error":"#REF!"}},{"$f":"IF(COUNTA(#REF!)>0,(COUNTIF(#REF!,\"=0\")*0+COUNTIF(#REF!,\"=1\")*100+COUNTIF(#REF!,\"=2\")*80+COUNTIF(#REF!,\"=3\")*50+COUNTIF(#REF!,\"=8\")*20+COUNTIF(#REF!,\"=9\")*0)/COUNTA(#REF!)/100,\"N/A\")","v":{"$error":"#REF!"}},{"$f":"IF(AND(COUNTA(B461:V461)<>0,#REF!<>\"\"),AVERAGE(W461:AC461),\"N/A\")","v":{"$error":"#REF!"}},1,1,1,1,1,{"$error":"#REF!"},{"$error":"#REF!"},{"$error":"#REF!"}]
[{"$nulls":22},"N/A","N/A","N/A","N/A","N/A",{"$f":"IF(COUNTA(#REF!)>0,(COUNTIF(#REF!,\"=0\")*0+COUNTIF(#REF!,\"=1\")*100+COUNTIF(#REF!,\"=2\")*80+COUNTIF(#REF!,\"=3\")*50+COUNTIF(#REF!,\"=8\")*20+COUNTIF(#REF!,\"=9\")*0)/COUNTA(#REF!)/100,\"N/A\")","v":{"$error":"#REF!"}},{"$f":"IF(COUNTA(#REF!)>0,(COUNTIF(#REF!,\"=0\")*0+COUNTIF(#REF!,\"=1\")*100+COUNTIF(#REF!,\"=2\")*80+COUNTIF(#REF!,\"=3\")*50+COUNTIF(#REF!,\"=8\")*20+COUNTIF(#REF!,\"=9\")*0)/COUNTA(#REF!)/100,\"N/A\")","v":{"$error":"#REF!"}},{"$f":"IF(AND(COUNTA(B462:V462)<>0,#REF!<>\"\"),AVERAGE(W462:AC462),\"N/A\")","v":{"$error":"#REF!"}},1,1,1,1,1,{"$error":"#REF!"},{"$error":"#REF!"},{"$error":"#REF!"}]
[{"$nulls":22},"N/A","N/A","N/A",{"$f":"IF(COUNTA(Q463:U463)<>0,(COUNTIF(Q463:U463,\"=0\")*0+COUNTIF(Q463:U463,\"=1\")*100+COUNTIF(Q463:U463,\"=2\")*80+COUNTIF(Q463:U463,\"=3\")*50+COUNTIF(Q463:U463,\"=8\")*20+COUNTIF(Q463:U463,\"=9\")*0)/COUNTA(Q463:U463)/100,\"N/A\")","v":"N/A"},{"$f":"IF(COUNTA(V463:V463)>0,(COUNTIF(V463:V463,\"=0\")*0+COUNTIF(V463:V463,\"=1\")*100+COUNTIF(V463:V463,\"=2\")*80+COUNTIF(V463:V463,\"=3\")*50+COUNTIF(V463:V463,\"=8\")*20+COUNTIF(V463:V463,\"=9\")*0)/COUNTA(V463:V463)/100,\"N/A\")","v":"N/A"},{"$f":"IF(COUNTA(#REF!)>0,(COUNTIF(#REF!,\"=0\")*0+COUNTIF(#REF!,\"=1\")*100+COUNTIF(#REF!,\"=2\")*80+COUNTIF(#REF!,\"=3\")*50+COUNTIF(#REF!,\"=8\")*20+COUNTIF(#REF!,\"=9\")*0)/COUNTA(#REF!)/100,\"N/A\")","v":{"$error":"#REF!"}},{"$f":"IF(COUNTA(#REF!)>0,(COUNTIF(#REF!,\"=0\")*0+COUNTIF(#REF!,\"=1\")*100+COUNTIF(#REF!,\"=2\")*80+COUNTIF(#REF!,\"=3\")*50+COUNTIF(#REF!,\"=8\")*20+COUNTIF(#REF!,\"=9\")*0)/COUNTA(#REF!)/100,\"N/A\")","v":{"$error":"#REF!"}},{"$f":"IF(AND(COUNTA(B463:V463)<>0,#REF!<>\"\"),AVERAGE(W463:AC463),\"N/A\")","v":{"$error":"#REF!"}},1,1,1,1,1,{"$error":"#REF!"},{"$error":"#REF!"},{"$error":"#REF!"}]
[{"$nulls":22},"N/A","N/A","N/A","N/A","N/A",{"$f":"IF(COUNTA(#REF!)>0,(COUNTIF(#REF!,\"=0\")*0+COUNTIF(#REF!,\"=1\")*100+COUNTIF(#REF!,\"=2\")*80+COUNTIF(#REF!,\"=3\")*50+COUNTIF(#REF!,\"=8\")*20+COUNTIF(#REF!,\"=9\")*0)/COUNTA(#REF!)/100,\"N/A\")","v":{"$error":"#REF!"}},{"$f":"IF(COUNTA(#REF!)>0,(COUNTIF(#REF!,\"=0\")*0+COUNTIF(#REF!,\"=1\")*100+COUNTIF(#REF!,\"=2\")*80+COUNTIF(#REF!,\"=3\")*50+COUNTIF(#REF!,\"=8\")*20+COUNTIF(#REF!,\"=9\")*0)/COUNTA(#REF!)/100,\"N/A\")","v":{"$error":"#REF!"}},{"$f":"IF(AND(COUNTA(B464:V464)<>0,#REF!<>\"\"),AVERAGE(W464:AC464),\"N/A\")","v":{"$error":"#REF!"}},1,1,1,1,1,{"$error":"#REF!"},{"$error":"#REF!"},{"$error":"#REF!"}]
[{"$nulls":22},"N/A","N/A","N/A","N/A","N/A",{"$f":"IF(COUNTA(#REF!)>0,(COUNTIF(#REF!,\"=0\")*0+COUNTIF(#REF!,\"=1\")*100+COUNTIF(#REF!,\"=2\")*80+COUNTIF(#REF!,\"=3\")*50+COUNTIF(#REF!,\"=8\")*20+COUNTIF(#REF!,\"=9\")*0)/COUNTA(#REF!)/100,\"N/A\")","v":{"$error":"#REF!"}},{"$f":"IF(COUNTA(#REF!)>0,(COUNTIF(#REF!,\"=0\")*0+COUNTIF(#REF!,\"=1\")*100+COUNTIF(#REF!,\"=2\")*80+COUNTIF(#REF!,\"=3\")*50+COUNTIF(#REF!,\"=8\")*20+COUNTIF(#REF!,\"=9\")*0)/COUNTA(#REF!)/100,\"N/A\")","v":{"$error":"#REF!"}},{"$f":"IF(AND(COUNTA(B465:V465)<>0,#REF!<>\"\"),AVERAGE(W465:AC465),\"N/A\")","v":{"$error":"#REF!"}},1,1,1,1,1,{"$error":"#REF!"},{"$error":"#REF!"},{"$error":"#REF!"}]
[{"$nulls":22},"N/A","N/A","N/A","N/A","N/A",{"$f":"IF(COUNTA(#REF!)>0,(COUNTIF(#REF!,\"=0\")*0+COUNTIF(#REF!,\"=1\")*100+COUNTIF(#REF!,\"=2\")*80+COUNTIF(#REF!,\"=3\")*50+COUNTIF(#REF!,\"=8\")*20+COUNTIF(#REF!,\"=9\")*0)/COUNTA(#REF!)/100,\"N/A\")","v":{"$error":"#REF!"}},{"$f":"IF(COUNTA(#REF!)>0,(COUNTIF(#REF!,\"=0\")*0+COUNTIF(#REF!,\"=1\")*100+COUNTIF(#REF!,\"=2\")*80+COUNTIF(#REF!,\"=3\")*50+COUNTIF(#REF!,\"=8\")*20+COUNTIF(#REF!,\"=9\")*0)/COUNTA(#REF!)/100,\"N/A\")","v":{"$error":"#REF!"}},{"$f":"IF(AND(COUNTA(B466:V466)<>0,#REF!<>\"\"),AVERAGE(W466:AC466),\"N/A\")","v":{"$error":"#REF!"}},1,1,1,1,1,{"$error":"#REF!"},{"$error":"#REF!"},{"$error":"#REF!"}]
[{"$nulls":22},"N/A","N/A","N/A","N/A","N/A",{"$f":"IF(COUNTA(#REF!)>0,(COUNTIF(#REF!,\"=0\")*0+COUNTIF(#REF!,\"=1\")*100+COUNTIF(#REF!,\"=2\")*80+COUNTIF(#REF!,\"=3\")*50+COUNTIF(#REF!,\"=8\")*20+COUNTIF(#REF!,\"=9\")*0)/COUNTA(#REF!)/100,\"N/A\")","v":{"$error":"#REF!"}},{"$f":"IF(COUNTA(#REF!)>0,(COUNTIF(#REF!,\"=0\")*0+COUNTIF(#REF!,\"=1\")*100+COUNTIF(#REF!,\"=2\")*80+COUNTIF(#REF!,\"=3\")*50+COUNTIF(#REF!,\"=8\")*20+COUNTIF(#REF!,\"=9\")*0)/COUNTA(#REF!)/100,\"N/A\")","v":{"$error":"#REF!"}},{"$f":"IF(AND(COUNTA(B467:V467)<>0,#REF!<>\"\"),AVERAGE(W467:AC467),\"N/A\")","v":{"$error":"#REF!"}},1,1,1,{"$f":"IF(Z467=\"N/A\",1,\"\")","v":1},1,{"$error":"#REF!"},{"$error":"#REF!"},{"$error":"#REF!"}]
[{"$nulls":22},"N/A","N/A","N/A","N/A","N/A",{"$f":"IF(COUNTA(#REF!)>0,(COUNTIF(#REF!,\"=0\")*0+COUNTIF(#REF!,\"=1\")*100+COUNTIF(#REF!,\"=2\")*80+COUNTIF(#REF!,\"=3\")*50+COUNTIF(#REF!,\"=8\")*20+COUNTIF(#REF!,\"=9\")*0)/COUNTA(#REF!)/100,\"N/A\")","v":{"$error":"#REF!"}},{"$f":"IF(COUNTA(#REF!)>0,(COUNTIF(#REF!,\"=0\")*0+COUNTIF(#REF!,\"=1\")*100+COUNTIF(#REF!,\"=2\")*80+COUNTIF(#REF!,\"=3\")*50+COUNTIF(#REF!,\"=8\")*20+COUNTIF(#REF!,\"=9\")*0)/COUNTA(#REF!)/100,\"N/A\")","v":{"$error":"#REF!"}},{"$f":"IF(AND(COUNTA(B468:V468)<>0,#REF!<>\"\"),AVERAGE(W468:AC468),\"N/A\")","v":{"$error":"#REF!"}},{"$f":"IF(W468=\"N/A\",1,\"\")","v":1},1,1,1,1,{"$error":"#REF!"},{"$error":"#REF!"},{"$error":"#REF!"}]
[{"$nulls":22},"N/A","N/A","N/A","N/A","N/A",{"$f":"IF(COUNTA(#REF!)>0,(COUNTIF(#REF!,\"=0\")*0+COUNTIF(#REF!,\"=1\")*100+COUNTIF(#REF!,\"=2\")*80+COUNTIF(#REF!,\"=3\")*50+COUNTIF(#REF!,\"=8\")*20+COUNTIF(#REF!,\"=9\")*0)/COUNTA(#REF!)/100,\"N/A\")","v":{"$error":"#REF!"}},{"$f":"IF(COUNTA(#REF!)>0,(COUNTIF(#REF!,\"=0\")*0+COUNTIF(#REF!,\"=1\")*100+COUNTIF(#REF!,\"=2\")*80+COUNTIF(#REF!,\"=3\")*50+COUNTIF(#REF!,\"=8\")*20+COUNTIF(#REF!,\"=9\")*0)/COUNTA(#REF!)/100,\"N/A\")","v":{"$error":"#REF!"}},{"$f":"IF(AND(COUNTA(B469:V469)<>0,#REF!<>\"\"),AVERAGE(W469:AC469),\"N/A\")","v":{"$error":"#REF!"}},1,1,1,1,1,{"$error":"#REF!"},{"$error":"#REF!"},{"$error":"#REF!"}]
[{"$nulls":22},"N/A","N/A","N/A","N/A","N/A",{"$f":"IF(COUNTA(#REF!)>0,(COUNTIF(#REF!,\"=0\")*0+COUNTIF(#REF!,\"=1\")*100+COUNTIF(#REF!,\"=2\")*80+COUNTIF(#REF!,\"=3\")*50+COUNTIF(#REF!,\"=8\")*20+COUNTIF(#REF!,\"=9\")*0)/COUNTA(#REF!)/100,\"N/A\")","v":{"$error":"#REF!"}},{"$f":"IF(COUNTA(#REF!)>0,(COUNTIF(#REF!,\"=0\")*0+COUNTIF(#REF!,\"=1\")*100+COUNTIF(#REF!,\"=2\")*80+COUNTIF(#REF!,\"=3\")*50+COUNTIF(#REF!,\"=8\")*20+COUNTIF(#REF!,\"=9\")*0)/COUNTA(#REF!)/100,\"N/A\")","v":{"$error":"#REF!"}},{"$f":"IF(AND(COUNTA(B470:V470)<>0,#REF!<>\"\"),AVERAGE(W470:AC470),\"N/A\")","v":{"$error":"#REF!"}},1,1,1,1,1,{"$error":"#REF!"},{"$error":"#REF!"},{"$error":"#REF!"}]
[{"$nulls":22},"N/A","N/A","N/A","N/A","N/A",{"$f":"IF(COUNTA(#REF!)>0,(COUNTIF(#REF!,\"=0\")*0+COUNTIF(#REF!,\"=1\")*100+COUNTIF(#REF!,\"=2\")*80+COUNTIF(#REF!,\"=3\")*50+COUNTIF(#REF!,\"=8\")*20+COUNTIF(#REF!,\"=9\")*0)/COUNTA(#REF!)/100,\"N/A\")","v":{"$error":"#REF!"}},{"$f":"IF(COUNTA(#REF!)>0,(COUNTIF(#REF!,\"=0\")*0+COUNTIF(#REF!,\"=1\")*100+COUNTIF(#REF!,\"=2\")*80+COUNTIF(#REF!,\"=3\")*50+COUNTIF(#REF!,\"=8\")*20+COUNTIF(#REF!,\"=9\")*0)/COUNTA(#REF!)/100,\"N/A\")","v":{"$error":"#REF!"}},{"$f":"IF(AND(COUNTA(B471:V471)<>0,#REF!<>\"\"),AVERAGE(W471:AC471),\"N/A\")","v":{"$error":"#REF!"}},1,1,1,1,1,{"$error":"#REF!"},{"$error":"#REF!"},{"$error":"#REF!"}]
[{"$nulls":22},"N/A","N/A","N/A","N/A","N/A",{"$f":"IF(COUNTA(#REF!)>0,(COUNTIF(#REF!,\"=0\")*0+COUNTIF(#REF!,\"=1\")*100+COUNTIF(#REF!,\"=2\")*80+COUNTIF(#REF!,\"=3\")*50+COUNTIF(#REF!,\"=8\")*20+COUNTIF(#REF!,\"=9\")*0)/COUNTA(#REF!)/100,\"N/A\")","v":{"$error":"#REF!"}},{"$f":"IF(COUNTA(#REF!)>0,(COUNTIF(#REF!,\"=0\")*0+COUNTIF(#REF!,\"=1\")*100+COUNTIF(#REF!,\"=2\")*80+COUNTIF(#REF!,\"=3\")*50+COUNTIF(#REF!,\"=8\")*20+COUNTIF(#REF!,\"=9\")*0)/COUNTA(#REF!)/100,\"N/A\")","v":{"$error":"#REF!"}},{"$f":"IF(AND(COUNTA(B472:V472)<>0,#REF!<>\"\"),AVERAGE(W472:AC472),\"N/A\")","v":{"$error":"#REF!"}},1,1,1,1,1,{"$error":"#REF!"},{"$error":"#REF!"},{"$error":"#REF!"}]
[{"$nulls":22},"N/A","N/A","N/A","N/A","N/A",{"$f":"IF(COUNTA(#REF!)>0,(COUNTIF(#REF!,\"=0\")*0+COUNTIF(#REF!,\"=1\")*100+COUNTIF(#REF!,\"=2\")*80+COUNTIF(#REF!,\"=3\")*50+COUNTIF(#REF!,\"=8\")*20+COUNTIF(#REF!,\"=9\")*0)/COUNTA(#REF!)/100,\"N/A\")","v":{"$error":"#REF!"}},{"$f":"IF(COUNTA(#REF!)>0,(COUNTIF(#REF!,\"=0\")*0+COUNTIF(#REF!,\"=1\")*100+COUNTIF(#REF!,\"=2\")*80+COUNTIF(#REF!,\"=3\")*50+COUNTIF(#REF!,\"=8\")*20+COUNTIF(#REF!,\"=9\")*0)/COUNTA(#REF!)/100,\"N/A\")","v":{"$error":"#REF!"}},{"$f":"IF(AND(COUNTA(B473:V473)<>0,#REF!<>\"\"),AVERAGE(W473:AC473),\"N/A\")","v":{"$error":"#REF!"}},1,1,1,1,1,{"$error":"#REF!"},{"$error":"#REF!"},{"$error":"#REF!"}]
[{"$nulls":22},"N/A","N/A","N/A","N/A","N/A",{"$f":"IF(COUNTA(#REF!)>0,(COUNTIF(#REF!,\"=0\")*0+COUNTIF(#REF!,\"=1\")*100+COUNTIF(#REF!,\"=2\")*80+COUNTIF(#REF!,\"=3\")*50+COUNTIF(#REF!,\"=8\")*20+COUNTIF(#REF!,\"=9\")*0)/COUNTA(#REF!)/100,\"N/A\")","v":{"$error":"#REF!"}},{"$f":"IF(COUNTA(#REF!)>0,(COUNTIF(#REF!,\"=0\")*0+COUNTIF(#REF!,\"=1\")*100+COUNTIF(#REF!,\"=2\")*80+COUNTIF(#REF!,\"=3\")*50+COUNTIF(#REF!,\"=8\")*20+COUNTIF(#REF!,\"=9\")*0)/COUNTA(#REF!)/100,\"N/A\")","v":{"$error":"#REF!"}},{"$f":"IF(AND(COUNTA(B474:V474)<>0,#REF!<>\"\"),AVERAGE(W474:AC474),\"N/A\")","v":{"$error":"#REF!"}},1,1,1,1,1,{"$error":"#REF!"},{"$error":"#REF!"},{"$error":"#REF!"}]
[{"$nulls":22},"N/A","N/A","N/A","N/A","N/A",{"$f":"IF(COUNTA(#REF!)>0,(COUNTIF(#REF!,\"=0\")*0+COUNTIF(#REF!,\"=1\")*100+COUNTIF(#REF!,\"=2\")*80+COUNTIF(#REF!,\"=3\")*50+COUNTIF(#REF!,\"=8\")*20+COUNTIF(#REF!,\"=9\")*0)/COUNTA(#REF!)/100,\"N/A\")","v":{"$error":"#REF!"}},{"$f":"IF(COUNTA(#REF!)>0,(COUNTIF(#REF!,\"=0\")*0+COUNTIF(#REF!,\"=1\")*100+COUNTIF(#REF!,\"=2\")*80+COUNTIF(#REF!,\"=3\")*50+COUNTIF(#REF!,\"=8\")*20+COUNTIF(#REF!,\"=9\")*0)/COUNTA(#REF!)/100,\"N/A\")","v":{"$error":"#REF!"}},{"$f":"IF(AND(COUNTA(B475:V475)<>0,#REF!<>\"\"),AVERAGE(W475:AC475),\"N/A\")","v":{"$error":"#REF!"}},1,1,1,1,1,{"$error":"#REF!"},{"$error":"#REF!"},{"$error":"#REF!"}]
[{"$nulls":22},"N/A","N/A","N/A","N/A","N/A",{"$f":"IF(COUNTA(#REF!)>0,(COUNTIF(#REF!,\"=0\")*0+COUNTIF(#REF!,\"=1\")*100+COUNTIF(#REF!,\"=2\")*80+COUNTIF(#REF!,\"=3\")*50+COUNTIF(#REF!,\"=8\")*20+COUNTIF(#REF!,\"=9\")*0)/COUNTA(#REF!)/100,\"N/A\")","v":{"$error":"#REF!"}},{"$f":"IF(COUNTA(#REF!)>0,(COUNTIF(#REF!,\"=0\")*0+COUNTIF(#REF!,\"=1\")*100+COUNTIF(#REF!,\"=2\")*80+COUNTIF(#REF!,\"=3\")*50+COUNTIF(#REF!,\"=8\")*20+COUNTIF(#REF!,\"=9\")*0)/COUNTA(#REF!)/100,\"N/A\")","v":{"$error":"#REF!"}},{"$f":"IF(AND(COUNTA(B476:V476)<>0,#REF!<>\"\"),AVERAGE(W476:AC476),\"N/A\")","v":{"$error":"#REF!"}},1,1,1,1,1,{"$error":"#REF!"},{"$error":"#REF!"},{"$error":"#REF!"}]
[{"$nulls":22},"N/A","N/A","N/A","N/A","N/A",{"$f":"IF(COUNTA(#REF!)>0,(COUNTIF(#REF!,\"=0\")*0+COUNTIF(#REF!,\"=1\")*100+COUNTIF(#REF!,\"=2\")*80+COUNTIF(#REF!,\"=3\")*50+COUNTIF(#REF!,\"=8\")*20+COUNTIF(#REF!,\"=9\")*0)/COUNTA(#REF!)/100,\"N/A\")","v":{"$error":"#REF!"}},{"$f":"IF(COUNTA(#REF!)>0,(COUNTIF(#REF!,\"=0\")*0+COUNTIF(#REF!,\"=1\")*100+COUNTIF(#REF!,\"=2\")*80+COUNTIF(#REF!,\"=3\")*50+COUNTIF(#REF!,\"=8\")*20+COUNTIF(#REF!,\"=9\")*0)/COUNTA(#REF!)/100,\"N/A\")","v":{"$error":"#REF!"}},{"$f":"IF(AND(COUNTA(B477:V477)<>0,#REF!<>\"\"),AVERAGE(W477:AC477),\"N/A\")","v":{"$error":"#REF!"}},1,1,1,1,1,{"$error":"#REF!"},{"$error":"#REF!"},{"$error":"#REF!"}]
[{"$nulls":22},"N/A","N/A","N/A","N/A","N/A",{"$f":"IF(COUNTA(#REF!)>0,(COUNTIF(#REF!,\"=0\")*0+COUNTIF(#REF!,\"=1\")*100+COUNTIF(#REF!,\"=2\")*80+COUNTIF(#REF!,\"=3\")*50+COUNTIF(#REF!,\"=8\")*20+COUNTIF(#REF!,\"=9\")*0)/COUNTA(#REF!)/100,\"N/A\")","v":{"$error":"#REF!"}},{"$f":"IF(COUNTA(#REF!)>0,(COUNTIF(#REF!,\"=0\")*0+COUNTIF(#REF!,\"=1\")*100+COUNTIF(#REF!,\"=2\")*80+COUNTIF(#REF!,\"=3\")*50+COUNTIF(#REF!,\"=8\")*20+COUNTIF(#REF!,\"=9\")*0)/COUNTA(#REF!)/100,\"N/A\")","v":{"$error":"#REF!"}},{"$f":"IF(AND(COUNTA(B478:V478)<>0,#REF!<>\"\"),AVERAGE(W478:AC478),\"N/A\")","v":{"$error":"#REF!"}},1,1,1,1,1,{"$error":"#REF!"},{"$error":"#REF!"},{"$error":"#REF!"}]
[{"$nulls":22},"N/A","N/A","N/A","N/A","N/A",{"$f":"IF(COUNTA(#REF!)>0,(COUNTIF(#REF!,\"=0\")*0+COUNTIF(#REF!,\"=1\")*100+COUNTIF(#REF!,\"=2\")*80+COUNTIF(#REF!,\"=3\")*50+COUNTIF(#REF!,\"=8\")*20+COUNTIF(#REF!,\"=9\")*0)/COUNTA(#REF!)/100,\"N/A\")","v":{"$error":"#REF!"}},{"$f":"IF(COUNTA(#REF!)>0,(COUNTIF(#REF!,\"=0\")*0+COUNTIF(#REF!,\"=1\")*100+COUNTIF(#REF!,\"=2\")*80+COUNTIF(#REF!,\"=3\")*50+COUNTIF(#REF!,\"=8\")*20+COUNTIF(#REF!,\"=9\")*0)/COUNTA(#REF!)/100,\"N/A\")","v":{"$error":"#REF!"}},{"$f":"IF(AND(COUNTA(B479:V479)<>0,#REF!<>\"\"),AVERAGE(W479:AC479),\"N/A\")","v":{"$error":"#REF!"}},1,1,1,1,1,{"$error":"#REF!"},{"$error":"#REF!"},{"$error":"#REF!"}]
[{"$nulls":22},"N/A","N/A","N/A","N/A","N/A",{"$f":"IF(COUNTA(#REF!)>0,(COUNTIF(#REF!,\"=0\")*0+COUNTIF(#REF!,\"=1\")*100+COUNTIF(#REF!,\"=2\")*80+COUNTIF(#REF!,\"=3\")*50+COUNTIF(#REF!,\"=8\")*20+COUNTIF(#REF!,\"=9\")*0)/COUNTA(#REF!)/100,\"N/A\")","v":{"$error":"#REF!"}},{"$f":"IF(COUNTA(#REF!)>0,(COUNTIF(#REF!,\"=0\")*0+COUNTIF(#REF!,\"=1\")*100+COUNTIF(#REF!,\"=2\")*80+COUNTIF(#REF!,\"=3\")*50+COUNTIF(#REF!,\"=8\")*20+COUNTIF(#REF!,\"=9\")*0)/COUNTA(#REF!)/100,\"N/A\")","v":{"$error":"#REF!"}},{"$f":"IF(AND(COUNTA(B480:V480)<>0,#REF!<>\"\"),AVERAGE(W480:AC480),\"N/A\")","v":{"$error":"#REF!"}},1,1,1,1,1,{"$error":"#REF!"},{"$error":"#REF!"},{"$error":"#REF!"}]
[{"$nulls":22},"N/A","N/A","N/A","N/A","N/A",{"$f":"IF(COUNTA(#REF!)>0,(COUNTIF(#REF!,\"=0\")*0+COUNTIF(#REF!,\"=1\")*100+COUNTIF(#REF!,\"=2\")*80+COUNTIF(#REF!,\"=3\")*50+COUNTIF(#REF!,\"=8\")*20+COUNTIF(#REF!,\"=9\")*0)/COUNTA(#REF!)/100,\"N/A\")","v":{"$error":"#REF!"}},{"$f":"IF(COUNTA(#REF!)>0,(COUNTIF(#REF!,\"=0\")*0+COUNTIF(#REF!,\"=1\")*100+COUNTIF(#REF!,\"=2\")*80+COUNTIF(#REF!,\"=3\")*50+COUNTIF(#REF!,\"=8\")*20+COUNTIF(#REF!,\"=9\")*0)/COUNTA(#REF!)/100,\"N/A\")","v":{"$error":"#REF!"}},{"$f":"IF(AND(COUNTA(B481:V481)<>0,#REF!<>\"\"),AVERAGE(W481:AC481),\"N/A\")","v":{"$error":"#REF!"}},1,1,1,1,1,{"$error":"#REF!"},{"$error":"#REF!"},{"$error":"#REF!"}]
[{"$nulls":22},"N/A","N/A","N/A","N/A","N/A",{"$f":"IF(COUNTA(#REF!)>0,(COUNTIF(#REF!,\"=0\")*0+COUNTIF(#REF!,\"=1\")*100+COUNTIF(#REF!,\"=2\")*80+COUNTIF(#REF!,\"=3\")*50+COUNTIF(#REF!,\"=8\")*20+COUNTIF(#REF!,\"=9\")*0)/COUNTA(#REF!)/100,\"N/A\")","v":{"$error":"#REF!"}},{"$f":"IF(COUNTA(#REF!)>0,(COUNTIF(#REF!,\"=0\")*0+COUNTIF(#REF!,\"=1\")*100+COUNTIF(#REF!,\"=2\")*80+COUNTIF(#REF!,\"=3\")*50+COUNTIF(#REF!,\"=8\")*20+COUNTIF(#REF!,\"=9\")*0)/COUNTA(#REF!)/100,\"N/A\")","v":{"$error":"#REF!"}},{"$f":"IF(AND(COUNTA(B482:V482)<>0,#REF!<>\"\"),AVERAGE(W482:AC482),\"N/A\")","v":{"$error":"#REF!"}},1,1,1,1,1,{"$error":"#REF!"},{"$error":"#REF!"},{"$error":"#REF!"}]
[{"$nulls":22},"N/A","N/A","N/A","N/A","N/A",{"$f":"IF(COUNTA(#REF!)>0,(COUNTIF(#REF!,\"=0\")*0+COUNTIF(#REF!,\"=1\")*100+COUNTIF(#REF!,\"=2\")*80+COUNTIF(#REF!,\"=3\")*50+COUNTIF(#REF!,\"=8\")*20+COUNTIF(#REF!,\"=9\")*0)/COUNTA(#REF!)/100,\"N/A\")","v":{"$error":"#REF!"}},{"$f":"IF(COUNTA(#REF!)>0,(COUNTIF(#REF!,\"=0\")*0+COUNTIF(#REF!,\"=1\")*100+COUNTIF(#REF!,\"=2\")*80+COUNTIF(#REF!,\"=3\")*50+COUNTIF(#REF!,\"=8\")*20+COUNTIF(#REF!,\"=9\")*0)/COUNTA(#REF!)/100,\"N/A\")","v":{"$error":"#REF!"}},{"$f":"IF(AND(COUNTA(B483:V483)<>0,#REF!<>\"\"),AVERAGE(W483:AC483),\"N/A\")","v":{"$error":"#REF!"}},1,1,1,1,1,{"$error":"#REF!"},{"$error":"#REF!"},{"$error":"#REF!"}]
[{"$nulls":22},"N/A","N/A","N/A","N/A","N/A",{"$f":"IF(COUNTA(#REF!)>0,(COUNTIF(#REF!,\"=0\")*0+COUNTIF(#REF!,\"=1\")*100+COUNTIF(#REF!,\"=2\")*80+COUNTIF(#REF!,\"=3\")*50+COUNTIF(#REF!,\"=8\")*20+COUNTIF(#REF!,\"=9\")*0)/COUNTA(#REF!)/100,\"N/A\")","v":{"$error":"#REF!"}},{"$f":"IF(COUNTA(#REF!)>0,(COUNTIF(#REF!,\"=0\")*0+COUNTIF(#REF!,\"=1\")*100+COUNTIF(#REF!,\"=2\")*80+COUNTIF(#REF!,\"=3\")*50+COUNTIF(#REF!,\"=8\")*20+COUNTIF(#REF!,\"=9\")*0)/COUNTA(#REF!)/100,\"N/A\")","v":{"$error":"#REF!"}},{"$f":"IF(AND(COUNTA(B484:V484)<>0,#REF!<>\"\"),AVERAGE(W484:AC484),\"N/A\")","v":{"$error":"#REF!"}},1,1,1,1,1,{"$error":"#REF!"},{"$error":"#REF!"},{"$error":"#REF!"}]
[{"$nulls":22},"N/A","N/A","N/A","N/A","N/A",{"$f":"IF(COUNTA(#REF!)>0,(COUNTIF(#REF!,\"=0\")*0+COUNTIF(#REF!,\"=1\")*100+COUNTIF(#REF!,\"=2\")*80+COUNTIF(#REF!,\"=3\")*50+COUNTIF(#REF!,\"=8\")*20+COUNTIF(#REF!,\"=9\")*0)/COUNTA(#REF!)/100,\"N/A\")","v":{"$error":"#REF!"}},{"$f":"IF(COUNTA(#REF!)>0,(COUNTIF(#REF!,\"=0\")*0+COUNTIF(#REF!,\"=1\")*100+COUNTIF(#REF!,\"=2\")*80+COUNTIF(#REF!,\"=3\")*50+COUNTIF(#REF!,\"=8\")*20+COUNTIF(#REF!,\"=9\")*0)/COUNTA(#REF!)/100,\"N/A\")","v":{"$error":"#REF!"}},{"$f":"IF(AND(COUNTA(B485:V485)<>0,#REF!<>\"\"),AVERAGE(W485:AC485),\"N/A\")","v":{"$error":"#REF!"}},1,1,1,1,1,{"$error":"#REF!"},{"$error":"#REF!"},{"$error":"#REF!"}]
[{"$nulls":22},"N/A","N/A","N/A","N/A","N/A",{"$f":"IF(COUNTA(#REF!)>0,(COUNTIF(#REF!,\"=0\")*0+COUNTIF(#REF!,\"=1\")*100+COUNTIF(#REF!,\"=2\")*80+COUNTIF(#REF!,\"=3\")*50+COUNTIF(#REF!,\"=8\")*20+COUNTIF(#REF!,\"=9\")*0)/COUNTA(#REF!)/100,\"N/A\")","v":{"$error":"#REF!"}},{"$f":"IF(COUNTA(#REF!)>0,(COUNTIF(#REF!,\"=0\")*0+COUNTIF(#REF!,\"=1\")*100+COUNTIF(#REF!,\"=2\")*80+COUNTIF(#REF!,\"=3\")*50+COUNTIF(#REF!,\"=8\")*20+COUNTIF(#REF!,\"=9\")*0)/COUNTA(#REF!)/100,\"N/A\")","v":{"$error":"#REF!"}},{"$f":"IF(AND(COUNTA(B486:V486)<>0,#REF!<>\"\"),AVERAGE(W486:AC486),\"N/A\")","v":{"$error":"#REF!"}},1,1,1,1,1,{"$error":"#REF!"},{"$error":"#REF!"},{"$error":"#REF!"}]
[{"$nulls":22},"N/A","N/A","N/A","N/A","N/A",{"$f":"IF(COUNTA(#REF!)>0,(COUNTIF(#REF!,\"=0\")*0+COUNTIF(#REF!,\"=1\")*100+COUNTIF(#REF!,\"=2\")*80+COUNTIF(#REF!,\"=3\")*50+COUNTIF(#REF!,\"=8\")*20+COUNTIF(#REF!,\"=9\")*0)/COUNTA(#REF!)/100,\"N/A\")","v":{"$error":"#REF!"}},{"$f":"IF(COUNTA(#REF!)>0,(COUNTIF(#REF!,\"=0\")*0+COUNTIF(#REF!,\"=1\")*100+COUNTIF(#REF!,\"=2\")*80+COUNTIF(#REF!,\"=3\")*50+COUNTIF(#REF!,\"=8\")*20+COUNTIF(#REF!,\"=9\")*0)/COUNTA(#REF!)/100,\"N/A\")","v":{"$error":"#REF!"}},{"$f":"IF(AND(COUNTA(B487:V487)<>0,#REF!<>\"\"),AVERAGE(W487:AC487),\"N/A\")","v":{"$error":"#REF!"}},1,1,1,1,1,{"$error":"#REF!"},{"$error":"#REF!"},{"$error":"#REF!"}]
[{"$nulls":22},"N/A","N/A","N/A","N/A","N/A",{"$f":"IF(COUNTA(#REF!)>0,(COUNTIF(#REF!,\"=0\")*0+COUNTIF(#REF!,\"=1\")*100+COUNTIF(#REF!,\"=2\")*80+COUNTIF(#REF!,\"=3\")*50+COUNTIF(#REF!,\"=8\")*20+COUNTIF(#REF!,\"=9\")*0)/COUNTA(#REF!)/100,\"N/A\")","v":{"$error":"#REF!"}},{"$f":"IF(COUNTA(#REF!)>0,(COUNTIF(#REF!,\"=0\")*0+COUNTIF(#REF!,\"=1\")*100+COUNTIF(#REF!,\"=2\")*80+COUNTIF(#REF!,\"=3\")*50+COUNTIF(#REF!,\"=8\")*20+COUNTIF(#REF!,\"=9\")*0)/COUNTA(#REF!)/100,\"N/A\")","v":{"$error":"#REF!"}},{"$f":"IF(AND(COUNTA(B488:V488)<>0,#REF!<>\"\"),AVERAGE(W488:AC488),\"N/A\")","v":{"$error":"#REF!"}},1,1,1,1,1,{"$error":"#REF!"},{"$error":"#REF!"},{"$error":"#REF!"}]
[{"$nulls":22},"N/A","N/A","N/A","N/A","N/A",{"$f":"IF(COUNTA(#REF!)>0,(COUNTIF(#REF!,\"=0\")*0+COUNTIF(#REF!,\"=1\")*100+COUNTIF(#REF!,\"=2\")*80+COUNTIF(#REF!,\"=3\")*50+COUNTIF(#REF!,\"=8\")*20+COUNTIF(#REF!,\"=9\")*0)/COUNTA(#REF!)/100,\"N/A\")","v":{"$error":"#REF!"}},{"$f":"IF(COUNTA(#REF!)>0,(COUNTIF(#REF!,\"=0\")*0+COUNTIF(#REF!,\"=1\")*100+COUNTIF(#REF!,\"=2\")*80+COUNTIF(#REF!,\"=3\")*50+COUNTIF(#REF!,\"=8\")*20+COUNTIF(#REF!,\"=9\")*0)/COUNTA(#REF!)/100,\"N/A\")","v":{"$error":"#REF!"}},{"$f":"IF(AND(COUNTA(B489:V489)<>0,#REF!<>\"\"),AVERAGE(W489:AC489),\"N/A\")","v":{"$error":"#REF!"}},1,1,1,1,1,{"$error":"#REF!"},{"$error":"#REF!"},{"$error":"#REF!"}]
[{"$nulls":22},"N/A","N/A","N/A","N/A","N/A",{"$f":"IF(COUNTA(#REF!)>0,(COUNTIF(#REF!,\"=0\")*0+COUNTIF(#REF!,\"=1\")*100+COUNTIF(#REF!,\"=2\")*80+COUNTIF(#REF!,\"=3\")*50+COUNTIF(#REF!,\"=8\")*20+COUNTIF(#REF!,\"=9\")*0)/COUNTA(#REF!)/100,\"N/A\")","v":{"$error":"#REF!"}},{"$f":"IF(COUNTA(#REF!)>0,(COUNTIF(#REF!,\"=0\")*0+COUNTIF(#REF!,\"=1\")*100+COUNTIF(#REF!,\"=2\")*80+COUNTIF(#REF!,\"=3\")*50+COUNTIF(#REF!,\"=8\")*20+COUNTIF(#REF!,\"=9\")*0)/COUNTA(#REF!)/100,\"N/A\")","v":{"$error":"#REF!"}},{"$f":"IF(AND(COUNTA(B490:V490)<>0,#REF!<>\"\"),AVERAGE(W490:AC490),\"N/A\")","v":{"$error":"#REF!"}},1,1,1,1,1,{"$error":"#REF!"},{"$error":"#REF!"},{"$error":"#REF!"}]
[{"$nulls":22},"N/A","N/A","N/A","N/A","N/A",{"$f":"IF(COUNTA(#REF!)>0,(COUNTIF(#REF!,\"=0\")*0+COUNTIF(#REF!,\"=1\")*100+COUNTIF(#REF!,\"=2\")*80+COUNTIF(#REF!,\"=3\")*50+COUNTIF(#REF!,\"=8\")*20+COUNTIF(#REF!,\"=9\")*0)/COUNTA(#REF!)/100,\"N/A\")","v":{"$error":"#REF!"}},{"$f":"IF(COUNTA(#REF!)>0,(COUNTIF(#REF!,\"=0\")*0+COUNTIF(#REF!,\"=1\")*100+COUNTIF(#REF!,\"=2\")*80+COUNTIF(#REF!,\"=3\")*50+COUNTIF(#REF!,\"=8\")*20+COUNTIF(#REF!,\"=9\")*0)/COUNTA(#REF!)/100,\"N/A\")","v":{"$error":"#REF!"}},{"$f":"IF(AND(COUNTA(B491:V491)<>0,#REF!<>\"\"),AVERAGE(W491:AC491),\"N/A\")","v":{"$error":"#REF!"}},1,1,1,1,1,{"$error":"#REF!"},{"$error":"#REF!"},{"$error":"#REF!"}]
[{"$nulls":22},"N/A","N/A","N/A","N/A","N/A",{"$f":"IF(COUNTA(#REF!)>0,(COUNTIF(#REF!,\"=0\")*0+COUNTIF(#REF!,\"=1\")*100+COUNTIF(#REF!,\"=2\")*80+COUNTIF(#REF!,\"=3\")*50+COUNTIF(#REF!,\"=8\")*20+COUNTIF(#REF!,\"=9\")*0)/COUNTA(#REF!)/100,\"N/A\")","v":{"$error":"#REF!"}},{"$f":"IF(COUNTA(#REF!)>0,(COUNTIF(#REF!,\"=0\")*0+COUNTIF(#REF!,\"=1\")*100+COUNTIF(#REF!,\"=2\")*80+COUNTIF(#REF!,\"=3\")*50+COUNTIF(#REF!,\"=8\")*20+COUNTIF(#REF!,\"=9\")*0)/COUNTA(#REF!)/100,\"N/A\")","v":{"$error":"#REF!"}},{"$f":"IF(AND(COUNTA(B492:V492)<>0,#REF!<>\"\"),AVERAGE(W492:AC492),\"N/A\")","v":{"$error":"#REF!"}},1,1,1,1,1,{"$error":"#REF!"},{"$error":"#REF!"},{"$error":"#REF!"}]
[{"$nulls":22},"N/A","N/A","N/A","N/A","N/A",{"$f":"IF(COUNTA(#REF!)>0,(COUNTIF(#REF!,\"=0\")*0+COUNTIF(#REF!,\"=1\")*100+COUNTIF(#REF!,\"=2\")*80+COUNTIF(#REF!,\"=3\")*50+COUNTIF(#REF!,\"=8\")*20+COUNTIF(#REF!,\"=9\")*0)/COUNTA(#REF!)/100,\"N/A\")","v":{"$error":"#REF!"}},{"$f":"IF(COUNTA(#REF!)>0,(COUNTIF(#REF!,\"=0\")*0+COUNTIF(#REF!,\"=1\")*100+COUNTIF(#REF!,\"=2\")*80+COUNTIF(#REF!,\"=3\")*50+COUNTIF(#REF!,\"=8\")*20+COUNTIF(#REF!,\"=9\")*0)/COUNTA(#REF!)/100,\"N/A\")","v":{"$error":"#REF!"}},{"$f":"IF(AND(COUNTA(B493:V493)<>0,#REF!<>\"\"),AVERAGE(W493:AC493),\"N/A\")","v":{"$error":"#REF!"}},1,1,1,1,1,{"$error":"#REF!"},{"$error":"#REF!"},{"$error":"#REF!"}]
[{"$nulls":22},"N/A","N/A","N/A","N/A","N/A",{"$f":"IF(COUNTA(#REF!)>0,(COUNTIF(#REF!,\"=0\")*0+COUNTIF(#REF!,\"=1\")*100+COUNTIF(#REF!,\"=2\")*80+COUNTIF(#REF!,\"=3\")*50+COUNTIF(#REF!,\"=8\")*20+COUNTIF(#REF!,\"=9\")*0)/COUNTA(#REF!)/100,\"N/A\")","v":{"$error":"#REF!"}},{"$f":"IF(COUNTA(#REF!)>0,(COUNTIF(#REF!,\"=0\")*0+COUNTIF(#REF!,\"=1\")*100+COUNTIF(#REF!,\"=2\")*80+COUNTIF(#REF!,\"=3\")*50+COUNTIF(#REF!,\"=8\")*20+COUNTIF(#REF!,\"=9\")*0)/COUNTA(#REF!)/100,\"N/A\")","v":{"$error":"#REF!"}},{"$f":"IF(AND(COUNTA(B494:V494)<>0,#REF!<>\"\"),AVERAGE(W494:AC494),\"N/A\")","v":{"$error":"#REF!"}},1,1,1,1,1,{"$error":"#REF!"},{"$error":"#REF!"},{"$error":"#REF!"}]
[{"$nulls":22},"N/A","N/A","N/A","N/A","N/A",{"$f":"IF(COUNTA(#REF!)>0,(COUNTIF(#REF!,\"=0\")*0+COUNTIF(#REF!,\"=1\")*100+COUNTIF(#REF!,\"=2\")*80+COUNTIF(#REF!,\"=3\")*50+COUNTIF(#REF!,\"=8\")*20+COUNTIF(#REF!,\"=9\")*0)/COUNTA(#REF!)/100,\"N/A\")","v":{"$error":"#REF!"}},{"$f":"IF(COUNTA(#REF!)>0,(COUNTIF(#REF!,\"=0\")*0+COUNTIF(#REF!,\"=1\")*100+COUNTIF(#REF!,\"=2\")*80+COUNTIF(#REF!,\"=3\")*50+COUNTIF(#REF!,\"=8\")*20+COUNTIF(#REF!,\"=9\")*0)/COUNTA(#REF!)/100,\"N/A\")","v":{"$error":"#REF!"}},{"$f":"IF(AND(COUNTA(B495:V495)<>0,#REF!<>\"\"),AVERAGE(W495:AC495),\"N/A\")","v":{"$error":"#REF!"}},1,1,1,1,1,{"$error":"#REF!"},{"$error":"#REF!"},{"$error":"#REF!"}]
[{"$nulls":22},"N/A","N/A","N/A","N/A","N/A",{"$f":"IF(COUNTA(#REF!)>0,(COUNTIF(#REF!,\"=0\")*0+COUNTIF(#REF!,\"=1\")*100+COUNTIF(#REF!,\"=2\")*80+COUNTIF(#REF!,\"=3\")*50+COUNTIF(#REF!,\"=8\")*20+COUNTIF(#REF!,\"=9\")*0)/COUNTA(#REF!)/100,\"N/A\")","v":{"$error":"#REF!"}},{"$f":"IF(COUNTA(#REF!)>0,(COUNTIF(#REF!,\"=0\")*0+COUNTIF(#REF!,\"=1\")*100+COUNTIF(#REF!,\"=2\")*80+COUNTIF(#REF!,\"=3\")*50+COUNTIF(#REF!,\"=8\")*20+COUNTIF(#REF!,\"=9\")*0)/COUNTA(#REF!)/100,\"N/A\")","v":{"$error":"#REF!"}},{"$f":"IF(AND(COUNTA(B496:V496)<>0,#REF!<>\"\"),AVERAGE(W496:AC496),\"N/A\")","v":{"$error":"#REF!"}},1,1,1,1,1,{"$error":"#REF!"},{"$error":"#REF!"},{"$error":"#REF!"}]
[{"$nulls":22},"N/A","N/A","N/A","N/A","N/A",{"$f":"IF(COUNTA(#REF!)>0,(COUNTIF(#REF!,\"=0\")*0+COUNTIF(#REF!,\"=1\")*100+COUNTIF(#REF!,\"=2\")*80+COUNTIF(#REF!,\"=3\")*50+COUNTIF(#REF!,\"=8\")*20+COUNTIF(#REF!,\"=9\")*0)/COUNTA(#REF!)/100,\"N/A\")","v":{"$error":"#REF!"}},{"$f":"IF(COUNTA(#REF!)>0,(COUNTIF(#REF!,\"=0\")*0+COUNTIF(#REF!,\"=1\")*100+COUNTIF(#REF!,\"=2\")*80+COUNTIF(#REF!,\"=3\")*50+COUNTIF(#REF!,\"=8\")*20+COUNTIF(#REF!,\"=9\")*0)/COUNTA(#REF!)/100,\"N/A\")","v":{"$error":"#REF!"}},{"$f":"IF(AND(COUNTA(B497:V497)<>0,#REF!<>\"\"),AVERAGE(W497:AC497),\"N/A\")","v":{"$error":"#REF!"}},1,1,1,1,1,{"$error":"#REF!"},{"$error":"#REF!"},{"$error":"#REF!"}]
[{"$nulls":22},"N/A","N/A","N/A","N/A","N/A",{"$f":"IF(COUNTA(#REF!)>0,(COUNTIF(#REF!,\"=0\")*0+COUNTIF(#REF!,\"=1\")*100+COUNTIF(#REF!,\"=2\")*80+COUNTIF(#REF!,\"=3\")*50+COUNTIF(#REF!,\"=8\")*20+COUNTIF(#REF!,\"=9\")*0)/COUNTA(#REF!)/100,\"N/A\")","v":{"$error":"#REF!"}},{"$f":"IF(COUNTA(#REF!)>0,(COUNTIF(#REF!,\"=0\")*0+COUNTIF(#REF!,\"=1\")*100+COUNTIF(#REF!,\"=2\")*80+COUNTIF(#REF!,\"=3\")*50+COUNTIF(#REF!,\"=8\")*20+COUNTIF(#REF!,\"=9\")*0)/COUNTA(#REF!)/100,\"N/A\")","v":{"$error":"#REF!"}},{"$f":"IF(AND(COUNTA(B498:V498)<>0,#REF!<>\"\"),AVERAGE(W498:AC498),\"N/A\")","v":{"$error":"#REF!"}},1,1,1,1,1,{"$error":"#REF!"},{"$error":"#REF!"},{"$error":"#REF!"}]
[{"$nulls":22},"N/A","N/A","N/A","N/A","N/A",{"$f":"IF(COUNTA(#REF!)>0,(COUNTIF(#REF!,\"=0\")*0+COUNTIF(#REF!,\"=1\")*100+COUNTIF(#REF!,\"=2\")*80+COUNTIF(#REF!,\"=3\")*50+COUNTIF(#REF!,\"=8\")*20+COUNTIF(#REF!,\"=9\")*0)/COUNTA(#REF!)/100,\"N/A\")","v":{"$error":"#REF!"}},{"$f":"IF(COUNTA(#REF!)>0,(COUNTIF(#REF!,\"=0\")*0+COUNTIF(#REF!,\"=1\")*100+COUNTIF(#REF!,\"=2\")*80+COUNTIF(#REF!,\"=3\")*50+COUNTIF(#REF!,\"=8\")*20+COUNTIF(#REF!,\"=9\")*0)/COUNTA(#REF!)/100,\"N/A\")","v":{"$error":"#REF!"}},{"$f":"IF(AND(COUNTA(B499:V499)<>0,#REF!<>\"\"),AVERAGE(W499:AC499),\"N/A\")","v":{"$error":"#REF!"}},1,1,1,1,1,{"$error":"#REF!"},{"$error":"#REF!"},{"$error":"#REF!"}]
[{"$nulls":22},"N/A","N/A","N/A","N/A","N/A",{"$f":"IF(COUNTA(#REF!)>0,(COUNTIF(#REF!,\"=0\")*0+COUNTIF(#REF!,\"=1\")*100+COUNTIF(#REF!,\"=2\")*80+COUNTIF(#REF!,\"=3\")*50+COUNTIF(#REF!,\"=8\")*20+COUNTIF(#REF!,\"=9\")*0)/COUNTA(#REF!)/100,\"N/A\")","v":{"$error":"#REF!"}},{"$f":"IF(COUNTA(#REF!)>0,(COUNTIF(#REF!,\"=0\")*0+COUNTIF(#REF!,\"=1\")*100+COUNTIF(#REF!,\"=2\")*80+COUNTIF(#REF!,\"=3\")*50+COUNTIF(#REF!,\"=8\")*20+COUNTIF(#REF!,\"=9\")*0)/COUNTA(#REF!)/100,\"N/A\")","v":{"$error":"#REF!"}},{"$f":"IF(AND(COUNTA(B500:V500)<>0,#REF!<>\"\"),AVERAGE(W500:AC500),\"N/A\")","v":{"$error":"#REF!"}},1,1,1,1,1,{"$error":"#REF!"},{"$error":"#REF!"},{"$error":"#REF!"}]
[{"$nulls":22},"N/A","N/A","N/A","N/A","N/A",{"$f":"IF(COUNTA(#REF!)>0,(COUNTIF(#REF!,\"=0\")*0+COUNTIF(#REF!,\"=1\")*100+COUNTIF(#REF!,\"=2\")*80+COUNTIF(#REF!,\"=3\")*50+COUNTIF(#REF!,\"=8\")*20+COUNTIF(#REF!,\"=9\")*0)/COUNTA(#REF!)/100,\"N/A\")","v":{"$error":"#REF!"}},{"$f":"IF(COUNTA(#REF!)>0,(COUNTIF(#REF!,\"=0\")*0+COUNTIF(#REF!,\"=1\")*100+COUNTIF(#REF!,\"=2\")*80+COUNTIF(#REF!,\"=3\")*50+COUNTIF(#REF!,\"=8\")*20+COUNTIF(#REF!,\"=9\")*0)/COUNTA(#REF!)/100,\"N/A\")","v":{"$error":"#REF!"}},{"$f":"IF(AND(COUNTA(B501:V501)<>0,#REF!<>\"\"),AVERAGE(W501:AC501),\"N/A\")","v":{"$error":"#REF!"}},1,1,1,1,1,{"$error":"#REF!"},{"$error":"#REF!"},{"$error":"#REF!"}]
[{"$nulls":22},"N/A","N/A","N/A","N/A","N/A",{"$f":"IF(COUNTA(#REF!)>0,(COUNTIF(#REF!,\"=0\")*0+COUNTIF(#REF!,\"=1\")*100+COUNTIF(#REF!,\"=2\")*80+COUNTIF(#REF!,\"=3\")*50+COUNTIF(#REF!,\"=8\")*20+COUNTIF(#REF!,\"=9\")*0)/COUNTA(#REF!)/100,\"N/A\")","v":{"$error":"#REF!"}},{"$f":"IF(COUNTA(#REF!)>0,(COUNTIF(#REF!,\"=0\")*0+COUNTIF(#REF!,\"=1\")*100+COUNTIF(#REF!,\"=2\")*80+COUNTIF(#REF!,\"=3\")*50+COUNTIF(#REF!,\"=8\")*20+COUNTIF(#REF!,\"=9\")*0)/COUNTA(#REF!)/100,\"N/A\")","v":{"$error":"#REF!"}},{"$f":"IF(AND(COUNTA(B502:V502)<>0,#REF!<>\"\"),AVERAGE(W502:AC502),\"N/A\")","v":{"$error":"#REF!"}},1,1,1,1,1,{"$error":"#REF!"},{"$error":"#REF!"},{"$error":"#REF!"}]
[{"$nulls":22},"N/A","N/A","N/A","N/A","N/A",{"$f":"IF(COUNTA(#REF!)>0,(COUNTIF(#REF!,\"=0\")*0+COUNTIF(#REF!,\"=1\")*100+COUNTIF(#REF!,\"=2\")*80+COUNTIF(#REF!,\"=3\")*50+COUNTIF(#REF!,\"=8\")*20+COUNTIF(#REF!,\"=9\")*0)/COUNTA(#REF!)/100,\"N/A\")","v":{"$error":"#REF!"}},{"$f":"IF(COUNTA(#REF!)>0,(COUNTIF(#REF!,\"=0\")*0+COUNTIF(#REF!,\"=1\")*100+COUNTIF(#REF!,\"=2\")*80+COUNTIF(#REF!,\"=3\")*50+COUNTIF(#REF!,\"=8\")*20+COUNTIF(#REF!,\"=9\")*0)/COUNTA(#REF!)/100,\"N/A\")","v":{"$error":"#REF!"}},{"$f":"IF(AND(COUNTA(B503:V503)<>0,#REF!<>\"\"),AVERAGE(W503:AC503),\"N/A\")","v":{"$error":"#REF!"}},1,1,1,1,1,{"$error":"#REF!"},{"$error":"#REF!"},{"$error":"#REF!"}]
[{"$nulls":22},"N/A","N/A","N/A","N/A","N/A",{"$f":"IF(COUNTA(#REF!)>0,(COUNTIF(#REF!,\"=0\")*0+COUNTIF(#REF!,\"=1\")*100+COUNTIF(#REF!,\"=2\")*80+COUNTIF(#REF!,\"=3\")*50+COUNTIF(#REF!,\"=8\")*20+COUNTIF(#REF!,\"=9\")*0)/COUNTA(#REF!)/100,\"N/A\")","v":{"$error":"#REF!"}},{"$f":"IF(COUNTA(#REF!)>0,(COUNTIF(#REF!,\"=0\")*0+COUNTIF(#REF!,\"=1\")*100+COUNTIF(#REF!,\"=2\")*80+COUNTIF(#REF!,\"=3\")*50+COUNTIF(#REF!,\"=8\")*20+COUNTIF(#REF!,\"=9\")*0)/COUNTA(#REF!)/100,\"N/A\")","v":{"$error":"#REF!"}},{"$f":"IF(AND(COUNTA(B504:V504)<>0,#REF!<>\"\"),AVERAGE(W504:AC504),\"N/A\")","v":{"$error":"#REF!"}},1,1,1,1,1,{"$error":"#REF!"},{"$error":"#REF!"},{"$error":"#REF!"}]
[{"$nulls":22},"N/A","N/A","N/A","N/A","N/A",{"$f":"IF(COUNTA(#REF!)>0,(COUNTIF(#REF!,\"=0\")*0+COUNTIF(#REF!,\"=1\")*100+COUNTIF(#REF!,\"=2\")*80+COUNTIF(#REF!,\"=3\")*50+COUNTIF(#REF!,\"=8\")*20+COUNTIF(#REF!,\"=9\")*0)/COUNTA(#REF!)/100,\"N/A\")","v":{"$error":"#REF!"}},{"$f":"IF(COUNTA(#REF!)>0,(COUNTIF(#REF!,\"=0\")*0+COUNTIF(#REF!,\"=1\")*100+COUNTIF(#REF!,\"=2\")*80+COUNTIF(#REF!,\"=3\")*50+COUNTIF(#REF!,\"=8\")*20+COUNTIF(#REF!,\"=9\")*0)/COUNTA(#REF!)/100,\"N/A\")","v":{"$error":"#REF!"}},{"$f":"IF(AND(COUNTA(B505:V505)<>0,#REF!<>\"\"),AVERAGE(W505:AC505),\"N/A\")","v":{"$error":"#REF!"}},1,1,1,1,1,{"$error":"#REF!"},{"$error":"#REF!"},{"$error":"#REF!"}]
[{"$nulls":22},"N/A","N/A","N/A","N/A","N/A",{"$f":"IF(COUNTA(#REF!)>0,(COUNTIF(#REF!,\"=0\")*0+COUNTIF(#REF!,\"=1\")*100+COUNTIF(#REF!,\"=2\")*80+COUNTIF(#REF!,\"=3\")*50+COUNTIF(#REF!,\"=8\")*20+COUNTIF(#REF!,\"=9\")*0)/COUNTA(#REF!)/100,\"N/A\")","v":{"$error":"#REF!"}},{"$f":"IF(COUNTA(#REF!)>0,(COUNTIF(#REF!,\"=0\")*0+COUNTIF(#REF!,\"=1\")*100+COUNTIF(#REF!,\"=2\")*80+COUNTIF(#REF!,\"=3\")*50+COUNTIF(#REF!,\"=8\")*20+COUNTIF(#REF!,\"=9\")*0)/COUNTA(#REF!)/100,\"N/A\")","v":{"$error":"#REF!"}},{"$f":"IF(AND(COUNTA(B506:V506)<>0,#REF!<>\"\"),AVERAGE(W506:AC506),\"N/A\")","v":{"$error":"#REF!"}},1,1,1,1,1,{"$error":"#REF!"},{"$error":"#REF!"},{"$error":"#REF!"}]
[{"$nulls":22},"N/A","N/A","N/A","N/A","N/A",{"$f":"IF(COUNTA(#REF!)>0,(COUNTIF(#REF!,\"=0\")*0+COUNTIF(#REF!,\"=1\")*100+COUNTIF(#REF!,\"=2\")*80+COUNTIF(#REF!,\"=3\")*50+COUNTIF(#REF!,\"=8\")*20+COUNTIF(#REF!,\"=9\")*0)/COUNTA(#REF!)/100,\"N/A\")","v":{"$error":"#REF!"}},{"$f":"IF(COUNTA(#REF!)>0,(COUNTIF(#REF!,\"=0\")*0+COUNTIF(#REF!,\"=1\")*100+COUNTIF(#REF!,\"=2\")*80+COUNTIF(#REF!,\"=3\")*50+COUNTIF(#REF!,\"=8\")*20+COUNTIF(#REF!,\"=9\")*0)/COUNTA(#REF!)/100,\"N/A\")","v":{"$error":"#REF!"}},{"$f":"IF(AND(COUNTA(B507:V507)<>0,#REF!<>\"\"),AVERAGE(W507:AC507),\"N/A\")","v":{"$error":"#REF!"}},1,1,1,1,1,{"$error":"#REF!"},{"$error":"#REF!"},{"$error":"#REF!"}]
[{"$nulls":22},"N/A","N/A","N/A","N/A","N/A",{"$f":"IF(COUNTA(#REF!)>0,(COUNTIF(#REF!,\"=0\")*0+COUNTIF(#REF!,\"=1\")*100+COUNTIF(#REF!,\"=2\")*80+COUNTIF(#REF!,\"=3\")*50+COUNTIF(#REF!,\"=8\")*20+COUNTIF(#REF!,\"=9\")*0)/COUNTA(#REF!)/100,\"N/A\")","v":{"$error":"#REF!"}},{"$f":"IF(COUNTA(#REF!)>0,(COUNTIF(#REF!,\"=0\")*0+COUNTIF(#REF!,\"=1\")*100+COUNTIF(#REF!,\"=2\")*80+COUNTIF(#REF!,\"=3\")*50+COUNTIF(#REF!,\"=8\")*20+COUNTIF(#REF!,\"=9\")*0)/COUNTA(#REF!)/100,\"N/A\")","v":{"$error":"#REF!"}},{"$f":"IF(AND(COUNTA(B508:V508)<>0,#REF!<>\"\"),AVERAGE(W508:AC508),\"N/A\")","v":{"$error":"#REF!"}},1,1,1,1,1,{"$error":"#REF!"},{"$error":"#REF!"},{"$error":"#REF!"}]
[{"$nulls":22},"N/A","N/A","N/A","N/A","N/A",{"$f":"IF(COUNTA(#REF!)>0,(COUNTIF(#REF!,\"=0\")*0+COUNTIF(#REF!,\"=1\")*100+COUNTIF(#REF!,\"=2\")*80+COUNTIF(#REF!,\"=3\")*50+COUNTIF(#REF!,\"=8\")*20+COUNTIF(#REF!,\"=9\")*0)/COUNTA(#REF!)/100,\"N/A\")","v":{"$error":"#REF!"}},{"$f":"IF(COUNTA(#REF!)>0,(COUNTIF(#REF!,\"=0\")*0+COUNTIF(#REF!,\"=1\")*100+COUNTIF(#REF!,\"=2\")*80+COUNTIF(#REF!,\"=3\")*50+COUNTIF(#REF!,\"=8\")*20+COUNTIF(#REF!,\"=9\")*0)/COUNTA(#REF!)/100,\"N/A\")","v":{"$error":"#REF!"}},{"$f":"IF(AND(COUNTA(B509:V509)<>0,#REF!<>\"\"),AVERAGE(W509:AC509),\"N/A\")","v":{"$error":"#REF!"}},1,1,1,1,1,{"$error":"#REF!"},{"$error":"#REF!"},{"$error":"#REF!"}]
[{"$nulls":22},"N/A","N/A","N/A","N/A","N/A",{"$f":"IF(COUNTA(#REF!)>0,(COUNTIF(#REF!,\"=0\")*0+COUNTIF(#REF!,\"=1\")*100+COUNTIF(#REF!,\"=2\")*80+COUNTIF(#REF!,\"=3\")*50+COUNTIF(#REF!,\"=8\")*20+COUNTIF(#REF!,\"=9\")*0)/COUNTA(#REF!)/100,\"N/A\")","v":{"$error":"#REF!"}},{"$f":"IF(COUNTA(#REF!)>0,(COUNTIF(#REF!,\"=0\")*0+COUNTIF(#REF!,\"=1\")*100+COUNTIF(#REF!,\"=2\")*80+COUNTIF(#REF!,\"=3\")*50+COUNTIF(#REF!,\"=8\")*20+COUNTIF(#REF!,\"=9\")*0)/COUNTA(#REF!)/100,\"N/A\")","v":{"$error":"#REF!"}},{"$f":"IF(AND(COUNTA(B510:V510)<>0,#REF!<>\"\"),AVERAGE(W510:AC510),\"N/A\")","v":{"$error":"#REF!"}},1,1,1,1,1,{"$error":"#REF!"},{"$error":"#REF!"},{"$error":"#REF!"}]
[{"$nulls":22},"N/A","N/A","N/A","N/A","N/A",{"$f":"IF(COUNTA(#REF!)>0,(COUNTIF(#REF!,\"=0\")*0+COUNTIF(#REF!,\"=1\")*100+COUNTIF(#REF!,\"=2\")*80+COUNTIF(#REF!,\"=3\")*50+COUNTIF(#REF!,\"=8\")*20+COUNTIF(#REF!,\"=9\")*0)/COUNTA(#REF!)/100,\"N/A\")","v":{"$error":"#REF!"}},{"$f":"IF(COUNTA(#REF!)>0,(COUNTIF(#REF!,\"=0\")*0+COUNTIF(#REF!,\"=1\")*100+COUNTIF(#REF!,\"=2\")*80+COUNTIF(#REF!,\"=3\")*50+COUNTIF(#REF!,\"=8\")*20+COUNTIF(#REF!,\"=9\")*0)/COUNTA(#REF!)/100,\"N/A\")","v":{"$error":"#REF!"}},{"$f":"IF(AND(COUNTA(B511:V511)<>0,#REF!<>\"\"),AVERAGE(W511:AC511),\"N/A\")","v":{"$error":"#REF!"}},1,1,1,1,1,{"$error":"#REF!"},{"$error":"#REF!"},{"$error":"#REF!"}]
[{"$nulls":22},"N/A","N/A","N/A","N/A","N/A",{"$f":"IF(COUNTA(#REF!)>0,(COUNTIF(#REF!,\"=0\")*0+COUNTIF(#REF!,\"=1\")*100+COUNTIF(#REF!,\"=2\")*80+COUNTIF(#REF!,\"=3\")*50+COUNTIF(#REF!,\"=8\")*20+COUNTIF(#REF!,\"=9\")*0)/COUNTA(#REF!)/100,\"N/A\")","v":{"$error":"#REF!"}},{"$f":"IF(COUNTA(#REF!)>0,(COUNTIF(#REF!,\"=0\")*0+COUNTIF(#REF!,\"=1\")*100+COUNTIF(#REF!,\"=2\")*80+COUNTIF(#REF!,\"=3\")*50+COUNTIF(#REF!,\"=8\")*20+COUNTIF(#REF!,\"=9\")*0)/COUNTA(#REF!)/100,\"N/A\")","v":{"$error":"#REF!"}},{"$f":"IF(AND(COUNTA(B512:V512)<>0,#REF!<>\"\"),AVERAGE(W512:AC512),\"N/A\")","v":{"$error":"#REF!"}},1,1,1,1,1,{"$error":"#REF!"},{"$error":"#REF!"},{"$error":"#REF!"}]
[{"$nulls":22},{"$f":"IF(COUNTA(B513:G513)>0,(COUNTIF(B513:G513,\"=0\")*0+COUNTIF(B513:G513,\"=1\")*100+COUNTIF(B513:G513,\"=2\")*80+COUNTIF(B513:G513,\"=3\")*50+COUNTIF(B513:G513,\"=8\")*20+COUNTIF(B513:G513,\"=9\")*0)/COUNTA(B513:G513)/100,\"N/A\")","v":"N/A"},{"$f":"IF(COUNTA(K513:O513)>0,(COUNTIF(K513:O513,\"=0\")*0+COUNTIF(K513:O513,\"=1\")*100+COUNTIF(K513:O513,\"=2\")*80+COUNTIF(K513:O513,\"=3\")*50+COUNTIF(K513:O513,\"=8\")*20+COUNTIF(K513:O513,\"=9\")*0)/COUNTA(K513:O513)/100,\"N/A\")","v":"N/A"},{"$f":"IF(COUNTA(P513)>0,(COUNTIF(P513,\"=0\")*0+COUNTIF(P513,\"=1\")*100+COUNTIF(P513,\"=2\")*80+COUNTIF(P513,\"=3\")*50+COUNTIF(P513,\"=8\")*20+COUNTIF(P513,\"=9\")*0)/COUNTA(P513)/100,\"N/A\")","v":"N/A"},"N/A","N/A",{"$f":"IF(COUNTA(#REF!)>0,(COUNTIF(#REF!,\"=0\")*0+COUNTIF(#REF!,\"=1\")*100+COUNTIF(#REF!,\"=2\")*80+COUNTIF(#REF!,\"=3\")*50+COUNTIF(#REF!,\"=8\")*20+COUNTIF(#REF!,\"=9\")*0)/COUNTA(#REF!)/100,\"N/A\")","v":{"$error":"#REF!"}},{"$f":"IF(COUNTA(#REF!)>0,(COUNTIF(#REF!,\"=0\")*0+COUNTIF(#REF!,\"=1\")*100+COUNTIF(#REF!,\"=2\")*80+COUNTIF(#REF!,\"=3\")*50+COUNTIF(#REF!,\"=8\")*20+COUNTIF(#REF!,\"=9\")*0)/COUNTA(#REF!)/100,\"N/A\")","v":{"$error":"#REF!"}},{"$f":"IF(AND(COUNTA(B513:V513)<>0,#REF!<>\"\"),AVERAGE(W513:AC513),\"N/A\")","v":{"$error":"#REF!"}},1,1,1,1,1,{"$error":"#REF!"},{"$error":"#REF!"},{"$error":"#REF!"}]
[{"$nulls":22},"N/A","N/A","N/A","N/A","N/A",{"$f":"IF(COUNTA(#REF!)>0,(COUNTIF(#REF!,\"=0\")*0+COUNTIF(#REF!,\"=1\")*100+COUNTIF(#REF!,\"=2\")*80+COUNTIF(#REF!,\"=3\")*50+COUNTIF(#REF!,\"=8\")*20+COUNTIF(#REF!,\"=9\")*0)/COUNTA(#REF!)/100,\"N/A\")","v":{"$error":"#REF!"}},{"$f":"IF(COUNTA(#REF!)>0,(COUNTIF(#REF!,\"=0\")*0+COUNTIF(#REF!,\"=1\")*100+COUNTIF(#REF!,\"=2\")*80+COUNTIF(#REF!,\"=3\")*50+COUNTIF(#REF!,\"=8\")*20+COUNTIF(#REF!,\"=9\")*0)/COUNTA(#REF!)/100,\"N/A\")","v":{"$error":"#REF!"}},{"$f":"IF(AND(COUNTA(B514:V514)<>0,#REF!<>\"\"),AVERAGE(W514:AC514),\"N/A\")","v":{"$error":"#REF!"}},1,1,1,1,1,{"$error":"#REF!"},{"$error":"#REF!"},{"$error":"#REF!"}]
[{"$nulls":22},"N/A","N/A","N/A","N/A","N/A",{"$f":"IF(COUNTA(#REF!)>0,(COUNTIF(#REF!,\"=0\")*0+COUNTIF(#REF!,\"=1\")*100+COUNTIF(#REF!,\"=2\")*80+COUNTIF(#REF!,\"=3\")*50+COUNTIF(#REF!,\"=8\")*20+COUNTIF(#REF!,\"=9\")*0)/COUNTA(#REF!)/100,\"N/A\")","v":{"$error":"#REF!"}},{"$f":"IF(COUNTA(#REF!)>0,(COUNTIF(#REF!,\"=0\")*0+COUNTIF(#REF!,\"=1\")*100+COUNTIF(#REF!,\"=2\")*80+COUNTIF(#REF!,\"=3\")*50+COUNTIF(#REF!,\"=8\")*20+COUNTIF(#REF!,\"=9\")*0)/COUNTA(#REF!)/100,\"N/A\")","v":{"$error":"#REF!"}},{"$f":"IF(AND(COUNTA(B515:V515)<>0,#REF!<>\"\"),AVERAGE(W515:AC515),\"N/A\")","v":{"$error":"#REF!"}},1,1,1,1,1,{"$error":"#REF!"},{"$error":"#REF!"},{"$error":"#REF!"}]
[{"$nulls":22},"N/A","N/A","N/A","N/A","N/A",{"$f":"IF(COUNTA(#REF!)>0,(COUNTIF(#REF!,\"=0\")*0+COUNTIF(#REF!,\"=1\")*100+COUNTIF(#REF!,\"=2\")*80+COUNTIF(#REF!,\"=3\")*50+COUNTIF(#REF!,\"=8\")*20+COUNTIF(#REF!,\"=9\")*0)/COUNTA(#REF!)/100,\"N/A\")","v":{"$error":"#REF!"}},{"$f":"IF(COUNTA(#REF!)>0,(COUNTIF(#REF!,\"=0\")*0+COUNTIF(#REF!,\"=1\")*100+COUNTIF(#REF!,\"=2\")*80+COUNTIF(#REF!,\"=3\")*50+COUNTIF(#REF!,\"=8\")*20+COUNTIF(#REF!,\"=9\")*0)/COUNTA(#REF!)/100,\"N/A\")","v":{"$error":"#REF!"}},{"$f":"IF(AND(COUNTA(B516:V516)<>0,#REF!<>\"\"),AVERAGE(W516:AC516),\"N/A\")","v":{"$error":"#REF!"}},1,1,1,1,1,{"$error":"#REF!"},{"$error":"#REF!"},{"$error":"#REF!"}]
[{"$nulls":22},"N/A","N/A","N/A","N/A","N/A",{"$f":"IF(COUNTA(#REF!)>0,(COUNTIF(#REF!,\"=0\")*0+COUNTIF(#REF!,\"=1\")*100+COUNTIF(#REF!,\"=2\")*80+COUNTIF(#REF!,\"=3\")*50+COUNTIF(#REF!,\"=8\")*20+COUNTIF(#REF!,\"=9\")*0)/COUNTA(#REF!)/100,\"N/A\")","v":{"$error":"#REF!"}},{"$f":"IF(COUNTA(#REF!)>0,(COUNTIF(#REF!,\"=0\")*0+COUNTIF(#REF!,\"=1\")*100+COUNTIF(#REF!,\"=2\")*80+COUNTIF(#REF!,\"=3\")*50+COUNTIF(#REF!,\"=8\")*20+COUNTIF(#REF!,\"=9\")*0)/COUNTA(#REF!)/100,\"N/A\")","v":{"$error":"#REF!"}},{"$f":"IF(AND(COUNTA(B517:V517)<>0,#REF!<>\"\"),AVERAGE(W517:AC517),\"N/A\")","v":{"$error":"#REF!"}},1,1,1,1,1,{"$error":"#REF!"},{"$error":"#REF!"},{"$error":"#REF!"}]
[{"$nulls":22},"N/A","N/A","N/A","N/A","N/A",{"$f":"IF(COUNTA(#REF!)>0,(COUNTIF(#REF!,\"=0\")*0+COUNTIF(#REF!,\"=1\")*100+COUNTIF(#REF!,\"=2\")*80+COUNTIF(#REF!,\"=3\")*50+COUNTIF(#REF!,\"=8\")*20+COUNTIF(#REF!,\"=9\")*0)/COUNTA(#REF!)/100,\"N/A\")","v":{"$error":"#REF!"}},{"$f":"IF(COUNTA(#REF!)>0,(COUNTIF(#REF!,\"=0\")*0+COUNTIF(#REF!,\"=1\")*100+COUNTIF(#REF!,\"=2\")*80+COUNTIF(#REF!,\"=3\")*50+COUNTIF(#REF!,\"=8\")*20+COUNTIF(#REF!,\"=9\")*0)/COUNTA(#REF!)/100,\"N/A\")","v":{"$error":"#REF!"}},{"$f":"IF(AND(COUNTA(B518:V518)<>0,#REF!<>\"\"),AVERAGE(W518:AC518),\"N/A\")","v":{"$error":"#REF!"}},1,1,1,1,1,{"$error":"#REF!"},{"$error":"#REF!"},{"$error":"#REF!"}]
[{"$nulls":22},"N/A","N/A","N/A","N/A","N/A",{"$f":"IF(COUNTA(#REF!)>0,(COUNTIF(#REF!,\"=0\")*0+COUNTIF(#REF!,\"=1\")*100+COUNTIF(#REF!,\"=2\")*80+COUNTIF(#REF!,\"=3\")*50+COUNTIF(#REF!,\"=8\")*20+COUNTIF(#REF!,\"=9\")*0)/COUNTA(#REF!)/100,\"N/A\")","v":{"$error":"#REF!"}},{"$f":"IF(COUNTA(#REF!)>0,(COUNTIF(#REF!,\"=0\")*0+COUNTIF(#REF!,\"=1\")*100+COUNTIF(#REF!,\"=2\")*80+COUNTIF(#REF!,\"=3\")*50+COUNTIF(#REF!,\"=8\")*20+COUNTIF(#REF!,\"=9\")*0)/COUNTA(#REF!)/100,\"N/A\")","v":{"$error":"#REF!"}},{"$f":"IF(AND(COUNTA(B519:V519)<>0,#REF!<>\"\"),AVERAGE(W519:AC519),\"N/A\")","v":{"$error":"#REF!"}},1,1,1,1,1,{"$error":"#REF!"},{"$error":"#REF!"},{"$error":"#REF!"}]
[{"$nulls":22},"N/A","N/A","N/A","N/A","N/A",{"$f":"IF(COUNTA(#REF!)>0,(COUNTIF(#REF!,\"=0\")*0+COUNTIF(#REF!,\"=1\")*100+COUNTIF(#REF!,\"=2\")*80+COUNTIF(#REF!,\"=3\")*50+COUNTIF(#REF!,\"=8\")*20+COUNTIF(#REF!,\"=9\")*0)/COUNTA(#REF!)/100,\"N/A\")","v":{"$error":"#REF!"}},{"$f":"IF(COUNTA(#REF!)>0,(COUNTIF(#REF!,\"=0\")*0+COUNTIF(#REF!,\"=1\")*100+COUNTIF(#REF!,\"=2\")*80+COUNTIF(#REF!,\"=3\")*50+COUNTIF(#REF!,\"=8\")*20+COUNTIF(#REF!,\"=9\")*0)/COUNTA(#REF!)/100,\"N/A\")","v":{"$error":"#REF!"}},{"$f":"IF(AND(COUNTA(B520:V520)<>0,#REF!<>\"\"),AVERAGE(W520:AC520),\"N/A\")","v":{"$error":"#REF!"}},1,1,1,1,1,{"$error":"#REF!"},{"$error":"#REF!"},{"$error":"#REF!"}]
[{"$nulls":22},"N/A","N/A","N/A","N/A","N/A",{"$f":"IF(COUNTA(#REF!)>0,(COUNTIF(#REF!,\"=0\")*0+COUNTIF(#REF!,\"=1\")*100+COUNTIF(#REF!,\"=2\")*80+COUNTIF(#REF!,\"=3\")*50+COUNTIF(#REF!,\"=8\")*20+COUNTIF(#REF!,\"=9\")*0)/COUNTA(#REF!)/100,\"N/A\")","v":{"$error":"#REF!"}},{"$f":"IF(COUNTA(#REF!)>0,(COUNTIF(#REF!,\"=0\")*0+COUNTIF(#REF!,\"=1\")*100+COUNTIF(#REF!,\"=2\")*80+COUNTIF(#REF!,\"=3\")*50+COUNTIF(#REF!,\"=8\")*20+COUNTIF(#REF!,\"=9\")*0)/COUNTA(#REF!)/100,\"N/A\")","v":{"$error":"#REF!"}},{"$f":"IF(AND(COUNTA(B521:V521)<>0,#REF!<>\"\"),AVERAGE(W521:AC521),\"N/A\")","v":{"$error":"#REF!"}},1,1,1,1,1,{"$error":"#REF!"},{"$error":"#REF!"},{"$error":"#REF!"}]

{"sheet":"Synthèses individuelles","index":1,"n_rows":148,"n_cols":30,"rows_kept":148,"merged":[[7,2,7,30],[9,2,9,3],[9,4,9,24],[9,26,9,27],[9,29,9,30],[10,5,10,6],[11,24,11,30],[12,0,15,0],[16,0,19,0],[20,0,23,0],[24,0,27,0],[28,0,31,0],[32,0,35,0],[36,0,39,0],[40,0,43,0],[44,0,47,0],[48,0,51,0],[52,0,55,0],[56,0,59,0],[60,0,63,0],[64,0,67,0],[68,0,71,0],[72,0,75,0],[76,0,79,0],[80,0,83,0],[84,0,87,0],[88,0,91,0],[92,0,95,0],[96,0,99,0],[100,0,103,0],[104,0,107,0],[108,0,111,0],[112,0,115,0],[116,0,119,0],[120,0,123,0],[124,0,127,0],[128,0,131,0],[132,0,135,0],[136,0,139,0],[140,0,143,0],[144,0,147,0]]}
["Plages de codes possibles",null,1,1,1]
[null,null,9,2,2]
[null,null,0,9,9]
[{"$nulls":3},0,0]
[]
[]
[]
[null,null,"ÉVALUATIONS SCIENCES ET TECHNOLOGIE DÉBUT DE CYCLE 3 "]
[]
[null,null,"Circonscription :",null,{"$f":"Saisie!E9","v":0},{"$nulls":20},"Ecole :",{"$f":"Saisie!M9","v":0},null,"Classe",{"$f":"Saisie!R9","v":0}]
[]
[null,null,"MATIERE","VIVANT","OBJET","A","B","C","D","E","F","G","H","A","B","C","D","E","F","G","H",{"$nulls":3},"Synthèses individuelles"]
[{"$f":"Saisie!A15","v":"Elève1"},"% de réussite",{"$f":"COUNTIF(Saisie!B15:M15,\"1\")/COUNTA(Saisie!B15:M15)","v":{"v":0,"d":"0.00%"}},{"$f":"COUNTIF(Saisie!N15:R15,\"1\")/COUNTA(Saisie!N15:R15)","v":{"v":0,"d":"0.00%"}},{"$f":"COUNTIF(Saisie!S15:V15,\"1\")/COUNTA(Saisie!S15:V15)","v":{"v":0,"d":"0.00%"}},{"$f":"IF(COUNTA(C13:C13)>0,(COUNTIF(C13:C13,\"=0\")*0+COUNTIF(C13:C13,\"=1\")*100+COUNTIF(C13:C13,\"=2\")*80+COUNTIF(C13:C13,\"=3\")*50+COUNTIF(C13:C13,\"=8\")*20+COUNTIF(C13:C13,\"=9\")*0)/COUNTA(C13:C13)/100,\"N/A\")","v":{"v":0,"d":"0.0%"}},{"$f":"IF(COUNTA(D13:D13)>0,(COUNTIF(D13:D13,\"=0\")*0+COUNTIF(D13:D13,\"=1\")*100+COUNTIF(D13:D13,\"=2\")*80+COUNTIF(D13:D13,\"=3\")*50+COUNTIF(D13:D13,\"=8\")*20+COUNTIF(D13:D13,\"=9\")*0)/COUNTA(D13:D13)/100,\"N/A\")","v":{"v":0,"d":"0.0%"}},{"$f":"IF(COUNTA(#REF!)>0,(COUNTIF(#REF!,\"=0\")*0+COUNTIF(#REF!,\"=1\")*100+COUNTIF(#REF!,\"=2\")*80+COUNTIF(#REF!,\"=3\")*50+COUNTIF(#REF!,\"=8\")*20+COUNTIF(#REF!,\"=9\")*0)/COUNTA(#REF!)/100,\"N/A\")","v":{"$error":"#REF!"}},{"$f":"IF(COUNTA(E13:E13)<>0,(COUNTIF(E13:E13,\"=0\")*0+COUNTIF(E13:E13,\"=1\")*100+COUNTIF(E13:E13,\"=2\")*80+COUNTIF(E13:E13,\"=3\")*50+COUNTIF(E13:E13,\"=8\")*20+COUNTIF(E13:E13,\"=9\")*0)/COUNTA(E13:E13)/100,\"N/A\")","v":{"v":0,"d":"0.0%"}},{"$f":"IF(COUNTA(#REF!)>0,(COUNTIF(#REF!,\"=0\")*0+COUNTIF(#REF!,\"=1\")*100+COUNTIF(#REF!,\"=2\")*80+COUNTIF(#REF!,\"=3\")*50+COUNTIF(#REF!,\"=8\")*20+COUNTIF(#REF!,\"=9\")*0)/COUNTA(#REF!)/100,\"N/A\")","v":{"$error":"#REF!"}},{"$f":"IF(COUNTA(#REF!)>0,(COUNTIF(#REF!,\"=0\")*0+COUNTIF(#REF!,\"=1\")*100+COUNTIF(#REF!,\"=2\")*80+COUNTIF(#REF!,\"=3\")*50+COUNTIF(#REF!,\"=8\")*20+COUNTIF(#REF!,\"=9\")*0)/COUNTA(#REF!)/100,\"N/A\")","v":{"$error":"#REF!"}},{"$f":"IF(COUNTA(#REF!)>0,(COUNTIF(#REF!,\"=0\")*0+COUNTIF(#REF!,\"=1\")*100+COUNTIF(#REF!,\"=2\")*80+COUNTIF(#REF!,\"=3\")*50+COUNTIF(#REF!,\"=8\")*20+COUNTIF(#REF!,\"=9\")*0)/COUNTA(#REF!)/100,\"N/A\")","v":{"$error":"#REF!"}},{"$f":"IF(AND(COUNTA(C13:E13)<>0,#REF!<>\"\"),AVERAGE(F13:L13),\"N/A\")","v":{"$error":"#REF!"}},{"$f":"IF(F13=\"N/A\",1,\"\")","v":""},"",{"$error":"#REF!"},"",{"$error":"#REF!"},{"$error":"#REF!"},{"$error":"#REF!"},{"$error":"#REF!"}]
[null,"% de code 2",{"$f":"COUNTIF(Saisie!B15:M15,\"2\")/COUNTA(Saisie!B15:M15)","v":{"v":0,"d":"0.00%"}},{"$f":"COUNTIF(Saisie!N15:R15,\"2\")/COUNTA(Saisie!N15:R15)","v":{"v":0,"d":"0.00%"}},{"$f":"COUNTIF(Saisie!S15:V15,\"2\")/COUNTA(Saisie!S15:V15)","v":{"v":0,"d":"0.00%"}}]
[null,"% de code 9",{"$f":"COUNTIF(Saisie!B15:M15,\"9\")/COUNTA(Saisie!B15:M15)","v":{"v":0,"d":"0.00%"}},{"$f":"COUNTIF(Saisie!N15:R15,\"9\")/COUNTA(Saisie!N15:R15)","v":{"v":0,"d":"0.00%"}},{"$f":"COUNTIF(Saisie!S15:V15,\"9\")/COUNTA(Saisie!S15:V15)","v":{"v":0,"d":"0.00%"}}]
[null,"% de code 0",{"$f":"COUNTIF(Saisie!B15:M15,\"0\")/COUNTA(Saisie!B15:M15)","v":{"v":1,"d":"100.00%"}},{"$f":"COUNTIF(Saisie!N15:R15,\"0\")/COUNTA(Saisie!N15:R15)","v":{"v":1,"d":"100.00%"}},{"$f":"COUNTIF(Saisie!S15:V15,\"0\")/COUNTA(Saisie!S15:V15)","v":{"v":1,"d":"100.00%"}}]
[{"$f":"Saisie!A16","v":"Elève2"},"% de réussite",{"$f":"COUNTIF(Saisie!B16:M16,\"1\")/COUNTA(Saisie!B16:M16)","v":{"v":0,"d":"0.00%"}},{"$f":"COUNTIF(Saisie!N16:R16,\"1\")/COUNTA(Saisie!N16:R16)","v":{"v":0,"d":"0.00%"}},{"$f":"COUNTIF(Saisie!S16:V16,\"1\")/COUNTA(Saisie!S16:V16)","v":{"v":0,"d":"0.00%"}},{"$f":"IF(COUNTA(C17:C17)>0,(COUNTIF(C17:C17,\"=0\")*0+COUNTIF(C17:C17,\"=1\")*100+COUNTIF(C17:C17,\"=2\")*80+COUNTIF(C17:C17,\"=3\")*50+COUNTIF(C17:C17,\"=8\")*20+COUNTIF(C17:C17,\"=9\")*0)/COUNTA(C17:C17)/100,\"N/A\")","v":{"v":0,"d":"0.0%"}},{"$f":"IF(COUNTA(D17:D17)>0,(COUNTIF(D17:D17,\"=0\")*0+COUNTIF(D17:D17,\"=1\")*100+COUNTIF(D17:D17,\"=2\")*80+COUNTIF(D17:D17,\"=3\")*50+COUNTIF(D17:D17,\"=8\")*20+COUNTIF(D17:D17,\"=9\")*0)/COUNTA(D17:D17)/100,\"N/A\")","v":{"v":0,"d":"0.0%"}},{"$f":"IF(COUNTA(#REF!)>0,(COUNTIF(#REF!,\"=0\")*0+COUNTIF(#REF!,\"=1\")*100+COUNTIF(#REF!,\"=2\")*80+COUNTIF(#REF!,\"=3\")*50+COUNTIF(#REF!,\"=8\")*20+COUNTIF(#REF!,\"=9\")*0)/COUNTA(#REF!)/100,\"N/A\")","v":{"$error":"#REF!"}},{"$f":"IF(COUNTA(E17:E17)<>0,(COUNTIF(E17:E17,\"=0\")*0+COUNTIF(E17:E17,\"=1\")*100+COUNTIF(E17:E17,\"=2\")*80+COUNTIF(E17:E17,\"=3\")*50+COUNTIF(E17:E17,\"=8\")*20+COUNTIF(E17:E17,\"=9\")*0)/COUNTA(E17:E17)/100,\"N/A\")","v":{"v":0,"d":"0.0%"}},{"$f":"IF(COUNTA(#REF!)>0,(COUNTIF(#REF!,\"=0\")*0+COUNTIF(#REF!,\"=1\")*100+COUNTIF(#REF!,\"=2\")*80+COUNTIF(#REF!,\"=3\")*50+COUNTIF(#REF!,\"=8\")*20+COUNTIF(#REF!,\"=9\")*0)/COUNTA(#REF!)/100,\"N/A\")","v":{"$error":"#REF!"}},{"$f":"IF(COUNTA(#REF!)>0,(COUNTIF(#REF!,\"=0\")*0+COUNTIF(#REF!,\"=1\")*100+COUNTIF(#REF!,\"=2\")*80+COUNTIF(#REF!,\"=3\")*50+COUNTIF(#REF!,\"=8\")*20+COUNTIF(#REF!,\"=9\")*0)/COUNTA(#REF!)/100,\"N/A\")","v":{"$error":"#REF!"}},{"$f":"IF(COUNTA(#REF!)>0,(COUNTIF(#REF!,\"=0\")*0+COUNTIF(#REF!,\"=1\")*100+COUNTIF(#REF!,\"=2\")*80+COUNTIF(#REF!,\"=3\")*50+COUNTIF(#REF!,\"=8\")*20+COUNTIF(#REF!,\"=9\")*0)/COUNTA(#REF!)/100,\"N/A\")","v":{"$error":"#REF!"}},{"$f":"IF(AND(COUNTA(C17:E17)<>0,#REF!<>\"\"),AVERAGE(F17:L17),\"N/A\")","v":{"$error":"#REF!"}},{"$f":"IF(F17=\"N/A\",1,\"\")","v":""},{"$f":"IF(G17=\"N/A\",1,\"\")","v":""},{"$f":"IF(H17=\"N/A\",1,\"\")","v":{"$error":"#REF!"}},{"$f":"IF(I17=\"N/A\",1,\"\")","v":""},{"$f":"IF(J17=\"N/A\",1,\"\")","v":{"$error":"#REF!"}},{"$f":"IF(K17=\"N/A\",1,\"\")","v":{"$error":"#REF!"}},{"$f":"IF(L17=\"N/A\",1,\"\")","v":{"$error":"#REF!"}},{"$f":"IF(M17=\"N/A\",1,\"\")","v":{"$error":"#REF!"}}]
[null,"% de code 2",{"$f":"COUNTIF(Saisie!B16:M16,\"2\")/COUNTA(Saisie!B16:M16)","v":{"v":0,"d":"0.00%"}},{"$f":"COUNTIF(Saisie!N16:R16,\"2\")/COUNTA(Saisie!N16:R16)","v":{"v":0,"d":"0.00%"}},{"$f":"COUNTIF(Saisie!S16:V16,\"2\")/COUNTA(Saisie!S16:V16)","v":{"v":0,"d":"0.00%"}}]
[null,"% de code 9",{"$f":"COUNTIF(Saisie!B16:M16,\"9\")/COUNTA(Saisie!B16:M16)","v":{"v":0,"d":"0.00%"}},{"$f":"COUNTIF(Saisie!N16:R16,\"9\")/COUNTA(Saisie!N16:R16)","v":{"v":0,"d":"0.00%"}},{"$f":"COUNTIF(Saisie!S16:V16,\"9\")/COUNTA(Saisie!S16:V16)","v":{"v":0,"d":"0.00%"}}]
[null,"% de code 0",{"$f":"COUNTIF(Saisie!B16:M16,\"0\")/COUNTA(Saisie!B16:M16)","v":{"v":1,"d":"100.00%"}},{"$f":"COUNTIF(Saisie!N16:R16,\"0\")/COUNTA(Saisie!N16:R16)","v":{"v":1,"d":"100.00%"}},{"$f":"COUNTIF(Saisie!S16:V16,\"0\")/COUNTA(Saisie!S16:V16)","v":{"v":1,"d":"100.00%"}}]
[{"$f":"Saisie!A17","v":"Elève3"},"% de réussite",{"$f":"COUNTIF(Saisie!B17:M17,\"1\")/COUNTA(Saisie!B17:M17)","v":{"v":0,"d":"0.00%"}},{"$f":"COUNTIF(Saisie!N17:R17,\"1\")/COUNTA(Saisie!N17:R17)","v":{"v":0,"d":"0.00%"}},{"$f":"COUNTIF(Saisie!S17:V17,\"1\")/COUNTA(Saisie!S17:V17)","v":{"v":0,"d":"0.00%"}},{"$f":"IF(COUNTA(C21:C21)>0,(COUNTIF(C21:C21,\"=0\")*0+COUNTIF(C21:C21,\"=1\")*100+COUNTIF(C21:C21,\"=2\")*80+COUNTIF(C21:C21,\"=3\")*50+COUNTIF(C21:C21,\"=8\")*20+COUNTIF(C21:C21,\"=9\")*0)/COUNTA(C21:C21)/100,\"N/A\")","v":{"v":0,"d":"0.0%"}},{"$f":"IF(COUNTA(D21:D21)>0,(COUNTIF(D21:D21,\"=0\")*0+COUNTIF(D21:D21,\"=1\")*100+COUNTIF(D21:D21,\"=2\")*80+COUNTIF(D21:D21,\"=3\")*50+COUNTIF(D21:D21,\"=8\")*20+COUNTIF(D21:D21,\"=9\")*0)/COUNTA(D21:D21)/100,\"N/A\")","v":{"v":0,"d":"0.0%"}},{"$f":"IF(COUNTA(#REF!)>0,(COUNTIF(#REF!,\"=0\")*0+COUNTIF(#REF!,\"=1\")*100+COUNTIF(#REF!,\"=2\")*80+COUNTIF(#REF!,\"=3\")*50+COUNTIF(#REF!,\"=8\")*20+COUNTIF(#REF!,\"=9\")*0)/COUNTA(#REF!)/100,\"N/A\")","v":{"$error":"#REF!"}},{"$f":"IF(COUNTA(E21:E21)<>0,(COUNTIF(E21:E21,\"=0\")*0+COUNTIF(E21:E21,\"=1\")*100+COUNTIF(E21:E21,\"=2\")*80+COUNTIF(E21:E21,\"=3\")*50+COUNTIF(E21:E21,\"=8\")*20+COUNTIF(E21:E21,\"=9\")*0)/COUNTA(E21:E21)/100,\"N/A\")","v":{"v":0,"d":"0.0%"}},{"$f":"IF(COUNTA(#REF!)>0,(COUNTIF(#REF!,\"=0\")*0+COUNTIF(#REF!,\"=1\")*100+COUNTIF(#REF!,\"=2\")*80+COUNTIF(#REF!,\"=3\")*50+COUNTIF(#REF!,\"=8\")*20+COUNTIF(#REF!,\"=9\")*0)/COUNTA(#REF!)/100,\"N/A\")","v":{"$error":"#REF!"}},{"$f":"IF(COUNTA(#REF!)>0,(COUNTIF(#REF!,\"=0\")*0+COUNTIF(#REF!,\"=1\")*100+COUNTIF(#REF!,\"=2\")*80+COUNTIF(#REF!,\"=3\")*50+COUNTIF(#REF!,\"=8\")*20+COUNTIF(#REF!,\"=9\")*0)/COUNTA(#REF!)/100,\"N/A\")","v":{"$error":"#REF!"}},{"$f":"IF(COUNTA(#REF!)>0,(COUNTIF(#REF!,\"=0\")*0+COUNTIF(#REF!,\"=1\")*100+COUNTIF(#REF!,\"=2\")*80+COUNTIF(#REF!,\"=3\")*50+COUNTIF(#REF!,\"=8\")*20+COUNTIF(#REF!,\"=9\")*0)/COUNTA(#REF!)/100,\"N/A\")","v":{"$error":"#REF!"}},{"$f":"IF(AND(COUNTA(C21:E21)<>0,#REF!<>\"\"),AVERAGE(F21:L21),\"N/A\")","v":{"$error":"#REF!"}},{"$f":"IF(F21=\"N/A\",1,\"\")","v":""},{"$f":"IF(G21=\"N/A\",1,\"\")","v":""},{"$f":"IF(H21=\"N/A\",1,\"\")","v":{"$error":"#REF!"}},{"$f":"IF(I21=\"N/A\",1,\"\")","v":""},{"$f":"IF(J21=\"N/A\",1,\"\")","v":{"$error":"#REF!"}},{"$f":"IF(K21=\"N/A\",1,\"\")","v":{"$error":"#REF!"}},{"$f":"IF(L21=\"N/A\",1,\"\")","v":{"$error":"#REF!"}},{"$f":"IF(M21=\"N/A\",1,\"\")","v":{"$error":"#REF!"}}]
[null,"% de code 2",{"$f":"COUNTIF(Saisie!B17:M17,\"2\")/COUNTA(Saisie!B17:M17)","v":{"v":0,"d":"0.00%"}},{"$f":"COUNTIF(Saisie!N17:R17,\"2\")/COUNTA(Saisie!N17:R17)","v":{"v":0,"d":"0.00%"}},{"$f":"COUNTIF(Saisie!S17:V17,\"2\")/COUNTA(Saisie!S17:V17)","v":{"v":0,"d":"0.00%"}}]
[null,"% de code 9",{"$f":"COUNTIF(Saisie!B17:M17,\"9\")/COUNTA(Saisie!B17:M17)","v":{"v":0,"d":"0.00%"}},{"$f":"COUNTIF(Saisie!N17:R17,\"9\")/COUNTA(Saisie!N17:R17)","v":{"v":0,"d":"0.00%"}},{"$f":"COUNTIF(Saisie!S17:V17,\"9\")/COUNTA(Saisie!S17:V17)","v":{"v":0,"d":"0.00%"}}]
[null,"% de code 0",{"$f":"COUNTIF(Saisie!B17:M17,\"0\")/COUNTA(Saisie!B17:M17)","v":{"v":1,"d":"100.00%"}},{"$f":"COUNTIF(Saisie!N17:R17,\"0\")/COUNTA(Saisie!N17:R17)","v":{"v":1,"d":"100.00%"}},{"$f":"COUNTIF(Saisie!S17:V17,\"0\")/COUNTA(Saisie!S17:V17)","v":{"v":1,"d":"100.00%"}}]
[{"$f":"Saisie!A18","v":"Elève4"},"% de réussite",{"$f":"COUNTIF(Saisie!B18:M18,\"1\")/COUNTA(Saisie!B18:M18)","v":{"v":0,"d":"0.00%"}},{"$f":"COUNTIF(Saisie!N18:R18,\"1\")/COUNTA(Saisie!N18:R18)","v":{"v":0,"d":"0.00%"}},{"$f":"COUNTIF(Saisie!S18:V18,\"1\")/COUNTA(Saisie!S18:V18)","v":{"v":0,"d":"0.00%"}},{"$f":"IF(COUNTA(C25:C25)>0,(COUNTIF(C25:C25,\"=0\")*0+COUNTIF(C25:C25,\"=1\")*100+COUNTIF(C25:C25,\"=2\")*80+COUNTIF(C25:C25,\"=3\")*50+COUNTIF(C25:C25,\"=8\")*20+COUNTIF(C25:C25,\"=9\")*0)/COUNTA(C25:C25)/100,\"N/A\")","v":{"v":0,"d":"0.0%"}},{"$f":"IF(COUNTA(D25:D25)>0,(COUNTIF(D25:D25,\"=0\")*0+COUNTIF(D25:D25,\"=1\")*100+COUNTIF(D25:D25,\"=2\")*80+COUNTIF(D25:D25,\"=3\")*50+COUNTIF(D25:D25,\"=8\")*20+COUNTIF(D25:D25,\"=9\")*0)/COUNTA(D25:D25)/100,\"N/A\")","v":{"v":0,"d":"0.0%"}},{"$f":"IF(COUNTA(#REF!)>0,(COUNTIF(#REF!,\"=0\")*0+COUNTIF(#REF!,\"=1\")*100+COUNTIF(#REF!,\"=2\")*80+COUNTIF(#REF!,\"=3\")*50+COUNTIF(#REF!,\"=8\")*20+COUNTIF(#REF!,\"=9\")*0)/COUNTA(#REF!)/100,\"N/A\")","v":{"$error":"#REF!"}},{"$f":"IF(COUNTA(E25:E25)<>0,(COUNTIF(E25:E25,\"=0\")*0+COUNTIF(E25:E25,\"=1\")*100+COUNTIF(E25:E25,\"=2\")*80+COUNTIF(E25:E25,\"=3\")*50+COUNTIF(E25:E25,\"=8\")*20+COUNTIF(E25:E25,\"=9\")*0)/COUNTA(E25:E25)/100,\"N/A\")","v":{"v":0,"d":"0.0%"}},{"$f":"IF(COUNTA(#REF!)>0,(COUNTIF(#REF!,\"=0\")*0+COUNTIF(#REF!,\"=1\")*100+COUNTIF(#REF!,\"=2\")*80+COUNTIF(#REF!,\"=3\")*50+COUNTIF(#REF!,\"=8\")*20+COUNTIF(#REF!,\"=9\")*0)/COUNTA(#REF!)/100,\"N/A\")","v":{"$error":"#REF!"}},{"$f":"IF(COUNTA(#REF!)>0,(COUNTIF(#REF!,\"=0\")*0+COUNTIF(#REF!,\"=1\")*100+COUNTIF(#REF!,\"=2\")*80+COUNTIF(#REF!,\"=3\")*50+COUNTIF(#REF!,\"=8\")*20+COUNTIF(#REF!,\"=9\")*0)/COUNTA(#REF!)/100,\"N/A\")","v":{"$error":"#REF!"}},{"$f":"IF(COUNTA(#REF!)>0,(COUNTIF(#REF!,\"=0\")*0+COUNTIF(#REF!,\"=1\")*100+COUNTIF(#REF!,\"=2\")*80+COUNTIF(#REF!,\"=3\")*50+COUNTIF(#REF!,\"=8\")*20+COUNTIF(#REF!,\"=9\")*0)/COUNTA(#REF!)/100,\"N/A\")","v":{"$error":"#REF!"}},{"$f":"IF(AND(COUNTA(C25:E25)<>0,#REF!<>\"\"),AVERAGE(F25:L25),\"N/A\")","v":{"$error":"#REF!"}},{"$f":"IF(F25=\"N/A\",1,\"\")","v":""},{"$f":"IF(G25=\"N/A\",1,\"\")","v":""},{"$f":"IF(H25=\"N/A\",1,\"\")","v":{"$error":"#REF!"}},{"$f":"IF(I25=\"N/A\",1,\"\")","v":""},{"$f":"IF(J25=\"N/A\",1,\"\")","v":{"$error":"#REF!"}},{"$f":"IF(K25=\"N/A\",1,\"\")","v":{"$error":"#REF!"}},{"$f":"IF(L25=\"N/A\",1,\"\")","v":{"$error":"#REF!"}},{"$f":"IF(M25=\"N/A\",1,\"\")","v":{"$error":"#REF!"}}]
[null,"% de code 2",{"$f":"COUNTIF(Saisie!B18:M18,\"2\")/COUNTA(Saisie!B18:M18)","v":{"v":0,"d":"0.00%"}},{"$f":"COUNTIF(Saisie!N18:R18,\"2\")/COUNTA(Saisie!N18:R18)","v":{"v":0,"d":"0.00%"}},{"$f":"COUNTIF(Saisie!S18:V18,\"2\")/COUNTA(Saisie!S18:V18)","v":{"v":0,"d":"0.00%"}}]
[null,"% de code 9",{"$f":"COUNTIF(Saisie!B18:M18,\"9\")/COUNTA(Saisie!B18:M18)","v":{"v":0,"d":"0.00%"}},{"$f":"COUNTIF(Saisie!N18:R18,\"9\")/COUNTA(Saisie!N18:R18)","v":{"v":0,"d":"0.00%"}},{"$f":"COUNTIF(Saisie!S18:V18,\"9\")/COUNTA(Saisie!S18:V18)","v":{"v":0,"d":"0.00%"}}]
[null,"% de code 0",{"$f":"COUNTIF(Saisie!B18:M18,\"0\")/COUNTA(Saisie!B18:M18)","v":{"v":1,"d":"100.00%"}},{"$f":"COUNTIF(Saisie!N18:R18,\"0\")/COUNTA(Saisie!N18:R18)","v":{"v":1,"d":"100.00%"}},{"$f":"COUNTIF(Saisie!S18:V18,\"0\")/COUNTA(Saisie!S18:V18)","v":{"v":1,"d":"100.00%"}}]
[{"$f":"Saisie!A19","v":"Elève5"},"% de réussite",{"$f":"COUNTIF(Saisie!B19:M19,\"1\")/COUNTA(Saisie!B19:M19)","v":{"v":0,"d":"0.00%"}},{"$f":"COUNTIF(Saisie!N19:R19,\"1\")/COUNTA(Saisie!N19:R19)","v":{"v":0,"d":"0.00%"}},{"$f":"COUNTIF(Saisie!S19:V19,\"1\")/COUNTA(Saisie!S19:V19)","v":{"v":0,"d":"0.00%"}},{"$f":"IF(COUNTA(C29:C29)>0,(COUNTIF(C29:C29,\"=0\")*0+COUNTIF(C29:C29,\"=1\")*100+COUNTIF(C29:C29,\"=2\")*80+COUNTIF(C29:C29,\"=3\")*50+COUNTIF(C29:C29,\"=8\")*20+COUNTIF(C29:C29,\"=9\")*0)/COUNTA(C29:C29)/100,\"N/A\")","v":{"v":0,"d":"0.0%"}},{"$f":"IF(COUNTA(D29:D29)>0,(COUNTIF(D29:D29,\"=0\")*0+COUNTIF(D29:D29,\"=1\")*100+COUNTIF(D29:D29,\"=2\")*80+COUNTIF(D29:D29,\"=3\")*50+COUNTIF(D29:D29,\"=8\")*20+COUNTIF(D29:D29,\"=9\")*0)/COUNTA(D29:D29)/100,\"N/A\")","v":{"v":0,"d":"0.0%"}},{"$f":"IF(COUNTA(#REF!)>0,(COUNTIF(#REF!,\"=0\")*0+COUNTIF(#REF!,\"=1\")*100+COUNTIF(#REF!,\"=2\")*80+COUNTIF(#REF!,\"=3\")*50+COUNTIF(#REF!,\"=8\")*20+COUNTIF(#REF!,\"=9\")*0)/COUNTA(#REF!)/100,\"N/A\")","v":{"$error":"#REF!"}},{"$f":"IF(COUNTA(E29:E29)<>0,(COUNTIF(E29:E29,\"=0\")*0+COUNTIF(E29:E29,\"=1\")*100+COUNTIF(E29:E29,\"=2\")*80+COUNTIF(E29:E29,\"=3\")*50+COUNTIF(E29:E29,\"=8\")*20+COUNTIF(E29:E29,\"=9\")*0)/COUNTA(E29:E29)/100,\"N/A\")","v":{"v":0,"d":"0.0%"}},{"$f":"IF(COUNTA(#REF!)>0,(COUNTIF(#REF!,\"=0\")*0+COUNTIF(#REF!,\"=1\")*100+COUNTIF(#REF!,\"=2\")*80+COUNTIF(#REF!,\"=3\")*50+COUNTIF(#REF!,\"=8\")*20+COUNTIF(#REF!,\"=9\")*0)/COUNTA(#REF!)/100,\"N/A\")","v":{"$error":"#REF!"}},{"$f":"IF(COUNTA(#REF!)>0,(COUNTIF(#REF!,\"=0\")*0+COUNTIF(#REF!,\"=1\")*100+COUNTIF(#REF!,\"=2\")*80+COUNTIF(#REF!,\"=3\")*50+COUNTIF(#REF!,\"=8\")*20+COUNTIF(#REF!,\"=9\")*0)/COUNTA(#REF!)/100,\"N/A\")","v":{"$error":"#REF!"}},{"$f":"IF(COUNTA(#REF!)>0,(COUNTIF(#REF!,\"=0\")*0+COUNTIF(#REF!,\"=1\")*100+COUNTIF(#REF!,\"=2\")*80+COUNTIF(#REF!,\"=3\")*50+COUNTIF(#REF!,\"=8\")*20+COUNTIF(#REF!,\"=9\")*0)/COUNTA(#REF!)/100,\"N/A\")","v":{"$error":"#REF!"}},{"$f":"IF(AND(COUNTA(C29:E29)<>0,#REF!<>\"\"),AVERAGE(F29:L29),\"N/A\")","v":{"$error":"#REF!"}},{"$f":"IF(F29=\"N/A\",1,\"\")","v":""},{"$f":"IF(G29=\"N/A\",1,\"\")","v":""},{"$f":"IF(H29=\"N/A\",1,\"\")","v":{"$error":"#REF!"}},{"$f":"IF(I29=\"N/A\",1,\"\")","v":""},{"$f":"IF(J29=\"N/A\",1,\"\")","v":{"$error":"#REF!"}},{"$f":"IF(K29=\"N/A\",1,\"\")","v":{"$error":"#REF!"}},{"$f":"IF(L29=\"N/A\",1,\"\")","v":{"$error":"#REF!"}},{"$f":"IF(M29=\"N/A\",1,\"\")","v":{"$error":"#REF!"}}]
[null,"% de code 2",{"$f":"COUNTIF(Saisie!B19:M19,\"2\")/COUNTA(Saisie!B19:M19)","v":{"v":0,"d":"0.00%"}},{"$f":"COUNTIF(Saisie!N19:R19,\"2\")/COUNTA(Saisie!N19:R19)","v":{"v":0,"d":"0.00%"}},{"$f":"COUNTIF(Saisie!S19:V19,\"2\")/COUNTA(Saisie!S19:V19)","v":{"v":0,"d":"0.00%"}}]
[null,"% de code 9",{"$f":"COUNTIF(Saisie!B19:M19,\"9\")/COUNTA(Saisie!B19:M19)","v":{"v":0,"d":"0.00%"}},{"$f":"COUNTIF(Saisie!N19:R19,\"9\")/COUNTA(Saisie!N19:R19)","v":{"v":0,"d":"0.00%"}},{"$f":"COUNTIF(Saisie!S19:V19,\"9\")/COUNTA(Saisie!S19:V19)","v":{"v":0,"d":"0.00%"}}]
[null,"% de code 0",{"$f":"COUNTIF(Saisie!B19:M19,\"0\")/COUNTA(Saisie!B19:M19)","v":{"v":1,"d":"100.00%"}},{"$f":"COUNTIF(Saisie!N19:R19,\"0\")/COUNTA(Saisie!N19:R19)","v":{"v":1,"d":"100.00%"}},{"$f":"COUNTIF(Saisie!S19:V19,\"0\")/COUNTA(Saisie!S19:V19)","v":{"v":1,"d":"100.00%"}}]
[{"$f":"Saisie!A20","v":"Elève6"},"% de réussite",{"$f":"COUNTIF(Saisie!B20:M20,\"1\")/COUNTA(Saisie!B20:M20)","v":{"v":0,"d":"0.00%"}},{"$f":"COUNTIF(Saisie!N20:R20,\"1\")/COUNTA(Saisie!N20:R20)","v":{"v":0,"d":"0.00%"}},{"$f":"COUNTIF(Saisie!S20:V20,\"1\")/COUNTA(Saisie!S20:V20)","v":{"v":0,"d":"0.00%"}},{"$f":"IF(COUNTA(C33:C33)>0,(COUNTIF(C33:C33,\"=0\")*0+COUNTIF(C33:C33,\"=1\")*100+COUNTIF(C33:C33,\"=2\")*80+COUNTIF(C33:C33,\"=3\")*50+COUNTIF(C33:C33,\"=8\")*20+COUNTIF(C33:C33,\"=9\")*0)/COUNTA(C33:C33)/100,\"N/A\")","v":{"v":0,"d":"0.0%"}},{"$f":"IF(COUNTA(D33:D33)>0,(COUNTIF(D33:D33,\"=0\")*0+COUNTIF(D33:D33,\"=1\")*100+COUNTIF(D33:D33,\"=2\")*80+COUNTIF(D33:D33,\"=3\")*50+COUNTIF(D33:D33,\"=8\")*20+COUNTIF(D33:D33,\"=9\")*0)/COUNTA(D33:D33)/100,\"N/A\")","v":{"v":0,"d":"0.0%"}},{"$f":"IF(COUNTA(#REF!)>0,(COUNTIF(#REF!,\"=0\")*0+COUNTIF(#REF!,\"=1\")*100+COUNTIF(#REF!,\"=2\")*80+COUNTIF(#REF!,\"=3\")*50+COUNTIF(#REF!,\"=8\")*20+COUNTIF(#REF!,\"=9\")*0)/COUNTA(#REF!)/100,\"N/A\")","v":{"$error":"#REF!"}},{"$f":"IF(COUNTA(E33:E33)<>0,(COUNTIF(E33:E33,\"=0\")*0+COUNTIF(E33:E33,\"=1\")*100+COUNTIF(E33:E33,\"=2\")*80+COUNTIF(E33:E33,\"=3\")*50+COUNTIF(E33:E33,\"=8\")*20+COUNTIF(E33:E33,\"=9\")*0)/COUNTA(E33:E33)/100,\"N/A\")","v":{"v":0,"d":"0.0%"}},{"$f":"IF(COUNTA(#REF!)>0,(COUNTIF(#REF!,\"=0\")*0+COUNTIF(#REF!,\"=1\")*100+COUNTIF(#REF!,\"=2\")*80+COUNTIF(#REF!,\"=3\")*50+COUNTIF(#REF!,\"=8\")*20+COUNTIF(#REF!,\"=9\")*0)/COUNTA(#REF!)/100,\"N/A\")","v":{"$error":"#REF!"}},{"$f":"IF(COUNTA(#REF!)>0,(COUNTIF(#REF!,\"=0\")*0+COUNTIF(#REF!,\"=1\")*100+COUNTIF(#REF!,\"=2\")*80+COUNTIF(#REF!,\"=3\")*50+COUNTIF(#REF!,\"=8\")*20+COUNTIF(#REF!,\"=9\")*0)/COUNTA(#REF!)/100,\"N/A\")","v":{"$error":"#REF!"}},{"$f":"IF(COUNTA(#REF!)>0,(COUNTIF(#REF!,\"=0\")*0+COUNTIF(#REF!,\"=1\")*100+COUNTIF(#REF!,\"=2\")*80+COUNTIF(#REF!,\"=3\")*50+COUNTIF(#REF!,\"=8\")*20+COUNTIF(#REF!,\"=9\")*0)/COUNTA(#REF!)/100,\"N/A\")","v":{"$error":"#REF!"}},{"$f":"IF(AND(COUNTA(C33:E33)<>0,#REF!<>\"\"),AVERAGE(F33:L33),\"N/A\")","v":{"$error":"#REF!"}},{"$f":"IF(F33=\"N/A\",1,\"\")","v":""},{"$f":"IF(G33=\"N/A\",1,\"\")","v":""},{"$f":"IF(H33=\"N/A\",1,\"\")","v":{"$error":"#REF!"}},{"$f":"IF(I33=\"N/A\",1,\"\")","v":""},{"$f":"IF(J33=\"N/A\",1,\"\")","v":{"$error":"#REF!"}},{"$f":"IF(K33=\"N/A\",1,\"\")","v":{"$error":"#REF!"}},{"$f":"IF(L33=\"N/A\",1,\"\")","v":{"$error":"#REF!"}},{"$f":"IF(M33=\"N/A\",1,\"\")","v":{"$error":"#REF!"}}]
[null,"% de code 2",{"$f":"COUNTIF(Saisie!B20:M20,\"2\")/COUNTA(Saisie!B20:M20)","v":{"v":0,"d":"0.00%"}},{"$f":"COUNTIF(Saisie!N20:R20,\"2\")/COUNTA(Saisie!N20:R20)","v":{"v":0,"d":"0.00%"}},{"$f":"COUNTIF(Saisie!S20:V20,\"2\")/COUNTA(Saisie!S20:V20)","v":{"v":0,"d":"0.00%"}}]
[null,"% de code 9",{"$f":"COUNTIF(Saisie!B20:M20,\"9\")/COUNTA(Saisie!B20:M20)","v":{"v":0,"d":"0.00%"}},{"$f":"COUNTIF(Saisie!N20:R20,\"9\")/COUNTA(Saisie!N20:R20)","v":{"v":0,"d":"0.00%"}},{"$f":"COUNTIF(Saisie!S20:V20,\"9\")/COUNTA(Saisie!S20:V20)","v":{"v":0,"d":"0.00%"}}]
[null,"% de code 0",{"$f":"COUNTIF(Saisie!B20:M20,\"0\")/COUNTA(Saisie!B20:M20)","v":{"v":1,"d":"100.00%"}},{"$f":"COUNTIF(Saisie!N20:R20,\"0\")/COUNTA(Saisie!N20:R20)","v":{"v":1,"d":"100.00%"}},{"$f":"COUNTIF(Saisie!S20:V20,\"0\")/COUNTA(Saisie!S20:V20)","v":{"v":1,"d":"100.00%"}}]
[{"$f":"Saisie!A21","v":"Elève7"},"% de réussite",{"$f":"COUNTIF(Saisie!B21:M21,\"1\")/COUNTA(Saisie!B21:M21)","v":{"v":0,"d":"0.00%"}},{"$f":"COUNTIF(Saisie!N21:R21,\"1\")/COUNTA(Saisie!N21:R21)","v":{"v":0,"d":"0.00%"}},{"$f":"COUNTIF(Saisie!S21:V21,\"1\")/COUNTA(Saisie!S21:V21)","v":{"v":0,"d":"0.00%"}},{"$f":"IF(COUNTA(C37:C37)>0,(COUNTIF(C37:C37,\"=0\")*0+COUNTIF(C37:C37,\"=1\")*100+COUNTIF(C37:C37,\"=2\")*80+COUNTIF(C37:C37,\"=3\")*50+COUNTIF(C37:C37,\"=8\")*20+COUNTIF(C37:C37,\"=9\")*0)/COUNTA(C37:C37)/100,\"N/A\")","v":{"v":0,"d":"0.0%"}},{"$f":"IF(COUNTA(D37:D37)>0,(COUNTIF(D37:D37,\"=0\")*0+COUNTIF(D37:D37,\"=1\")*100+COUNTIF(D37:D37,\"=2\")*80+COUNTIF(D37:D37,\"=3\")*50+COUNTIF(D37:D37,\"=8\")*20+COUNTIF(D37:D37,\"=9\")*0)/COUNTA(D37:D37)/100,\"N/A\")","v":{"v":0,"d":"0.0%"}},{"$f":"IF(COUNTA(#REF!)>0,(COUNTIF(#REF!,\"=0\")*0+COUNTIF(#REF!,\"=1\")*100+COUNTIF(#REF!,\"=2\")*80+COUNTIF(#REF!,\"=3\")*50+COUNTIF(#REF!,\"=8\")*20+COUNTIF(#REF!,\"=9\")*0)/COUNTA(#REF!)/100,\"N/A\")","v":{"$error":"#REF!"}},{"$f":"IF(COUNTA(E37:E37)<>0,(COUNTIF(E37:E37,\"=0\")*0+COUNTIF(E37:E37,\"=1\")*100+COUNTIF(E37:E37,\"=2\")*80+COUNTIF(E37:E37,\"=3\")*50+COUNTIF(E37:E37,\"=8\")*20+COUNTIF(E37:E37,\"=9\")*0)/COUNTA(E37:E37)/100,\"N/A\")","v":{"v":0,"d":"0.0%"}},{"$f":"IF(COUNTA(#REF!)>0,(COUNTIF(#REF!,\"=0\")*0+COUNTIF(#REF!,\"=1\")*100+COUNTIF(#REF!,\"=2\")*80+COUNTIF(#REF!,\"=3\")*50+COUNTIF(#REF!,\"=8\")*20+COUNTIF(#REF!,\"=9\")*0)/COUNTA(#REF!)/100,\"N/A\")","v":{"$error":"#REF!"}},{"$f":"IF(COUNTA(#REF!)>0,(COUNTIF(#REF!,\"=0\")*0+COUNTIF(#REF!,\"=1\")*100+COUNTIF(#REF!,\"=2\")*80+COUNTIF(#REF!,\"=3\")*50+COUNTIF(#REF!,\"=8\")*20+COUNTIF(#REF!,\"=9\")*0)/COUNTA(#REF!)/100,\"N/A\")","v":{"$error":"#REF!"}},{"$f":"IF(COUNTA(#REF!)>0,(COUNTIF(#REF!,\"=0\")*0+COUNTIF(#REF!,\"=1\")*100+COUNTIF(#REF!,\"=2\")*80+COUNTIF(#REF!,\"=3\")*50+COUNTIF(#REF!,\"=8\")*20+COUNTIF(#REF!,\"=9\")*0)/COUNTA(#REF!)/100,\"N/A\")","v":{"$error":"#REF!"}},{"$f":"IF(AND(COUNTA(C37:E37)<>0,#REF!<>\"\"),AVERAGE(F37:L37),\"N/A\")","v":{"$error":"#REF!"}},{"$f":"IF(F37=\"N/A\",1,\"\")","v":""},{"$f":"IF(G37=\"N/A\",1,\"\")","v":""},{"$f":"IF(H37=\"N/A\",1,\"\")","v":{"$error":"#REF!"}},{"$f":"IF(I37=\"N/A\",1,\"\")","v":""},{"$f":"IF(J37=\"N/A\",1,\"\")","v":{"$error":"#REF!"}},{"$f":"IF(K37=\"N/A\",1,\"\")","v":{"$error":"#REF!"}},{"$f":"IF(L37=\"N/A\",1,\"\")","v":{"$error":"#REF!"}},{"$f":"IF(M37=\"N/A\",1,\"\")","v":{"$error":"#REF!"}}]
[null,"% de code 2",{"$f":"COUNTIF(Saisie!B21:M21,\"2\")/COUNTA(Saisie!B21:M21)","v":{"v":0,"d":"0.00%"}},{"$f":"COUNTIF(Saisie!N21:R21,\"2\")/COUNTA(Saisie!N21:R21)","v":{"v":0,"d":"0.00%"}},{"$f":"COUNTIF(Saisie!S21:V21,\"2\")/COUNTA(Saisie!S21:V21)","v":{"v":0,"d":"0.00%"}}]
[null,"% de code 9",{"$f":"COUNTIF(Saisie!B21:M21,\"9\")/COUNTA(Saisie!B21:M21)","v":{"v":0,"d":"0.00%"}},{"$f":"COUNTIF(Saisie!N21:R21,\"9\")/COUNTA(Saisie!N21:R21)","v":{"v":0,"d":"0.00%"}},{"$f":"COUNTIF(Saisie!S21:V21,\"9\")/COUNTA(Saisie!S21:V21)","v":{"v":0,"d":"0.00%"}}]
[null,"% de code 0",{"$f":"COUNTIF(Saisie!B21:M21,\"0\")/COUNTA(Saisie!B21:M21)","v":{"v":1,"d":"100.00%"}},{"$f":"COUNTIF(Saisie!N21:R21,\"0\")/COUNTA(Saisie!N21:R21)","v":{"v":1,"d":"100.00%"}},{"$f":"COUNTIF(Saisie!S21:V21,\"0\")/COUNTA(Saisie!S21:V21)","v":{"v":1,"d":"100.00%"}}]
[{"$f":"Saisie!A22","v":"Elève8"},"% de réussite",{"$f":"COUNTIF(Saisie!B22:M22,\"1\")/COUNTA(Saisie!B22:M22)","v":{"v":0,"d":"0.00%"}},{"$f":"COUNTIF(Saisie!N22:R22,\"1\")/COUNTA(Saisie!N22:R22)","v":{"v":0,"d":"0.00%"}},{"$f":"COUNTIF(Saisie!S22:V22,\"1\")/COUNTA(Saisie!S22:V22)","v":{"v":0,"d":"0.00%"}},{"$f":"IF(COUNTA(C41:C41)>0,(COUNTIF(C41:C41,\"=0\")*0+COUNTIF(C41:C41,\"=1\")*100+COUNTIF(C41:C41,\"=2\")*80+COUNTIF(C41:C41,\"=3\")*50+COUNTIF(C41:C41,\"=8\")*20+COUNTIF(C41:C41,\"=9\")*0)/COUNTA(C41:C41)/100,\"N/A\")","v":{"v":0,"d":"0.0%"}},{"$f":"IF(COUNTA(D41:D41)>0,(COUNTIF(D41:D41,\"=0\")*0+COUNTIF(D41:D41,\"=1\")*100+COUNTIF(D41:D41,\"=2\")*80+COUNTIF(D41:D41,\"=3\")*50+COUNTIF(D41:D41,\"=8\")*20+COUNTIF(D41:D41,\"=9\")*0)/COUNTA(D41:D41)/100,\"N/A\")","v":{"v":0,"d":"0.0%"}},{"$f":"IF(COUNTA(#REF!)>0,(COUNTIF(#REF!,\"=0\")*0+COUNTIF(#REF!,\"=1\")*100+COUNTIF(#REF!,\"=2\")*80+COUNTIF(#REF!,\"=3\")*50+COUNTIF(#REF!,\"=8\")*20+COUNTIF(#REF!,\"=9\")*0)/COUNTA(#REF!)/100,\"N/A\")","v":{"$error":"#REF!"}},{"$f":"IF(COUNTA(E41:E41)<>0,(COUNTIF(E41:E41,\"=0\")*0+COUNTIF(E41:E41,\"=1\")*100+COUNTIF(E41:E41,\"=2\")*80+COUNTIF(E41:E41,\"=3\")*50+COUNTIF(E41:E41,\"=8\")*20+COUNTIF(E41:E41,\"=9\")*0)/COUNTA(E41:E41)/100,\"N/A\")","v":{"v":0,"d":"0.0%"}},{"$f":"IF(COUNTA(#REF!)>0,(COUNTIF(#REF!,\"=0\")*0+COUNTIF(#REF!,\"=1\")*100+COUNTIF(#REF!,\"=2\")*80+COUNTIF(#REF!,\"=3\")*50+COUNTIF(#REF!,\"=8\")*20+COUNTIF(#REF!,\"=9\")*0)/COUNTA(#REF!)/100,\"N/A\")","v":{"$error":"#REF!"}},{"$f":"IF(COUNTA(#REF!)>0,(COUNTIF(#REF!,\"=0\")*0+COUNTIF(#REF!,\"=1\")*100+COUNTIF(#REF!,\"=2\")*80+COUNTIF(#REF!,\"=3\")*50+COUNTIF(#REF!,\"=8\")*20+COUNTIF(#REF!,\"=9\")*0)/COUNTA(#REF!)/100,\"N/A\")","v":{"$error":"#REF!"}},{"$f":"IF(COUNTA(#REF!)>0,(COUNTIF(#REF!,\"=0\")*0+COUNTIF(#REF!,\"=1\")*100+COUNTIF(#REF!,\"=2\")*80+COUNTIF(#REF!,\"=3\")*50+COUNTIF(#REF!,\"=8\")*20+COUNTIF(#REF!,\"=9\")*0)/COUNTA(#REF!)/100,\"N/A\")","v":{"$error":"#REF!"}},{"$f":"IF(AND(COUNTA(C41:E41)<>0,#REF!<>\"\"),AVERAGE(F41:L41),\"N/A\")","v":{"$error":"#REF!"}},{"$f":"IF(F41=\"N/A\",1,\"\")","v":""},{"$f":"IF(G41=\"N/A\",1,\"\")","v":""},{"$f":"IF(H41=\"N/A\",1,\"\")","v":{"$error":"#REF!"}},{"$f":"IF(I41=\"N/A\",1,\"\")","v":""},{"$f":"IF(J41=\"N/A\",1,\"\")","v":{"$error":"#REF!"}},{"$f":"IF(K41=\"N/A\",1,\"\")","v":{"$error":"#REF!"}},{"$f":"IF(L41=\"N/A\",1,\"\")","v":{"$error":"#REF!"}},{"$f":"IF(M41=\"N/A\",1,\"\")","v":{"$error":"#REF!"}}]
[null,"% de code 2",{"$f":"COUNTIF(Saisie!B22:M22,\"2\")/COUNTA(Saisie!B22:M22)","v":{"v":0,"d":"0.00%"}},{"$f":"COUNTIF(Saisie!N22:R22,\"2\")/COUNTA(Saisie!N22:R22)","v":{"v":0,"d":"0.00%"}},{"$f":"COUNTIF(Saisie!S22:V22,\"2\")/COUNTA(Saisie!S22:V22)","v":{"v":0,"d":"0.00%"}}]
[null,"% de code 9",{"$f":"COUNTIF(Saisie!B22:M22,\"9\")/COUNTA(Saisie!B22:M22)","v":{"v":0,"d":"0.00%"}},{"$f":"COUNTIF(Saisie!N22:R22,\"9\")/COUNTA(Saisie!N22:R22)","v":{"v":0,"d":"0.00%"}},{"$f":"COUNTIF(Saisie!S22:V22,\"9\")/COUNTA(Saisie!S22:V22)","v":{"v":0,"d":"0.00%"}}]
[null,"% de code 0",{"$f":"COUNTIF(Saisie!B22:M22,\"0\")/COUNTA(Saisie!B22:M22)","v":{"v":1,"d":"100.00%"}},{"$f":"COUNTIF(Saisie!N22:R22,\"0\")/COUNTA(Saisie!N22:R22)","v":{"v":1,"d":"100.00%"}},{"$f":"COUNTIF(Saisie!S22:V22,\"0\")/COUNTA(Saisie!S22:V22)","v":{"v":1,"d":"100.00%"}}]
[{"$f":"Saisie!A23","v":"Elève9"},"% de réussite",{"$f":"COUNTIF(Saisie!B23:M23,\"1\")/COUNTA(Saisie!B23:M23)","v":{"v":0,"d":"0.00%"}},{"$f":"COUNTIF(Saisie!N23:R23,\"1\")/COUNTA(Saisie!N23:R23)","v":{"v":0,"d":"0.00%"}},{"$f":"COUNTIF(Saisie!S23:V23,\"1\")/COUNTA(Saisie!S23:V23)","v":{"v":0,"d":"0.00%"}},{"$f":"IF(COUNTA(C45:C45)>0,(COUNTIF(C45:C45,\"=0\")*0+COUNTIF(C45:C45,\"=1\")*100+COUNTIF(C45:C45,\"=2\")*80+COUNTIF(C45:C45,\"=3\")*50+COUNTIF(C45:C45,\"=8\")*20+COUNTIF(C45:C45,\"=9\")*0)/COUNTA(C45:C45)/100,\"N/A\")","v":{"v":0,"d":"0.0%"}},{"$f":"IF(COUNTA(D45:D45)>0,(COUNTIF(D45:D45,\"=0\")*0+COUNTIF(D45:D45,\"=1\")*100+COUNTIF(D45:D45,\"=2\")*80+COUNTIF(D45:D45,\"=3\")*50+COUNTIF(D45:D45,\"=8\")*20+COUNTIF(D45:D45,\"=9\")*0)/COUNTA(D45:D45)/100,\"N/A\")","v":{"v":0,"d":"0.0%"}},{"$f":"IF(COUNTA(#REF!)>0,(COUNTIF(#REF!,\"=0\")*0+COUNTIF(#REF!,\"=1\")*100+COUNTIF(#REF!,\"=2\")*80+COUNTIF(#REF!,\"=3\")*50+COUNTIF(#REF!,\"=8\")*20+COUNTIF(#REF!,\"=9\")*0)/COUNTA(#REF!)/100,\"N/A\")","v":{"$error":"#REF!"}},{"$f":"IF(COUNTA(E45:E45)<>0,(COUNTIF(E45:E45,\"=0\")*0+COUNTIF(E45:E45,\"=1\")*100+COUNTIF(E45:E45,\"=2\")*80+COUNTIF(E45:E45,\"=3\")*50+COUNTIF(E45:E45,\"=8\")*20+COUNTIF(E45:E45,\"=9\")*0)/COUNTA(E45:E45)/100,\"N/A\")","v":{"v":0,"d":"0.0%"}},{"$f":"IF(COUNTA(#REF!)>0,(COUNTIF(#REF!,\"=0\")*0+COUNTIF(#REF!,\"=1\")*100+COUNTIF(#REF!,\"=2\")*80+COUNTIF(#REF!,\"=3\")*50+COUNTIF(#REF!,\"=8\")*20+COUNTIF(#REF!,\"=9\")*0)/COUNTA(#REF!)/100,\"N/A\")","v":{"$error":"#REF!"}},{"$f":"IF(COUNTA(#REF!)>0,(COUNTIF(#REF!,\"=0\")*0+COUNTIF(#REF!,\"=1\")*100+COUNTIF(#REF!,\"=2\")*80+COUNTIF(#REF!,\"=3\")*50+COUNTIF(#REF!,\"=8\")*20+COUNTIF(#REF!,\"=9\")*0)/COUNTA(#REF!)/100,\"N/A\")","v":{"$error":"#REF!"}},{"$f":"IF(COUNTA(#REF!)>0,(COUNTIF(#REF!,\"=0\")*0+COUNTIF(#REF!,\"=1\")*100+COUNTIF(#REF!,\"=2\")*80+COUNTIF(#REF!,\"=3\")*50+COUNTIF(#REF!,\"=8\")*20+COUNTIF(#REF!,\"=9\")*0)/COUNTA(#REF!)/100,\"N/A\")","v":{"$error":"#REF!"}},{"$f":"IF(AND(COUNTA(C45:E45)<>0,#REF!<>\"\"),AVERAGE(F45:L45),\"N/A\")","v":{"$error":"#REF!"}},{"$f":"IF(F45=\"N/A\",1,\"\")","v":""},{"$f":"IF(G45=\"N/A\",1,\"\")","v":""},{"$f":"IF(H45=\"N/A\",1,\"\")","v":{"$error":"#REF!"}},{"$f":"IF(I45=\"N/A\",1,\"\")","v":""},{"$f":"IF(J45=\"N/A\",1,\"\")","v":{"$error":"#REF!"}},{"$f":"IF(K45=\"N/A\",1,\"\")","v":{"$error":"#REF!"}},{"$f":"IF(L45=\"N/A\",1,\"\")","v":{"$error":"#REF!"}},{"$f":"IF(M45=\"N/A\",1,\"\")","v":{"$error":"#REF!"}}]
[null,"% de code 2",{"$f":"COUNTIF(Saisie!B23:M23,\"2\")/COUNTA(Saisie!B23:M23)","v":{"v":0,"d":"0.00%"}},{"$f":"COUNTIF(Saisie!N23:R23,\"2\")/COUNTA(Saisie!N23:R23)","v":{"v":0,"d":"0.00%"}},{"$f":"COUNTIF(Saisie!S23:V23,\"2\")/COUNTA(Saisie!S23:V23)","v":{"v":0,"d":"0.00%"}}]
[null,"% de code 9",{"$f":"COUNTIF(Saisie!B23:M23,\"9\")/COUNTA(Saisie!B23:M23)","v":{"v":0,"d":"0.00%"}},{"$f":"COUNTIF(Saisie!N23:R23,\"9\")/COUNTA(Saisie!N23:R23)","v":{"v":0,"d":"0.00%"}},{"$f":"COUNTIF(Saisie!S23:V23,\"9\")/COUNTA(Saisie!S23:V23)","v":{"v":0,"d":"0.00%"}}]
[null,"% de code 0",{"$f":"COUNTIF(Saisie!B23:M23,\"0\")/COUNTA(Saisie!B23:M23)","v":{"v":1,"d":"100.00%"}},{"$f":"COUNTIF(Saisie!N23:R23,\"0\")/COUNTA(Saisie!N23:R23)","v":{"v":1,"d":"100.00%"}},{"$f":"COUNTIF(Saisie!S23:V23,\"0\")/COUNTA(Saisie!S23:V23)","v":{"v":1,"d":"100.00%"}}]
[{"$f":"Saisie!A24","v":"Elève10"},"% de réussite",{"$f":"COUNTIF(Saisie!B24:M24,\"1\")/COUNTA(Saisie!B24:M24)","v":{"v":0,"d":"0.00%"}},{"$f":"COUNTIF(Saisie!N24:R24,\"1\")/COUNTA(Saisie!N24:R24)","v":{"v":0,"d":"0.00%"}},{"$f":"COUNTIF(Saisie!S24:V24,\"1\")/COUNTA(Saisie!S24:V24)","v":{"v":0,"d":"0.00%"}},{"$f":"IF(COUNTA(C49:C49)>0,(COUNTIF(C49:C49,\"=0\")*0+COUNTIF(C49:C49,\"=1\")*100+COUNTIF(C49:C49,\"=2\")*80+COUNTIF(C49:C49,\"=3\")*50+COUNTIF(C49:C49,\"=8\")*20+COUNTIF(C49:C49,\"=9\")*0)/COUNTA(C49:C49)/100,\"N/A\")","v":{"v":0,"d":"0.0%"}},{"$f":"IF(COUNTA(D49:D49)>0,(COUNTIF(D49:D49,\"=0\")*0+COUNTIF(D49:D49,\"=1\")*100+COUNTIF(D49:D49,\"=2\")*80+COUNTIF(D49:D49,\"=3\")*50+COUNTIF(D49:D49,\"=8\")*20+COUNTIF(D49:D49,\"=9\")*0)/COUNTA(D49:D49)/100,\"N/A\")","v":{"v":0,"d":"0.0%"}},{"$f":"IF(COUNTA(#REF!)>0,(COUNTIF(#REF!,\"=0\")*0+COUNTIF(#REF!,\"=1\")*100+COUNTIF(#REF!,\"=2\")*80+COUNTIF(#REF!,\"=3\")*50+COUNTIF(#REF!,\"=8\")*20+COUNTIF(#REF!,\"=9\")*0)/COUNTA(#REF!)/100,\"N/A\")","v":{"$error":"#REF!"}},{"$f":"IF(COUNTA(E49:E49)<>0,(COUNTIF(E49:E49,\"=0\")*0+COUNTIF(E49:E49,\"=1\")*100+COUNTIF(E49:E49,\"=2\")*80+COUNTIF(E49:E49,\"=3\")*50+COUNTIF(E49:E49,\"=8\")*20+COUNTIF(E49:E49,\"=9\")*0)/COUNTA(E49:E49)/100,\"N/A\")","v":{"v":0,"d":"0.0%"}},{"$f":"IF(COUNTA(#REF!)>0,(COUNTIF(#REF!,\"=0\")*0+COUNTIF(#REF!,\"=1\")*100+COUNTIF(#REF!,\"=2\")*80+COUNTIF(#REF!,\"=3\")*50+COUNTIF(#REF!,\"=8\")*20+COUNTIF(#REF!,\"=9\")*0)/COUNTA(#REF!)/100,\"N/A\")","v":{"$error":"#REF!"}},{"$f":"IF(COUNTA(#REF!)>0,(COUNTIF(#REF!,\"=0\")*0+COUNTIF(#REF!,\"=1\")*100+COUNTIF(#REF!,\"=2\")*80+COUNTIF(#REF!,\"=3\")*50+COUNTIF(#REF!,\"=8\")*20+COUNTIF(#REF!,\"=9\")*0)/COUNTA(#REF!)/100,\"N/A\")","v":{"$error":"#REF!"}},{"$f":"IF(COUNTA(#REF!)>0,(COUNTIF(#REF!,\"=0\")*0+COUNTIF(#REF!,\"=1\")*100+COUNTIF(#REF!,\"=2\")*80+COUNTIF(#REF!,\"=3\")*50+COUNTIF(#REF!,\"=8\")*20+COUNTIF(#REF!,\"=9\")*0)/COUNTA(#REF!)/100,\"N/A\")","v":{"$error":"#REF!"}},{"$f":"IF(AND(COUNTA(C49:E49)<>0,#REF!<>\"\"),AVERAGE(F49:L49),\"N/A\")","v":{"$error":"#REF!"}},{"$f":"IF(F49=\"N/A\",1,\"\")","v":""},{"$f":"IF(G49=\"N/A\",1,\"\")","v":""},{"$f":"IF(H49=\"N/A\",1,\"\")","v":{"$error":"#REF!"}},{"$f":"IF(I49=\"N/A\",1,\"\")","v":""},{"$f":"IF(J49=\"N/A\",1,\"\")","v":{"$error":"#REF!"}},{"$f":"IF(K49=\"N/A\",1,\"\")","v":{"$error":"#REF!"}},{"$f":"IF(L49=\"N/A\",1,\"\")","v":{"$error":"#REF!"}},{"$f":"IF(M49=\"N/A\",1,\"\")","v":{"$error":"#REF!"}}]
[null,"% de code 2",{"$f":"COUNTIF(Saisie!B24:M24,\"2\")/COUNTA(Saisie!B24:M24)","v":{"v":0,"d":"0.00%"}},{"$f":"COUNTIF(Saisie!N24:R24,\"2\")/COUNTA(Saisie!N24:R24)","v":{"v":0,"d":"0.00%"}},{"$f":"COUNTIF(Saisie!S24:V24,\"2\")/COUNTA(Saisie!S24:V24)","v":{"v":0,"d":"0.00%"}}]
[null,"% de code 9",{"$f":"COUNTIF(Saisie!B24:M24,\"9\")/COUNTA(Saisie!B24:M24)","v":{"v":0,"d":"0.00%"}},{"$f":"COUNTIF(Saisie!N24:R24,\"9\")/COUNTA(Saisie!N24:R24)","v":{"v":0,"d":"0.00%"}},{"$f":"COUNTIF(Saisie!S24:V24,\"9\")/COUNTA(Saisie!S24:V24)","v":{"v":0,"d":"0.00%"}}]
[null,"% de code 0",{"$f":"COUNTIF(Saisie!B24:M24,\"0\")/COUNTA(Saisie!B24:M24)","v":{"v":1,"d":"100.00%"}},{"$f":"COUNTIF(Saisie!N24:R24,\"0\")/COUNTA(Saisie!N24:R24)","v":{"v":1,"d":"100.00%"}},{"$f":"COUNTIF(Saisie!S24:V24,\"0\")/COUNTA(Saisie!S24:V24)","v":{"v":1,"d":"100.00%"}}]
[{"$f":"Saisie!A25","v":"Elève11"},"% de réussite",{"$f":"COUNTIF(Saisie!B25:M25,\"1\")/COUNTA(Saisie!B25:M25)","v":{"v":0,"d":"0.00%"}},{"$f":"COUNTIF(Saisie!N25:R25,\"1\")/COUNTA(Saisie!N25:R25)","v":{"v":0,"d":"0.00%"}},{"$f":"COUNTIF(Saisie!S25:V25,\"1\")/COUNTA(Saisie!S25:V25)","v":{"v":0,"d":"0.00%"}},{"$f":"IF(COUNTA(C53:C53)>0,(COUNTIF(C53:C53,\"=0\")*0+COUNTIF(C53:C53,\"=1\")*100+COUNTIF(C53:C53,\"=2\")*80+COUNTIF(C53:C53,\"=3\")*50+COUNTIF(C53:C53,\"=8\")*20+COUNTIF(C53:C53,\"=9\")*0)/COUNTA(C53:C53)/100,\"N/A\")","v":{"v":0,"d":"0.0%"}},{"$f":"IF(COUNTA(D53:D53)>0,(COUNTIF(D53:D53,\"=0\")*0+COUNTIF(D53:D53,\"=1\")*100+COUNTIF(D53:D53,\"=2\")*80+COUNTIF(D53:D53,\"=3\")*50+COUNTIF(D53:D53,\"=8\")*20+COUNTIF(D53:D53,\"=9\")*0)/COUNTA(D53:D53)/100,\"N/A\")","v":{"v":0,"d":"0.0%"}},{"$f":"IF(COUNTA(#REF!)>0,(COUNTIF(#REF!,\"=0\")*0+COUNTIF(#REF!,\"=1\")*100+COUNTIF(#REF!,\"=2\")*80+COUNTIF(#REF!,\"=3\")*50+COUNTIF(#REF!,\"=8\")*20+COUNTIF(#REF!,\"=9\")*0)/COUNTA(#REF!)/100,\"N/A\")","v":{"$error":"#REF!"}},{"$f":"IF(COUNTA(E53:E53)<>0,(COUNTIF(E53:E53,\"=0\")*0+COUNTIF(E53:E53,\"=1\")*100+COUNTIF(E53:E53,\"=2\")*80+COUNTIF(E53:E53,\"=3\")*50+COUNTIF(E53:E53,\"=8\")*20+COUNTIF(E53:E53,\"=9\")*0)/COUNTA(E53:E53)/100,\"N/A\")","v":{"v":0,"d":"0.0%"}},{"$f":"IF(COUNTA(#REF!)>0,(COUNTIF(#REF!,\"=0\")*0+COUNTIF(#REF!,\"=1\")*100+COUNTIF(#REF!,\"=2\")*80+COUNTIF(#REF!,\"=3\")*50+COUNTIF(#REF!,\"=8\")*20+COUNTIF(#REF!,\"=9\")*0)/COUNTA(#REF!)/100,\"N/A\")","v":{"$error":"#REF!"}},{"$f":"IF(COUNTA(#REF!)>0,(COUNTIF(#REF!,\"=0\")*0+COUNTIF(#REF!,\"=1\")*100+COUNTIF(#REF!,\"=2\")*80+COUNTIF(#REF!,\"=3\")*50+COUNTIF(#REF!,\"=8\")*20+COUNTIF(#REF!,\"=9\")*0)/COUNTA(#REF!)/100,\"N/A\")","v":{"$error":"#REF!"}},{"$f":"IF(COUNTA(#REF!)>0,(COUNTIF(#REF!,\"=0\")*0+COUNTIF(#REF!,\"=1\")*100+COUNTIF(#REF!,\"=2\")*80+COUNTIF(#REF!,\"=3\")*50+COUNTIF(#REF!,\"=8\")*20+COUNTIF(#REF!,\"=9\")*0)/COUNTA(#REF!)/100,\"N/A\")","v":{"$error":"#REF!"}},{"$f":"IF(AND(COUNTA(C53:E53)<>0,#REF!<>\"\"),AVERAGE(F53:L53),\"N/A\")","v":{"$error":"#REF!"}},{"$f":"IF(F53=\"N/A\",1,\"\")","v":""},{"$f":"IF(G53=\"N/A\",1,\"\")","v":""},{"$f":"IF(H53=\"N/A\",1,\"\")","v":{"$error":"#REF!"}},{"$f":"IF(I53=\"N/A\",1,\"\")","v":""},{"$f":"IF(J53=\"N/A\",1,\"\")","v":{"$error":"#REF!"}},{"$f":"IF(K53=\"N/A\",1,\"\")","v":{"$error":"#REF!"}},{"$f":"IF(L53=\"N/A\",1,\"\")","v":{"$error":"#REF!"}},{"$f":"IF(M53=\"N/A\",1,\"\")","v":{"$error":"#REF!"}}]
[null,"% de code 2",{"$f":"COUNTIF(Saisie!B25:M25,\"2\")/COUNTA(Saisie!B25:M25)","v":{"v":0,"d":"0.00%"}},{"$f":"COUNTIF(Saisie!N25:R25,\"2\")/COUNTA(Saisie!N25:R25)","v":{"v":0,"d":"0.00%"}},{"$f":"COUNTIF(Saisie!S25:V25,\"2\")/COUNTA(Saisie!S25:V25)","v":{"v":0,"d":"0.00%"}}]
[null,"% de code 9",{"$f":"COUNTIF(Saisie!B25:M25,\"9\")/COUNTA(Saisie!B25:M25)","v":{"v":0,"d":"0.00%"}},{"$f":"COUNTIF(Saisie!N25:R25,\"9\")/COUNTA(Saisie!N25:R25)","v":{"v":0,"d":"0.00%"}},{"$f":"COUNTIF(Saisie!S25:V25,\"9\")/COUNTA(Saisie!S25:V25)","v":{"v":0,"d":"0.00%"}}]
[null,"% de code 0",{"$f":"COUNTIF(Saisie!B25:M25,\"0\")/COUNTA(Saisie!B25:M25)","v":{"v":1,"d":"100.00%"}},{"$f":"COUNTIF(Saisie!N25:R25,\"0\")/COUNTA(Saisie!N25:R25)","v":{"v":1,"d":"100.00%"}},{"$f":"COUNTIF(Saisie!S25:V25,\"0\")/COUNTA(Saisie!S25:V25)","v":{"v":1,"d":"100.00%"}}]
[{"$f":"Saisie!A26","v":"Elève12"},"% de réussite",{"$f":"COUNTIF(Saisie!B26:M26,\"1\")/COUNTA(Saisie!B26:M26)","v":{"v":0,"d":"0.00%"}},{"$f":"COUNTIF(Saisie!N26:R26,\"1\")/COUNTA(Saisie!N26:R26)","v":{"v":0,"d":"0.00%"}},{"$f":"COUNTIF(Saisie!S26:V26,\"1\")/COUNTA(Saisie!S26:V26)","v":{"v":0,"d":"0.00%"}},{"$f":"IF(COUNTA(C57:C57)>0,(COUNTIF(C57:C57,\"=0\")*0+COUNTIF(C57:C57,\"=1\")*100+COUNTIF(C57:C57,\"=2\")*80+COUNTIF(C57:C57,\"=3\")*50+COUNTIF(C57:C57,\"=8\")*20+COUNTIF(C57:C57,\"=9\")*0)/COUNTA(C57:C57)/100,\"N/A\")","v":{"v":0,"d":"0.0%"}},{"$f":"IF(COUNTA(D57:D57)>0,(COUNTIF(D57:D57,\"=0\")*0+COUNTIF(D57:D57,\"=1\")*100+COUNTIF(D57:D57,\"=2\")*80+COUNTIF(D57:D57,\"=3\")*50+COUNTIF(D57:D57,\"=8\")*20+COUNTIF(D57:D57,\"=9\")*0)/COUNTA(D57:D57)/100,\"N/A\")","v":{"v":0,"d":"0.0%"}},{"$f":"IF(COUNTA(#REF!)>0,(COUNTIF(#REF!,\"=0\")*0+COUNTIF(#REF!,\"=1\")*100+COUNTIF(#REF!,\"=2\")*80+COUNTIF(#REF!,\"=3\")*50+COUNTIF(#REF!,\"=8\")*20+COUNTIF(#REF!,\"=9\")*0)/COUNTA(#REF!)/100,\"N/A\")","v":{"$error":"#REF!"}},{"$f":"IF(COUNTA(E57:E57)<>0,(COUNTIF(E57:E57,\"=0\")*0+COUNTIF(E57:E57,\"=1\")*100+COUNTIF(E57:E57,\"=2\")*80+COUNTIF(E57:E57,\"=3\")*50+COUNTIF(E57:E57,\"=8\")*20+COUNTIF(E57:E57,\"=9\")*0)/COUNTA(E57:E57)/100,\"N/A\")","v":{"v":0,"d":"0.0%"}},{"$f":"IF(COUNTA(#REF!)>0,(COUNTIF(#REF!,\"=0\")*0+COUNTIF(#REF!,\"=1\")*100+COUNTIF(#REF!,\"=2\")*80+COUNTIF(#REF!,\"=3\")*50+COUNTIF(#REF!,\"=8\")*20+COUNTIF(#REF!,\"=9\")*0)/COUNTA(#REF!)/100,\"N/A\")","v":{"$error":"#REF!"}},{"$f":"IF(COUNTA(#REF!)>0,(COUNTIF(#REF!,\"=0\")*0+COUNTIF(#REF!,\"=1\")*100+COUNTIF(#REF!,\"=2\")*80+COUNTIF(#REF!,\"=3\")*50+COUNTIF(#REF!,\"=8\")*20+COUNTIF(#REF!,\"=9\")*0)/COUNTA(#REF!)/100,\"N/A\")","v":{"$error":"#REF!"}},{"$f":"IF(COUNTA(#REF!)>0,(COUNTIF(#REF!,\"=0\")*0+COUNTIF(#REF!,\"=1\")*100+COUNTIF(#REF!,\"=2\")*80+COUNTIF(#REF!,\"=3\")*50+COUNTIF(#REF!,\"=8\")*20+COUNTIF(#REF!,\"=9\")*0)/COUNTA(#REF!)/100,\"N/A\")","v":{"$error":"#REF!"}},{"$f":"IF(AND(COUNTA(C57:E57)<>0,#REF!<>\"\"),AVERAGE(F57:L57),\"N/A\")","v":{"$error":"#REF!"}},{"$f":"IF(F57=\"N/A\",1,\"\")","v":""},{"$f":"IF(G57=\"N/A\",1,\"\")","v":""},{"$f":"IF(H57=\"N/A\",1,\"\")","v":{"$error":"#REF!"}},{"$f":"IF(I57=\"N/A\",1,\"\")","v":""},{"$f":"IF(J57=\"N/A\",1,\"\")","v":{"$error":"#REF!"}},{"$f":"IF(K57=\"N/A\",1,\"\")","v":{"$error":"#REF!"}},{"$f":"IF(L57=\"N/A\",1,\"\")","v":{"$error":"#REF!"}},{"$f":"IF(M57=\"N/A\",1,\"\")","v":{"$error":"#REF!"}}]
[null,"% de code 2",{"$f":"COUNTIF(Saisie!B26:M26,\"2\")/COUNTA(Saisie!B26:M26)","v":{"v":0,"d":"0.00%"}},{"$f":"COUNTIF(Saisie!N26:R26,\"2\")/COUNTA(Saisie!N26:R26)","v":{"v":0,"d":"0.00%"}},{"$f":"COUNTIF(Saisie!S26:V26,\"2\")/COUNTA(Saisie!S26:V26)","v":{"v":0,"d":"0.00%"}}]
[null,"% de code 9",{"$f":"COUNTIF(Saisie!B26:M26,\"9\")/COUNTA(Saisie!B26:M26)","v":{"v":0,"d":"0.00%"}},{"$f":"COUNTIF(Saisie!N26:R26,\"9\")/COUNTA(Saisie!N26:R26)","v":{"v":0,"d":"0.00%"}},{"$f":"COUNTIF(Saisie!S26:V26,\"9\")/COUNTA(Saisie!S26:V26)","v":{"v":0,"d":"0.00%"}}]
[null,"% de code 0",{"$f":"COUNTIF(Saisie!B26:M26,\"0\")/COUNTA(Saisie!B26:M26)","v":{"v":1,"d":"100.00%"}},{"$f":"COUNTIF(Saisie!N26:R26,\"0\")/COUNTA(Saisie!N26:R26)","v":{"v":1,"d":"100.00%"}},{"$f":"COUNTIF(Saisie!S26:V26,\"0\")/COUNTA(Saisie!S26:V26)","v":{"v":1,"d":"100.00%"}}]
[{"$f":"Saisie!A27","v":"Elève13"},"% de réussite",{"$f":"COUNTIF(Saisie!B27:M27,\"1\")/COUNTA(Saisie!B27:M27)","v":{"v":0,"d":"0.00%"}},{"$f":"COUNTIF(Saisie!N27:R27,\"1\")/COUNTA(Saisie!N27:R27)","v":{"v":0,"d":"0.00%"}},{"$f":"COUNTIF(Saisie!S27:V27,\"1\")/COUNTA(Saisie!S27:V27)","v":{"v":0,"d":"0.00%"}},{"$f":"IF(COUNTA(C61:C61)>0,(COUNTIF(C61:C61,\"=0\")*0+COUNTIF(C61:C61,\"=1\")*100+COUNTIF(C61:C61,\"=2\")*80+COUNTIF(C61:C61,\"=3\")*50+COUNTIF(C61:C61,\"=8\")*20+COUNTIF(C61:C61,\"=9\")*0)/COUNTA(C61:C61)/100,\"N/A\")","v":{"v":0,"d":"0.0%"}},{"$f":"IF(COUNTA(D61:D61)>0,(COUNTIF(D61:D61,\"=0\")*0+COUNTIF(D61:D61,\"=1\")*100+COUNTIF(D61:D61,\"=2\")*80+COUNTIF(D61:D61,\"=3\")*50+COUNTIF(D61:D61,\"=8\")*20+COUNTIF(D61:D61,\"=9\")*0)/COUNTA(D61:D61)/100,\"N/A\")","v":{"v":0,"d":"0.0%"}},{"$f":"IF(COUNTA(#REF!)>0,(COUNTIF(#REF!,\"=0\")*0+COUNTIF(#REF!,\"=1\")*100+COUNTIF(#REF!,\"=2\")*80+COUNTIF(#REF!,\"=3\")*50+COUNTIF(#REF!,\"=8\")*20+COUNTIF(#REF!,\"=9\")*0)/COUNTA(#REF!)/100,\"N/A\")","v":{"$error":"#REF!"}},{"$f":"IF(COUNTA(E61:E61)<>0,(COUNTIF(E61:E61,\"=0\")*0+COUNTIF(E61:E61,\"=1\")*100+COUNTIF(E61:E61,\"=2\")*80+COUNTIF(E61:E61,\"=3\")*50+COUNTIF(E61:E61,\"=8\")*20+COUNTIF(E61:E61,\"=9\")*0)/COUNTA(E61:E61)/100,\"N/A\")","v":{"v":0,"d":"0.0%"}},{"$f":"IF(COUNTA(#REF!)>0,(COUNTIF(#REF!,\"=0\")*0+COUNTIF(#REF!,\"=1\")*100+COUNTIF(#REF!,\"=2\")*80+COUNTIF(#REF!,\"=3\")*50+COUNTIF(#REF!,\"=8\")*20+COUNTIF(#REF!,\"=9\")*0)/COUNTA(#REF!)/100,\"N/A\")","v":{"$error":"#REF!"}},{"$f":"IF(COUNTA(#REF!)>0,(COUNTIF(#REF!,\"=0\")*0+COUNTIF(#REF!,\"=1\")*100+COUNTIF(#REF!,\"=2\")*80+COUNTIF(#REF!,\"=3\")*50+COUNTIF(#REF!,\"=8\")*20+COUNTIF(#REF!,\"=9\")*0)/COUNTA(#REF!)/100,\"N/A\")","v":{"$error":"#REF!"}},{"$f":"IF(COUNTA(#REF!)>0,(COUNTIF(#REF!,\"=0\")*0+COUNTIF(#REF!,\"=1\")*100+COUNTIF(#REF!,\"=2\")*80+COUNTIF(#REF!,\"=3\")*50+COUNTIF(#REF!,\"=8\")*20+COUNTIF(#REF!,\"=9\")*0)/COUNTA(#REF!)/100,\"N/A\")","v":{"$error":"#REF!"}},{"$f":"IF(AND(COUNTA(C61:E61)<>0,#REF!<>\"\"),AVERAGE(F61:L61),\"N/A\")","v":{"$error":"#REF!"}},{"$f":"IF(F61=\"N/A\",1,\"\")","v":""},{"$f":"IF(G61=\"N/A\",1,\"\")","v":""},{"$f":"IF(H61=\"N/A\",1,\"\")","v":{"$error":"#REF!"}},{"$f":"IF(I61=\"N/A\",1,\"\")","v":""},{"$f":"IF(J61=\"N/A\",1,\"\")","v":{"$error":"#REF!"}},{"$f":"IF(K61=\"N/A\",1,\"\")","v":{"$error":"#REF!"}},{"$f":"IF(L61=\"N/A\",1,\"\")","v":{"$error":"#REF!"}},{"$f":"IF(M61=\"N/A\",1,\"\")","v":{"$error":"#REF!"}}]
[null,"% de code 2",{"$f":"COUNTIF(Saisie!B27:M27,\"2\")/COUNTA(Saisie!B27:M27)","v":{"v":0,"d":"0.00%"}},{"$f":"COUNTIF(Saisie!N27:R27,\"2\")/COUNTA(Saisie!N27:R27)","v":{"v":0,"d":"0.00%"}},{"$f":"COUNTIF(Saisie!S27:V27,\"2\")/COUNTA(Saisie!S27:V27)","v":{"v":0,"d":"0.00%"}}]
[null,"% de code 9",{"$f":"COUNTIF(Saisie!B27:M27,\"9\")/COUNTA(Saisie!B27:M27)","v":{"v":0,"d":"0.00%"}},{"$f":"COUNTIF(Saisie!N27:R27,\"9\")/COUNTA(Saisie!N27:R27)","v":{"v":0,"d":"0.00%"}},{"$f":"COUNTIF(Saisie!S27:V27,\"9\")/COUNTA(Saisie!S27:V27)","v":{"v":0,"d":"0.00%"}}]
[null,"% de code 0",{"$f":"COUNTIF(Saisie!B27:M27,\"0\")/COUNTA(Saisie!B27:M27)","v":{"v":1,"d":"100.00%"}},{"$f":"COUNTIF(Saisie!N27:R27,\"0\")/COUNTA(Saisie!N27:R27)","v":{"v":1,"d":"100.00%"}},{"$f":"COUNTIF(Saisie!S27:V27,\"0\")/COUNTA(Saisie!S27:V27)","v":{"v":1,"d":"100.00%"}}]
[{"$f":"Saisie!A28","v":"Elève14"},"% de réussite",{"$f":"COUNTIF(Saisie!B28:M28,\"1\")/COUNTA(Saisie!B28:M28)","v":{"v":0,"d":"0.00%"}},{"$f":"COUNTIF(Saisie!N28:R28,\"1\")/COUNTA(Saisie!N28:R28)","v":{"v":0,"d":"0.00%"}},{"$f":"COUNTIF(Saisie!S28:V28,\"1\")/COUNTA(Saisie!S28:V28)","v":{"v":0,"d":"0.00%"}},{"$f":"IF(COUNTA(C65:C65)>0,(COUNTIF(C65:C65,\"=0\")*0+COUNTIF(C65:C65,\"=1\")*100+COUNTIF(C65:C65,\"=2\")*80+COUNTIF(C65:C65,\"=3\")*50+COUNTIF(C65:C65,\"=8\")*20+COUNTIF(C65:C65,\"=9\")*0)/COUNTA(C65:C65)/100,\"N/A\")","v":{"v":0,"d":"0.0%"}},{"$f":"IF(COUNTA(D65:D65)>0,(COUNTIF(D65:D65,\"=0\")*0+COUNTIF(D65:D65,\"=1\")*100+COUNTIF(D65:D65,\"=2\")*80+COUNTIF(D65:D65,\"=3\")*50+COUNTIF(D65:D65,\"=8\")*20+COUNTIF(D65:D65,\"=9\")*0)/COUNTA(D65:D65)/100,\"N/A\")","v":{"v":0,"d":"0.0%"}},{"$f":"IF(COUNTA(#REF!)>0,(COUNTIF(#REF!,\"=0\")*0+COUNTIF(#REF!,\"=1\")*100+COUNTIF(#REF!,\"=2\")*80+COUNTIF(#REF!,\"=3\")*50+COUNTIF(#REF!,\"=8\")*20+COUNTIF(#REF!,\"=9\")*0)/COUNTA(#REF!)/100,\"N/A\")","v":{"$error":"#REF!"}},{"$f":"IF(COUNTA(E65:E65)<>0,(COUNTIF(E65:E65,\"=0\")*0+COUNTIF(E65:E65,\"=1\")*100+COUNTIF(E65:E65,\"=2\")*80+COUNTIF(E65:E65,\"=3\")*50+COUNTIF(E65:E65,\"=8\")*20+COUNTIF(E65:E65,\"=9\")*0)/COUNTA(E65:E65)/100,\"N/A\")","v":{"v":0,"d":"0.0%"}},{"$f":"IF(COUNTA(#REF!)>0,(COUNTIF(#REF!,\"=0\")*0+COUNTIF(#REF!,\"=1\")*100+COUNTIF(#REF!,\"=2\")*80+COUNTIF(#REF!,\"=3\")*50+COUNTIF(#REF!,\"=8\")*20+COUNTIF(#REF!,\"=9\")*0)/COUNTA(#REF!)/100,\"N/A\")","v":{"$error":"#REF!"}},{"$f":"IF(COUNTA(#REF!)>0,(COUNTIF(#REF!,\"=0\")*0+COUNTIF(#REF!,\"=1\")*100+COUNTIF(#REF!,\"=2\")*80+COUNTIF(#REF!,\"=3\")*50+COUNTIF(#REF!,\"=8\")*20+COUNTIF(#REF!,\"=9\")*0)/COUNTA(#REF!)/100,\"N/A\")","v":{"$error":"#REF!"}},{"$f":"IF(COUNTA(#REF!)>0,(COUNTIF(#REF!,\"=0\")*0+COUNTIF(#REF!,\"=1\")*100+COUNTIF(#REF!,\"=2\")*80+COUNTIF(#REF!,\"=3\")*50+COUNTIF(#REF!,\"=8\")*20+COUNTIF(#REF!,\"=9\")*0)/COUNTA(#REF!)/100,\"N/A\")","v":{"$error":"#REF!"}},{"$f":"IF(AND(COUNTA(C65:E65)<>0,#REF!<>\"\"),AVERAGE(F65:L65),\"N/A\")","v":{"$error":"#REF!"}},{"$f":"IF(F65=\"N/A\",1,\"\")","v":""},{"$f":"IF(G65=\"N/A\",1,\"\")","v":""},{"$f":"IF(H65=\"N/A\",1,\"\")","v":{"$error":"#REF!"}},{"$f":"IF(I65=\"N/A\",1,\"\")","v":""},{"$f":"IF(J65=\"N/A\",1,\"\")","v":{"$error":"#REF!"}},{"$f":"IF(K65=\"N/A\",1,\"\")","v":{"$error":"#REF!"}},{"$f":"IF(L65=\"N/A\",1,\"\")","v":{"$error":"#REF!"}},{"$f":"IF(M65=\"N/A\",1,\"\")","v":{"$error":"#REF!"}}]
[null,"% de code 2",{"$f":"COUNTIF(Saisie!B28:M28,\"2\")/COUNTA(Saisie!B28:M28)","v":{"v":0,"d":"0.00%"}},{"$f":"COUNTIF(Saisie!N28:R28,\"2\")/COUNTA(Saisie!N28:R28)","v":{"v":0,"d":"0.00%"}},{"$f":"COUNTIF(Saisie!S28:V28,\"2\")/COUNTA(Saisie!S28:V28)","v":{"v":0,"d":"0.00%"}}]
[null,"% de code 9",{"$f":"COUNTIF(Saisie!B28:M28,\"9\")/COUNTA(Saisie!B28:M28)","v":{"v":0,"d":"0.00%"}},{"$f":"COUNTIF(Saisie!N28:R28,\"9\")/COUNTA(Saisie!N28:R28)","v":{"v":0,"d":"0.00%"}},{"$f":"COUNTIF(Saisie!S28:V28,\"9\")/COUNTA(Saisie!S28:V28)","v":{"v":0,"d":"0.00%"}}]
[null,"% de code 0",{"$f":"COUNTIF(Saisie!B28:M28,\"0\")/COUNTA(Saisie!B28:M28)","v":{"v":1,"d":"100.00%"}},{"$f":"COUNTIF(Saisie!N28:R28,\"0\")/COUNTA(Saisie!N28:R28)","v":{"v":1,"d":"100.00%"}},{"$f":"COUNTIF(Saisie!S28:V28,\"0\")/COUNTA(Saisie!S28:V28)","v":{"v":1,"d":"100.00%"}}]
[{"$f":"Saisie!A29","v":"Elève15"},"% de réussite",{"$f":"COUNTIF(Saisie!B29:M29,\"1\")/COUNTA(Saisie!B29:M29)","v":{"v":0,"d":"0.00%"}},{"$f":"COUNTIF(Saisie!N29:R29,\"1\")/COUNTA(Saisie!N29:R29)","v":{"v":0,"d":"0.00%"}},{"$f":"COUNTIF(Saisie!S29:V29,\"1\")/COUNTA(Saisie!S29:V29)","v":{"v":0,"d":"0.00%"}},{"$f":"IF(COUNTA(C69:C69)>0,(COUNTIF(C69:C69,\"=0\")*0+COUNTIF(C69:C69,\"=1\")*100+COUNTIF(C69:C69,\"=2\")*80+COUNTIF(C69:C69,\"=3\")*50+COUNTIF(C69:C69,\"=8\")*20+COUNTIF(C69:C69,\"=9\")*0)/COUNTA(C69:C69)/100,\"N/A\")","v":{"v":0,"d":"0.0%"}},{"$f":"IF(COUNTA(D69:D69)>0,(COUNTIF(D69:D69,\"=0\")*0+COUNTIF(D69:D69,\"=1\")*100+COUNTIF(D69:D69,\"=2\")*80+COUNTIF(D69:D69,\"=3\")*50+COUNTIF(D69:D69,\"=8\")*20+COUNTIF(D69:D69,\"=9\")*0)/COUNTA(D69:D69)/100,\"N/A\")","v":{"v":0,"d":"0.0%"}},{"$f":"IF(COUNTA(#REF!)>0,(COUNTIF(#REF!,\"=0\")*0+COUNTIF(#REF!,\"=1\")*100+COUNTIF(#REF!,\"=2\")*80+COUNTIF(#REF!,\"=3\")*50+COUNTIF(#REF!,\"=8\")*20+COUNTIF(#REF!,\"=9\")*0)/COUNTA(#REF!)/100,\"N/A\")","v":{"$error":"#REF!"}},{"$f":"IF(COUNTA(E69:E69)<>0,(COUNTIF(E69:E69,\"=0\")*0+COUNTIF(E69:E69,\"=1\")*100+COUNTIF(E69:E69,\"=2\")*80+COUNTIF(E69:E69,\"=3\")*50+COUNTIF(E69:E69,\"=8\")*20+COUNTIF(E69:E69,\"=9\")*0)/COUNTA(E69:E69)/100,\"N/A\")","v":{"v":0,"d":"0.0%"}},{"$f":"IF(COUNTA(#REF!)>0,(COUNTIF(#REF!,\"=0\")*0+COUNTIF(#REF!,\"=1\")*100+COUNTIF(#REF!,\"=2\")*80+COUNTIF(#REF!,\"=3\")*50+COUNTIF(#REF!,\"=8\")*20+COUNTIF(#REF!,\"=9\")*0)/COUNTA(#REF!)/100,\"N/A\")","v":{"$error":"#REF!"}},{"$f":"IF(COUNTA(#REF!)>0,(COUNTIF(#REF!,\"=0\")*0+COUNTIF(#REF!,\"=1\")*100+COUNTIF(#REF!,\"=2\")*80+COUNTIF(#REF!,\"=3\")*50+COUNTIF(#REF!,\"=8\")*20+COUNTIF(#REF!,\"=9\")*0)/COUNTA(#REF!)/100,\"N/A\")","v":{"$error":"#REF!"}},{"$f":"IF(COUNTA(#REF!)>0,(COUNTIF(#REF!,\"=0\")*0+COUNTIF(#REF!,\"=1\")*100+COUNTIF(#REF!,\"=2\")*80+COUNTIF(#REF!,\"=3\")*50+COUNTIF(#REF!,\"=8\")*20+COUNTIF(#REF!,\"=9\")*0)/COUNTA(#REF!)/100,\"N/A\")","v":{"$error":"#REF!"}},{"$f":"IF(AND(COUNTA(C69:E69)<>0,#REF!<>\"\"),AVERAGE(F69:L69),\"N/A\")","v":{"$error":"#REF!"}},{"$f":"IF(F69=\"N/A\",1,\"\")","v":""},{"$f":"IF(G69=\"N/A\",1,\"\")","v":""},{"$f":"IF(H69=\"N/A\",1,\"\")","v":{"$error":"#REF!"}},{"$f":"IF(I69=\"N/A\",1,\"\")","v":""},{"$f":"IF(J69=\"N/A\",1,\"\")","v":{"$error":"#REF!"}},{"$f":"IF(K69=\"N/A\",1,\"\")","v":{"$error":"#REF!"}},{"$f":"IF(L69=\"N/A\",1,\"\")","v":{"$error":"#REF!"}},{"$f":"IF(M69=\"N/A\",1,\"\")","v":{"$error":"#REF!"}}]
[null,"% de code 2",{"$f":"COUNTIF(Saisie!B29:M29,\"2\")/COUNTA(Saisie!B29:M29)","v":{"v":0,"d":"0.00%"}},{"$f":"COUNTIF(Saisie!N29:R29,\"2\")/COUNTA(Saisie!N29:R29)","v":{"v":0,"d":"0.00%"}},{"$f":"COUNTIF(Saisie!S29:V29,\"2\")/COUNTA(Saisie!S29:V29)","v":{"v":0,"d":"0.00%"}}]
[null,"% de code 9",{"$f":"COUNTIF(Saisie!B29:M29,\"9\")/COUNTA(Saisie!B29:M29)","v":{"v":0,"d":"0.00%"}},{"$f":"COUNTIF(Saisie!N29:R29,\"9\")/COUNTA(Saisie!N29:R29)","v":{"v":0,"d":"0.00%"}},{"$f":"COUNTIF(Saisie!S29:V29,\"9\")/COUNTA(Saisie!S29:V29)","v":{"v":0,"d":"0.00%"}}]
[null,"% de code 0",{"$f":"COUNTIF(Saisie!B29:M29,\"0\")/COUNTA(Saisie!B29:M29)","v":{"v":1,"d":"100.00%"}},{"$f":"COUNTIF(Saisie!N29:R29,\"0\")/COUNTA(Saisie!N29:R29)","v":{"v":1,"d":"100.00%"}},{"$f":"COUNTIF(Saisie!S29:V29,\"0\")/COUNTA(Saisie!S29:V29)","v":{"v":1,"d":"100.00%"}}]
[{"$f":"Saisie!A30","v":"Elève16"},"% de réussite",{"$f":"COUNTIF(Saisie!B30:M30,\"1\")/COUNTA(Saisie!B30:M30)","v":{"v":0,"d":"0.00%"}},{"$f":"COUNTIF(Saisie!N30:R30,\"1\")/COUNTA(Saisie!N30:R30)","v":{"v":0,"d":"0.00%"}},{"$f":"COUNTIF(Saisie!S30:V30,\"1\")/COUNTA(Saisie!S30:V30)","v":{"v":0,"d":"0.00%"}},{"$f":"IF(COUNTA(C73:C73)>0,(COUNTIF(C73:C73,\"=0\")*0+COUNTIF(C73:C73,\"=1\")*100+COUNTIF(C73:C73,\"=2\")*80+COUNTIF(C73:C73,\"=3\")*50+COUNTIF(C73:C73,\"=8\")*20+COUNTIF(C73:C73,\"=9\")*0)/COUNTA(C73:C73)/100,\"N/A\")","v":{"v":0,"d":"0.0%"}},{"$f":"IF(COUNTA(D73:D73)>0,(COUNTIF(D73:D73,\"=0\")*0+COUNTIF(D73:D73,\"=1\")*100+COUNTIF(D73:D73,\"=2\")*80+COUNTIF(D73:D73,\"=3\")*50+COUNTIF(D73:D73,\"=8\")*20+COUNTIF(D73:D73,\"=9\")*0)/COUNTA(D73:D73)/100,\"N/A\")","v":{"v":0,"d":"0.0%"}},{"$f":"IF(COUNTA(#REF!)>0,(COUNTIF(#REF!,\"=0\")*0+COUNTIF(#REF!,\"=1\")*100+COUNTIF(#REF!,\"=2\")*80+COUNTIF(#REF!,\"=3\")*50+COUNTIF(#REF!,\"=8\")*20+COUNTIF(#REF!,\"=9\")*0)/COUNTA(#REF!)/100,\"N/A\")","v":{"$error":"#REF!"}},{"$f":"IF(COUNTA(E73:E73)<>0,(COUNTIF(E73:E73,\"=0\")*0+COUNTIF(E73:E73,\"=1\")*100+COUNTIF(E73:E73,\"=2\")*80+COUNTIF(E73:E73,\"=3\")*50+COUNTIF(E73:E73,\"=8\")*20+COUNTIF(E73:E73,\"=9\")*0)/COUNTA(E73:E73)/100,\"N/A\")","v":{"v":0,"d":"0.0%"}},{"$f":"IF(COUNTA(#REF!)>0,(COUNTIF(#REF!,\"=0\")*0+COUNTIF(#REF!,\"=1\")*100+COUNTIF(#REF!,\"=2\")*80+COUNTIF(#REF!,\"=3\")*50+COUNTIF(#REF!,\"=8\")*20+COUNTIF(#REF!,\"=9\")*0)/COUNTA(#REF!)/100,\"N/A\")","v":{"$error":"#REF!"}},{"$f":"IF(COUNTA(#REF!)>0,(COUNTIF(#REF!,\"=0\")*0+COUNTIF(#REF!,\"=1\")*100+COUNTIF(#REF!,\"=2\")*80+COUNTIF(#REF!,\"=3\")*50+COUNTIF(#REF!,\"=8\")*20+COUNTIF(#REF!,\"=9\")*0)/COUNTA(#REF!)/100,\"N/A\")","v":{"$error":"#REF!"}},{"$f":"IF(COUNTA(#REF!)>0,(COUNTIF(#REF!,\"=0\")*0+COUNTIF(#REF!,\"=1\")*100+COUNTIF(#REF!,\"=2\")*80+COUNTIF(#REF!,\"=3\")*50+COUNTIF(#REF!,\"=8\")*20+COUNTIF(#REF!,\"=9\")*0)/COUNTA(#REF!)/100,\"N/A\")","v":{"$error":"#REF!"}},{"$f":"IF(AND(COUNTA(C73:E73)<>0,#REF!<>\"\"),AVERAGE(F73:L73),\"N/A\")","v":{"$error":"#REF!"}},{"$f":"IF(F73=\"N/A\",1,\"\")","v":""},{"$f":"IF(G73=\"N/A\",1,\"\")","v":""},{"$f":"IF(H73=\"N/A\",1,\"\")","v":{"$error":"#REF!"}},{"$f":"IF(I73=\"N/A\",1,\"\")","v":""},{"$f":"IF(J73=\"N/A\",1,\"\")","v":{"$error":"#REF!"}},{"$f":"IF(K73=\"N/A\",1,\"\")","v":{"$error":"#REF!"}},{"$f":"IF(L73=\"N/A\",1,\"\")","v":{"$error":"#REF!"}},{"$f":"IF(M73=\"N/A\",1,\"\")","v":{"$error":"#REF!"}}]
[null,"% de code 2",{"$f":"COUNTIF(Saisie!B30:M30,\"2\")/COUNTA(Saisie!B30:M30)","v":{"v":0,"d":"0.00%"}},{"$f":"COUNTIF(Saisie!N30:R30,\"2\")/COUNTA(Saisie!N30:R30)","v":{"v":0,"d":"0.00%"}},{"$f":"COUNTIF(Saisie!S30:V30,\"2\")/COUNTA(Saisie!S30:V30)","v":{"v":0,"d":"0.00%"}}]
[null,"% de code 9",{"$f":"COUNTIF(Saisie!B30:M30,\"9\")/COUNTA(Saisie!B30:M30)","v":{"v":0,"d":"0.00%"}},{"$f":"COUNTIF(Saisie!N30:R30,\"9\")/COUNTA(Saisie!N30:R30)","v":{"v":0,"d":"0.00%"}},{"$f":"COUNTIF(Saisie!S30:V30,\"9\")/COUNTA(Saisie!S30:V30)","v":{"v":0,"d":"0.00%"}}]
[null,"% de code 0",{"$f":"COUNTIF(Saisie!B30:M30,\"0\")/COUNTA(Saisie!B30:M30)","v":{"v":1,"d":"100.00%"}},{"$f":"COUNTIF(Saisie!N30:R30,\"0\")/COUNTA(Saisie!N30:R30)","v":{"v":1,"d":"100.00%"}},{"$f":"COUNTIF(Saisie!S30:V30,\"0\")/COUNTA(Saisie!S30:V30)","v":{"v":1,"d":"100.00%"}}]
[{"$f":"Saisie!A31","v":"Elève17"},"% de réussite",{"$f":"COUNTIF(Saisie!B31:M31,\"1\")/COUNTA(Saisie!B31:M31)","v":{"v":0,"d":"0.00%"}},{"$f":"COUNTIF(Saisie!N31:R31,\"1\")/COUNTA(Saisie!N31:R31)","v":{"v":0,"d":"0.00%"}},{"$f":"COUNTIF(Saisie!S31:V31,\"1\")/COUNTA(Saisie!S31:V31)","v":{"v":0,"d":"0.00%"}},{"$f":"IF(COUNTA(C77:C77)>0,(COUNTIF(C77:C77,\"=0\")*0+COUNTIF(C77:C77,\"=1\")*100+COUNTIF(C77:C77,\"=2\")*80+COUNTIF(C77:C77,\"=3\")*50+COUNTIF(C77:C77,\"=8\")*20+COUNTIF(C77:C77,\"=9\")*0)/COUNTA(C77:C77)/100,\"N/A\")","v":{"v":0,"d":"0.0%"}},{"$f":"IF(COUNTA(D77:D77)>0,(COUNTIF(D77:D77,\"=0\")*0+COUNTIF(D77:D77,\"=1\")*100+COUNTIF(D77:D77,\"=2\")*80+COUNTIF(D77:D77,\"=3\")*50+COUNTIF(D77:D77,\"=8\")*20+COUNTIF(D77:D77,\"=9\")*0)/COUNTA(D77:D77)/100,\"N/A\")","v":{"v":0,"d":"0.0%"}},{"$f":"IF(COUNTA(#REF!)>0,(COUNTIF(#REF!,\"=0\")*0+COUNTIF(#REF!,\"=1\")*100+COUNTIF(#REF!,\"=2\")*80+COUNTIF(#REF!,\"=3\")*50+COUNTIF(#REF!,\"=8\")*20+COUNTIF(#REF!,\"=9\")*0)/COUNTA(#REF!)/100,\"N/A\")","v":{"$error":"#REF!"}},{"$f":"IF(COUNTA(E77:E77)<>0,(COUNTIF(E77:E77,\"=0\")*0+COUNTIF(E77:E77,\"=1\")*100+COUNTIF(E77:E77,\"=2\")*80+COUNTIF(E77:E77,\"=3\")*50+COUNTIF(E77:E77,\"=8\")*20+COUNTIF(E77:E77,\"=9\")*0)/COUNTA(E77:E77)/100,\"N/A\")","v":{"v":0,"d":"0.0%"}},{"$f":"IF(COUNTA(#REF!)>0,(COUNTIF(#REF!,\"=0\")*0+COUNTIF(#REF!,\"=1\")*100+COUNTIF(#REF!,\"=2\")*80+COUNTIF(#REF!,\"=3\")*50+COUNTIF(#REF!,\"=8\")*20+COUNTIF(#REF!,\"=9\")*0)/COUNTA(#REF!)/100,\"N/A\")","v":{"$error":"#REF!"}},{"$f":"IF(COUNTA(#REF!)>0,(COUNTIF(#REF!,\"=0\")*0+COUNTIF(#REF!,\"=1\")*100+COUNTIF(#REF!,\"=2\")*80+COUNTIF(#REF!,\"=3\")*50+COUNTIF(#REF!,\"=8\")*20+COUNTIF(#REF!,\"=9\")*0)/COUNTA(#REF!)/100,\"N/A\")","v":{"$error":"#REF!"}},{"$f":"IF(COUNTA(#REF!)>0,(COUNTIF(#REF!,\"=0\")*0+COUNTIF(#REF!,\"=1\")*100+COUNTIF(#REF!,\"=2\")*80+COUNTIF(#REF!,\"=3\")*50+COUNTIF(#REF!,\"=8\")*20+COUNTIF(#REF!,\"=9\")*0)/COUNTA(#REF!)/100,\"N/A\")","v":{"$error":"#REF!"}},{"$f":"IF(AND(COUNTA(C77:E77)<>0,#REF!<>\"\"),AVERAGE(F77:L77),\"N/A\")","v":{"$error":"#REF!"}},{"$f":"IF(F77=\"N/A\",1,\"\")","v":""},{"$f":"IF(G77=\"N/A\",1,\"\")","v":""},{"$f":"IF(H77=\"N/A\",1,\"\")","v":{"$error":"#REF!"}},{"$f":"IF(I77=\"N/A\",1,\"\")","v":""},{"$f":"IF(J77=\"N/A\",1,\"\")","v":{"$error":"#REF!"}},{"$f":"IF(K77=\"N/A\",1,\"\")","v":{"$error":"#REF!"}},{"$f":"IF(L77=\"N/A\",1,\"\")","v":{"$error":"#REF!"}},{"$f":"IF(M77=\"N/A\",1,\"\")","v":{"$error":"#REF!"}}]
[null,"% de code 2",{"$f":"COUNTIF(Saisie!B31:M31,\"2\")/COUNTA(Saisie!B31:M31)","v":{"v":0,"d":"0.00%"}},{"$f":"COUNTIF(Saisie!N31:R31,\"2\")/COUNTA(Saisie!N31:R31)","v":{"v":0,"d":"0.00%"}},{"$f":"COUNTIF(Saisie!S31:V31,\"2\")/COUNTA(Saisie!S31:V31)","v":{"v":0,"d":"0.00%"}}]
[null,"% de code 9",{"$f":"COUNTIF(Saisie!B31:M31,\"9\")/COUNTA(Saisie!B31:M31)","v":{"v":0,"d":"0.00%"}},{"$f":"COUNTIF(Saisie!N31:R31,\"9\")/COUNTA(Saisie!N31:R31)","v":{"v":0,"d":"0.00%"}},{"$f":"COUNTIF(Saisie!S31:V31,\"9\")/COUNTA(Saisie!S31:V31)","v":{"v":0,"d":"0.00%"}}]
[null,"% de code 0",{"$f":"COUNTIF(Saisie!B31:M31,\"0\")/COUNTA(Saisie!B31:M31)","v":{"v":1,"d":"100.00%"}},{"$f":"COUNTIF(Saisie!N31:R31,\"0\")/COUNTA(Saisie!N31:R31)","v":{"v":1,"d":"100.00%"}},{"$f":"COUNTIF(Saisie!S31:V31,\"0\")/COUNTA(Saisie!S31:V31)","v":{"v":1,"d":"100.00%"}}]
[{"$f":"Saisie!A32","v":"Elève18"},"% de réussite",{"$f":"COUNTIF(Saisie!B32:M32,\"1\")/COUNTA(Saisie!B32:M32)","v":{"v":0,"d":"0.00%"}},{"$f":"COUNTIF(Saisie!N32:R32,\"1\")/COUNTA(Saisie!N32:R32)","v":{"v":0,"d":"0.00%"}},{"$f":"COUNTIF(Saisie!S32:V32,\"1\")/COUNTA(Saisie!S32:V32)","v":{"v":0,"d":"0.00%"}},{"$f":"IF(COUNTA(C81:C81)>0,(COUNTIF(C81:C81,\"=0\")*0+COUNTIF(C81:C81,\"=1\")*100+COUNTIF(C81:C81,\"=2\")*80+COUNTIF(C81:C81,\"=3\")*50+COUNTIF(C81:C81,\"=8\")*20+COUNTIF(C81:C81,\"=9\")*0)/COUNTA(C81:C81)/100,\"N/A\")","v":{"v":0,"d":"0.0%"}},{"$f":"IF(COUNTA(D81:D81)>0,(COUNTIF(D81:D81,\"=0\")*0+COUNTIF(D81:D81,\"=1\")*100+COUNTIF(D81:D81,\"=2\")*80+COUNTIF(D81:D81,\"=3\")*50+COUNTIF(D81:D81,\"=8\")*20+COUNTIF(D81:D81,\"=9\")*0)/COUNTA(D81:D81)/100,\"N/A\")","v":{"v":0,"d":"0.0%"}},{"$f":"IF(COUNTA(#REF!)>0,(COUNTIF(#REF!,\"=0\")*0+COUNTIF(#REF!,\"=1\")*100+COUNTIF(#REF!,\"=2\")*80+COUNTIF(#REF!,\"=3\")*50+COUNTIF(#REF!,\"=8\")*20+COUNTIF(#REF!,\"=9\")*0)/COUNTA(#REF!)/100,\"N/A\")","v":{"$error":"#REF!"}},{"$f":"IF(COUNTA(E81:E81)<>0,(COUNTIF(E81:E81,\"=0\")*0+COUNTIF(E81:E81,\"=1\")*100+COUNTIF(E81:E81,\"=2\")*80+COUNTIF(E81:E81,\"=3\")*50+COUNTIF(E81:E81,\"=8\")*20+COUNTIF(E81:E81,\"=9\")*0)/COUNTA(E81:E81)/100,\"N/A\")","v":{"v":0,"d":"0.0%"}},{"$f":"IF(COUNTA(#REF!)>0,(COUNTIF(#REF!,\"=0\")*0+COUNTIF(#REF!,\"=1\")*100+COUNTIF(#REF!,\"=2\")*80+COUNTIF(#REF!,\"=3\")*50+COUNTIF(#REF!,\"=8\")*20+COUNTIF(#REF!,\"=9\")*0)/COUNTA(#REF!)/100,\"N/A\")","v":{"$error":"#REF!"}},{"$f":"IF(COUNTA(#REF!)>0,(COUNTIF(#REF!,\"=0\")*0+COUNTIF(#REF!,\"=1\")*100+COUNTIF(#REF!,\"=2\")*80+COUNTIF(#REF!,\"=3\")*50+COUNTIF(#REF!,\"=8\")*20+COUNTIF(#REF!,\"=9\")*0)/COUNTA(#REF!)/100,\"N/A\")","v":{"$error":"#REF!"}},{"$f":"IF(COUNTA(#REF!)>0,(COUNTIF(#REF!,\"=0\")*0+COUNTIF(#REF!,\"=1\")*100+COUNTIF(#REF!,\"=2\")*80+COUNTIF(#REF!,\"=3\")*50+COUNTIF(#REF!,\"=8\")*20+COUNTIF(#REF!,\"=9\")*0)/COUNTA(#REF!)/100,\"N/A\")","v":{"$error":"#REF!"}},{"$f":"IF(AND(COUNTA(C81:E81)<>0,#REF!<>\"\"),AVERAGE(F81:L81),\"N/A\")","v":{"$error":"#REF!"}},{"$f":"IF(F81=\"N/A\",1,\"\")","v":""},{"$f":"IF(G81=\"N/A\",1,\"\")","v":""},{"$f":"IF(H81=\"N/A\",1,\"\")","v":{"$error":"#REF!"}},{"$f":"IF(I81=\"N/A\",1,\"\")","v":""},{"$f":"IF(J81=\"N/A\",1,\"\")","v":{"$error":"#REF!"}},{"$f":"IF(K81=\"N/A\",1,\"\")","v":{"$error":"#REF!"}},{"$f":"IF(L81=\"N/A\",1,\"\")","v":{"$error":"#REF!"}},{"$f":"IF(M81=\"N/A\",1,\"\")","v":{"$error":"#REF!"}}]
[null,"% de code 2",{"$f":"COUNTIF(Saisie!B32:M32,\"2\")/COUNTA(Saisie!B32:M32)","v":{"v":0,"d":"0.00%"}},{"$f":"COUNTIF(Saisie!N32:R32,\"2\")/COUNTA(Saisie!N32:R32)","v":{"v":0,"d":"0.00%"}},{"$f":"COUNTIF(Saisie!S32:V32,\"2\")/COUNTA(Saisie!S32:V32)","v":{"v":0,"d":"0.00%"}}]
[null,"% de code 9",{"$f":"COUNTIF(Saisie!B32:M32,\"9\")/COUNTA(Saisie!B32:M32)","v":{"v":0,"d":"0.00%"}},{"$f":"COUNTIF(Saisie!N32:R32,\"9\")/COUNTA(Saisie!N32:R32)","v":{"v":0,"d":"0.00%"}},{"$f":"COUNTIF(Saisie!S32:V32,\"9\")/COUNTA(Saisie!S32:V32)","v":{"v":0,"d":"0.00%"}}]
[null,"% de code 0",{"$f":"COUNTIF(Saisie!B32:M32,\"0\")/COUNTA(Saisie!B32:M32)","v":{"v":1,"d":"100.00%"}},{"$f":"COUNTIF(Saisie!N32:R32,\"0\")/COUNTA(Saisie!N32:R32)","v":{"v":1,"d":"100.00%"}},{"$f":"COUNTIF(Saisie!S32:V32,\"0\")/COUNTA(Saisie!S32:V32)","v":{"v":1,"d":"100.00%"}}]
[{"$f":"Saisie!A33","v":"Elève19"},"% de réussite",{"$f":"COUNTIF(Saisie!B33:M33,\"1\")/COUNTA(Saisie!B33:M33)","v":{"v":0,"d":"0.00%"}},{"$f":"COUNTIF(Saisie!N33:R33,\"1\")/COUNTA(Saisie!N33:R33)","v":{"v":0,"d":"0.00%"}},{"$f":"COUNTIF(Saisie!S33:V33,\"1\")/COUNTA(Saisie!S33:V33)","v":{"v":0,"d":"0.00%"}},{"$f":"IF(COUNTA(C85:C85)>0,(COUNTIF(C85:C85,\"=0\")*0+COUNTIF(C85:C85,\"=1\")*100+COUNTIF(C85:C85,\"=2\")*80+COUNTIF(C85:C85,\"=3\")*50+COUNTIF(C85:C85,\"=8\")*20+COUNTIF(C85:C85,\"=9\")*0)/COUNTA(C85:C85)/100,\"N/A\")","v":{"v":0,"d":"0.0%"}},{"$f":"IF(COUNTA(D85:D85)>0,(COUNTIF(D85:D85,\"=0\")*0+COUNTIF(D85:D85,\"=1\")*100+COUNTIF(D85:D85,\"=2\")*80+COUNTIF(D85:D85,\"=3\")*50+COUNTIF(D85:D85,\"=8\")*20+COUNTIF(D85:D85,\"=9\")*0)/COUNTA(D85:D85)/100,\"N/A\")","v":{"v":0,"d":"0.0%"}},{"$f":"IF(COUNTA(#REF!)>0,(COUNTIF(#REF!,\"=0\")*0+COUNTIF(#REF!,\"=1\")*100+COUNTIF(#REF!,\"=2\")*80+COUNTIF(#REF!,\"=3\")*50+COUNTIF(#REF!,\"=8\")*20+COUNTIF(#REF!,\"=9\")*0)/COUNTA(#REF!)/100,\"N/A\")","v":{"$error":"#REF!"}},{"$f":"IF(COUNTA(E85:E85)<>0,(COUNTIF(E85:E85,\"=0\")*0+COUNTIF(E85:E85,\"=1\")*100+COUNTIF(E85:E85,\"=2\")*80+COUNTIF(E85:E85,\"=3\")*50+COUNTIF(E85:E85,\"=8\")*20+COUNTIF(E85:E85,\"=9\")*0)/COUNTA(E85:E85)/100,\"N/A\")","v":{"v":0,"d":"0.0%"}},{"$f":"IF(COUNTA(#REF!)>0,(COUNTIF(#REF!,\"=0\")*0+COUNTIF(#REF!,\"=1\")*100+COUNTIF(#REF!,\"=2\")*80+COUNTIF(#REF!,\"=3\")*50+COUNTIF(#REF!,\"=8\")*20+COUNTIF(#REF!,\"=9\")*0)/COUNTA(#REF!)/100,\"N/A\")","v":{"$error":"#REF!"}},{"$f":"IF(COUNTA(#REF!)>0,(COUNTIF(#REF!,\"=0\")*0+COUNTIF(#REF!,\"=1\")*100+COUNTIF(#REF!,\"=2\")*80+COUNTIF(#REF!,\"=3\")*50+COUNTIF(#REF!,\"=8\")*20+COUNTIF(#REF!,\"=9\")*0)/COUNTA(#REF!)/100,\"N/A\")","v":{"$error":"#REF!"}},{"$f":"IF(COUNTA(#REF!)>0,(COUNTIF(#REF!,\"=0\")*0+COUNTIF(#REF!,\"=1\")*100+COUNTIF(#REF!,\"=2\")*80+COUNTIF(#REF!,\"=3\")*50+COUNTIF(#REF!,\"=8\")*20+COUNTIF(#REF!,\"=9\")*0)/COUNTA(#REF!)/100,\"N/A\")","v":{"$error":"#REF!"}},{"$f":"IF(AND(COUNTA(C85:E85)<>0,#REF!<>\"\"),AVERAGE(F85:L85),\"N/A\")","v":{"$error":"#REF!"}},{"$f":"IF(F85=\"N/A\",1,\"\")","v":""},{"$f":"IF(G85=\"N/A\",1,\"\")","v":""},{"$f":"IF(H85=\"N/A\",1,\"\")","v":{"$error":"#REF!"}},{"$f":"IF(I85=\"N/A\",1,\"\")","v":""},{"$f":"IF(J85=\"N/A\",1,\"\")","v":{"$error":"#REF!"}},{"$f":"IF(K85=\"N/A\",1,\"\")","v":{"$error":"#REF!"}},{"$f":"IF(L85=\"N/A\",1,\"\")","v":{"$error":"#REF!"}},{"$f":"IF(M85=\"N/A\",1,\"\")","v":{"$error":"#REF!"}}]
[null,"% de code 2",{"$f":"COUNTIF(Saisie!B33:M33,\"2\")/COUNTA(Saisie!B33:M33)","v":{"v":0,"d":"0.00%"}},{"$f":"COUNTIF(Saisie!N33:R33,\"2\")/COUNTA(Saisie!N33:R33)","v":{"v":0,"d":"0.00%"}},{"$f":"COUNTIF(Saisie!S33:V33,\"2\")/COUNTA(Saisie!S33:V33)","v":{"v":0,"d":"0.00%"}}]
[null,"% de code 9",{"$f":"COUNTIF(Saisie!B33:M33,\"9\")/COUNTA(Saisie!B33:M33)","v":{"v":0,"d":"0.00%"}},{"$f":"COUNTIF(Saisie!N33:R33,\"9\")/COUNTA(Saisie!N33:R33)","v":{"v":0,"d":"0.00%"}},{"$f":"COUNTIF(Saisie!S33:V33,\"9\")/COUNTA(Saisie!S33:V33)","v":{"v":0,"d":"0.00%"}}]
[null,"% de code 0",{"$f":"COUNTIF(Saisie!B33:M33,\"0\")/COUNTA(Saisie!B33:M33)","v":{"v":1,"d":"100.00%"}},{"$f":"COUNTIF(Saisie!N33:R33,\"0\")/COUNTA(Saisie!N33:R33)","v":{"v":1,"d":"100.00%"}},{"$f":"COUNTIF(Saisie!S33:V33,\"0\")/COUNTA(Saisie!S33:V33)","v":{"v":1,"d":"100.00%"}}]
[{"$f":"Saisie!A34","v":"Elève20"},"% de réussite",{"$f":"COUNTIF(Saisie!B34:M34,\"1\")/COUNTA(Saisie!B34:M34)","v":{"v":0,"d":"0.00%"}},{"$f":"COUNTIF(Saisie!N34:R34,\"1\")/COUNTA(Saisie!N34:R34)","v":{"v":0,"d":"0.00%"}},{"$f":"COUNTIF(Saisie!S34:V34,\"1\")/COUNTA(Saisie!S34:V34)","v":{"v":0,"d":"0.00%"}},{"$f":"IF(COUNTA(C89:C89)>0,(COUNTIF(C89:C89,\"=0\")*0+COUNTIF(C89:C89,\"=1\")*100+COUNTIF(C89:C89,\"=2\")*80+COUNTIF(C89:C89,\"=3\")*50+COUNTIF(C89:C89,\"=8\")*20+COUNTIF(C89:C89,\"=9\")*0)/COUNTA(C89:C89)/100,\"N/A\")","v":{"v":0,"d":"0.0%"}},{"$f":"IF(COUNTA(D89:D89)>0,(COUNTIF(D89:D89,\"=0\")*0+COUNTIF(D89:D89,\"=1\")*100+COUNTIF(D89:D89,\"=2\")*80+COUNTIF(D89:D89,\"=3\")*50+COUNTIF(D89:D89,\"=8\")*20+COUNTIF(D89:D89,\"=9\")*0)/COUNTA(D89:D89)/100,\"N/A\")","v":{"v":0,"d":"0.0%"}},{"$f":"IF(COUNTA(#REF!)>0,(COUNTIF(#REF!,\"=0\")*0+COUNTIF(#REF!,\"=1\")*100+COUNTIF(#REF!,\"=2\")*80+COUNTIF(#REF!,\"=3\")*50+COUNTIF(#REF!,\"=8\")*20+COUNTIF(#REF!,\"=9\")*0)/COUNTA(#REF!)/100,\"N/A\")","v":{"$error":"#REF!"}},{"$f":"IF(COUNTA(E89:E89)<>0,(COUNTIF(E89:E89,\"=0\")*0+COUNTIF(E89:E89,\"=1\")*100+COUNTIF(E89:E89,\"=2\")*80+COUNTIF(E89:E89,\"=3\")*50+COUNTIF(E89:E89,\"=8\")*20+COUNTIF(E89:E89,\"=9\")*0)/COUNTA(E89:E89)/100,\"N/A\")","v":{"v":0,"d":"0.0%"}},{"$f":"IF(COUNTA(#REF!)>0,(COUNTIF(#REF!,\"=0\")*0+COUNTIF(#REF!,\"=1\")*100+COUNTIF(#REF!,\"=2\")*80+COUNTIF(#REF!,\"=3\")*50+COUNTIF(#REF!,\"=8\")*20+COUNTIF(#REF!,\"=9\")*0)/COUNTA(#REF!)/100,\"N/A\")","v":{"$error":"#REF!"}},{"$f":"IF(COUNTA(#REF!)>0,(COUNTIF(#REF!,\"=0\")*0+COUNTIF(#REF!,\"=1\")*100+COUNTIF(#REF!,\"=2\")*80+COUNTIF(#REF!,\"=3\")*50+COUNTIF(#REF!,\"=8\")*20+COUNTIF(#REF!,\"=9\")*0)/COUNTA(#REF!)/100,\"N/A\")","v":{"$error":"#REF!"}},{"$f":"IF(COUNTA(#REF!)>0,(COUNTIF(#REF!,\"=0\")*0+COUNTIF(#REF!,\"=1\")*100+COUNTIF(#REF!,\"=2\")*80+COUNTIF(#REF!,\"=3\")*50+COUNTIF(#REF!,\"=8\")*20+COUNTIF(#REF!,\"=9\")*0)/COUNTA(#REF!)/100,\"N/A\")","v":{"$error":"#REF!"}},{"$f":"IF(AND(COUNTA(C89:E89)<>0,#REF!<>\"\"),AVERAGE(F89:L89),\"N/A\")","v":{"$error":"#REF!"}},{"$f":"IF(F89=\"N/A\",1,\"\")","v":""},{"$f":"IF(G89=\"N/A\",1,\"\")","v":""},{"$f":"IF(H89=\"N/A\",1,\"\")","v":{"$error":"#REF!"}},{"$f":"IF(I89=\"N/A\",1,\"\")","v":""},{"$f":"IF(J89=\"N/A\",1,\"\")","v":{"$error":"#REF!"}},{"$f":"IF(K89=\"N/A\",1,\"\")","v":{"$error":"#REF!"}},{"$f":"IF(L89=\"N/A\",1,\"\")","v":{"$error":"#REF!"}},{"$f":"IF(M89=\"N/A\",1,\"\")","v":{"$error":"#REF!"}}]
[null,"% de code 2",{"$f":"COUNTIF(Saisie!B34:M34,\"2\")/COUNTA(Saisie!B34:M34)","v":{"v":0,"d":"0.00%"}},{"$f":"COUNTIF(Saisie!N34:R34,\"2\")/COUNTA(Saisie!N34:R34)","v":{"v":0,"d":"0.00%"}},{"$f":"COUNTIF(Saisie!S34:V34,\"2\")/COUNTA(Saisie!S34:V34)","v":{"v":0,"d":"0.00%"}}]
[null,"% de code 9",{"$f":"COUNTIF(Saisie!B34:M34,\"9\")/COUNTA(Saisie!B34:M34)","v":{"v":0,"d":"0.00%"}},{"$f":"COUNTIF(Saisie!N34:R34,\"9\")/COUNTA(Saisie!N34:R34)","v":{"v":0,"d":"0.00%"}},{"$f":"COUNTIF(Saisie!S34:V34,\"9\")/COUNTA(Saisie!S34:V34)","v":{"v":0,"d":"0.00%"}}]
[null,"% de code 0",{"$f":"COUNTIF(Saisie!B34:M34,\"0\")/COUNTA(Saisie!B34:M34)","v":{"v":1,"d":"100.00%"}},{"$f":"COUNTIF(Saisie!N34:R34,\"0\")/COUNTA(Saisie!N34:R34)","v":{"v":1,"d":"100.00%"}},{"$f":"COUNTIF(Saisie!S34:V34,\"0\")/COUNTA(Saisie!S34:V34)","v":{"v":1,"d":"100.00%"}}]
[{"$f":"Saisie!A35","v":"Elève21"},"% de réussite",{"$f":"COUNTIF(Saisie!B35:M35,\"1\")/COUNTA(Saisie!B35:M35)","v":{"v":0,"d":"0.00%"}},{"$f":"COUNTIF(Saisie!N35:R35,\"1\")/COUNTA(Saisie!N35:R35)","v":{"v":0,"d":"0.00%"}},{"$f":"COUNTIF(Saisie!S35:V35,\"1\")/COUNTA(Saisie!S35:V35)","v":{"v":0,"d":"0.00%"}},{"$f":"IF(COUNTA(C93:C93)>0,(COUNTIF(C93:C93,\"=0\")*0+COUNTIF(C93:C93,\"=1\")*100+COUNTIF(C93:C93,\"=2\")*80+COUNTIF(C93:C93,\"=3\")*50+COUNTIF(C93:C93,\"=8\")*20+COUNTIF(C93:C93,\"=9\")*0)/COUNTA(C93:C93)/100,\"N/A\")","v":{"v":0,"d":"0.0%"}},{"$f":"IF(COUNTA(D93:D93)>0,(COUNTIF(D93:D93,\"=0\")*0+COUNTIF(D93:D93,\"=1\")*100+COUNTIF(D93:D93,\"=2\")*80+COUNTIF(D93:D93,\"=3\")*50+COUNTIF(D93:D93,\"=8\")*20+COUNTIF(D93:D93,\"=9\")*0)/COUNTA(D93:D93)/100,\"N/A\")","v":{"v":0,"d":"0.0%"}},{"$f":"IF(COUNTA(#REF!)>0,(COUNTIF(#REF!,\"=0\")*0+COUNTIF(#REF!,\"=1\")*100+COUNTIF(#REF!,\"=2\")*80+COUNTIF(#REF!,\"=3\")*50+COUNTIF(#REF!,\"=8\")*20+COUNTIF(#REF!,\"=9\")*0)/COUNTA(#REF!)/100,\"N/A\")","v":{"$error":"#REF!"}},{"$f":"IF(COUNTA(E93:E93)<>0,(COUNTIF(E93:E93,\"=0\")*0+COUNTIF(E93:E93,\"=1\")*100+COUNTIF(E93:E93,\"=2\")*80+COUNTIF(E93:E93,\"=3\")*50+COUNTIF(E93:E93,\"=8\")*20+COUNTIF(E93:E93,\"=9\")*0)/COUNTA(E93:E93)/100,\"N/A\")","v":{"v":0,"d":"0.0%"}},{"$f":"IF(COUNTA(#REF!)>0,(COUNTIF(#REF!,\"=0\")*0+COUNTIF(#REF!,\"=1\")*100+COUNTIF(#REF!,\"=2\")*80+COUNTIF(#REF!,\"=3\")*50+COUNTIF(#REF!,\"=8\")*20+COUNTIF(#REF!,\"=9\")*0)/COUNTA(#REF!)/100,\"N/A\")","v":{"$error":"#REF!"}},{"$f":"IF(COUNTA(#REF!)>0,(COUNTIF(#REF!,\"=0\")*0+COUNTIF(#REF!,\"=1\")*100+COUNTIF(#REF!,\"=2\")*80+COUNTIF(#REF!,\"=3\")*50+COUNTIF(#REF!,\"=8\")*20+COUNTIF(#REF!,\"=9\")*0)/COUNTA(#REF!)/100,\"N/A\")","v":{"$error":"#REF!"}},{"$f":"IF(COUNTA(#REF!)>0,(COUNTIF(#REF!,\"=0\")*0+COUNTIF(#REF!,\"=1\")*100+COUNTIF(#REF!,\"=2\")*80+COUNTIF(#REF!,\"=3\")*50+COUNTIF(#REF!,\"=8\")*20+COUNTIF(#REF!,\"=9\")*0)/COUNTA(#REF!)/100,\"N/A\")","v":{"$error":"#REF!"}},{"$f":"IF(AND(COUNTA(C93:E93)<>0,#REF!<>\"\"),AVERAGE(F93:L93),\"N/A\")","v":{"$error":"#REF!"}},{"$f":"IF(F93=\"N/A\",1,\"\")","v":""},{"$f":"IF(G93=\"N/A\",1,\"\")","v":""},{"$f":"IF(H93=\"N/A\",1,\"\")","v":{"$error":"#REF!"}},{"$f":"IF(I93=\"N/A\",1,\"\")","v":""},{"$f":"IF(J93=\"N/A\",1,\"\")","v":{"$error":"#REF!"}},{"$f":"IF(K93=\"N/A\",1,\"\")","v":{"$error":"#REF!"}},{"$f":"IF(L93=\"N/A\",1,\"\")","v":{"$error":"#REF!"}},{"$f":"IF(M93=\"N/A\",1,\"\")","v":{"$error":"#REF!"}}]
[null,"% de code 2",{"$f":"COUNTIF(Saisie!B35:M35,\"2\")/COUNTA(Saisie!B35:M35)","v":{"v":0,"d":"0.00%"}},{"$f":"COUNTIF(Saisie!N35:R35,\"2\")/COUNTA(Saisie!N35:R35)","v":{"v":0,"d":"0.00%"}},{"$f":"COUNTIF(Saisie!S35:V35,\"2\")/COUNTA(Saisie!S35:V35)","v":{"v":0,"d":"0.00%"}}]
[null,"% de code 9",{"$f":"COUNTIF(Saisie!B35:M35,\"9\")/COUNTA(Saisie!B35:M35)","v":{"v":0,"d":"0.00%"}},{"$f":"COUNTIF(Saisie!N35:R35,\"9\")/COUNTA(Saisie!N35:R35)","v":{"v":0,"d":"0.00%"}},{"$f":"COUNTIF(Saisie!S35:V35,\"9\")/COUNTA(Saisie!S35:V35)","v":{"v":0,"d":"0.00%"}}]
[null,"% de code 0",{"$f":"COUNTIF(Saisie!B35:M35,\"0\")/COUNTA(Saisie!B35:M35)","v":{"v":1,"d":"100.00%"}},{"$f":"COUNTIF(Saisie!N35:R35,\"0\")/COUNTA(Saisie!N35:R35)","v":{"v":1,"d":"100.00%"}},{"$f":"COUNTIF(Saisie!S35:V35,\"0\")/COUNTA(Saisie!S35:V35)","v":{"v":1,"d":"100.00%"}}]
[{"$f":"Saisie!A36","v":"Elève22"},"% de réussite",{"$f":"COUNTIF(Saisie!B36:M36,\"1\")/COUNTA(Saisie!B36:M36)","v":{"v":0,"d":"0.00%"}},{"$f":"COUNTIF(Saisie!N36:R36,\"1\")/COUNTA(Saisie!N36:R36)","v":{"v":0,"d":"0.00%"}},{"$f":"COUNTIF(Saisie!S36:V36,\"1\")/COUNTA(Saisie!S36:V36)","v":{"v":0,"d":"0.00%"}},{"$f":"IF(COUNTA(C97:C97)>0,(COUNTIF(C97:C97,\"=0\")*0+COUNTIF(C97:C97,\"=1\")*100+COUNTIF(C97:C97,\"=2\")*80+COUNTIF(C97:C97,\"=3\")*50+COUNTIF(C97:C97,\"=8\")*20+COUNTIF(C97:C97,\"=9\")*0)/COUNTA(C97:C97)/100,\"N/A\")","v":{"v":0,"d":"0.0%"}},{"$f":"IF(COUNTA(D97:D97)>0,(COUNTIF(D97:D97,\"=0\")*0+COUNTIF(D97:D97,\"=1\")*100+COUNTIF(D97:D97,\"=2\")*80+COUNTIF(D97:D97,\"=3\")*50+COUNTIF(D97:D97,\"=8\")*20+COUNTIF(D97:D97,\"=9\")*0)/COUNTA(D97:D97)/100,\"N/A\")","v":{"v":0,"d":"0.0%"}},{"$f":"IF(COUNTA(#REF!)>0,(COUNTIF(#REF!,\"=0\")*0+COUNTIF(#REF!,\"=1\")*100+COUNTIF(#REF!,\"=2\")*80+COUNTIF(#REF!,\"=3\")*50+COUNTIF(#REF!,\"=8\")*20+COUNTIF(#REF!,\"=9\")*0)/COUNTA(#REF!)/100,\"N/A\")","v":{"$error":"#REF!"}},{"$f":"IF(COUNTA(E97:E97)<>0,(COUNTIF(E97:E97,\"=0\")*0+COUNTIF(E97:E97,\"=1\")*100+COUNTIF(E97:E97,\"=2\")*80+COUNTIF(E97:E97,\"=3\")*50+COUNTIF(E97:E97,\"=8\")*20+COUNTIF(E97:E97,\"=9\")*0)/COUNTA(E97:E97)/100,\"N/A\")","v":{"v":0,"d":"0.0%"}},{"$f":"IF(COUNTA(#REF!)>0,(COUNTIF(#REF!,\"=0\")*0+COUNTIF(#REF!,\"=1\")*100+COUNTIF(#REF!,\"=2\")*80+COUNTIF(#REF!,\"=3\")*50+COUNTIF(#REF!,\"=8\")*20+COUNTIF(#REF!,\"=9\")*0)/COUNTA(#REF!)/100,\"N/A\")","v":{"$error":"#REF!"}},{"$f":"IF(COUNTA(#REF!)>0,(COUNTIF(#REF!,\"=0\")*0+COUNTIF(#REF!,\"=1\")*100+COUNTIF(#REF!,\"=2\")*80+COUNTIF(#REF!,\"=3\")*50+COUNTIF(#REF!,\"=8\")*20+COUNTIF(#REF!,\"=9\")*0)/COUNTA(#REF!)/100,\"N/A\")","v":{"$error":"#REF!"}},{"$f":"IF(COUNTA(#REF!)>0,(COUNTIF(#REF!,\"=0\")*0+COUNTIF(#REF!,\"=1\")*100+COUNTIF(#REF!,\"=2\")*80+COUNTIF(#REF!,\"=3\")*50+COUNTIF(#REF!,\"=8\")*20+COUNTIF(#REF!,\"=9\")*0)/COUNTA(#REF!)/100,\"N/A\")","v":{"$error":"#REF!"}},{"$f":"IF(AND(COUNTA(C97:E97)<>0,#REF!<>\"\"),AVERAGE(F97:L97),\"N/A\")","v":{"$error":"#REF!"}},{"$f":"IF(F97=\"N/A\",1,\"\")","v":""},{"$f":"IF(G97=\"N/A\",1,\"\")","v":""},{"$f":"IF(H97=\"N/A\",1,\"\")","v":{"$error":"#REF!"}},{"$f":"IF(I97=\"N/A\",1,\"\")","v":""},{"$f":"IF(J97=\"N/A\",1,\"\")","v":{"$error":"#REF!"}},{"$f":"IF(K97=\"N/A\",1,\"\")","v":{"$error":"#REF!"}},{"$f":"IF(L97=\"N/A\",1,\"\")","v":{"$error":"#REF!"}},{"$f":"IF(M97=\"N/A\",1,\"\")","v":{"$error":"#REF!"}}]
[null,"% de code 2",{"$f":"COUNTIF(Saisie!B36:M36,\"2\")/COUNTA(Saisie!B36:M36)","v":{"v":0,"d":"0.00%"}},{"$f":"COUNTIF(Saisie!N36:R36,\"2\")/COUNTA(Saisie!N36:R36)","v":{"v":0,"d":"0.00%"}},{"$f":"COUNTIF(Saisie!S36:V36,\"2\")/COUNTA(Saisie!S36:V36)","v":{"v":0,"d":"0.00%"}}]
[null,"% de code 9",{"$f":"COUNTIF(Saisie!B36:M36,\"9\")/COUNTA(Saisie!B36:M36)","v":{"v":0,"d":"0.00%"}},{"$f":"COUNTIF(Saisie!N36:R36,\"9\")/COUNTA(Saisie!N36:R36)","v":{"v":0,"d":"0.00%"}},{"$f":"COUNTIF(Saisie!S36:V36,\"9\")/COUNTA(Saisie!S36:V36)","v":{"v":0,"d":"0.00%"}}]
[null,"% de code 0",{"$f":"COUNTIF(Saisie!B36:M36,\"0\")/COUNTA(Saisie!B36:M36)","v":{"v":1,"d":"100.00%"}},{"$f":"COUNTIF(Saisie!N36:R36,\"0\")/COUNTA(Saisie!N36:R36)","v":{"v":1,"d":"100.00%"}},{"$f":"COUNTIF(Saisie!S36:V36,\"0\")/COUNTA(Saisie!S36:V36)","v":{"v":1,"d":"100.00%"}}]
[{"$f":"Saisie!A37","v":"Elève23"},"% de réussite",{"$f":"COUNTIF(Saisie!B37:M37,\"1\")/COUNTA(Saisie!B37:M37)","v":{"v":0,"d":"0.00%"}},{"$f":"COUNTIF(Saisie!N37:R37,\"1\")/COUNTA(Saisie!N37:R37)","v":{"v":0,"d":"0.00%"}},{"$f":"COUNTIF(Saisie!S37:V37,\"1\")/COUNTA(Saisie!S37:V37)","v":{"v":0,"d":"0.00%"}},{"$f":"IF(COUNTA(C101:C101)>0,(COUNTIF(C101:C101,\"=0\")*0+COUNTIF(C101:C101,\"=1\")*100+COUNTIF(C101:C101,\"=2\")*80+COUNTIF(C101:C101,\"=3\")*50+COUNTIF(C101:C101,\"=8\")*20+COUNTIF(C101:C101,\"=9\")*0)/COUNTA(C101:C101)/100,\"N/A\")","v":{"v":0,"d":"0.0%"}},{"$f":"IF(COUNTA(D101:D101)>0,(COUNTIF(D101:D101,\"=0\")*0+COUNTIF(D101:D101,\"=1\")*100+COUNTIF(D101:D101,\"=2\")*80+COUNTIF(D101:D101,\"=3\")*50+COUNTIF(D101:D101,\"=8\")*20+COUNTIF(D101:D101,\"=9\")*0)/COUNTA(D101:D101)/100,\"N/A\")","v":{"v":0,"d":"0.0%"}},{"$f":"IF(COUNTA(#REF!)>0,(COUNTIF(#REF!,\"=0\")*0+COUNTIF(#REF!,\"=1\")*100+COUNTIF(#REF!,\"=2\")*80+COUNTIF(#REF!,\"=3\")*50+COUNTIF(#REF!,\"=8\")*20+COUNTIF(#REF!,\"=9\")*0)/COUNTA(#REF!)/100,\"N/A\")","v":{"$error":"#REF!"}},{"$f":"IF(COUNTA(E101:E101)<>0,(COUNTIF(E101:E101,\"=0\")*0+COUNTIF(E101:E101,\"=1\")*100+COUNTIF(E101:E101,\"=2\")*80+COUNTIF(E101:E101,\"=3\")*50+COUNTIF(E101:E101,\"=8\")*20+COUNTIF(E101:E101,\"=9\")*0)/COUNTA(E101:E101)/100,\"N/A\")","v":{"v":0,"d":"0.0%"}},{"$f":"IF(COUNTA(#REF!)>0,(COUNTIF(#REF!,\"=0\")*0+COUNTIF(#REF!,\"=1\")*100+COUNTIF(#REF!,\"=2\")*80+COUNTIF(#REF!,\"=3\")*50+COUNTIF(#REF!,\"=8\")*20+COUNTIF(#REF!,\"=9\")*0)/COUNTA(#REF!)/100,\"N/A\")","v":{"$error":"#REF!"}},{"$f":"IF(COUNTA(#REF!)>0,(COUNTIF(#REF!,\"=0\")*0+COUNTIF(#REF!,\"=1\")*100+COUNTIF(#REF!,\"=2\")*80+COUNTIF(#REF!,\"=3\")*50+COUNTIF(#REF!,\"=8\")*20+COUNTIF(#REF!,\"=9\")*0)/COUNTA(#REF!)/100,\"N/A\")","v":{"$error":"#REF!"}},{"$f":"IF(COUNTA(#REF!)>0,(COUNTIF(#REF!,\"=0\")*0+COUNTIF(#REF!,\"=1\")*100+COUNTIF(#REF!,\"=2\")*80+COUNTIF(#REF!,\"=3\")*50+COUNTIF(#REF!,\"=8\")*20+COUNTIF(#REF!,\"=9\")*0)/COUNTA(#REF!)/100,\"N/A\")","v":{"$error":"#REF!"}},{"$f":"IF(AND(COUNTA(C101:E101)<>0,#REF!<>\"\"),AVERAGE(F101:L101),\"N/A\")","v":{"$error":"#REF!"}},{"$f":"IF(F101=\"N/A\",1,\"\")","v":""},{"$f":"IF(G101=\"N/A\",1,\"\")","v":""},{"$f":"IF(H101=\"N/A\",1,\"\")","v":{"$error":"#REF!"}},{"$f":"IF(I101=\"N/A\",1,\"\")","v":""},{"$f":"IF(J101=\"N/A\",1,\"\")","v":{"$error":"#REF!"}},{"$f":"IF(K101=\"N/A\",1,\"\")","v":{"$error":"#REF!"}},{"$f":"IF(L101=\"N/A\",1,\"\")","v":{"$error":"#REF!"}},{"$f":"IF(M101=\"N/A\",1,\"\")","v":{"$error":"#REF!"}}]
[null,"% de code 2",{"$f":"COUNTIF(Saisie!B37:M37,\"2\")/COUNTA(Saisie!B37:M37)","v":{"v":0,"d":"0.00%"}},{"$f":"COUNTIF(Saisie!N37:R37,\"2\")/COUNTA(Saisie!N37:R37)","v":{"v":0,"d":"0.00%"}},{"$f":"COUNTIF(Saisie!S37:V37,\"2\")/COUNTA(Saisie!S37:V37)","v":{"v":0,"d":"0.00%"}}]
[null,"% de code 9",{"$f":"COUNTIF(Saisie!B37:M37,\"9\")/COUNTA(Saisie!B37:M37)","v":{"v":0,"d":"0.00%"}},{"$f":"COUNTIF(Saisie!N37:R37,\"9\")/COUNTA(Saisie!N37:R37)","v":{"v":0,"d":"0.00%"}},{"$f":"COUNTIF(Saisie!S37:V37,\"9\")/COUNTA(Saisie!S37:V37)","v":{"v":0,"d":"0.00%"}}]
[null,"% de code 0",{"$f":"COUNTIF(Saisie!B37:M37,\"0\")/COUNTA(Saisie!B37:M37)","v":{"v":1,"d":"100.00%"}},{"$f":"COUNTIF(Saisie!N37:R37,\"0\")/COUNTA(Saisie!N37:R37)","v":{"v":1,"d":"100.00%"}},{"$f":"COUNTIF(Saisie!S37:V37,\"0\")/COUNTA(Saisie!S37:V37)","v":{"v":1,"d":"100.00%"}}]
[{"$f":"Saisie!A38","v":"Elève24"},"% de réussite",{"$f":"COUNTIF(Saisie!B38:M38,\"1\")/COUNTA(Saisie!B38:M38)","v":{"v":0,"d":"0.00%"}},{"$f":"COUNTIF(Saisie!N38:R38,\"1\")/COUNTA(Saisie!N38:R38)","v":{"v":0,"d":"0.00%"}},{"$f":"COUNTIF(Saisie!S38:V38,\"1\")/COUNTA(Saisie!S38:V38)","v":{"v":0,"d":"0.00%"}},{"$f":"IF(COUNTA(C105:C105)>0,(COUNTIF(C105:C105,\"=0\")*0+COUNTIF(C105:C105,\"=1\")*100+COUNTIF(C105:C105,\"=2\")*80+COUNTIF(C105:C105,\"=3\")*50+COUNTIF(C105:C105,\"=8\")*20+COUNTIF(C105:C105,\"=9\")*0)/COUNTA(C105:C105)/100,\"N/A\")","v":{"v":0,"d":"0.0%"}},{"$f":"IF(COUNTA(D105:D105)>0,(COUNTIF(D105:D105,\"=0\")*0+COUNTIF(D105:D105,\"=1\")*100+COUNTIF(D105:D105,\"=2\")*80+COUNTIF(D105:D105,\"=3\")*50+COUNTIF(D105:D105,\"=8\")*20+COUNTIF(D105:D105,\"=9\")*0)/COUNTA(D105:D105)/100,\"N/A\")","v":{"v":0,"d":"0.0%"}},{"$f":"IF(COUNTA(#REF!)>0,(COUNTIF(#REF!,\"=0\")*0+COUNTIF(#REF!,\"=1\")*100+COUNTIF(#REF!,\"=2\")*80+COUNTIF(#REF!,\"=3\")*50+COUNTIF(#REF!,\"=8\")*20+COUNTIF(#REF!,\"=9\")*0)/COUNTA(#REF!)/100,\"N/A\")","v":{"$error":"#REF!"}},{"$f":"IF(COUNTA(E105:E105)<>0,(COUNTIF(E105:E105,\"=0\")*0+COUNTIF(E105:E105,\"=1\")*100+COUNTIF(E105:E105,\"=2\")*80+COUNTIF(E105:E105,\"=3\")*50+COUNTIF(E105:E105,\"=8\")*20+COUNTIF(E105:E105,\"=9\")*0)/COUNTA(E105:E105)/100,\"N/A\")","v":{"v":0,"d":"0.0%"}},{"$f":"IF(COUNTA(#REF!)>0,(COUNTIF(#REF!,\"=0\")*0+COUNTIF(#REF!,\"=1\")*100+COUNTIF(#REF!,\"=2\")*80+COUNTIF(#REF!,\"=3\")*50+COUNTIF(#REF!,\"=8\")*20+COUNTIF(#REF!,\"=9\")*0)/COUNTA(#REF!)/100,\"N/A\")","v":{"$error":"#REF!"}},{"$f":"IF(COUNTA(#REF!)>0,(COUNTIF(#REF!,\"=0\")*0+COUNTIF(#REF!,\"=1\")*100+COUNTIF(#REF!,\"=2\")*80+COUNTIF(#REF!,\"=3\")*50+COUNTIF(#REF!,\"=8\")*20+COUNTIF(#REF!,\"=9\")*0)/COUNTA(#REF!)/100,\"N/A\")","v":{"$error":"#REF!"}},{"$f":"IF(COUNTA(#REF!)>0,(COUNTIF(#REF!,\"=0\")*0+COUNTIF(#REF!,\"=1\")*100+COUNTIF(#REF!,\"=2\")*80+COUNTIF(#REF!,\"=3\")*50+COUNTIF(#REF!,\"=8\")*20+COUNTIF(#REF!,\"=9\")*0)/COUNTA(#REF!)/100,\"N/A\")","v":{"$error":"#REF!"}},{"$f":"IF(AND(COUNTA(C105:E105)<>0,#REF!<>\"\"),AVERAGE(F105:L105),\"N/A\")","v":{"$error":"#REF!"}},{"$f":"IF(F105=\"N/A\",1,\"\")","v":""},{"$f":"IF(G105=\"N/A\",1,\"\")","v":""},{"$f":"IF(H105=\"N/A\",1,\"\")","v":{"$error":"#REF!"}},{"$f":"IF(I105=\"N/A\",1,\"\")","v":""},{"$f":"IF(J105=\"N/A\",1,\"\")","v":{"$error":"#REF!"}},{"$f":"IF(K105=\"N/A\",1,\"\")","v":{"$error":"#REF!"}},{"$f":"IF(L105=\"N/A\",1,\"\")","v":{"$error":"#REF!"}},{"$f":"IF(M105=\"N/A\",1,\"\")","v":{"$error":"#REF!"}}]
[null,"% de code 2",{"$f":"COUNTIF(Saisie!B38:M38,\"2\")/COUNTA(Saisie!B38:M38)","v":{"v":0,"d":"0.00%"}},{"$f":"COUNTIF(Saisie!N38:R38,\"2\")/COUNTA(Saisie!N38:R38)","v":{"v":0,"d":"0.00%"}},{"$f":"COUNTIF(Saisie!S38:V38,\"2\")/COUNTA(Saisie!S38:V38)","v":{"v":0,"d":"0.00%"}}]
[null,"% de code 9",{"$f":"COUNTIF(Saisie!B38:M38,\"9\")/COUNTA(Saisie!B38:M38)","v":{"v":0,"d":"0.00%"}},{"$f":"COUNTIF(Saisie!N38:R38,\"9\")/COUNTA(Saisie!N38:R38)","v":{"v":0,"d":"0.00%"}},{"$f":"COUNTIF(Saisie!S38:V38,\"9\")/COUNTA(Saisie!S38:V38)","v":{"v":0,"d":"0.00%"}}]
[null,"% de code 0",{"$f":"COUNTIF(Saisie!B38:M38,\"0\")/COUNTA(Saisie!B38:M38)","v":{"v":1,"d":"100.00%"}},{"$f":"COUNTIF(Saisie!N38:R38,\"0\")/COUNTA(Saisie!N38:R38)","v":{"v":1,"d":"100.00%"}},{"$f":"COUNTIF(Saisie!S38:V38,\"0\")/COUNTA(Saisie!S38:V38)","v":{"v":1,"d":"100.00%"}}]
[{"$f":"Saisie!A39","v":"Elève25"},"% de réussite",{"$f":"COUNTIF(Saisie!B39:M39,\"1\")/COUNTA(Saisie!B39:M39)","v":{"v":0,"d":"0.00%"}},{"$f":"COUNTIF(Saisie!N39:R39,\"1\")/COUNTA(Saisie!N39:R39)","v":{"v":0,"d":"0.00%"}},{"$f":"COUNTIF(Saisie!S39:V39,\"1\")/COUNTA(Saisie!S39:V39)","v":{"v":0,"d":"0.00%"}},{"$f":"IF(COUNTA(C109:C109)>0,(COUNTIF(C109:C109,\"=0\")*0+COUNTIF(C109:C109,\"=1\")*100+COUNTIF(C109:C109,\"=2\")*80+COUNTIF(C109:C109,\"=3\")*50+COUNTIF(C109:C109,\"=8\")*20+COUNTIF(C109:C109,\"=9\")*0)/COUNTA(C109:C109)/100,\"N/A\")","v":{"v":0,"d":"0.0%"}},{"$f":"IF(COUNTA(D109:D109)>0,(COUNTIF(D109:D109,\"=0\")*0+COUNTIF(D109:D109,\"=1\")*100+COUNTIF(D109:D109,\"=2\")*80+COUNTIF(D109:D109,\"=3\")*50+COUNTIF(D109:D109,\"=8\")*20+COUNTIF(D109:D109,\"=9\")*0)/COUNTA(D109:D109)/100,\"N/A\")","v":{"v":0,"d":"0.0%"}},{"$f":"IF(COUNTA(#REF!)>0,(COUNTIF(#REF!,\"=0\")*0+COUNTIF(#REF!,\"=1\")*100+COUNTIF(#REF!,\"=2\")*80+COUNTIF(#REF!,\"=3\")*50+COUNTIF(#REF!,\"=8\")*20+COUNTIF(#REF!,\"=9\")*0)/COUNTA(#REF!)/100,\"N/A\")","v":{"$error":"#REF!"}},{"$f":"IF(COUNTA(E109:E109)<>0,(COUNTIF(E109:E109,\"=0\")*0+COUNTIF(E109:E109,\"=1\")*100+COUNTIF(E109:E109,\"=2\")*80+COUNTIF(E109:E109,\"=3\")*50+COUNTIF(E109:E109,\"=8\")*20+COUNTIF(E109:E109,\"=9\")*0)/COUNTA(E109:E109)/100,\"N/A\")","v":{"v":0,"d":"0.0%"}},{"$f":"IF(COUNTA(#REF!)>0,(COUNTIF(#REF!,\"=0\")*0+COUNTIF(#REF!,\"=1\")*100+COUNTIF(#REF!,\"=2\")*80+COUNTIF(#REF!,\"=3\")*50+COUNTIF(#REF!,\"=8\")*20+COUNTIF(#REF!,\"=9\")*0)/COUNTA(#REF!)/100,\"N/A\")","v":{"$error":"#REF!"}},{"$f":"IF(COUNTA(#REF!)>0,(COUNTIF(#REF!,\"=0\")*0+COUNTIF(#REF!,\"=1\")*100+COUNTIF(#REF!,\"=2\")*80+COUNTIF(#REF!,\"=3\")*50+COUNTIF(#REF!,\"=8\")*20+COUNTIF(#REF!,\"=9\")*0)/COUNTA(#REF!)/100,\"N/A\")","v":{"$error":"#REF!"}},{"$f":"IF(COUNTA(#REF!)>0,(COUNTIF(#REF!,\"=0\")*0+COUNTIF(#REF!,\"=1\")*100+COUNTIF(#REF!,\"=2\")*80+COUNTIF(#REF!,\"=3\")*50+COUNTIF(#REF!,\"=8\")*20+COUNTIF(#REF!,\"=9\")*0)/COUNTA(#REF!)/100,\"N/A\")","v":{"$error":"#REF!"}},{"$f":"IF(AND(COUNTA(C109:E109)<>0,#REF!<>\"\"),AVERAGE(F109:L109),\"N/A\")","v":{"$error":"#REF!"}},{"$f":"IF(F109=\"N/A\",1,\"\")","v":""},{"$f":"IF(G109=\"N/A\",1,\"\")","v":""},{"$f":"IF(H109=\"N/A\",1,\"\")","v":{"$error":"#REF!"}},{"$f":"IF(I109=\"N/A\",1,\"\")","v":""},{"$f":"IF(J109=\"N/A\",1,\"\")","v":{"$error":"#REF!"}},{"$f":"IF(K109=\"N/A\",1,\"\")","v":{"$error":"#REF!"}},{"$f":"IF(L109=\"N/A\",1,\"\")","v":{"$error":"#REF!"}},{"$f":"IF(M109=\"N/A\",1,\"\")","v":{"$error":"#REF!"}}]
[null,"% de code 2",{"$f":"COUNTIF(Saisie!B39:M39,\"2\")/COUNTA(Saisie!B39:M39)","v":{"v":0,"d":"0.00%"}},{"$f":"COUNTIF(Saisie!N39:R39,\"2\")/COUNTA(Saisie!N39:R39)","v":{"v":0,"d":"0.00%"}},{"$f":"COUNTIF(Saisie!S39:V39,\"2\")/COUNTA(Saisie!S39:V39)","v":{"v":0,"d":"0.00%"}}]
[null,"% de code 9",{"$f":"COUNTIF(Saisie!B39:M39,\"9\")/COUNTA(Saisie!B39:M39)","v":{"v":0,"d":"0.00%"}},{"$f":"COUNTIF(Saisie!N39:R39,\"9\")/COUNTA(Saisie!N39:R39)","v":{"v":0,"d":"0.00%"}},{"$f":"COUNTIF(Saisie!S39:V39,\"9\")/COUNTA(Saisie!S39:V39)","v":{"v":0,"d":"0.00%"}}]
[null,"% de code 0",{"$f":"COUNTIF(Saisie!B39:M39,\"0\")/COUNTA(Saisie!B39:M39)","v":{"v":1,"d":"100.00%"}},{"$f":"COUNTIF(Saisie!N39:R39,\"0\")/COUNTA(Saisie!N39:R39)","v":{"v":1,"d":"100.00%"}},{"$f":"COUNTIF(Saisie!S39:V39,\"0\")/COUNTA(Saisie!S39:V39)","v":{"v":1,"d":"100.00%"}}]
[{"$f":"Saisie!A40","v":"Elève26"},"% de réussite",{"$f":"COUNTIF(Saisie!B40:M40,\"1\")/COUNTA(Saisie!B40:M40)","v":{"v":0,"d":"0.00%"}},{"$f":"COUNTIF(Saisie!N40:R40,\"1\")/COUNTA(Saisie!N40:R40)","v":{"v":0,"d":"0.00%"}},{"$f":"COUNTIF(Saisie!S40:V40,\"1\")/COUNTA(Saisie!S40:V40)","v":{"v":0,"d":"0.00%"}},{"$f":"IF(COUNTA(C113:C113)>0,(COUNTIF(C113:C113,\"=0\")*0+COUNTIF(C113:C113,\"=1\")*100+COUNTIF(C113:C113,\"=2\")*80+COUNTIF(C113:C113,\"=3\")*50+COUNTIF(C113:C113,\"=8\")*20+COUNTIF(C113:C113,\"=9\")*0)/COUNTA(C113:C113)/100,\"N/A\")","v":{"v":0,"d":"0.0%"}},{"$f":"IF(COUNTA(D113:D113)>0,(COUNTIF(D113:D113,\"=0\")*0+COUNTIF(D113:D113,\"=1\")*100+COUNTIF(D113:D113,\"=2\")*80+COUNTIF(D113:D113,\"=3\")*50+COUNTIF(D113:D113,\"=8\")*20+COUNTIF(D113:D113,\"=9\")*0)/COUNTA(D113:D113)/100,\"N/A\")","v":{"v":0,"d":"0.0%"}},{"$f":"IF(COUNTA(#REF!)>0,(COUNTIF(#REF!,\"=0\")*0+COUNTIF(#REF!,\"=1\")*100+COUNTIF(#REF!,\"=2\")*80+COUNTIF(#REF!,\"=3\")*50+COUNTIF(#REF!,\"=8\")*20+COUNTIF(#REF!,\"=9\")*0)/COUNTA(#REF!)/100,\"N/A\")","v":{"$error":"#REF!"}},{"$f":"IF(COUNTA(E113:E113)<>0,(COUNTIF(E113:E113,\"=0\")*0+COUNTIF(E113:E113,\"=1\")*100+COUNTIF(E113:E113,\"=2\")*80+COUNTIF(E113:E113,\"=3\")*50+COUNTIF(E113:E113,\"=8\")*20+COUNTIF(E113:E113,\"=9\")*0)/COUNTA(E113:E113)/100,\"N/A\")","v":{"v":0,"d":"0.0%"}},{"$f":"IF(COUNTA(#REF!)>0,(COUNTIF(#REF!,\"=0\")*0+COUNTIF(#REF!,\"=1\")*100+COUNTIF(#REF!,\"=2\")*80+COUNTIF(#REF!,\"=3\")*50+COUNTIF(#REF!,\"=8\")*20+COUNTIF(#REF!,\"=9\")*0)/COUNTA(#REF!)/100,\"N/A\")","v":{"$error":"#REF!"}},{"$f":"IF(COUNTA(#REF!)>0,(COUNTIF(#REF!,\"=0\")*0+COUNTIF(#REF!,\"=1\")*100+COUNTIF(#REF!,\"=2\")*80+COUNTIF(#REF!,\"=3\")*50+COUNTIF(#REF!,\"=8\")*20+COUNTIF(#REF!,\"=9\")*0)/COUNTA(#REF!)/100,\"N/A\")","v":{"$error":"#REF!"}},{"$f":"IF(COUNTA(#REF!)>0,(COUNTIF(#REF!,\"=0\")*0+COUNTIF(#REF!,\"=1\")*100+COUNTIF(#REF!,\"=2\")*80+COUNTIF(#REF!,\"=3\")*50+COUNTIF(#REF!,\"=8\")*20+COUNTIF(#REF!,\"=9\")*0)/COUNTA(#REF!)/100,\"N/A\")","v":{"$error":"#REF!"}},{"$f":"IF(AND(COUNTA(C113:E113)<>0,#REF!<>\"\"),AVERAGE(F113:L113),\"N/A\")","v":{"$error":"#REF!"}},{"$f":"IF(F113=\"N/A\",1,\"\")","v":""},{"$f":"IF(G113=\"N/A\",1,\"\")","v":""},{"$f":"IF(H113=\"N/A\",1,\"\")","v":{"$error":"#REF!"}},{"$f":"IF(I113=\"N/A\",1,\"\")","v":""},{"$f":"IF(J113=\"N/A\",1,\"\")","v":{"$error":"#REF!"}},{"$f":"IF(K113=\"N/A\",1,\"\")","v":{"$error":"#REF!"}},{"$f":"IF(L113=\"N/A\",1,\"\")","v":{"$error":"#REF!"}},{"$f":"IF(M113=\"N/A\",1,\"\")","v":{"$error":"#REF!"}}]
[null,"% de code 2",{"$f":"COUNTIF(Saisie!B40:M40,\"2\")/COUNTA(Saisie!B40:M40)","v":{"v":0,"d":"0.00%"}},{"$f":"COUNTIF(Saisie!N40:R40,\"2\")/COUNTA(Saisie!N40:R40)","v":{"v":0,"d":"0.00%"}},{"$f":"COUNTIF(Saisie!S40:V40,\"2\")/COUNTA(Saisie!S40:V40)","v":{"v":0,"d":"0.00%"}}]
[null,"% de code 9",{"$f":"COUNTIF(Saisie!B40:M40,\"9\")/COUNTA(Saisie!B40:M40)","v":{"v":0,"d":"0.00%"}},{"$f":"COUNTIF(Saisie!N40:R40,\"9\")/COUNTA(Saisie!N40:R40)","v":{"v":0,"d":"0.00%"}},{"$f":"COUNTIF(Saisie!S40:V40,\"9\")/COUNTA(Saisie!S40:V40)","v":{"v":0,"d":"0.00%"}}]
[null,"% de code 0",{"$f":"COUNTIF(Saisie!B40:M40,\"0\")/COUNTA(Saisie!B40:M40)","v":{"v":1,"d":"100.00%"}},{"$f":"COUNTIF(Saisie!N40:R40,\"0\")/COUNTA(Saisie!N40:R40)","v":{"v":1,"d":"100.00%"}},{"$f":"COUNTIF(Saisie!S40:V40,\"0\")/COUNTA(Saisie!S40:V40)","v":{"v":1,"d":"100.00%"}}]
[{"$f":"Saisie!A41","v":"Elève27"},"% de réussite",{"$f":"COUNTIF(Saisie!B41:M41,\"1\")/COUNTA(Saisie!B41:M41)","v":{"v":0,"d":"0.00%"}},{"$f":"COUNTIF(Saisie!N41:R41,\"1\")/COUNTA(Saisie!N41:R41)","v":{"v":0,"d":"0.00%"}},{"$f":"COUNTIF(Saisie!S41:V41,\"1\")/COUNTA(Saisie!S41:V41)","v":{"v":0,"d":"0.00%"}},{"$f":"IF(COUNTA(C117:C117)>0,(COUNTIF(C117:C117,\"=0\")*0+COUNTIF(C117:C117,\"=1\")*100+COUNTIF(C117:C117,\"=2\")*80+COUNTIF(C117:C117,\"=3\")*50+COUNTIF(C117:C117,\"=8\")*20+COUNTIF(C117:C117,\"=9\")*0)/COUNTA(C117:C117)/100,\"N/A\")","v":{"v":0,"d":"0.0%"}},{"$f":"IF(COUNTA(D117:D117)>0,(COUNTIF(D117:D117,\"=0\")*0+COUNTIF(D117:D117,\"=1\")*100+COUNTIF(D117:D117,\"=2\")*80+COUNTIF(D117:D117,\"=3\")*50+COUNTIF(D117:D117,\"=8\")*20+COUNTIF(D117:D117,\"=9\")*0)/COUNTA(D117:D117)/100,\"N/A\")","v":{"v":0,"d":"0.0%"}},{"$f":"IF(COUNTA(#REF!)>0,(COUNTIF(#REF!,\"=0\")*0+COUNTIF(#REF!,\"=1\")*100+COUNTIF(#REF!,\"=2\")*80+COUNTIF(#REF!,\"=3\")*50+COUNTIF(#REF!,\"=8\")*20+COUNTIF(#REF!,\"=9\")*0)/COUNTA(#REF!)/100,\"N/A\")","v":{"$error":"#REF!"}},{"$f":"IF(COUNTA(E117:E117)<>0,(COUNTIF(E117:E117,\"=0\")*0+COUNTIF(E117:E117,\"=1\")*100+COUNTIF(E117:E117,\"=2\")*80+COUNTIF(E117:E117,\"=3\")*50+COUNTIF(E117:E117,\"=8\")*20+COUNTIF(E117:E117,\"=9\")*0)/COUNTA(E117:E117)/100,\"N/A\")","v":{"v":0,"d":"0.0%"}},{"$f":"IF(COUNTA(#REF!)>0,(COUNTIF(#REF!,\"=0\")*0+COUNTIF(#REF!,\"=1\")*100+COUNTIF(#REF!,\"=2\")*80+COUNTIF(#REF!,\"=3\")*50+COUNTIF(#REF!,\"=8\")*20+COUNTIF(#REF!,\"=9\")*0)/COUNTA(#REF!)/100,\"N/A\")","v":{"$error":"#REF!"}},{"$f":"IF(COUNTA(#REF!)>0,(COUNTIF(#REF!,\"=0\")*0+COUNTIF(#REF!,\"=1\")*100+COUNTIF(#REF!,\"=2\")*80+COUNTIF(#REF!,\"=3\")*50+COUNTIF(#REF!,\"=8\")*20+COUNTIF(#REF!,\"=9\")*0)/COUNTA(#REF!)/100,\"N/A\")","v":{"$error":"#REF!"}},{"$f":"IF(COUNTA(#REF!)>0,(COUNTIF(#REF!,\"=0\")*0+COUNTIF(#REF!,\"=1\")*100+COUNTIF(#REF!,\"=2\")*80+COUNTIF(#REF!,\"=3\")*50+COUNTIF(#REF!,\"=8\")*20+COUNTIF(#REF!,\"=9\")*0)/COUNTA(#REF!)/100,\"N/A\")","v":{"$error":"#REF!"}},{"$f":"IF(AND(COUNTA(C117:E117)<>0,#REF!<>\"\"),AVERAGE(F117:L117),\"N/A\")","v":{"$error":"#REF!"}},{"$f":"IF(F117=\"N/A\",1,\"\")","v":""},{"$f":"IF(G117=\"N/A\",1,\"\")","v":""},{"$f":"IF(H117=\"N/A\",1,\"\")","v":{"$error":"#REF!"}},{"$f":"IF(I117=\"N/A\",1,\"\")","v":""},{"$f":"IF(J117=\"N/A\",1,\"\")","v":{"$error":"#REF!"}},{"$f":"IF(K117=\"N/A\",1,\"\")","v":{"$error":"#REF!"}},{"$f":"IF(L117=\"N/A\",1,\"\")","v":{"$error":"#REF!"}},{"$f":"IF(M117=\"N/A\",1,\"\")","v":{"$error":"#REF!"}}]
[null,"% de code 2",{"$f":"COUNTIF(Saisie!B41:M41,\"2\")/COUNTA(Saisie!B41:M41)","v":{"v":0,"d":"0.00%"}},{"$f":"COUNTIF(Saisie!N41:R41,\"2\")/COUNTA(Saisie!N41:R41)","v":{"v":0,"d":"0.00%"}},{"$f":"COUNTIF(Saisie!S41:V41,\"2\")/COUNTA(Saisie!S41:V41)","v":{"v":0,"d":"0.00%"}}]
[null,"% de code 9",{"$f":"COUNTIF(Saisie!B41:M41,\"9\")/COUNTA(Saisie!B41:M41)","v":{"v":0,"d":"0.00%"}},{"$f":"COUNTIF(Saisie!N41:R41,\"9\")/COUNTA(Saisie!N41:R41)","v":{"v":0,"d":"0.00%"}},{"$f":"COUNTIF(Saisie!S41:V41,\"9\")/COUNTA(Saisie!S41:V41)","v":{"v":0,"d":"0.00%"}}]
[null,"% de code 0",{"$f":"COUNTIF(Saisie!B41:M41,\"0\")/COUNTA(Saisie!B41:M41)","v":{"v":1,"d":"100.00%"}},{"$f":"COUNTIF(Saisie!N41:R41,\"0\")/COUNTA(Saisie!N41:R41)","v":{"v":1,"d":"100.00%"}},{"$f":"COUNTIF(Saisie!S41:V41,\"0\")/COUNTA(Saisie!S41:V41)","v":{"v":1,"d":"100.00%"}}]
[{"$f":"Saisie!A42","v":"Elève28"},"% de réussite",{"$f":"COUNTIF(Saisie!B42:M42,\"1\")/COUNTA(Saisie!B42:M42)","v":{"v":0,"d":"0.00%"}},{"$f":"COUNTIF(Saisie!N42:R42,\"1\")/COUNTA(Saisie!N42:R42)","v":{"v":0,"d":"0.00%"}},{"$f":"COUNTIF(Saisie!S42:V42,\"1\")/COUNTA(Saisie!S42:V42)","v":{"v":0,"d":"0.00%"}},{"$f":"IF(COUNTA(C121:C121)>0,(COUNTIF(C121:C121,\"=0\")*0+COUNTIF(C121:C121,\"=1\")*100+COUNTIF(C121:C121,\"=2\")*80+COUNTIF(C121:C121,\"=3\")*50+COUNTIF(C121:C121,\"=8\")*20+COUNTIF(C121:C121,\"=9\")*0)/COUNTA(C121:C121)/100,\"N/A\")","v":{"v":0,"d":"0.0%"}},{"$f":"IF(COUNTA(D121:D121)>0,(COUNTIF(D121:D121,\"=0\")*0+COUNTIF(D121:D121,\"=1\")*100+COUNTIF(D121:D121,\"=2\")*80+COUNTIF(D121:D121,\"=3\")*50+COUNTIF(D121:D121,\"=8\")*20+COUNTIF(D121:D121,\"=9\")*0)/COUNTA(D121:D121)/100,\"N/A\")","v":{"v":0,"d":"0.0%"}},{"$f":"IF(COUNTA(#REF!)>0,(COUNTIF(#REF!,\"=0\")*0+COUNTIF(#REF!,\"=1\")*100+COUNTIF(#REF!,\"=2\")*80+COUNTIF(#REF!,\"=3\")*50+COUNTIF(#REF!,\"=8\")*20+COUNTIF(#REF!,\"=9\")*0)/COUNTA(#REF!)/100,\"N/A\")","v":{"$error":"#REF!"}},{"$f":"IF(COUNTA(E121:E121)<>0,(COUNTIF(E121:E121,\"=0\")*0+COUNTIF(E121:E121,\"=1\")*100+COUNTIF(E121:E121,\"=2\")*80+COUNTIF(E121:E121,\"=3\")*50+COUNTIF(E121:E121,\"=8\")*20+COUNTIF(E121:E121,\"=9\")*0)/COUNTA(E121:E121)/100,\"N/A\")","v":{"v":0,"d":"0.0%"}},{"$f":"IF(COUNTA(#REF!)>0,(COUNTIF(#REF!,\"=0\")*0+COUNTIF(#REF!,\"=1\")*100+COUNTIF(#REF!,\"=2\")*80+COUNTIF(#REF!,\"=3\")*50+COUNTIF(#REF!,\"=8\")*20+COUNTIF(#REF!,\"=9\")*0)/COUNTA(#REF!)/100,\"N/A\")","v":{"$error":"#REF!"}},{"$f":"IF(COUNTA(#REF!)>0,(COUNTIF(#REF!,\"=0\")*0+COUNTIF(#REF!,\"=1\")*100+COUNTIF(#REF!,\"=2\")*80+COUNTIF(#REF!,\"=3\")*50+COUNTIF(#REF!,\"=8\")*20+COUNTIF(#REF!,\"=9\")*0)/COUNTA(#REF!)/100,\"N/A\")","v":{"$error":"#REF!"}},{"$f":"IF(COUNTA(#REF!)>0,(COUNTIF(#REF!,\"=0\")*0+COUNTIF(#REF!,\"=1\")*100+COUNTIF(#REF!,\"=2\")*80+COUNTIF(#REF!,\"=3\")*50+COUNTIF(#REF!,\"=8\")*20+COUNTIF(#REF!,\"=9\")*0)/COUNTA(#REF!)/100,\"N/A\")","v":{"$error":"#REF!"}},{"$f":"IF(AND(COUNTA(C121:E121)<>0,#REF!<>\"\"),AVERAGE(F121:L121),\"N/A\")","v":{"$error":"#REF!"}},{"$f":"IF(F121=\"N/A\",1,\"\")","v":""},{"$f":"IF(G121=\"N/A\",1,\"\")","v":""},{"$f":"IF(H121=\"N/A\",1,\"\")","v":{"$error":"#REF!"}},{"$f":"IF(I121=\"N/A\",1,\"\")","v":""},{"$f":"IF(J121=\"N/A\",1,\"\")","v":{"$error":"#REF!"}},{"$f":"IF(K121=\"N/A\",1,\"\")","v":{"$error":"#REF!"}},{"$f":"IF(L121=\"N/A\",1,\"\")","v":{"$error":"#REF!"}},{"$f":"IF(M121=\"N/A\",1,\"\")","v":{"$error":"#REF!"}}]
[null,"% de code 2",{"$f":"COUNTIF(Saisie!B42:M42,\"2\")/COUNTA(Saisie!B42:M42)","v":{"v":0,"d":"0.00%"}},{"$f":"COUNTIF(Saisie!N42:R42,\"2\")/COUNTA(Saisie!N42:R42)","v":{"v":0,"d":"0.00%"}},{"$f":"COUNTIF(Saisie!S42:V42,\"2\")/COUNTA(Saisie!S42:V42)","v":{"v":0,"d":"0.00%"}}]
[null,"% de code 9",{"$f":"COUNTIF(Saisie!B42:M42,\"9\")/COUNTA(Saisie!B42:M42)","v":{"v":0,"d":"0.00%"}},{"$f":"COUNTIF(Saisie!N42:R42,\"9\")/COUNTA(Saisie!N42:R42)","v":{"v":0,"d":"0.00%"}},{"$f":"COUNTIF(Saisie!S42:V42,\"9\")/COUNTA(Saisie!S42:V42)","v":{"v":0,"d":"0.00%"}}]
[null,"% de code 0",{"$f":"COUNTIF(Saisie!B42:M42,\"0\")/COUNTA(Saisie!B42:M42)","v":{"v":1,"d":"100.00%"}},{"$f":"COUNTIF(Saisie!N42:R42,\"0\")/COUNTA(Saisie!N42:R42)","v":{"v":1,"d":"100.00%"}},{"$f":"COUNTIF(Saisie!S42:V42,\"0\")/COUNTA(Saisie!S42:V42)","v":{"v":1,"d":"100.00%"}}]
[{"$f":"Saisie!A43","v":"Elève29"},"% de réussite",{"$f":"COUNTIF(Saisie!B43:M43,\"1\")/COUNTA(Saisie!B43:M43)","v":{"v":0,"d":"0.00%"}},{"$f":"COUNTIF(Saisie!N43:R43,\"2\")/COUNTA(Saisie!N43:R43)","v":{"v":0,"d":"0.00%"}},{"$f":"COUNTIF(Saisie!S43:V43,\"1\")/COUNTA(Saisie!S43:V43)","v":{"v":0,"d":"0.00%"}},{"$f":"IF(COUNTA(C125:C125)>0,(COUNTIF(C125:C125,\"=0\")*0+COUNTIF(C125:C125,\"=1\")*100+COUNTIF(C125:C125,\"=2\")*80+COUNTIF(C125:C125,\"=3\")*50+COUNTIF(C125:C125,\"=8\")*20+COUNTIF(C125:C125,\"=9\")*0)/COUNTA(C125:C125)/100,\"N/A\")","v":{"v":0,"d":"0.0%"}},{"$f":"IF(COUNTA(D125:D125)>0,(COUNTIF(D125:D125,\"=0\")*0+COUNTIF(D125:D125,\"=1\")*100+COUNTIF(D125:D125,\"=2\")*80+COUNTIF(D125:D125,\"=3\")*50+COUNTIF(D125:D125,\"=8\")*20+COUNTIF(D125:D125,\"=9\")*0)/COUNTA(D125:D125)/100,\"N/A\")","v":{"v":0,"d":"0.0%"}},{"$f":"IF(COUNTA(#REF!)>0,(COUNTIF(#REF!,\"=0\")*0+COUNTIF(#REF!,\"=1\")*100+COUNTIF(#REF!,\"=2\")*80+COUNTIF(#REF!,\"=3\")*50+COUNTIF(#REF!,\"=8\")*20+COUNTIF(#REF!,\"=9\")*0)/COUNTA(#REF!)/100,\"N/A\")","v":{"$error":"#REF!"}},{"$f":"IF(COUNTA(E125:E125)<>0,(COUNTIF(E125:E125,\"=0\")*0+COUNTIF(E125:E125,\"=1\")*100+COUNTIF(E125:E125,\"=2\")*80+COUNTIF(E125:E125,\"=3\")*50+COUNTIF(E125:E125,\"=8\")*20+COUNTIF(E125:E125,\"=9\")*0)/COUNTA(E125:E125)/100,\"N/A\")","v":{"v":0,"d":"0.0%"}},{"$f":"IF(COUNTA(#REF!)>0,(COUNTIF(#REF!,\"=0\")*0+COUNTIF(#REF!,\"=1\")*100+COUNTIF(#REF!,\"=2\")*80+COUNTIF(#REF!,\"=3\")*50+COUNTIF(#REF!,\"=8\")*20+COUNTIF(#REF!,\"=9\")*0)/COUNTA(#REF!)/100,\"N/A\")","v":{"$error":"#REF!"}},{"$f":"IF(COUNTA(#REF!)>0,(COUNTIF(#REF!,\"=0\")*0+COUNTIF(#REF!,\"=1\")*100+COUNTIF(#REF!,\"=2\")*80+COUNTIF(#REF!,\"=3\")*50+COUNTIF(#REF!,\"=8\")*20+COUNTIF(#REF!,\"=9\")*0)/COUNTA(#REF!)/100,\"N/A\")","v":{"$error":"#REF!"}},{"$f":"IF(COUNTA(#REF!)>0,(COUNTIF(#REF!,\"=0\")*0+COUNTIF(#REF!,\"=1\")*100+COUNTIF(#REF!,\"=2\")*80+COUNTIF(#REF!,\"=3\")*50+COUNTIF(#REF!,\"=8\")*20+COUNTIF(#REF!,\"=9\")*0)/COUNTA(#REF!)/100,\"N/A\")","v":{"$error":"#REF!"}},{"$f":"IF(AND(COUNTA(C125:E125)<>0,#REF!<>\"\"),AVERAGE(F125:L125),\"N/A\")","v":{"$error":"#REF!"}},{"$f":"IF(F125=\"N/A\",1,\"\")","v":""},{"$f":"IF(G125=\"N/A\",1,\"\")","v":""},{"$f":"IF(H125=\"N/A\",1,\"\")","v":{"$error":"#REF!"}},{"$f":"IF(I125=\"N/A\",1,\"\")","v":""},{"$f":"IF(J125=\"N/A\",1,\"\")","v":{"$error":"#REF!"}},{"$f":"IF(K125=\"N/A\",1,\"\")","v":{"$error":"#REF!"}},{"$f":"IF(L125=\"N/A\",1,\"\")","v":{"$error":"#REF!"}},{"$f":"IF(M125=\"N/A\",1,\"\")","v":{"$error":"#REF!"}}]
[null,"% de code 2",{"$f":"COUNTIF(Saisie!B43:M43,\"2\")/COUNTA(Saisie!B43:M43)","v":{"v":0,"d":"0.00%"}},{"$f":"COUNTIF(Saisie!N43:R43,\"2\")/COUNTA(Saisie!N43:R43)","v":{"v":0,"d":"0.00%"}},{"$f":"COUNTIF(Saisie!S43:V43,\"2\")/COUNTA(Saisie!S43:V43)","v":{"v":0,"d":"0.00%"}}]
[null,"% de code 9",{"$f":"COUNTIF(Saisie!B43:M43,\"9\")/COUNTA(Saisie!B43:M43)","v":{"v":0,"d":"0.00%"}},{"$f":"COUNTIF(Saisie!N43:R43,\"9\")/COUNTA(Saisie!N43:R43)","v":{"v":0,"d":"0.00%"}},{"$f":"COUNTIF(Saisie!S43:V43,\"9\")/COUNTA(Saisie!S43:V43)","v":{"v":0,"d":"0.00%"}}]
[null,"% de code 0",{"$f":"COUNTIF(Saisie!B43:M43,\"0\")/COUNTA(Saisie!B43:M43)","v":{"v":1,"d":"100.00%"}},{"$f":"COUNTIF(Saisie!N43:R43,\"0\")/COUNTA(Saisie!N43:R43)","v":{"v":1,"d":"100.00%"}},{"$f":"COUNTIF(Saisie!S43:V43,\"0\")/COUNTA(Saisie!S43:V43)","v":{"v":1,"d":"100.00%"}}]
[{"$f":"Saisie!A44","v":"Elève30"},"% de réussite",{"$f":"COUNTIF(Saisie!B44:M44,\"1\")/COUNTA(Saisie!B44:M44)","v":{"v":0,"d":"0.00%"}},{"$f":"COUNTIF(Saisie!N44:R44,\"1\")/COUNTA(Saisie!N44:R44)","v":{"v":0,"d":"0.00%"}},{"$f":"COUNTIF(Saisie!S44:V44,\"1\")/COUNTA(Saisie!S44:V44)","v":{"v":0,"d":"0.00%"}},{"$f":"IF(COUNTA(C129:C129)>0,(COUNTIF(C129:C129,\"=0\")*0+COUNTIF(C129:C129,\"=1\")*100+COUNTIF(C129:C129,\"=2\")*80+COUNTIF(C129:C129,\"=3\")*50+COUNTIF(C129:C129,\"=8\")*20+COUNTIF(C129:C129,\"=9\")*0)/COUNTA(C129:C129)/100,\"N/A\")","v":{"v":0,"d":"0.0%"}},{"$f":"IF(COUNTA(D129:D129)>0,(COUNTIF(D129:D129,\"=0\")*0+COUNTIF(D129:D129,\"=1\")*100+COUNTIF(D129:D129,\"=2\")*80+COUNTIF(D129:D129,\"=3\")*50+COUNTIF(D129:D129,\"=8\")*20+COUNTIF(D129:D129,\"=9\")*0)/COUNTA(D129:D129)/100,\"N/A\")","v":{"v":0,"d":"0.0%"}},{"$f":"IF(COUNTA(#REF!)>0,(COUNTIF(#REF!,\"=0\")*0+COUNTIF(#REF!,\"=1\")*100+COUNTIF(#REF!,\"=2\")*80+COUNTIF(#REF!,\"=3\")*50+COUNTIF(#REF!,\"=8\")*20+COUNTIF(#REF!,\"=9\")*0)/COUNTA(#REF!)/100,\"N/A\")","v":{"$error":"#REF!"}},{"$f":"IF(COUNTA(E129:E129)<>0,(COUNTIF(E129:E129,\"=0\")*0+COUNTIF(E129:E129,\"=1\")*100+COUNTIF(E129:E129,\"=2\")*80+COUNTIF(E129:E129,\"=3\")*50+COUNTIF(E129:E129,\"=8\")*20+COUNTIF(E129:E129,\"=9\")*0)/COUNTA(E129:E129)/100,\"N/A\")","v":{"v":0,"d":"0.0%"}},{"$f":"IF(COUNTA(#REF!)>0,(COUNTIF(#REF!,\"=0\")*0+COUNTIF(#REF!,\"=1\")*100+COUNTIF(#REF!,\"=2\")*80+COUNTIF(#REF!,\"=3\")*50+COUNTIF(#REF!,\"=8\")*20+COUNTIF(#REF!,\"=9\")*0)/COUNTA(#REF!)/100,\"N/A\")","v":{"$error":"#REF!"}},{"$f":"IF(COUNTA(#REF!)>0,(COUNTIF(#REF!,\"=0\")*0+COUNTIF(#REF!,\"=1\")*100+COUNTIF(#REF!,\"=2\")*80+COUNTIF(#REF!,\"=3\")*50+COUNTIF(#REF!,\"=8\")*20+COUNTIF(#REF!,\"=9\")*0)/COUNTA(#REF!)/100,\"N/A\")","v":{"$error":"#REF!"}},{"$f":"IF(COUNTA(#REF!)>0,(COUNTIF(#REF!,\"=0\")*0+COUNTIF(#REF!,\"=1\")*100+COUNTIF(#REF!,\"=2\")*80+COUNTIF(#REF!,\"=3\")*50+COUNTIF(#REF!,\"=8\")*20+COUNTIF(#REF!,\"=9\")*0)/COUNTA(#REF!)/100,\"N/A\")","v":{"$error":"#REF!"}},{"$f":"IF(AND(COUNTA(C129:E129)<>0,#REF!<>\"\"),AVERAGE(F129:L129),\"N/A\")","v":{"$error":"#REF!"}},{"$f":"IF(F129=\"N/A\",1,\"\")","v":""},{"$f":"IF(G129=\"N/A\",1,\"\")","v":""},{"$f":"IF(H129=\"N/A\",1,\"\")","v":{"$error":"#REF!"}},{"$f":"IF(I129=\"N/A\",1,\"\")","v":""},{"$f":"IF(J129=\"N/A\",1,\"\")","v":{"$error":"#REF!"}},{"$f":"IF(K129=\"N/A\",1,\"\")","v":{"$error":"#REF!"}},{"$f":"IF(L129=\"N/A\",1,\"\")","v":{"$error":"#REF!"}},{"$f":"IF(M129=\"N/A\",1,\"\")","v":{"$error":"#REF!"}}]
[null,"% de code 2",{"$f":"COUNTIF(Saisie!B44:M44,\"2\")/COUNTA(Saisie!B44:M44)","v":{"v":0,"d":"0.00%"}},{"$f":"COUNTIF(Saisie!N44:R44,\"2\")/COUNTA(Saisie!N44:R44)","v":{"v":0,"d":"0.00%"}},{"$f":"COUNTIF(Saisie!S44:V44,\"2\")/COUNTA(Saisie!S44:V44)","v":{"v":0,"d":"0.00%"}}]
[null,"% de code 9",{"$f":"COUNTIF(Saisie!B44:M44,\"9\")/COUNTA(Saisie!B44:M44)","v":{"v":0,"d":"0.00%"}},{"$f":"COUNTIF(Saisie!N44:R44,\"9\")/COUNTA(Saisie!N44:R44)","v":{"v":0,"d":"0.00%"}},{"$f":"COUNTIF(Saisie!S44:V44,\"9\")/COUNTA(Saisie!S44:V44)","v":{"v":0,"d":"0.00%"}}]
[null,"% de code 0",{"$f":"COUNTIF(Saisie!B44:M44,\"0\")/COUNTA(Saisie!B44:M44)","v":{"v":1,"d":"100.00%"}},{"$f":"COUNTIF(Saisie!N44:R44,\"0\")/COUNTA(Saisie!N44:R44)","v":{"v":1,"d":"100.00%"}},{"$f":"COUNTIF(Saisie!S44:V44,\"0\")/COUNTA(Saisie!S44:V44)","v":{"v":1,"d":"100.00%"}}]
[{"$f":"Saisie!A45","v":"Elève31"},"% de réussite",{"$f":"COUNTIF(Saisie!B45:M45,\"1\")/COUNTA(Saisie!B45:M45)","v":{"v":0,"d":"0.00%"}},{"$f":"COUNTIF(Saisie!N45:R45,\"1\")/COUNTA(Saisie!N45:R45)","v":{"v":0,"d":"0.00%"}},{"$f":"COUNTIF(Saisie!S45:V45,\"1\")/COUNTA(Saisie!S45:V45)","v":{"v":0,"d":"0.00%"}},{"$f":"IF(COUNTA(C133:C133)>0,(COUNTIF(C133:C133,\"=0\")*0+COUNTIF(C133:C133,\"=1\")*100+COUNTIF(C133:C133,\"=2\")*80+COUNTIF(C133:C133,\"=3\")*50+COUNTIF(C133:C133,\"=8\")*20+COUNTIF(C133:C133,\"=9\")*0)/COUNTA(C133:C133)/100,\"N/A\")","v":{"v":0,"d":"0.0%"}},{"$f":"IF(COUNTA(D133:D133)>0,(COUNTIF(D133:D133,\"=0\")*0+COUNTIF(D133:D133,\"=1\")*100+COUNTIF(D133:D133,\"=2\")*80+COUNTIF(D133:D133,\"=3\")*50+COUNTIF(D133:D133,\"=8\")*20+COUNTIF(D133:D133,\"=9\")*0)/COUNTA(D133:D133)/100,\"N/A\")","v":{"v":0,"d":"0.0%"}},{"$f":"IF(COUNTA(#REF!)>0,(COUNTIF(#REF!,\"=0\")*0+COUNTIF(#REF!,\"=1\")*100+COUNTIF(#REF!,\"=2\")*80+COUNTIF(#REF!,\"=3\")*50+COUNTIF(#REF!,\"=8\")*20+COUNTIF(#REF!,\"=9\")*0)/COUNTA(#REF!)/100,\"N/A\")","v":{"$error":"#REF!"}},{"$f":"IF(COUNTA(E133:E133)<>0,(COUNTIF(E133:E133,\"=0\")*0+COUNTIF(E133:E133,\"=1\")*100+COUNTIF(E133:E133,\"=2\")*80+COUNTIF(E133:E133,\"=3\")*50+COUNTIF(E133:E133,\"=8\")*20+COUNTIF(E133:E133,\"=9\")*0)/COUNTA(E133:E133)/100,\"N/A\")","v":{"v":0,"d":"0.0%"}},{"$f":"IF(COUNTA(#REF!)>0,(COUNTIF(#REF!,\"=0\")*0+COUNTIF(#REF!,\"=1\")*100+COUNTIF(#REF!,\"=2\")*80+COUNTIF(#REF!,\"=3\")*50+COUNTIF(#REF!,\"=8\")*20+COUNTIF(#REF!,\"=9\")*0)/COUNTA(#REF!)/100,\"N/A\")","v":{"$error":"#REF!"}},{"$f":"IF(COUNTA(#REF!)>0,(COUNTIF(#REF!,\"=0\")*0+COUNTIF(#REF!,\"=1\")*100+COUNTIF(#REF!,\"=2\")*80+COUNTIF(#REF!,\"=3\")*50+COUNTIF(#REF!,\"=8\")*20+COUNTIF(#REF!,\"=9\")*0)/COUNTA(#REF!)/100,\"N/A\")","v":{"$error":"#REF!"}},{"$f":"IF(COUNTA(#REF!)>0,(COUNTIF(#REF!,\"=0\")*0+COUNTIF(#REF!,\"=1\")*100+COUNTIF(#REF!,\"=2\")*80+COUNTIF(#REF!,\"=3\")*50+COUNTIF(#REF!,\"=8\")*20+COUNTIF(#REF!,\"=9\")*0)/COUNTA(#REF!)/100,\"N/A\")","v":{"$error":"#REF!"}},{"$f":"IF(AND(COUNTA(C133:E133)<>0,#REF!<>\"\"),AVERAGE(F133:L133),\"N/A\")","v":{"$error":"#REF!"}},{"$f":"IF(F133=\"N/A\",1,\"\")","v":""},{"$f":"IF(G133=\"N/A\",1,\"\")","v":""},{"$f":"IF(H133=\"N/A\",1,\"\")","v":{"$error":"#REF!"}},{"$f":"IF(I133=\"N/A\",1,\"\")","v":""},{"$f":"IF(J133=\"N/A\",1,\"\")","v":{"$error":"#REF!"}},{"$f":"IF(K133=\"N/A\",1,\"\")","v":{"$error":"#REF!"}},{"$f":"IF(L133=\"N/A\",1,\"\")","v":{"$error":"#REF!"}},{"$f":"IF(M133=\"N/A\",1,\"\")","v":{"$error":"#REF!"}}]
[null,"% de code 2",{"$f":"COUNTIF(Saisie!B45:M45,\"2\")/COUNTA(Saisie!B45:M45)","v":{"v":0,"d":"0.00%"}},{"$f":"COUNTIF(Saisie!N45:R45,\"2\")/COUNTA(Saisie!N45:R45)","v":{"v":0,"d":"0.00%"}},{"$f":"COUNTIF(Saisie!S45:V45,\"2\")/COUNTA(Saisie!S45:V45)","v":{"v":0,"d":"0.00%"}}]
[null,"% de code 9",{"$f":"COUNTIF(Saisie!B45:M45,\"9\")/COUNTA(Saisie!B45:M45)","v":{"v":0,"d":"0.00%"}},{"$f":"COUNTIF(Saisie!N45:R45,\"9\")/COUNTA(Saisie!N45:R45)","v":{"v":0,"d":"0.00%"}},{"$f":"COUNTIF(Saisie!S45:V45,\"9\")/COUNTA(Saisie!S45:V45)","v":{"v":0,"d":"0.00%"}}]
[null,"% de code 0",{"$f":"COUNTIF(Saisie!B45:M45,\"0\")/COUNTA(Saisie!B45:M45)","v":{"v":1,"d":"100.00%"}},{"$f":"COUNTIF(Saisie!N45:R45,\"0\")/COUNTA(Saisie!N45:R45)","v":{"v":1,"d":"100.00%"}},{"$f":"COUNTIF(Saisie!S45:V45,\"0\")/COUNTA(Saisie!S45:V45)","v":{"v":1,"d":"100.00%"}}]
[{"$f":"Saisie!A46","v":"Elève32"},"% de réussite",{"$f":"COUNTIF(Saisie!B46:M46,\"1\")/COUNTA(Saisie!B46:M46)","v":{"v":0,"d":"0.00%"}},{"$f":"COUNTIF(Saisie!N46:R46,\"1\")/COUNTA(Saisie!N46:R46)","v":{"v":0,"d":"0.00%"}},{"$f":"COUNTIF(Saisie!S46:V46,\"1\")/COUNTA(Saisie!S46:V46)","v":{"v":0,"d":"0.00%"}},{"$f":"IF(COUNTA(C137:C137)>0,(COUNTIF(C137:C137,\"=0\")*0+COUNTIF(C137:C137,\"=1\")*100+COUNTIF(C137:C137,\"=2\")*80+COUNTIF(C137:C137,\"=3\")*50+COUNTIF(C137:C137,\"=8\")*20+COUNTIF(C137:C137,\"=9\")*0)/COUNTA(C137:C137)/100,\"N/A\")","v":{"v":0,"d":"0.0%"}},{"$f":"IF(COUNTA(D137:D137)>0,(COUNTIF(D137:D137,\"=0\")*0+COUNTIF(D137:D137,\"=1\")*100+COUNTIF(D137:D137,\"=2\")*80+COUNTIF(D137:D137,\"=3\")*50+COUNTIF(D137:D137,\"=8\")*20+COUNTIF(D137:D137,\"=9\")*0)/COUNTA(D137:D137)/100,\"N/A\")","v":{"v":0,"d":"0.0%"}},{"$f":"IF(COUNTA(#REF!)>0,(COUNTIF(#REF!,\"=0\")*0+COUNTIF(#REF!,\"=1\")*100+COUNTIF(#REF!,\"=2\")*80+COUNTIF(#REF!,\"=3\")*50+COUNTIF(#REF!,\"=8\")*20+COUNTIF(#REF!,\"=9\")*0)/COUNTA(#REF!)/100,\"N/A\")","v":{"$error":"#REF!"}},{"$f":"IF(COUNTA(E137:E137)<>0,(COUNTIF(E137:E137,\"=0\")*0+COUNTIF(E137:E137,\"=1\")*100+COUNTIF(E137:E137,\"=2\")*80+COUNTIF(E137:E137,\"=3\")*50+COUNTIF(E137:E137,\"=8\")*20+COUNTIF(E137:E137,\"=9\")*0)/COUNTA(E137:E137)/100,\"N/A\")","v":{"v":0,"d":"0.0%"}},{"$f":"IF(COUNTA(#REF!)>0,(COUNTIF(#REF!,\"=0\")*0+COUNTIF(#REF!,\"=1\")*100+COUNTIF(#REF!,\"=2\")*80+COUNTIF(#REF!,\"=3\")*50+COUNTIF(#REF!,\"=8\")*20+COUNTIF(#REF!,\"=9\")*0)/COUNTA(#REF!)/100,\"N/A\")","v":{"$error":"#REF!"}},{"$f":"IF(COUNTA(#REF!)>0,(COUNTIF(#REF!,\"=0\")*0+COUNTIF(#REF!,\"=1\")*100+COUNTIF(#REF!,\"=2\")*80+COUNTIF(#REF!,\"=3\")*50+COUNTIF(#REF!,\"=8\")*20+COUNTIF(#REF!,\"=9\")*0)/COUNTA(#REF!)/100,\"N/A\")","v":{"$error":"#REF!"}},{"$f":"IF(COUNTA(#REF!)>0,(COUNTIF(#REF!,\"=0\")*0+COUNTIF(#REF!,\"=1\")*100+COUNTIF(#REF!,\"=2\")*80+COUNTIF(#REF!,\"=3\")*50+COUNTIF(#REF!,\"=8\")*20+COUNTIF(#REF!,\"=9\")*0)/COUNTA(#REF!)/100,\"N/A\")","v":{"$error":"#REF!"}},{"$f":"IF(AND(COUNTA(C137:E137)<>0,#REF!<>\"\"),AVERAGE(F137:L137),\"N/A\")","v":{"$error":"#REF!"}},{"$f":"IF(F137=\"N/A\",1,\"\")","v":""},{"$f":"IF(G137=\"N/A\",1,\"\")","v":""},{"$f":"IF(H137=\"N/A\",1,\"\")","v":{"$error":"#REF!"}},{"$f":"IF(I137=\"N/A\",1,\"\")","v":""},{"$f":"IF(J137=\"N/A\",1,\"\")","v":{"$error":"#REF!"}},{"$f":"IF(K137=\"N/A\",1,\"\")","v":{"$error":"#REF!"}},{"$f":"IF(L137=\"N/A\",1,\"\")","v":{"$error":"#REF!"}},{"$f":"IF(M137=\"N/A\",1,\"\")","v":{"$error":"#REF!"}}]
[null,"% de code 2",{"$f":"COUNTIF(Saisie!B46:M46,\"2\")/COUNTA(Saisie!B46:M46)","v":{"v":0,"d":"0.00%"}},{"$f":"COUNTIF(Saisie!N46:R46,\"2\")/COUNTA(Saisie!N46:R46)","v":{"v":0,"d":"0.00%"}},{"$f":"COUNTIF(Saisie!S46:V46,\"2\")/COUNTA(Saisie!S46:V46)","v":{"v":0,"d":"0.00%"}}]
[null,"% de code 9",{"$f":"COUNTIF(Saisie!B46:M46,\"9\")/COUNTA(Saisie!B46:M46)","v":{"v":0,"d":"0.00%"}},{"$f":"COUNTIF(Saisie!N46:R46,\"9\")/COUNTA(Saisie!N46:R46)","v":{"v":0,"d":"0.00%"}},{"$f":"COUNTIF(Saisie!S46:V46,\"9\")/COUNTA(Saisie!S46:V46)","v":{"v":0,"d":"0.00%"}}]
[null,"% de code 0",{"$f":"COUNTIF(Saisie!B46:M46,\"0\")/COUNTA(Saisie!B46:M46)","v":{"v":1,"d":"100.00%"}},{"$f":"COUNTIF(Saisie!N46:R46,\"0\")/COUNTA(Saisie!N46:R46)","v":{"v":1,"d":"100.00%"}},{"$f":"COUNTIF(Saisie!S46:V46,\"0\")/COUNTA(Saisie!S46:V46)","v":{"v":1,"d":"100.00%"}}]
[{"$f":"Saisie!A47","v":"Elève33"},"% de réussite",{"$f":"COUNTIF(Saisie!B47:M47,\"1\")/COUNTA(Saisie!B47:M47)","v":{"v":0,"d":"0.00%"}},{"$f":"COUNTIF(Saisie!N47:R47,\"1\")/COUNTA(Saisie!N47:R47)","v":{"v":0,"d":"0.00%"}},{"$f":"COUNTIF(Saisie!S47:V47,\"1\")/COUNTA(Saisie!S47:V47)","v":{"v":0,"d":"0.00%"}},{"$f":"IF(COUNTA(C141:C141)>0,(COUNTIF(C141:C141,\"=0\")*0+COUNTIF(C141:C141,\"=1\")*100+COUNTIF(C141:C141,\"=2\")*80+COUNTIF(C141:C141,\"=3\")*50+COUNTIF(C141:C141,\"=8\")*20+COUNTIF(C141:C141,\"=9\")*0)/COUNTA(C141:C141)/100,\"N/A\")","v":{"v":0,"d":"0.0%"}},{"$f":"IF(COUNTA(D141:D141)>0,(COUNTIF(D141:D141,\"=0\")*0+COUNTIF(D141:D141,\"=1\")*100+COUNTIF(D141:D141,\"=2\")*80+COUNTIF(D141:D141,\"=3\")*50+COUNTIF(D141:D141,\"=8\")*20+COUNTIF(D141:D141,\"=9\")*0)/COUNTA(D141:D141)/100,\"N/A\")","v":{"v":0,"d":"0.0%"}},{"$f":"IF(COUNTA(#REF!)>0,(COUNTIF(#REF!,\"=0\")*0+COUNTIF(#REF!,\"=1\")*100+COUNTIF(#REF!,\"=2\")*80+COUNTIF(#REF!,\"=3\")*50+COUNTIF(#REF!,\"=8\")*20+COUNTIF(#REF!,\"=9\")*0)/COUNTA(#REF!)/100,\"N/A\")","v":{"$error":"#REF!"}},{"$f":"IF(COUNTA(E141:E141)<>0,(COUNTIF(E141:E141,\"=0\")*0+COUNTIF(E141:E141,\"=1\")*100+COUNTIF(E141:E141,\"=2\")*80+COUNTIF(E141:E141,\"=3\")*50+COUNTIF(E141:E141,\"=8\")*20+COUNTIF(E141:E141,\"=9\")*0)/COUNTA(E141:E141)/100,\"N/A\")","v":{"v":0,"d":"0.0%"}},{"$f":"IF(COUNTA(#REF!)>0,(COUNTIF(#REF!,\"=0\")*0+COUNTIF(#REF!,\"=1\")*100+COUNTIF(#REF!,\"=2\")*80+COUNTIF(#REF!,\"=3\")*50+COUNTIF(#REF!,\"=8\")*20+COUNTIF(#REF!,\"=9\")*0)/COUNTA(#REF!)/100,\"N/A\")","v":{"$error":"#REF!"}},{"$f":"IF(COUNTA(#REF!)>0,(COUNTIF(#REF!,\"=0\")*0+COUNTIF(#REF!,\"=1\")*100+COUNTIF(#REF!,\"=2\")*80+COUNTIF(#REF!,\"=3\")*50+COUNTIF(#REF!,\"=8\")*20+COUNTIF(#REF!,\"=9\")*0)/COUNTA(#REF!)/100,\"N/A\")","v":{"$error":"#REF!"}},{"$f":"IF(COUNTA(#REF!)>0,(COUNTIF(#REF!,\"=0\")*0+COUNTIF(#REF!,\"=1\")*100+COUNTIF(#REF!,\"=2\")*80+COUNTIF(#REF!,\"=3\")*50+COUNTIF(#REF!,\"=8\")*20+COUNTIF(#REF!,\"=9\")*0)/COUNTA(#REF!)/100,\"N/A\")","v":{"$error":"#REF!"}},{"$f":"IF(AND(COUNTA(C141:E141)<>0,#REF!<>\"\"),AVERAGE(F141:L141),\"N/A\")","v":{"$error":"#REF!"}},{"$f":"IF(F141=\"N/A\",1,\"\")","v":""},{"$f":"IF(G141=\"N/A\",1,\"\")","v":""},{"$f":"IF(H141=\"N/A\",1,\"\")","v":{"$error":"#REF!"}},{"$f":"IF(I141=\"N/A\",1,\"\")","v":""},{"$f":"IF(J141=\"N/A\",1,\"\")","v":{"$error":"#REF!"}},{"$f":"IF(K141=\"N/A\",1,\"\")","v":{"$error":"#REF!"}},{"$f":"IF(L141=\"N/A\",1,\"\")","v":{"$error":"#REF!"}},{"$f":"IF(M141=\"N/A\",1,\"\")","v":{"$error":"#REF!"}}]
[null,"% de code 2",{"$f":"COUNTIF(Saisie!B47:M47,\"2\")/COUNTA(Saisie!B47:M47)","v":{"v":0,"d":"0.00%"}},{"$f":"COUNTIF(Saisie!N47:R47,\"2\")/COUNTA(Saisie!N47:R47)","v":{"v":0,"d":"0.00%"}},{"$f":"COUNTIF(Saisie!S47:V47,\"2\")/COUNTA(Saisie!S47:V47)","v":{"v":0,"d":"0.00%"}}]
[null,"% de code 9",{"$f":"COUNTIF(Saisie!B47:M47,\"9\")/COUNTA(Saisie!B47:M47)","v":{"v":0,"d":"0.00%"}},{"$f":"COUNTIF(Saisie!N47:R47,\"9\")/COUNTA(Saisie!N47:R47)","v":{"v":0,"d":"0.00%"}},{"$f":"COUNTIF(Saisie!S47:V47,\"9\")/COUNTA(Saisie!S47:V47)","v":{"v":0,"d":"0.00%"}}]
[null,"% de code 0",{"$f":"COUNTIF(Saisie!B47:M47,\"0\")/COUNTA(Saisie!B47:M47)","v":{"v":1,"d":"100.00%"}},{"$f":"COUNTIF(Saisie!N47:R47,\"0\")/COUNTA(Saisie!N47:R47)","v":{"v":1,"d":"100.00%"}},{"$f":"COUNTIF(Saisie!S47:V47,\"0\")/COUNTA(Saisie!S47:V47)","v":{"v":1,"d":"100.00%"}}]
[{"$f":"Saisie!A48","v":"Elève34"},"% de réussite",{"$f":"COUNTIF(Saisie!B48:M48,\"1\")/COUNTA(Saisie!B48:M48)","v":{"v":0,"d":"0.00%"}},{"$f":"COUNTIF(Saisie!N48:R48,\"1\")/COUNTA(Saisie!N48:R48)","v":{"v":0,"d":"0.00%"}},{"$f":"COUNTIF(Saisie!S48:V48,\"1\")/COUNTA(Saisie!S48:V48)","v":{"v":0,"d":"0.00%"}},{"$f":"IF(COUNTA(C145:C145)>0,(COUNTIF(C145:C145,\"=0\")*0+COUNTIF(C145:C145,\"=1\")*100+COUNTIF(C145:C145,\"=2\")*80+COUNTIF(C145:C145,\"=3\")*50+COUNTIF(C145:C145,\"=8\")*20+COUNTIF(C145:C145,\"=9\")*0)/COUNTA(C145:C145)/100,\"N/A\")","v":{"v":0,"d":"0.0%"}},{"$f":"IF(COUNTA(D145:D145)>0,(COUNTIF(D145:D145,\"=0\")*0+COUNTIF(D145:D145,\"=1\")*100+COUNTIF(D145:D145,\"=2\")*80+COUNTIF(D145:D145,\"=3\")*50+COUNTIF(D145:D145,\"=8\")*20+COUNTIF(D145:D145,\"=9\")*0)/COUNTA(D145:D145)/100,\"N/A\")","v":{"v":0,"d":"0.0%"}},{"$f":"IF(COUNTA(#REF!)>0,(COUNTIF(#REF!,\"=0\")*0+COUNTIF(#REF!,\"=1\")*100+COUNTIF(#REF!,\"=2\")*80+COUNTIF(#REF!,\"=3\")*50+COUNTIF(#REF!,\"=8\")*20+COUNTIF(#REF!,\"=9\")*0)/COUNTA(#REF!)/100,\"N/A\")","v":{"$error":"#REF!"}},{"$f":"IF(COUNTA(E145:E145)<>0,(COUNTIF(E145:E145,\"=0\")*0+COUNTIF(E145:E145,\"=1\")*100+COUNTIF(E145:E145,\"=2\")*80+COUNTIF(E145:E145,\"=3\")*50+COUNTIF(E145:E145,\"=8\")*20+COUNTIF(E145:E145,\"=9\")*0)/COUNTA(E145:E145)/100,\"N/A\")","v":{"v":0,"d":"0.0%"}},{"$f":"IF(COUNTA(#REF!)>0,(COUNTIF(#REF!,\"=0\")*0+COUNTIF(#REF!,\"=1\")*100+COUNTIF(#REF!,\"=2\")*80+COUNTIF(#REF!,\"=3\")*50+COUNTIF(#REF!,\"=8\")*20+COUNTIF(#REF!,\"=9\")*0)/COUNTA(#REF!)/100,\"N/A\")","v":{"$error":"#REF!"}},{"$f":"IF(COUNTA(#REF!)>0,(COUNTIF(#REF!,\"=0\")*0+COUNTIF(#REF!,\"=1\")*100+COUNTIF(#REF!,\"=2\")*80+COUNTIF(#REF!,\"=3\")*50+COUNTIF(#REF!,\"=8\")*20+COUNTIF(#REF!,\"=9\")*0)/COUNTA(#REF!)/100,\"N/A\")","v":{"$error":"#REF!"}},{"$f":"IF(COUNTA(#REF!)>0,(COUNTIF(#REF!,\"=0\")*0+COUNTIF(#REF!,\"=1\")*100+COUNTIF(#REF!,\"=2\")*80+COUNTIF(#REF!,\"=3\")*50+COUNTIF(#REF!,\"=8\")*20+COUNTIF(#REF!,\"=9\")*0)/COUNTA(#REF!)/100,\"N/A\")","v":{"$error":"#REF!"}},{"$f":"IF(AND(COUNTA(C145:E145)<>0,#REF!<>\"\"),AVERAGE(F145:L145),\"N/A\")","v":{"$error":"#REF!"}},{"$f":"IF(F145=\"N/A\",1,\"\")","v":""},{"$f":"IF(G145=\"N/A\",1,\"\")","v":""},{"$f":"IF(H145=\"N/A\",1,\"\")","v":{"$error":"#REF!"}},{"$f":"IF(I145=\"N/A\",1,\"\")","v":""},{"$f":"IF(J145=\"N/A\",1,\"\")","v":{"$error":"#REF!"}},{"$f":"IF(K145=\"N/A\",1,\"\")","v":{"$error":"#REF!"}},{"$f":"IF(L145=\"N/A\",1,\"\")","v":{"$error":"#REF!"}},{"$f":"IF(M145=\"N/A\",1,\"\")","v":{"$error":"#REF!"}}]
[null,"% de code 2",{"$f":"COUNTIF(Saisie!B48:M48,\"2\")/COUNTA(Saisie!B48:M48)","v":{"v":0,"d":"0.00%"}},{"$f":"COUNTIF(Saisie!N48:R48,\"2\")/COUNTA(Saisie!N48:R48)","v":{"v":0,"d":"0.00%"}},{"$f":"COUNTIF(Saisie!S48:V48,\"2\")/COUNTA(Saisie!S48:V48)","v":{"v":0,"d":"0.00%"}}]
[null,"% de code 9",{"$f":"COUNTIF(Saisie!B48:M48,\"9\")/COUNTA(Saisie!B48:M48)","v":{"v":0,"d":"0.00%"}},{"$f":"COUNTIF(Saisie!N48:R48,\"9\")/COUNTA(Saisie!N48:R48)","v":{"v":0,"d":"0.00%"}},{"$f":"COUNTIF(Saisie!S48:V48,\"9\")/COUNTA(Saisie!S48:V48)","v":{"v":0,"d":"0.00%"}}]
[null,"% de code 0",{"$f":"COUNTIF(Saisie!B48:M48,\"0\")/COUNTA(Saisie!B48:M48)","v":{"v":1,"d":"100.00%"}},{"$f":"COUNTIF(Saisie!N48:R48,\"0\")/COUNTA(Saisie!N48:R48)","v":{"v":1,"d":"100.00%"}},{"$f":"COUNTIF(Saisie!S48:V48,\"0\")/COUNTA(Saisie!S48:V48)","v":{"v":1,"d":"100.00%"}}]

{"sheet":"Synthèse","index":2,"n_rows":433,"n_cols":44,"rows_kept":433,"merged":[[7,1,7,23],[9,3,9,5],[9,6,9,11],[9,13,9,20],[9,23,9,43],[10,24,10,25],[11,1,11,13],[11,14,11,19],[11,20,11,43],[12,1,12,2],[12,3,12,4],[12,5,12,6],[12,7,12,8],[12,9,12,11],[12,13,13,13],[12,14,12,15],[12,17,12,18],[12,19,13,19],[12,20,12,21],[12,43,13,43],[13,1,13,2],[13,3,13,4],[13,5,13,6],[13,7,13,8],[13,9,13,11],[13,14,13,15],[13,17,13,18],[13,20,13,21]]}
["Plages de codes possibles",1,1,1,1,1,1,1,1,1,1,1,1,null,1,1,1,null,1,null,1,1,1,1]
[null,9,9,9,9,9,9,9,9,9,2,2,2,null,2,2,2,null,9,null,2,3,9,9]
[null,0,0,0,0,0,0,0,0,0,9,9,9,null,9,3,3,null,0,null,9,9,0,0]
[{"$nulls":10},0,0,0,null,0,9,8,{"$nulls":3},0,0]
[{"$nulls":15},0,9]
[{"$nulls":16},0]
[]
[null,"ÉVALUATIONS SCIENCES ET TECHNOLOGIE DÉBUT DE CYCLE 3 "]
[]
[{"$nulls":3},"Circonscription :",null,null,{"$f":"Saisie!E9","v":0},{"$nulls":5},"Ecole :",{"$f":"Saisie!M9","v":0},{"$nulls":8},"Classe",{"$f":"Saisie!R9","v":0}]
[]
[null,"MATIERE",{"$nulls":12},"VIVANT",{"$nulls":5},"OBJET"]
["Compétences ciblées cycle 2 :","Changement d’état de l’eau dans la vie quotidienne",null,"Comparer et mesurer la température",null,"Comparer et mesurer la masse de l'eau à l'état liquide et à l'état solide",null,"Changement d'état de l'eau dans la vie quotidienne",null,"Mettre en œuvre des expériences simples impliquant l'eau et/ou l'air.",null,null,"Comparer et mesurer la température, le volume, la masse de l'eau à l'état liquide et à l'état solide.","SYNTHESE","Identifier les interactions avec des êtres vivants entre eux et avec leur milieu.",null,"Connaître les caractéristiques du monde vivant, ses interactions, sa diversité : quelques besoins vitaux des végétaux.","Connaître les caractéristiques du monde vivant, ses interactions, sa diversité : le cycle de vie des êtres vivants.",null,"SYNTHESE","Nommer les constituants d'un circuit électrique. Décrire le fonctionnement du circuit électrique",null,"Comprendre qu'un circuit électrique doit être fermé pour faire fonctionner l'objet.","Faire la différence entre objets et matériaux qui le composent. Connaître des matériaux isolants et conducteurs,",{"$nulls":19},"SYNTHESE"]
["Compétences ciblées cycle 3 :","Décrire les états de la matière à l’échelle macroscopique",null,"L'état physique d'un échantillon de matière dépend de condition externes notamment de sa température",null,"Décrire les états de la matière à l'échelle macroscopique",null,"L'état physique d'un échantillon de matière dépend de condition externes notamment de sa température",null,"La masse est une grandeur physique qui caractérise un échatillon de matière. L'élève rend compte de sa démarche…",null,null,"Tout objet matériel possède une masse qui lui est propre et qui peut être mesurée.",null,"Identifier les matières échangées entre un être vivant et son milieu de vie.",null,"Identifier et caractériser les modification subies par un organisme vivant au cours de sa vie : stades de développement.","Relier les besoins des plantes vertes et leur place particulière dans les réseaux trophiques : besoin des plantes vertes.",null,null,"Décrire le fonctionnement d'objets techniques, leurs fonctions et leurs constitutions.",null,"Concevoir et produire tout ou partie d'un objet technique : Recherche d'idées","Caractéristiques et propriétés de matériau."]
[null,"M.A","M.B","M.C1","M.C2","M.D1","M.D2","M.E1","M.E2","M.F1","M.F2","M.F3","M.G",null,"V.A1","V.A2","V.B","V.C1","V.C2",null,"O.A1","O.A2","O.B","O.C","Lire : Conscience phonologique","Lire : Identification des mots","Lire : Fluence","Lire : Compréhension","Écrire : Copier","Écrire sous la dictée","Écrire : Produire un écrit de manière autonome","Général"]
["Pourcentages de réussite",{"$f":"COUNTIF(Saisie!B15:B107,\"1\")/COUNTA(Saisie!B15:B107)","v":{"v":0,"d":"0.00%"}},{"$f":"COUNTIF(Saisie!C15:C107,\"1\")/COUNTA(Saisie!C15:C107)","v":{"v":0,"d":"0.00%"}},{"$f":"COUNTIF(Saisie!D15:D107,\"1\")/COUNTA(Saisie!D15:D107)","v":{"v":0,"d":"0.00%"}},{"$f":"COUNTIF(Saisie!E15:E107,\"1\")/COUNTA(Saisie!E15:E107)","v":{"v":0,"d":"0.00%"}},{"$f":"COUNTIF(Saisie!F15:F107,\"1\")/COUNTA(Saisie!F15:F107)","v":{"v":0,"d":"0.00%"}},{"$f":"COUNTIF(Saisie!G15:G107,\"1\")/COUNTA(Saisie!G15:G107)","v":{"v":0,"d":"0.00%"}},{"$f":"COUNTIF(Saisie!H15:H107,\"1\")/COUNTA(Saisie!H15:H107)","v":{"v":0,"d":"0.00%"}},{"$f":"COUNTIF(Saisie!I15:I107,\"1\")/COUNTA(Saisie!I15:I107)","v":{"v":0,"d":"0.00%"}},{"$f":"COUNTIF(Saisie!J15:J107,\"1\")/COUNTA(Saisie!J15:J107)","v":{"v":0,"d":"0.00%"}},{"$f":"COUNTIF(Saisie!K15:K107,\"1\")/COUNTA(Saisie!K15:K107)","v":{"v":0,"d":"0.00%"}},{"$f":"COUNTIF(Saisie!L15:L107,\"1\")/COUNTA(Saisie!L15:L107)","v":{"v":0,"d":"0.00%"}},{"$f":"COUNTIF(Saisie!M15:M107,\"1\")/COUNTA(Saisie!M15:M107)","v":{"v":0,"d":"0.00%"}},{"$f":"AVERAGE(B16:M16)","v":{"v":0,"d":"0.00%"}},{"$f":"COUNTIF(Saisie!N15:N107,\"1\")/COUNTA(Saisie!N15:N107)","v":{"v":0,"d":"0.00%"}},{"$f":"COUNTIF(Saisie!O15:O107,\"1\")/COUNTA(Saisie!O15:O107)","v":{"v":0,"d":"0.00%"}},{"$f":"COUNTIF(Saisie!P15:P107,\"1\")/COUNTA(Saisie!P15:P107)","v":{"v":0,"d":"0.00%"}},{"$f":"COUNTIF(Saisie!Q15:Q107,\"1\")/COUNTA(Saisie!Q15:Q107)","v":{"v":0,"d":"0.00%"}},{"$f":"COUNTIF(Saisie!R15:R107,\"1\")/COUNTA(Saisie!R15:R107)","v":{"v":0,"d":"0.00%"}},{"$f":"AVERAGE(O16:S16)","v":{"v":0,"d":"0.00%"}},{"$f":"COUNTIF(Saisie!S15:S107,\"1\")/COUNTA(Saisie!S15:S107)","v":{"v":0,"d":"0.00%"}},{"$f":"COUNTIF(Saisie!T15:T107,\"1\")/COUNTA(Saisie!T15:T107)","v":{"v":0,"d":"0.00%"}},{"$f":"COUNTIF(Saisie!U15:U107,\"1\")/COUNTA(Saisie!U15:U107)","v":{"v":0,"d":"0.00%"}},{"$f":"COUNTIF(Saisie!V15:V107,\"1\")/COUNTA(Saisie!V15:V107)","v":{"v":0,"d":"0.00%"}},{"$nulls":19},{"$f":"AVERAGE(U16:X16)","v":{"v":0,"d":"0.00%"}}]
["Pourcentages de code 2",{"$f":"COUNTIF(Saisie!B15:B107,\"2\")/COUNTA(Saisie!B15:B107)","v":{"v":0,"d":"0.00%"}},{"$f":"COUNTIF(Saisie!C15:C107,\"2\")/COUNTA(Saisie!C15:C107)","v":{"v":0,"d":"0.00%"}},{"$f":"COUNTIF(Saisie!D15:D107,\"2\")/COUNTA(Saisie!D15:D107)","v":{"v":0,"d":"0.00%"}},{"$f":"COUNTIF(Saisie!E15:E107,\"2\")/COUNTA(Saisie!E15:E107)","v":{"v":0,"d":"0.00%"}},{"$f":"COUNTIF(Saisie!F15:F107,\"2\")/COUNTA(Saisie!F15:F107)","v":{"v":0,"d":"0.00%"}},{"$f":"COUNTIF(Saisie!G15:G107,\"2\")/COUNTA(Saisie!G15:G107)","v":{"v":0,"d":"0.00%"}},{"$f":"COUNTIF(Saisie!H15:H107,\"2\")/COUNTA(Saisie!H15:H107)","v":{"v":0,"d":"0.00%"}},{"$f":"COUNTIF(Saisie!I15:I107,\"2\")/COUNTA(Saisie!I15:I107)","v":{"v":0,"d":"0.00%"}},{"$f":"COUNTIF(Saisie!J15:J107,\"2\")/COUNTA(Saisie!J15:J107)","v":{"v":0,"d":"0.00%"}},{"$f":"COUNTIF(Saisie!K15:K107,\"2\")/COUNTA(Saisie!K15:K107)","v":{"v":0,"d":"0.00%"}},{"$f":"COUNTIF(Saisie!L15:L107,\"2\")/COUNTA(Saisie!L15:L107)","v":{"v":0,"d":"0.00%"}},{"$f":"COUNTIF(Saisie!M15:M107,\"2\")/COUNTA(Saisie!M15:M107)","v":{"v":0,"d":"0.00%"}},{"$f":"AVERAGE(B17:M17)","v":{"v":0,"d":"0.00%"}},{"$f":"COUNTIF(Saisie!N15:N107,\"2\")/COUNTA(Saisie!N15:N107)","v":{"v":0,"d":"0.00%"}},{"$f":"COUNTIF(Saisie!O15:O107,\"2\")/COUNTA(Saisie!O15:O107)","v":{"v":0,"d":"0.00%"}},{"$f":"COUNTIF(Saisie!P15:P107,\"2\")/COUNTA(Saisie!P15:P107)","v":{"v":0,"d":"0.00%"}},{"$f":"COUNTIF(Saisie!Q15:Q107,\"2\")/COUNTA(Saisie!Q15:Q107)","v":{"v":0,"d":"0.00%"}},{"$f":"COUNTIF(Saisie!R15:R107,\"2\")/COUNTA(Saisie!R15:R107)","v":{"v":0,"d":"0.00%"}},{"$f":"AVERAGE(O17:S17)","v":{"v":0,"d":"0.00%"}},{"$f":"COUNTIF(Saisie!S15:S107,\"2\")/COUNTA(Saisie!S15:S107)","v":{"v":0,"d":"0.00%"}},{"$f":"COUNTIF(Saisie!T15:T107,\"2\")/COUNTA(Saisie!T15:T107)","v":{"v":0,"d":"0.00%"}},{"$f":"COUNTIF(Saisie!U15:U107,\"2\")/COUNTA(Saisie!U15:U107)","v":{"v":0,"d":"0.00%"}},{"$f":"COUNTIF(Saisie!V15:V107,\"2\")/COUNTA(Saisie!V15:V107)","v":{"v":0,"d":"0.00%"}},{"$nulls":19},{"$f":"AVERAGE(U17:X17)","v":{"v":0,"d":"0.00%"}}]
["Pourcentages de code 9",{"$f":"COUNTIF(Saisie!B15:B107,\"9\")/COUNTA(Saisie!B15:B107)","v":{"v":0,"d":"0.00%"}},{"$f":"COUNTIF(Saisie!C15:C107,\"9\")/COUNTA(Saisie!C15:C107)","v":{"v":0,"d":"0.00%"}},{"$f":"COUNTIF(Saisie!D15:D107,\"9\")/COUNTA(Saisie!D15:D107)","v":{"v":0,"d":"0.00%"}},{"$f":"COUNTIF(Saisie!E15:E107,\"9\")/COUNTA(Saisie!E15:E107)","v":{"v":0,"d":"0.00%"}},{"$f":"COUNTIF(Saisie!F15:F107,\"9\")/COUNTA(Saisie!F15:F107)","v":{"v":0,"d":"0.00%"}},{"$f":"COUNTIF(Saisie!G15:G107,\"9\")/COUNTA(Saisie!G15:G107)","v":{"v":0,"d":"0.00%"}},{"$f":"COUNTIF(Saisie!H15:H107,\"9\")/COUNTA(Saisie!H15:H107)","v":{"v":0,"d":"0.00%"}},{"$f":"COUNTIF(Saisie!I15:I107,\"9\")/COUNTA(Saisie!I15:I107)","v":{"v":0,"d":"0.00%"}},{"$f":"COUNTIF(Saisie!J15:J107,\"9\")/COUNTA(Saisie!J15:J107)","v":{"v":0,"d":"0.00%"}},{"$f":"COUNTIF(Saisie!K15:K107,\"9\")/COUNTA(Saisie!K15:K107)","v":{"v":0,"d":"0.00%"}},{"$f":"COUNTIF(Saisie!L15:L107,\"9\")/COUNTA(Saisie!L15:L107)","v":{"v":0,"d":"0.00%"}},{"$f":"COUNTIF(Saisie!M15:M107,\"9\")/COUNTA(Saisie!M15:M107)","v":{"v":0,"d":"0.00%"}},{"$f":"AVERAGE(B18:M18)","v":{"v":0,"d":"0.00%"}},{"$f":"COUNTIF(Saisie!N15:N107,\"9\")/COUNTA(Saisie!N15:N107)","v":{"v":0,"d":"0.00%"}},{"$f":"COUNTIF(Saisie!O15:O107,\"9\")/COUNTA(Saisie!O15:O107)","v":{"v":0,"d":"0.00%"}},{"$f":"COUNTIF(Saisie!P15:P107,\"9\")/COUNTA(Saisie!P15:P107)","v":{"v":0,"d":"0.00%"}},{"$f":"COUNTIF(Saisie!Q15:Q107,\"9\")/COUNTA(Saisie!Q15:Q107)","v":{"v":0,"d":"0.00%"}},{"$f":"COUNTIF(Saisie!R15:R107,\"9\")/COUNTA(Saisie!R15:R107)","v":{"v":0,"d":"0.00%"}},{"$f":"AVERAGE(O18:S18)","v":{"v":0,"d":"0.00%"}},{"$f":"COUNTIF(Saisie!S15:S107,\"9\")/COUNTA(Saisie!S15:S107)","v":{"v":0,"d":"0.00%"}},{"$f":"COUNTIF(Saisie!T15:T107,\"9\")/COUNTA(Saisie!T15:T107)","v":{"v":0,"d":"0.00%"}},{"$f":"COUNTIF(Saisie!U15:U107,\"9\")/COUNTA(Saisie!U15:U107)","v":{"v":0,"d":"0.00%"}},{"$f":"COUNTIF(Saisie!V15:V107,\"9\")/COUNTA(Saisie!V15:V107)","v":{"v":0,"d":"0.00%"}},{"$nulls":19},{"v":0,"d":"0.00%"}]
["Pourcentages de code 0",{"$f":"COUNTIF(Saisie!B15:B107,\"0\")/COUNTA(Saisie!B15:B107)","v":{"v":1,"d":"100.00%"}},{"$f":"COUNTIF(Saisie!C15:C107,\"0\")/COUNTA(Saisie!C15:C107)","v":{"v":1,"d":"100.00%"}},{"$f":"COUNTIF(Saisie!D15:D107,\"0\")/COUNTA(Saisie!D15:D107)","v":{"v":1,"d":"100.00%"}},{"$f":"COUNTIF(Saisie!E15:E107,\"0\")/COUNTA(Saisie!E15:E107)","v":{"v":1,"d":"100.00%"}},{"$f":"COUNTIF(Saisie!F15:F107,\"0\")/COUNTA(Saisie!F15:F107)","v":{"v":1,"d":"100.00%"}},{"$f":"COUNTIF(Saisie!G15:G107,\"0\")/COUNTA(Saisie!G15:G107)","v":{"v":1,"d":"100.00%"}},{"$f":"COUNTIF(Saisie!H15:H107,\"0\")/COUNTA(Saisie!H15:H107)","v":{"v":1,"d":"100.00%"}},{"$f":"COUNTIF(Saisie!I15:I107,\"0\")/COUNTA(Saisie!I15:I107)","v":{"v":1,"d":"100.00%"}},{"$f":"COUNTIF(Saisie!J15:J107,\"0\")/COUNTA(Saisie!J15:J107)","v":{"v":1,"d":"100.00%"}},{"$f":"COUNTIF(Saisie!K15:K107,\"0\")/COUNTA(Saisie!K15:K107)","v":{"v":1,"d":"100.00%"}},{"$f":"COUNTIF(Saisie!L15:L107,\"0\")/COUNTA(Saisie!L15:L107)","v":{"v":1,"d":"100.00%"}},{"$f":"COUNTIF(Saisie!M15:M107,\"0\")/COUNTA(Saisie!M15:M107)","v":{"v":1,"d":"100.00%"}},{"v":1,"d":"100.00%"},{"$f":"COUNTIF(Saisie!N15:N107,\"0\")/COUNTA(Saisie!N15:N107)","v":{"v":1,"d":"100.00%"}},{"$f":"COUNTIF(Saisie!O15:O107,\"0\")/COUNTA(Saisie!O15:O107)","v":{"v":1,"d":"100.00%"}},{"$f":"COUNTIF(Saisie!P15:P107,\"0\")/COUNTA(Saisie!P15:P107)","v":{"v":1,"d":"100.00%"}},{"$f":"COUNTIF(Saisie!Q15:Q107,\"0\")/COUNTA(Saisie!Q15:Q107)","v":{"v":1,"d":"100.00%"}},{"$f":"COUNTIF(Saisie!R15:R107,\"0\")/COUNTA(Saisie!R15:R107)","v":{"v":1,"d":"100.00%"}},{"$f":"AVERAGE(O19:S19)","v":{"v":1,"d":"100.00%"}},{"$f":"COUNTIF(Saisie!S15:S107,\"0\")/COUNTA(Saisie!S15:S107)","v":{"v":1,"d":"100.00%"}},{"$f":"COUNTIF(Saisie!T15:T107,\"0\")/COUNTA(Saisie!T15:T107)","v":{"v":1,"d":"100.00%"}},{"$f":"COUNTIF(Saisie!U15:U107,\"0\")/COUNTA(Saisie!U15:U107)","v":{"v":1,"d":"100.00%"}},{"$f":"COUNTIF(Saisie!V15:V107,\"0\")/COUNTA(Saisie!V15:V107)","v":{"v":1,"d":"100.00%"}},{"$nulls":19},{"v":1,"d":"100.00%"}]
[{"$nulls":24},{"$f":"IF(COUNTA(B20:G20)>0,(COUNTIF(B20:G20,\"=0\")*0+COUNTIF(B20:G20,\"=1\")*100+COUNTIF(B20:G20,\"=2\")*80+COUNTIF(B20:G20,\"=3\")*50+COUNTIF(B20:G20,\"=8\")*20+COUNTIF(B20:G20,\"=9\")*0)/COUNTA(B20:G20)/100,\"N/A\")","v":"N/A"},{"$f":"IF(COUNTA(K20:P20)>0,(COUNTIF(K20:P20,\"=0\")*0+COUNTIF(K20:P20,\"=1\")*100+COUNTIF(K20:P20,\"=2\")*80+COUNTIF(K20:P20,\"=3\")*50+COUNTIF(K20:P20,\"=8\")*20+COUNTIF(K20:P20,\"=9\")*0)/COUNTA(K20:P20)/100,\"N/A\")","v":"N/A"},{"$f":"IF(COUNTA(Q20)>0,(COUNTIF(Q20,\"=0\")*0+COUNTIF(Q20,\"=1\")*100+COUNTIF(Q20,\"=2\")*80+COUNTIF(Q20,\"=3\")*50+COUNTIF(Q20,\"=8\")*20+COUNTIF(Q20,\"=9\")*0)/COUNTA(Q20)/100,\"N/A\")","v":"N/A"},{"$f":"IF(COUNTA(S20:W20)<>0,(COUNTIF(S20:W20,\"=0\")*0+COUNTIF(S20:W20,\"=1\")*100+COUNTIF(S20:W20,\"=2\")*80+COUNTIF(S20:W20,\"=3\")*50+COUNTIF(S20:W20,\"=8\")*20+COUNTIF(S20:W20,\"=9\")*0)/COUNTA(S20:W20)/100,\"N/A\")","v":"N/A"},{"$f":"IF(COUNTA(X20:X20)>0,(COUNTIF(X20:X20,\"=0\")*0+COUNTIF(X20:X20,\"=1\")*100+COUNTIF(X20:X20,\"=2\")*80+COUNTIF(X20:X20,\"=3\")*50+COUNTIF(X20:X20,\"=8\")*20+COUNTIF(X20:X20,\"=9\")*0)/COUNTA(X20:X20)/100,\"N/A\")","v":"N/A"},{"$f":"IF(COUNTA(#REF!)>0,(COUNTIF(#REF!,\"=0\")*0+COUNTIF(#REF!,\"=1\")*100+COUNTIF(#REF!,\"=2\")*80+COUNTIF(#REF!,\"=3\")*50+COUNTIF(#REF!,\"=8\")*20+COUNTIF(#REF!,\"=9\")*0)/COUNTA(#REF!)/100,\"N/A\")","v":{"$error":"#REF!"}},{"$f":"IF(COUNTA(#REF!)>0,(COUNTIF(#REF!,\"=0\")*0+COUNTIF(#REF!,\"=1\")*100+COUNTIF(#REF!,\"=2\")*80+COUNTIF(#REF!,\"=3\")*50+COUNTIF(#REF!,\"=8\")*20+COUNTIF(#REF!,\"=9\")*0)/COUNTA(#REF!)/100,\"N/A\")","v":{"$error":"#REF!"}},{"$f":"IF(AND(COUNTA(B20:X20)<>0,#REF!<>\"\"),AVERAGE(Y20:AE20),\"N/A\")","v":{"$error":"#REF!"}},{"$f":"IF(Y20=\"N/A\",1,\"\")","v":1},1,1,1,1,{"$error":"#REF!"},{"$error":"#REF!"},{"$error":"#REF!"}]
[{"$nulls":24},{"$f":"IF(COUNTA(B21:G21)>0,(COUNTIF(B21:G21,\"=0\")*0+COUNTIF(B21:G21,\"=1\")*100+COUNTIF(B21:G21,\"=2\")*80+COUNTIF(B21:G21,\"=3\")*50+COUNTIF(B21:G21,\"=8\")*20+COUNTIF(B21:G21,\"=9\")*0)/COUNTA(B21:G21)/100,\"N/A\")","v":"N/A"},{"$f":"IF(COUNTA(K21:P21)>0,(COUNTIF(K21:P21,\"=0\")*0+COUNTIF(K21:P21,\"=1\")*100+COUNTIF(K21:P21,\"=2\")*80+COUNTIF(K21:P21,\"=3\")*50+COUNTIF(K21:P21,\"=8\")*20+COUNTIF(K21:P21,\"=9\")*0)/COUNTA(K21:P21)/100,\"N/A\")","v":"N/A"},{"$f":"IF(COUNTA(Q21)>0,(COUNTIF(Q21,\"=0\")*0+COUNTIF(Q21,\"=1\")*100+COUNTIF(Q21,\"=2\")*80+COUNTIF(Q21,\"=3\")*50+COUNTIF(Q21,\"=8\")*20+COUNTIF(Q21,\"=9\")*0)/COUNTA(Q21)/100,\"N/A\")","v":"N/A"},{"$f":"IF(COUNTA(S21:W21)<>0,(COUNTIF(S21:W21,\"=0\")*0+COUNTIF(S21:W21,\"=1\")*100+COUNTIF(S21:W21,\"=2\")*80+COUNTIF(S21:W21,\"=3\")*50+COUNTIF(S21:W21,\"=8\")*20+COUNTIF(S21:W21,\"=9\")*0)/COUNTA(S21:W21)/100,\"N/A\")","v":"N/A"},"N/A",{"$f":"IF(COUNTA(#REF!)>0,(COUNTIF(#REF!,\"=0\")*0+COUNTIF(#REF!,\"=1\")*100+COUNTIF(#REF!,\"=2\")*80+COUNTIF(#REF!,\"=3\")*50+COUNTIF(#REF!,\"=8\")*20+COUNTIF(#REF!,\"=9\")*0)/COUNTA(#REF!)/100,\"N/A\")","v":{"$error":"#REF!"}},{"$f":"IF(COUNTA(#REF!)>0,(COUNTIF(#REF!,\"=0\")*0+COUNTIF(#REF!,\"=1\")*100+COUNTIF(#REF!,\"=2\")*80+COUNTIF(#REF!,\"=3\")*50+COUNTIF(#REF!,\"=8\")*20+COUNTIF(#REF!,\"=9\")*0)/COUNTA(#REF!)/100,\"N/A\")","v":{"$error":"#REF!"}},{"$f":"IF(AND(COUNTA(B21:X21)<>0,#REF!<>\"\"),AVERAGE(Y21:AE21),\"N/A\")","v":{"$error":"#REF!"}},1,1,1,1,1,{"$error":"#REF!"},{"$error":"#REF!"},{"$error":"#REF!"}]
[{"$nulls":24},{"$f":"IF(COUNTA(B22:G22)>0,(COUNTIF(B22:G22,\"=0\")*0+COUNTIF(B22:G22,\"=1\")*100+COUNTIF(B22:G22,\"=2\")*80+COUNTIF(B22:G22,\"=3\")*50+COUNTIF(B22:G22,\"=8\")*20+COUNTIF(B22:G22,\"=9\")*0)/COUNTA(B22:G22)/100,\"N/A\")","v":"N/A"},{"$f":"IF(COUNTA(K22:P22)>0,(COUNTIF(K22:P22,\"=0\")*0+COUNTIF(K22:P22,\"=1\")*100+COUNTIF(K22:P22,\"=2\")*80+COUNTIF(K22:P22,\"=3\")*50+COUNTIF(K22:P22,\"=8\")*20+COUNTIF(K22:P22,\"=9\")*0)/COUNTA(K22:P22)/100,\"N/A\")","v":"N/A"},{"$f":"IF(COUNTA(Q22)>0,(COUNTIF(Q22,\"=0\")*0+COUNTIF(Q22,\"=1\")*100+COUNTIF(Q22,\"=2\")*80+COUNTIF(Q22,\"=3\")*50+COUNTIF(Q22,\"=8\")*20+COUNTIF(Q22,\"=9\")*0)/COUNTA(Q22)/100,\"N/A\")","v":"N/A"},{"$f":"IF(COUNTA(S22:W22)<>0,(COUNTIF(S22:W22,\"=0\")*0+COUNTIF(S22:W22,\"=1\")*100+COUNTIF(S22:W22,\"=2\")*80+COUNTIF(S22:W22,\"=3\")*50+COUNTIF(S22:W22,\"=8\")*20+COUNTIF(S22:W22,\"=9\")*0)/COUNTA(S22:W22)/100,\"N/A\")","v":"N/A"},"N/A",{"$f":"IF(COUNTA(#REF!)>0,(COUNTIF(#REF!,\"=0\")*0+COUNTIF(#REF!,\"=1\")*100+COUNTIF(#REF!,\"=2\")*80+COUNTIF(#REF!,\"=3\")*50+COUNTIF(#REF!,\"=8\")*20+COUNTIF(#REF!,\"=9\")*0)/COUNTA(#REF!)/100,\"N/A\")","v":{"$error":"#REF!"}},{"$f":"IF(COUNTA(#REF!)>0,(COUNTIF(#REF!,\"=0\")*0+COUNTIF(#REF!,\"=1\")*100+COUNTIF(#REF!,\"=2\")*80+COUNTIF(#REF!,\"=3\")*50+COUNTIF(#REF!,\"=8\")*20+COUNTIF(#REF!,\"=9\")*0)/COUNTA(#REF!)/100,\"N/A\")","v":{"$error":"#REF!"}},{"$f":"IF(AND(COUNTA(B22:X22)<>0,#REF!<>\"\"),AVERAGE(Y22:AE22),\"N/A\")","v":{"$error":"#REF!"}},1,1,1,1,1,{"$error":"#REF!"},{"$error":"#REF!"},{"$error":"#REF!"}]
[{"$nulls":24},{"$f":"IF(COUNTA(B23:G23)>0,(COUNTIF(B23:G23,\"=0\")*0+COUNTIF(B23:G23,\"=1\")*100+COUNTIF(B23:G23,\"=2\")*80+COUNTIF(B23:G23,\"=3\")*50+COUNTIF(B23:G23,\"=8\")*20+COUNTIF(B23:G23,\"=9\")*0)/COUNTA(B23:G23)/100,\"N/A\")","v":"N/A"},{"$f":"IF(COUNTA(K23:P23)>0,(COUNTIF(K23:P23,\"=0\")*0+COUNTIF(K23:P23,\"=1\")*100+COUNTIF(K23:P23,\"=2\")*80+COUNTIF(K23:P23,\"=3\")*50+COUNTIF(K23:P23,\"=8\")*20+COUNTIF(K23:P23,\"=9\")*0)/COUNTA(K23:P23)/100,\"N/A\")","v":"N/A"},{"$f":"IF(COUNTA(Q23)>0,(COUNTIF(Q23,\"=0\")*0+COUNTIF(Q23,\"=1\")*100+COUNTIF(Q23,\"=2\")*80+COUNTIF(Q23,\"=3\")*50+COUNTIF(Q23,\"=8\")*20+COUNTIF(Q23,\"=9\")*0)/COUNTA(Q23)/100,\"N/A\")","v":"N/A"},{"$f":"IF(COUNTA(S23:W23)<>0,(COUNTIF(S23:W23,\"=0\")*0+COUNTIF(S23:W23,\"=1\")*100+COUNTIF(S23:W23,\"=2\")*80+COUNTIF(S23:W23,\"=3\")*50+COUNTIF(S23:W23,\"=8\")*20+COUNTIF(S23:W23,\"=9\")*0)/COUNTA(S23:W23)/100,\"N/A\")","v":"N/A"},"N/A",{"$f":"IF(COUNTA(#REF!)>0,(COUNTIF(#REF!,\"=0\")*0+COUNTIF(#REF!,\"=1\")*100+COUNTIF(#REF!,\"=2\")*80+COUNTIF(#REF!,\"=3\")*50+COUNTIF(#REF!,\"=8\")*20+COUNTIF(#REF!,\"=9\")*0)/COUNTA(#REF!)/100,\"N/A\")","v":{"$error":"#REF!"}},{"$f":"IF(COUNTA(#REF!)>0,(COUNTIF(#REF!,\"=0\")*0+COUNTIF(#REF!,\"=1\")*100+COUNTIF(#REF!,\"=2\")*80+COUNTIF(#REF!,\"=3\")*50+COUNTIF(#REF!,\"=8\")*20+COUNTIF(#REF!,\"=9\")*0)/COUNTA(#REF!)/100,\"N/A\")","v":{"$error":"#REF!"}},{"$f":"IF(AND(COUNTA(B23:X23)<>0,#REF!<>\"\"),AVERAGE(Y23:AE23),\"N/A\")","v":{"$error":"#REF!"}},1,1,1,1,1,{"$error":"#REF!"},{"$error":"#REF!"},{"$error":"#REF!"}]
[{"$nulls":24},{"$f":"IF(COUNTA(B24:G24)>0,(COUNTIF(B24:G24,\"=0\")*0+COUNTIF(B24:G24,\"=1\")*100+COUNTIF(B24:G24,\"=2\")*80+COUNTIF(B24:G24,\"=3\")*50+COUNTIF(B24:G24,\"=8\")*20+COUNTIF(B24:G24,\"=9\")*0)/COUNTA(B24:G24)/100,\"N/A\")","v":"N/A"},{"$f":"IF(COUNTA(K24:P24)>0,(COUNTIF(K24:P24,\"=0\")*0+COUNTIF(K24:P24,\"=1\")*100+COUNTIF(K24:P24,\"=2\")*80+COUNTIF(K24:P24,\"=3\")*50+COUNTIF(K24:P24,\"=8\")*20+COUNTIF(K24:P24,\"=9\")*0)/COUNTA(K24:P24)/100,\"N/A\")","v":"N/A"},{"$f":"IF(COUNTA(Q24)>0,(COUNTIF(Q24,\"=0\")*0+COUNTIF(Q24,\"=1\")*100+COUNTIF(Q24,\"=2\")*80+COUNTIF(Q24,\"=3\")*50+COUNTIF(Q24,\"=8\")*20+COUNTIF(Q24,\"=9\")*0)/COUNTA(Q24)/100,\"N/A\")","v":"N/A"},{"$f":"IF(COUNTA(S24:W24)<>0,(COUNTIF(S24:W24,\"=0\")*0+COUNTIF(S24:W24,\"=1\")*100+COUNTIF(S24:W24,\"=2\")*80+COUNTIF(S24:W24,\"=3\")*50+COUNTIF(S24:W24,\"=8\")*20+COUNTIF(S24:W24,\"=9\")*0)/COUNTA(S24:W24)/100,\"N/A\")","v":"N/A"},"N/A",{"$f":"IF(COUNTA(#REF!)>0,(COUNTIF(#REF!,\"=0\")*0+COUNTIF(#REF!,\"=1\")*100+COUNTIF(#REF!,\"=2\")*80+COUNTIF(#REF!,\"=3\")*50+COUNTIF(#REF!,\"=8\")*20+COUNTIF(#REF!,\"=9\")*0)/COUNTA(#REF!)/100,\"N/A\")","v":{"$error":"#REF!"}},{"$f":"IF(COUNTA(#REF!)>0,(COUNTIF(#REF!,\"=0\")*0+COUNTIF(#REF!,\"=1\")*100+COUNTIF(#REF!,\"=2\")*80+COUNTIF(#REF!,\"=3\")*50+COUNTIF(#REF!,\"=8\")*20+COUNTIF(#REF!,\"=9\")*0)/COUNTA(#REF!)/100,\"N/A\")","v":{"$error":"#REF!"}},{"$f":"IF(AND(COUNTA(B24:X24)<>0,#REF!<>\"\"),AVERAGE(Y24:AE24),\"N/A\")","v":{"$error":"#REF!"}},1,1,1,1,1,{"$error":"#REF!"},{"$error":"#REF!"},{"$error":"#REF!"}]
[{"$nulls":24},{"$f":"IF(COUNTA(B25:G25)>0,(COUNTIF(B25:G25,\"=0\")*0+COUNTIF(B25:G25,\"=1\")*100+COUNTIF(B25:G25,\"=2\")*80+COUNTIF(B25:G25,\"=3\")*50+COUNTIF(B25:G25,\"=8\")*20+COUNTIF(B25:G25,\"=9\")*0)/COUNTA(B25:G25)/100,\"N/A\")","v":"N/A"},{"$f":"IF(COUNTA(K25:P25)>0,(COUNTIF(K25:P25,\"=0\")*0+COUNTIF(K25:P25,\"=1\")*100+COUNTIF(K25:P25,\"=2\")*80+COUNTIF(K25:P25,\"=3\")*50+COUNTIF(K25:P25,\"=8\")*20+COUNTIF(K25:P25,\"=9\")*0)/COUNTA(K25:P25)/100,\"N/A\")","v":"N/A"},{"$f":"IF(COUNTA(Q25)>0,(COUNTIF(Q25,\"=0\")*0+COUNTIF(Q25,\"=1\")*100+COUNTIF(Q25,\"=2\")*80+COUNTIF(Q25,\"=3\")*50+COUNTIF(Q25,\"=8\")*20+COUNTIF(Q25,\"=9\")*0)/COUNTA(Q25)/100,\"N/A\")","v":"N/A"},{"$f":"IF(COUNTA(S25:W25)<>0,(COUNTIF(S25:W25,\"=0\")*0+COUNTIF(S25:W25,\"=1\")*100+COUNTIF(S25:W25,\"=2\")*80+COUNTIF(S25:W25,\"=3\")*50+COUNTIF(S25:W25,\"=8\")*20+COUNTIF(S25:W25,\"=9\")*0)/COUNTA(S25:W25)/100,\"N/A\")","v":"N/A"},"N/A",{"$f":"IF(COUNTA(#REF!)>0,(COUNTIF(#REF!,\"=0\")*0+COUNTIF(#REF!,\"=1\")*100+COUNTIF(#REF!,\"=2\")*80+COUNTIF(#REF!,\"=3\")*50+COUNTIF(#REF!,\"=8\")*20+COUNTIF(#REF!,\"=9\")*0)/COUNTA(#REF!)/100,\"N/A\")","v":{"$error":"#REF!"}},{"$f":"IF(COUNTA(#REF!)>0,(COUNTIF(#REF!,\"=0\")*0+COUNTIF(#REF!,\"=1\")*100+COUNTIF(#REF!,\"=2\")*80+COUNTIF(#REF!,\"=3\")*50+COUNTIF(#REF!,\"=8\")*20+COUNTIF(#REF!,\"=9\")*0)/COUNTA(#REF!)/100,\"N/A\")","v":{"$error":"#REF!"}},{"$f":"IF(AND(COUNTA(B25:X25)<>0,#REF!<>\"\"),AVERAGE(Y25:AE25),\"N/A\")","v":{"$error":"#REF!"}},1,1,1,1,1,{"$error":"#REF!"},{"$error":"#REF!"},{"$f":"IF(AF25=\"N/A\",1,\"\")","v":{"$error":"#REF!"}}]
[{"$nulls":24},{"$f":"IF(COUNTA(B26:G26)>0,(COUNTIF(B26:G26,\"=0\")*0+COUNTIF(B26:G26,\"=1\")*100+COUNTIF(B26:G26,\"=2\")*80+COUNTIF(B26:G26,\"=3\")*50+COUNTIF(B26:G26,\"=8\")*20+COUNTIF(B26:G26,\"=9\")*0)/COUNTA(B26:G26)/100,\"N/A\")","v":"N/A"},{"$f":"IF(COUNTA(K26:P26)>0,(COUNTIF(K26:P26,\"=0\")*0+COUNTIF(K26:P26,\"=1\")*100+COUNTIF(K26:P26,\"=2\")*80+COUNTIF(K26:P26,\"=3\")*50+COUNTIF(K26:P26,\"=8\")*20+COUNTIF(K26:P26,\"=9\")*0)/COUNTA(K26:P26)/100,\"N/A\")","v":"N/A"},{"$f":"IF(COUNTA(Q26)>0,(COUNTIF(Q26,\"=0\")*0+COUNTIF(Q26,\"=1\")*100+COUNTIF(Q26,\"=2\")*80+COUNTIF(Q26,\"=3\")*50+COUNTIF(Q26,\"=8\")*20+COUNTIF(Q26,\"=9\")*0)/COUNTA(Q26)/100,\"N/A\")","v":"N/A"},{"$f":"IF(COUNTA(S26:W26)<>0,(COUNTIF(S26:W26,\"=0\")*0+COUNTIF(S26:W26,\"=1\")*100+COUNTIF(S26:W26,\"=2\")*80+COUNTIF(S26:W26,\"=3\")*50+COUNTIF(S26:W26,\"=8\")*20+COUNTIF(S26:W26,\"=9\")*0)/COUNTA(S26:W26)/100,\"N/A\")","v":"N/A"},"N/A",{"$f":"IF(COUNTA(#REF!)>0,(COUNTIF(#REF!,\"=0\")*0+COUNTIF(#REF!,\"=1\")*100+COUNTIF(#REF!,\"=2\")*80+COUNTIF(#REF!,\"=3\")*50+COUNTIF(#REF!,\"=8\")*20+COUNTIF(#REF!,\"=9\")*0)/COUNTA(#REF!)/100,\"N/A\")","v":{"$error":"#REF!"}},{"$f":"IF(COUNTA(#REF!)>0,(COUNTIF(#REF!,\"=0\")*0+COUNTIF(#REF!,\"=1\")*100+COUNTIF(#REF!,\"=2\")*80+COUNTIF(#REF!,\"=3\")*50+COUNTIF(#REF!,\"=8\")*20+COUNTIF(#REF!,\"=9\")*0)/COUNTA(#REF!)/100,\"N/A\")","v":{"$error":"#REF!"}},{"$f":"IF(AND(COUNTA(B26:X26)<>0,#REF!<>\"\"),AVERAGE(Y26:AE26),\"N/A\")","v":{"$error":"#REF!"}},{"$f":"IF(Y26=\"N/A\",1,\"\")","v":1},1,1,1,1,{"$error":"#REF!"},{"$error":"#REF!"},{"$error":"#REF!"}]
[{"$nulls":24},{"$f":"IF(COUNTA(B27:G27)>0,(COUNTIF(B27:G27,\"=0\")*0+COUNTIF(B27:G27,\"=1\")*100+COUNTIF(B27:G27,\"=2\")*80+COUNTIF(B27:G27,\"=3\")*50+COUNTIF(B27:G27,\"=8\")*20+COUNTIF(B27:G27,\"=9\")*0)/COUNTA(B27:G27)/100,\"N/A\")","v":"N/A"},{"$f":"IF(COUNTA(K27:P27)>0,(COUNTIF(K27:P27,\"=0\")*0+COUNTIF(K27:P27,\"=1\")*100+COUNTIF(K27:P27,\"=2\")*80+COUNTIF(K27:P27,\"=3\")*50+COUNTIF(K27:P27,\"=8\")*20+COUNTIF(K27:P27,\"=9\")*0)/COUNTA(K27:P27)/100,\"N/A\")","v":"N/A"},{"$f":"IF(COUNTA(Q27)>0,(COUNTIF(Q27,\"=0\")*0+COUNTIF(Q27,\"=1\")*100+COUNTIF(Q27,\"=2\")*80+COUNTIF(Q27,\"=3\")*50+COUNTIF(Q27,\"=8\")*20+COUNTIF(Q27,\"=9\")*0)/COUNTA(Q27)/100,\"N/A\")","v":"N/A"},{"$f":"IF(COUNTA(S27:W27)<>0,(COUNTIF(S27:W27,\"=0\")*0+COUNTIF(S27:W27,\"=1\")*100+COUNTIF(S27:W27,\"=2\")*80+COUNTIF(S27:W27,\"=3\")*50+COUNTIF(S27:W27,\"=8\")*20+COUNTIF(S27:W27,\"=9\")*0)/COUNTA(S27:W27)/100,\"N/A\")","v":"N/A"},"N/A",{"$f":"IF(COUNTA(#REF!)>0,(COUNTIF(#REF!,\"=0\")*0+COUNTIF(#REF!,\"=1\")*100+COUNTIF(#REF!,\"=2\")*80+COUNTIF(#REF!,\"=3\")*50+COUNTIF(#REF!,\"=8\")*20+COUNTIF(#REF!,\"=9\")*0)/COUNTA(#REF!)/100,\"N/A\")","v":{"$error":"#REF!"}},{"$f":"IF(COUNTA(#REF!)>0,(COUNTIF(#REF!,\"=0\")*0+COUNTIF(#REF!,\"=1\")*100+COUNTIF(#REF!,\"=2\")*80+COUNTIF(#REF!,\"=3\")*50+COUNTIF(#REF!,\"=8\")*20+COUNTIF(#REF!,\"=9\")*0)/COUNTA(#REF!)/100,\"N/A\")","v":{"$error":"#REF!"}},{"$f":"IF(AND(COUNTA(B27:X27)<>0,#REF!<>\"\"),AVERAGE(Y27:AE27),\"N/A\")","v":{"$error":"#REF!"}},1,1,1,1,1,{"$error":"#REF!"},{"$error":"#REF!"},{"$error":"#REF!"}]
[{"$nulls":24},{"$f":"IF(COUNTA(B28:G28)>0,(COUNTIF(B28:G28,\"=0\")*0+COUNTIF(B28:G28,\"=1\")*100+COUNTIF(B28:G28,\"=2\")*80+COUNTIF(B28:G28,\"=3\")*50+COUNTIF(B28:G28,\"=8\")*20+COUNTIF(B28:G28,\"=9\")*0)/COUNTA(B28:G28)/100,\"N/A\")","v":"N/A"},{"$f":"IF(COUNTA(K28:P28)>0,(COUNTIF(K28:P28,\"=0\")*0+COUNTIF(K28:P28,\"=1\")*100+COUNTIF(K28:P28,\"=2\")*80+COUNTIF(K28:P28,\"=3\")*50+COUNTIF(K28:P28,\"=8\")*20+COUNTIF(K28:P28,\"=9\")*0)/COUNTA(K28:P28)/100,\"N/A\")","v":"N/A"},{"$f":"IF(COUNTA(Q28)>0,(COUNTIF(Q28,\"=0\")*0+COUNTIF(Q28,\"=1\")*100+COUNTIF(Q28,\"=2\")*80+COUNTIF(Q28,\"=3\")*50+COUNTIF(Q28,\"=8\")*20+COUNTIF(Q28,\"=9\")*0)/COUNTA(Q28)/100,\"N/A\")","v":"N/A"},{"$f":"IF(COUNTA(S28:W28)<>0,(COUNTIF(S28:W28,\"=0\")*0+COUNTIF(S28:W28,\"=1\")*100+COUNTIF(S28:W28,\"=2\")*80+COUNTIF(S28:W28,\"=3\")*50+COUNTIF(S28:W28,\"=8\")*20+COUNTIF(S28:W28,\"=9\")*0)/COUNTA(S28:W28)/100,\"N/A\")","v":"N/A"},"N/A",{"$f":"IF(COUNTA(#REF!)>0,(COUNTIF(#REF!,\"=0\")*0+COUNTIF(#REF!,\"=1\")*100+COUNTIF(#REF!,\"=2\")*80+COUNTIF(#REF!,\"=3\")*50+COUNTIF(#REF!,\"=8\")*20+COUNTIF(#REF!,\"=9\")*0)/COUNTA(#REF!)/100,\"N/A\")","v":{"$error":"#REF!"}},{"$f":"IF(COUNTA(#REF!)>0,(COUNTIF(#REF!,\"=0\")*0+COUNTIF(#REF!,\"=1\")*100+COUNTIF(#REF!,\"=2\")*80+COUNTIF(#REF!,\"=3\")*50+COUNTIF(#REF!,\"=8\")*20+COUNTIF(#REF!,\"=9\")*0)/COUNTA(#REF!)/100,\"N/A\")","v":{"$error":"#REF!"}},{"$f":"IF(AND(COUNTA(B28:X28)<>0,#REF!<>\"\"),AVERAGE(Y28:AE28),\"N/A\")","v":{"$error":"#REF!"}},1,1,1,1,1,{"$error":"#REF!"},{"$error":"#REF!"},{"$error":"#REF!"}]
[{"$nulls":24},{"$f":"IF(COUNTA(B29:G29)>0,(COUNTIF(B29:G29,\"=0\")*0+COUNTIF(B29:G29,\"=1\")*100+COUNTIF(B29:G29,\"=2\")*80+COUNTIF(B29:G29,\"=3\")*50+COUNTIF(B29:G29,\"=8\")*20+COUNTIF(B29:G29,\"=9\")*0)/COUNTA(B29:G29)/100,\"N/A\")","v":"N/A"},{"$f":"IF(COUNTA(K29:P29)>0,(COUNTIF(K29:P29,\"=0\")*0+COUNTIF(K29:P29,\"=1\")*100+COUNTIF(K29:P29,\"=2\")*80+COUNTIF(K29:P29,\"=3\")*50+COUNTIF(K29:P29,\"=8\")*20+COUNTIF(K29:P29,\"=9\")*0)/COUNTA(K29:P29)/100,\"N/A\")","v":"N/A"},{"$f":"IF(COUNTA(Q29)>0,(COUNTIF(Q29,\"=0\")*0+COUNTIF(Q29,\"=1\")*100+COUNTIF(Q29,\"=2\")*80+COUNTIF(Q29,\"=3\")*50+COUNTIF(Q29,\"=8\")*20+COUNTIF(Q29,\"=9\")*0)/COUNTA(Q29)/100,\"N/A\")","v":"N/A"},{"$f":"IF(COUNTA(S29:W29)<>0,(COUNTIF(S29:W29,\"=0\")*0+COUNTIF(S29:W29,\"=1\")*100+COUNTIF(S29:W29,\"=2\")*80+COUNTIF(S29:W29,\"=3\")*50+COUNTIF(S29:W29,\"=8\")*20+COUNTIF(S29:W29,\"=9\")*0)/COUNTA(S29:W29)/100,\"N/A\")","v":"N/A"},"N/A",{"$f":"IF(COUNTA(#REF!)>0,(COUNTIF(#REF!,\"=0\")*0+COUNTIF(#REF!,\"=1\")*100+COUNTIF(#REF!,\"=2\")*80+COUNTIF(#REF!,\"=3\")*50+COUNTIF(#REF!,\"=8\")*20+COUNTIF(#REF!,\"=9\")*0)/COUNTA(#REF!)/100,\"N/A\")","v":{"$error":"#REF!"}},{"$f":"IF(COUNTA(#REF!)>0,(COUNTIF(#REF!,\"=0\")*0+COUNTIF(#REF!,\"=1\")*100+COUNTIF(#REF!,\"=2\")*80+COUNTIF(#REF!,\"=3\")*50+COUNTIF(#REF!,\"=8\")*20+COUNTIF(#REF!,\"=9\")*0)/COUNTA(#REF!)/100,\"N/A\")","v":{"$error":"#REF!"}},{"$f":"IF(AND(COUNTA(B29:X29)<>0,#REF!<>\"\"),AVERAGE(Y29:AE29),\"N/A\")","v":{"$error":"#REF!"}},1,1,1,1,1,{"$error":"#REF!"},{"$error":"#REF!"},{"$error":"#REF!"}]
[{"$nulls":24},{"$f":"IF(COUNTA(B30:G30)>0,(COUNTIF(B30:G30,\"=0\")*0+COUNTIF(B30:G30,\"=1\")*100+COUNTIF(B30:G30,\"=2\")*80+COUNTIF(B30:G30,\"=3\")*50+COUNTIF(B30:G30,\"=8\")*20+COUNTIF(B30:G30,\"=9\")*0)/COUNTA(B30:G30)/100,\"N/A\")","v":"N/A"},{"$f":"IF(COUNTA(K30:P30)>0,(COUNTIF(K30:P30,\"=0\")*0+COUNTIF(K30:P30,\"=1\")*100+COUNTIF(K30:P30,\"=2\")*80+COUNTIF(K30:P30,\"=3\")*50+COUNTIF(K30:P30,\"=8\")*20+COUNTIF(K30:P30,\"=9\")*0)/COUNTA(K30:P30)/100,\"N/A\")","v":"N/A"},{"$f":"IF(COUNTA(Q30)>0,(COUNTIF(Q30,\"=0\")*0+COUNTIF(Q30,\"=1\")*100+COUNTIF(Q30,\"=2\")*80+COUNTIF(Q30,\"=3\")*50+COUNTIF(Q30,\"=8\")*20+COUNTIF(Q30,\"=9\")*0)/COUNTA(Q30)/100,\"N/A\")","v":"N/A"},{"$f":"IF(COUNTA(S30:W30)<>0,(COUNTIF(S30:W30,\"=0\")*0+COUNTIF(S30:W30,\"=1\")*100+COUNTIF(S30:W30,\"=2\")*80+COUNTIF(S30:W30,\"=3\")*50+COUNTIF(S30:W30,\"=8\")*20+COUNTIF(S30:W30,\"=9\")*0)/COUNTA(S30:W30)/100,\"N/A\")","v":"N/A"},"N/A",{"$f":"IF(COUNTA(#REF!)>0,(COUNTIF(#REF!,\"=0\")*0+COUNTIF(#REF!,\"=1\")*100+COUNTIF(#REF!,\"=2\")*80+COUNTIF(#REF!,\"=3\")*50+COUNTIF(#REF!,\"=8\")*20+COUNTIF(#REF!,\"=9\")*0)/COUNTA(#REF!)/100,\"N/A\")","v":{"$error":"#REF!"}},{"$f":"IF(COUNTA(#REF!)>0,(COUNTIF(#REF!,\"=0\")*0+COUNTIF(#REF!,\"=1\")*100+COUNTIF(#REF!,\"=2\")*80+COUNTIF(#REF!,\"=3\")*50+COUNTIF(#REF!,\"=8\")*20+COUNTIF(#REF!,\"=9\")*0)/COUNTA(#REF!)/100,\"N/A\")","v":{"$error":"#REF!"}},{"$f":"IF(AND(COUNTA(B30:X30)<>0,#REF!<>\"\"),AVERAGE(Y30:AE30),\"N/A\")","v":{"$error":"#REF!"}},1,1,1,1,1,{"$error":"#REF!"},{"$error":"#REF!"},{"$error":"#REF!"}]
[{"$nulls":24},{"$f":"IF(COUNTA(B31:G31)>0,(COUNTIF(B31:G31,\"=0\")*0+COUNTIF(B31:G31,\"=1\")*100+COUNTIF(B31:G31,\"=2\")*80+COUNTIF(B31:G31,\"=3\")*50+COUNTIF(B31:G31,\"=8\")*20+COUNTIF(B31:G31,\"=9\")*0)/COUNTA(B31:G31)/100,\"N/A\")","v":"N/A"},{"$f":"IF(COUNTA(K31:P31)>0,(COUNTIF(K31:P31,\"=0\")*0+COUNTIF(K31:P31,\"=1\")*100+COUNTIF(K31:P31,\"=2\")*80+COUNTIF(K31:P31,\"=3\")*50+COUNTIF(K31:P31,\"=8\")*20+COUNTIF(K31:P31,\"=9\")*0)/COUNTA(K31:P31)/100,\"N/A\")","v":"N/A"},{"$f":"IF(COUNTA(Q31)>0,(COUNTIF(Q31,\"=0\")*0+COUNTIF(Q31,\"=1\")*100+COUNTIF(Q31,\"=2\")*80+COUNTIF(Q31,\"=3\")*50+COUNTIF(Q31,\"=8\")*20+COUNTIF(Q31,\"=9\")*0)/COUNTA(Q31)/100,\"N/A\")","v":"N/A"},{"$f":"IF(COUNTA(S31:W31)<>0,(COUNTIF(S31:W31,\"=0\")*0+COUNTIF(S31:W31,\"=1\")*100+COUNTIF(S31:W31,\"=2\")*80+COUNTIF(S31:W31,\"=3\")*50+COUNTIF(S31:W31,\"=8\")*20+COUNTIF(S31:W31,\"=9\")*0)/COUNTA(S31:W31)/100,\"N/A\")","v":"N/A"},"N/A",{"$f":"IF(COUNTA(#REF!)>0,(COUNTIF(#REF!,\"=0\")*0+COUNTIF(#REF!,\"=1\")*100+COUNTIF(#REF!,\"=2\")*80+COUNTIF(#REF!,\"=3\")*50+COUNTIF(#REF!,\"=8\")*20+COUNTIF(#REF!,\"=9\")*0)/COUNTA(#REF!)/100,\"N/A\")","v":{"$error":"#REF!"}},{"$f":"IF(COUNTA(#REF!)>0,(COUNTIF(#REF!,\"=0\")*0+COUNTIF(#REF!,\"=1\")*100+COUNTIF(#REF!,\"=2\")*80+COUNTIF(#REF!,\"=3\")*50+COUNTIF(#REF!,\"=8\")*20+COUNTIF(#REF!,\"=9\")*0)/COUNTA(#REF!)/100,\"N/A\")","v":{"$error":"#REF!"}},{"$f":"IF(AND(COUNTA(B31:X31)<>0,#REF!<>\"\"),AVERAGE(Y31:AE31),\"N/A\")","v":{"$error":"#REF!"}},1,1,1,1,1,{"$error":"#REF!"},{"$error":"#REF!"},{"$error":"#REF!"}]
[{"$nulls":24},{"$f":"IF(COUNTA(B32:G32)>0,(COUNTIF(B32:G32,\"=0\")*0+COUNTIF(B32:G32,\"=1\")*100+COUNTIF(B32:G32,\"=2\")*80+COUNTIF(B32:G32,\"=3\")*50+COUNTIF(B32:G32,\"=8\")*20+COUNTIF(B32:G32,\"=9\")*0)/COUNTA(B32:G32)/100,\"N/A\")","v":"N/A"},{"$f":"IF(COUNTA(K32:P32)>0,(COUNTIF(K32:P32,\"=0\")*0+COUNTIF(K32:P32,\"=1\")*100+COUNTIF(K32:P32,\"=2\")*80+COUNTIF(K32:P32,\"=3\")*50+COUNTIF(K32:P32,\"=8\")*20+COUNTIF(K32:P32,\"=9\")*0)/COUNTA(K32:P32)/100,\"N/A\")","v":"N/A"},{"$f":"IF(COUNTA(Q32)>0,(COUNTIF(Q32,\"=0\")*0+COUNTIF(Q32,\"=1\")*100+COUNTIF(Q32,\"=2\")*80+COUNTIF(Q32,\"=3\")*50+COUNTIF(Q32,\"=8\")*20+COUNTIF(Q32,\"=9\")*0)/COUNTA(Q32)/100,\"N/A\")","v":"N/A"},{"$f":"IF(COUNTA(S32:W32)<>0,(COUNTIF(S32:W32,\"=0\")*0+COUNTIF(S32:W32,\"=1\")*100+COUNTIF(S32:W32,\"=2\")*80+COUNTIF(S32:W32,\"=3\")*50+COUNTIF(S32:W32,\"=8\")*20+COUNTIF(S32:W32,\"=9\")*0)/COUNTA(S32:W32)/100,\"N/A\")","v":"N/A"},"N/A",{"$f":"IF(COUNTA(#REF!)>0,(COUNTIF(#REF!,\"=0\")*0+COUNTIF(#REF!,\"=1\")*100+COUNTIF(#REF!,\"=2\")*80+COUNTIF(#REF!,\"=3\")*50+COUNTIF(#REF!,\"=8\")*20+COUNTIF(#REF!,\"=9\")*0)/COUNTA(#REF!)/100,\"N/A\")","v":{"$error":"#REF!"}},{"$f":"IF(COUNTA(#REF!)>0,(COUNTIF(#REF!,\"=0\")*0+COUNTIF(#REF!,\"=1\")*100+COUNTIF(#REF!,\"=2\")*80+COUNTIF(#REF!,\"=3\")*50+COUNTIF(#REF!,\"=8\")*20+COUNTIF(#REF!,\"=9\")*0)/COUNTA(#REF!)/100,\"N/A\")","v":{"$error":"#REF!"}},{"$f":"IF(AND(COUNTA(B32:X32)<>0,#REF!<>\"\"),AVERAGE(Y32:AE32),\"N/A\")","v":{"$error":"#REF!"}},1,1,1,1,1,{"$error":"#REF!"},{"$error":"#REF!"},{"$error":"#REF!"}]
[{"$nulls":24},{"$f":"IF(COUNTA(B33:G33)>0,(COUNTIF(B33:G33,\"=0\")*0+COUNTIF(B33:G33,\"=1\")*100+COUNTIF(B33:G33,\"=2\")*80+COUNTIF(B33:G33,\"=3\")*50+COUNTIF(B33:G33,\"=8\")*20+COUNTIF(B33:G33,\"=9\")*0)/COUNTA(B33:G33)/100,\"N/A\")","v":"N/A"},{"$f":"IF(COUNTA(K33:P33)>0,(COUNTIF(K33:P33,\"=0\")*0+COUNTIF(K33:P33,\"=1\")*100+COUNTIF(K33:P33,\"=2\")*80+COUNTIF(K33:P33,\"=3\")*50+COUNTIF(K33:P33,\"=8\")*20+COUNTIF(K33:P33,\"=9\")*0)/COUNTA(K33:P33)/100,\"N/A\")","v":"N/A"},{"$f":"IF(COUNTA(Q33)>0,(COUNTIF(Q33,\"=0\")*0+COUNTIF(Q33,\"=1\")*100+COUNTIF(Q33,\"=2\")*80+COUNTIF(Q33,\"=3\")*50+COUNTIF(Q33,\"=8\")*20+COUNTIF(Q33,\"=9\")*0)/COUNTA(Q33)/100,\"N/A\")","v":"N/A"},{"$f":"IF(COUNTA(S33:W33)<>0,(COUNTIF(S33:W33,\"=0\")*0+COUNTIF(S33:W33,\"=1\")*100+COUNTIF(S33:W33,\"=2\")*80+COUNTIF(S33:W33,\"=3\")*50+COUNTIF(S33:W33,\"=8\")*20+COUNTIF(S33:W33,\"=9\")*0)/COUNTA(S33:W33)/100,\"N/A\")","v":"N/A"},"N/A",{"$f":"IF(COUNTA(#REF!)>0,(COUNTIF(#REF!,\"=0\")*0+COUNTIF(#REF!,\"=1\")*100+COUNTIF(#REF!,\"=2\")*80+COUNTIF(#REF!,\"=3\")*50+COUNTIF(#REF!,\"=8\")*20+COUNTIF(#REF!,\"=9\")*0)/COUNTA(#REF!)/100,\"N/A\")","v":{"$error":"#REF!"}},{"$f":"IF(COUNTA(#REF!)>0,(COUNTIF(#REF!,\"=0\")*0+COUNTIF(#REF!,\"=1\")*100+COUNTIF(#REF!,\"=2\")*80+COUNTIF(#REF!,\"=3\")*50+COUNTIF(#REF!,\"=8\")*20+COUNTIF(#REF!,\"=9\")*0)/COUNTA(#REF!)/100,\"N/A\")","v":{"$error":"#REF!"}},{"$f":"IF(AND(COUNTA(B33:X33)<>0,#REF!<>\"\"),AVERAGE(Y33:AE33),\"N/A\")","v":{"$error":"#REF!"}},1,1,1,1,1,{"$error":"#REF!"},{"$error":"#REF!"},{"$error":"#REF!"}]
[{"$nulls":24},{"$f":"IF(COUNTA(B34:G34)>0,(COUNTIF(B34:G34,\"=0\")*0+COUNTIF(B34:G34,\"=1\")*100+COUNTIF(B34:G34,\"=2\")*80+COUNTIF(B34:G34,\"=3\")*50+COUNTIF(B34:G34,\"=8\")*20+COUNTIF(B34:G34,\"=9\")*0)/COUNTA(B34:G34)/100,\"N/A\")","v":"N/A"},{"$f":"IF(COUNTA(K34:P34)>0,(COUNTIF(K34:P34,\"=0\")*0+COUNTIF(K34:P34,\"=1\")*100+COUNTIF(K34:P34,\"=2\")*80+COUNTIF(K34:P34,\"=3\")*50+COUNTIF(K34:P34,\"=8\")*20+COUNTIF(K34:P34,\"=9\")*0)/COUNTA(K34:P34)/100,\"N/A\")","v":"N/A"},{"$f":"IF(COUNTA(Q34)>0,(COUNTIF(Q34,\"=0\")*0+COUNTIF(Q34,\"=1\")*100+COUNTIF(Q34,\"=2\")*80+COUNTIF(Q34,\"=3\")*50+COUNTIF(Q34,\"=8\")*20+COUNTIF(Q34,\"=9\")*0)/COUNTA(Q34)/100,\"N/A\")","v":"N/A"},{"$f":"IF(COUNTA(S34:W34)<>0,(COUNTIF(S34:W34,\"=0\")*0+COUNTIF(S34:W34,\"=1\")*100+COUNTIF(S34:W34,\"=2\")*80+COUNTIF(S34:W34,\"=3\")*50+COUNTIF(S34:W34,\"=8\")*20+COUNTIF(S34:W34,\"=9\")*0)/COUNTA(S34:W34)/100,\"N/A\")","v":"N/A"},"N/A",{"$f":"IF(COUNTA(#REF!)>0,(COUNTIF(#REF!,\"=0\")*0+COUNTIF(#REF!,\"=1\")*100+COUNTIF(#REF!,\"=2\")*80+COUNTIF(#REF!,\"=3\")*50+COUNTIF(#REF!,\"=8\")*20+COUNTIF(#REF!,\"=9\")*0)/COUNTA(#REF!)/100,\"N/A\")","v":{"$error":"#REF!"}},{"$f":"IF(COUNTA(#REF!)>0,(COUNTIF(#REF!,\"=0\")*0+COUNTIF(#REF!,\"=1\")*100+COUNTIF(#REF!,\"=2\")*80+COUNTIF(#REF!,\"=3\")*50+COUNTIF(#REF!,\"=8\")*20+COUNTIF(#REF!,\"=9\")*0)/COUNTA(#REF!)/100,\"N/A\")","v":{"$error":"#REF!"}},{"$f":"IF(AND(COUNTA(B34:X34)<>0,#REF!<>\"\"),AVERAGE(Y34:AE34),\"N/A\")","v":{"$error":"#REF!"}},1,1,1,1,1,{"$error":"#REF!"},{"$error":"#REF!"},{"$error":"#REF!"}]
[{"$nulls":24},{"$f":"IF(COUNTA(B35:G35)>0,(COUNTIF(B35:G35,\"=0\")*0+COUNTIF(B35:G35,\"=1\")*100+COUNTIF(B35:G35,\"=2\")*80+COUNTIF(B35:G35,\"=3\")*50+COUNTIF(B35:G35,\"=8\")*20+COUNTIF(B35:G35,\"=9\")*0)/COUNTA(B35:G35)/100,\"N/A\")","v":"N/A"},{"$f":"IF(COUNTA(K35:P35)>0,(COUNTIF(K35:P35,\"=0\")*0+COUNTIF(K35:P35,\"=1\")*100+COUNTIF(K35:P35,\"=2\")*80+COUNTIF(K35:P35,\"=3\")*50+COUNTIF(K35:P35,\"=8\")*20+COUNTIF(K35:P35,\"=9\")*0)/COUNTA(K35:P35)/100,\"N/A\")","v":"N/A"},{"$f":"IF(COUNTA(Q35)>0,(COUNTIF(Q35,\"=0\")*0+COUNTIF(Q35,\"=1\")*100+COUNTIF(Q35,\"=2\")*80+COUNTIF(Q35,\"=3\")*50+COUNTIF(Q35,\"=8\")*20+COUNTIF(Q35,\"=9\")*0)/COUNTA(Q35)/100,\"N/A\")","v":"N/A"},{"$f":"IF(COUNTA(S35:W35)<>0,(COUNTIF(S35:W35,\"=0\")*0+COUNTIF(S35:W35,\"=1\")*100+COUNTIF(S35:W35,\"=2\")*80+COUNTIF(S35:W35,\"=3\")*50+COUNTIF(S35:W35,\"=8\")*20+COUNTIF(S35:W35,\"=9\")*0)/COUNTA(S35:W35)/100,\"N/A\")","v":"N/A"},"N/A",{"$f":"IF(COUNTA(#REF!)>0,(COUNTIF(#REF!,\"=0\")*0+COUNTIF(#REF!,\"=1\")*100+COUNTIF(#REF!,\"=2\")*80+COUNTIF(#REF!,\"=3\")*50+COUNTIF(#REF!,\"=8\")*20+COUNTIF(#REF!,\"=9\")*0)/COUNTA(#REF!)/100,\"N/A\")","v":{"$error":"#REF!"}},{"$f":"IF(COUNTA(#REF!)>0,(COUNTIF(#REF!,\"=0\")*0+COUNTIF(#REF!,\"=1\")*100+COUNTIF(#REF!,\"=2\")*80+COUNTIF(#REF!,\"=3\")*50+COUNTIF(#REF!,\"=8\")*20+COUNTIF(#REF!,\"=9\")*0)/COUNTA(#REF!)/100,\"N/A\")","v":{"$error":"#REF!"}},{"$f":"IF(AND(COUNTA(B35:X35)<>0,#REF!<>\"\"),AVERAGE(Y35:AE35),\"N/A\")","v":{"$error":"#REF!"}},1,1,1,1,1,{"$error":"#REF!"},{"$error":"#REF!"},{"$error":"#REF!"}]
[{"$nulls":24},{"$f":"IF(COUNTA(B36:G36)>0,(COUNTIF(B36:G36,\"=0\")*0+COUNTIF(B36:G36,\"=1\")*100+COUNTIF(B36:G36,\"=2\")*80+COUNTIF(B36:G36,\"=3\")*50+COUNTIF(B36:G36,\"=8\")*20+COUNTIF(B36:G36,\"=9\")*0)/COUNTA(B36:G36)/100,\"N/A\")","v":"N/A"},{"$f":"IF(COUNTA(K36:P36)>0,(COUNTIF(K36:P36,\"=0\")*0+COUNTIF(K36:P36,\"=1\")*100+COUNTIF(K36:P36,\"=2\")*80+COUNTIF(K36:P36,\"=3\")*50+COUNTIF(K36:P36,\"=8\")*20+COUNTIF(K36:P36,\"=9\")*0)/COUNTA(K36:P36)/100,\"N/A\")","v":"N/A"},{"$f":"IF(COUNTA(Q36)>0,(COUNTIF(Q36,\"=0\")*0+COUNTIF(Q36,\"=1\")*100+COUNTIF(Q36,\"=2\")*80+COUNTIF(Q36,\"=3\")*50+COUNTIF(Q36,\"=8\")*20+COUNTIF(Q36,\"=9\")*0)/COUNTA(Q36)/100,\"N/A\")","v":"N/A"},{"$f":"IF(COUNTA(S36:W36)<>0,(COUNTIF(S36:W36,\"=0\")*0+COUNTIF(S36:W36,\"=1\")*100+COUNTIF(S36:W36,\"=2\")*80+COUNTIF(S36:W36,\"=3\")*50+COUNTIF(S36:W36,\"=8\")*20+COUNTIF(S36:W36,\"=9\")*0)/COUNTA(S36:W36)/100,\"N/A\")","v":"N/A"},"N/A",{"$f":"IF(COUNTA(#REF!)>0,(COUNTIF(#REF!,\"=0\")*0+COUNTIF(#REF!,\"=1\")*100+COUNTIF(#REF!,\"=2\")*80+COUNTIF(#REF!,\"=3\")*50+COUNTIF(#REF!,\"=8\")*20+COUNTIF(#REF!,\"=9\")*0)/COUNTA(#REF!)/100,\"N/A\")","v":{"$error":"#REF!"}},{"$f":"IF(COUNTA(#REF!)>0,(COUNTIF(#REF!,\"=0\")*0+COUNTIF(#REF!,\"=1\")*100+COUNTIF(#REF!,\"=2\")*80+COUNTIF(#REF!,\"=3\")*50+COUNTIF(#REF!,\"=8\")*20+COUNTIF(#REF!,\"=9\")*0)/COUNTA(#REF!)/100,\"N/A\")","v":{"$error":"#REF!"}},{"$f":"IF(AND(COUNTA(B36:X36)<>0,#REF!<>\"\"),AVERAGE(Y36:AE36),\"N/A\")","v":{"$error":"#REF!"}},1,1,1,1,1,{"$error":"#REF!"},{"$error":"#REF!"},{"$error":"#REF!"}]
[{"$nulls":24},{"$f":"IF(COUNTA(B37:G37)>0,(COUNTIF(B37:G37,\"=0\")*0+COUNTIF(B37:G37,\"=1\")*100+COUNTIF(B37:G37,\"=2\")*80+COUNTIF(B37:G37,\"=3\")*50+COUNTIF(B37:G37,\"=8\")*20+COUNTIF(B37:G37,\"=9\")*0)/COUNTA(B37:G37)/100,\"N/A\")","v":"N/A"},{"$f":"IF(COUNTA(K37:P37)>0,(COUNTIF(K37:P37,\"=0\")*0+COUNTIF(K37:P37,\"=1\")*100+COUNTIF(K37:P37,\"=2\")*80+COUNTIF(K37:P37,\"=3\")*50+COUNTIF(K37:P37,\"=8\")*20+COUNTIF(K37:P37,\"=9\")*0)/COUNTA(K37:P37)/100,\"N/A\")","v":"N/A"},{"$f":"IF(COUNTA(Q37)>0,(COUNTIF(Q37,\"=0\")*0+COUNTIF(Q37,\"=1\")*100+COUNTIF(Q37,\"=2\")*80+COUNTIF(Q37,\"=3\")*50+COUNTIF(Q37,\"=8\")*20+COUNTIF(Q37,\"=9\")*0)/COUNTA(Q37)/100,\"N/A\")","v":"N/A"},{"$f":"IF(COUNTA(S37:W37)<>0,(COUNTIF(S37:W37,\"=0\")*0+COUNTIF(S37:W37,\"=1\")*100+COUNTIF(S37:W37,\"=2\")*80+COUNTIF(S37:W37,\"=3\")*50+COUNTIF(S37:W37,\"=8\")*20+COUNTIF(S37:W37,\"=9\")*0)/COUNTA(S37:W37)/100,\"N/A\")","v":"N/A"},"N/A",{"$f":"IF(COUNTA(#REF!)>0,(COUNTIF(#REF!,\"=0\")*0+COUNTIF(#REF!,\"=1\")*100+COUNTIF(#REF!,\"=2\")*80+COUNTIF(#REF!,\"=3\")*50+COUNTIF(#REF!,\"=8\")*20+COUNTIF(#REF!,\"=9\")*0)/COUNTA(#REF!)/100,\"N/A\")","v":{"$error":"#REF!"}},{"$f":"IF(COUNTA(#REF!)>0,(COUNTIF(#REF!,\"=0\")*0+COUNTIF(#REF!,\"=1\")*100+COUNTIF(#REF!,\"=2\")*80+COUNTIF(#REF!,\"=3\")*50+COUNTIF(#REF!,\"=8\")*20+COUNTIF(#REF!,\"=9\")*0)/COUNTA(#REF!)/100,\"N/A\")","v":{"$error":"#REF!"}},{"$f":"IF(AND(COUNTA(B37:X37)<>0,#REF!<>\"\"),AVERAGE(Y37:AE37),\"N/A\")","v":{"$error":"#REF!"}},1,1,1,1,1,{"$error":"#REF!"},{"$error":"#REF!"},{"$error":"#REF!"}]
[{"$nulls":24},{"$f":"IF(COUNTA(B38:G38)>0,(COUNTIF(B38:G38,\"=0\")*0+COUNTIF(B38:G38,\"=1\")*100+COUNTIF(B38:G38,\"=2\")*80+COUNTIF(B38:G38,\"=3\")*50+COUNTIF(B38:G38,\"=8\")*20+COUNTIF(B38:G38,\"=9\")*0)/COUNTA(B38:G38)/100,\"N/A\")","v":"N/A"},{"$f":"IF(COUNTA(K38:P38)>0,(COUNTIF(K38:P38,\"=0\")*0+COUNTIF(K38:P38,\"=1\")*100+COUNTIF(K38:P38,\"=2\")*80+COUNTIF(K38:P38,\"=3\")*50+COUNTIF(K38:P38,\"=8\")*20+COUNTIF(K38:P38,\"=9\")*0)/COUNTA(K38:P38)/100,\"N/A\")","v":"N/A"},{"$f":"IF(COUNTA(Q38)>0,(COUNTIF(Q38,\"=0\")*0+COUNTIF(Q38,\"=1\")*100+COUNTIF(Q38,\"=2\")*80+COUNTIF(Q38,\"=3\")*50+COUNTIF(Q38,\"=8\")*20+COUNTIF(Q38,\"=9\")*0)/COUNTA(Q38)/100,\"N/A\")","v":"N/A"},{"$f":"IF(COUNTA(S38:W38)<>0,(COUNTIF(S38:W38,\"=0\")*0+COUNTIF(S38:W38,\"=1\")*100+COUNTIF(S38:W38,\"=2\")*80+COUNTIF(S38:W38,\"=3\")*50+COUNTIF(S38:W38,\"=8\")*20+COUNTIF(S38:W38,\"=9\")*0)/COUNTA(S38:W38)/100,\"N/A\")","v":"N/A"},"N/A",{"$f":"IF(COUNTA(#REF!)>0,(COUNTIF(#REF!,\"=0\")*0+COUNTIF(#REF!,\"=1\")*100+COUNTIF(#REF!,\"=2\")*80+COUNTIF(#REF!,\"=3\")*50+COUNTIF(#REF!,\"=8\")*20+COUNTIF(#REF!,\"=9\")*0)/COUNTA(#REF!)/100,\"N/A\")","v":{"$error":"#REF!"}},{"$f":"IF(COUNTA(#REF!)>0,(COUNTIF(#REF!,\"=0\")*0+COUNTIF(#REF!,\"=1\")*100+COUNTIF(#REF!,\"=2\")*80+COUNTIF(#REF!,\"=3\")*50+COUNTIF(#REF!,\"=8\")*20+COUNTIF(#REF!,\"=9\")*0)/COUNTA(#REF!)/100,\"N/A\")","v":{"$error":"#REF!"}},{"$f":"IF(AND(COUNTA(B38:X38)<>0,#REF!<>\"\"),AVERAGE(Y38:AE38),\"N/A\")","v":{"$error":"#REF!"}},1,1,1,1,1,{"$error":"#REF!"},{"$error":"#REF!"},{"$error":"#REF!"}]
[{"$nulls":24},{"$f":"IF(COUNTA(B39:G39)>0,(COUNTIF(B39:G39,\"=0\")*0+COUNTIF(B39:G39,\"=1\")*100+COUNTIF(B39:G39,\"=2\")*80+COUNTIF(B39:G39,\"=3\")*50+COUNTIF(B39:G39,\"=8\")*20+COUNTIF(B39:G39,\"=9\")*0)/COUNTA(B39:G39)/100,\"N/A\")","v":"N/A"},{"$f":"IF(COUNTA(K39:P39)>0,(COUNTIF(K39:P39,\"=0\")*0+COUNTIF(K39:P39,\"=1\")*100+COUNTIF(K39:P39,\"=2\")*80+COUNTIF(K39:P39,\"=3\")*50+COUNTIF(K39:P39,\"=8\")*20+COUNTIF(K39:P39,\"=9\")*0)/COUNTA(K39:P39)/100,\"N/A\")","v":"N/A"},{"$f":"IF(COUNTA(Q39)>0,(COUNTIF(Q39,\"=0\")*0+COUNTIF(Q39,\"=1\")*100+COUNTIF(Q39,\"=2\")*80+COUNTIF(Q39,\"=3\")*50+COUNTIF(Q39,\"=8\")*20+COUNTIF(Q39,\"=9\")*0)/COUNTA(Q39)/100,\"N/A\")","v":"N/A"},{"$f":"IF(COUNTA(S39:W39)<>0,(COUNTIF(S39:W39,\"=0\")*0+COUNTIF(S39:W39,\"=1\")*100+COUNTIF(S39:W39,\"=2\")*80+COUNTIF(S39:W39,\"=3\")*50+COUNTIF(S39:W39,\"=8\")*20+COUNTIF(S39:W39,\"=9\")*0)/COUNTA(S39:W39)/100,\"N/A\")","v":"N/A"},"N/A",{"$f":"IF(COUNTA(#REF!)>0,(COUNTIF(#REF!,\"=0\")*0+COUNTIF(#REF!,\"=1\")*100+COUNTIF(#REF!,\"=2\")*80+COUNTIF(#REF!,\"=3\")*50+COUNTIF(#REF!,\"=8\")*20+COUNTIF(#REF!,\"=9\")*0)/COUNTA(#REF!)/100,\"N/A\")","v":{"$error":"#REF!"}},{"$f":"IF(COUNTA(#REF!)>0,(COUNTIF(#REF!,\"=0\")*0+COUNTIF(#REF!,\"=1\")*100+COUNTIF(#REF!,\"=2\")*80+COUNTIF(#REF!,\"=3\")*50+COUNTIF(#REF!,\"=8\")*20+COUNTIF(#REF!,\"=9\")*0)/COUNTA(#REF!)/100,\"N/A\")","v":{"$error":"#REF!"}},{"$f":"IF(AND(COUNTA(B39:X39)<>0,#REF!<>\"\"),AVERAGE(Y39:AE39),\"N/A\")","v":{"$error":"#REF!"}},1,1,1,1,1,{"$error":"#REF!"},{"$error":"#REF!"},{"$error":"#REF!"}]
[{"$nulls":24},{"$f":"IF(COUNTA(B40:G40)>0,(COUNTIF(B40:G40,\"=0\")*0+COUNTIF(B40:G40,\"=1\")*100+COUNTIF(B40:G40,\"=2\")*80+COUNTIF(B40:G40,\"=3\")*50+COUNTIF(B40:G40,\"=8\")*20+COUNTIF(B40:G40,\"=9\")*0)/COUNTA(B40:G40)/100,\"N/A\")","v":"N/A"},{"$f":"IF(COUNTA(K40:P40)>0,(COUNTIF(K40:P40,\"=0\")*0+COUNTIF(K40:P40,\"=1\")*100+COUNTIF(K40:P40,\"=2\")*80+COUNTIF(K40:P40,\"=3\")*50+COUNTIF(K40:P40,\"=8\")*20+COUNTIF(K40:P40,\"=9\")*0)/COUNTA(K40:P40)/100,\"N/A\")","v":"N/A"},{"$f":"IF(COUNTA(Q40)>0,(COUNTIF(Q40,\"=0\")*0+COUNTIF(Q40,\"=1\")*100+COUNTIF(Q40,\"=2\")*80+COUNTIF(Q40,\"=3\")*50+COUNTIF(Q40,\"=8\")*20+COUNTIF(Q40,\"=9\")*0)/COUNTA(Q40)/100,\"N/A\")","v":"N/A"},{"$f":"IF(COUNTA(S40:W40)<>0,(COUNTIF(S40:W40,\"=0\")*0+COUNTIF(S40:W40,\"=1\")*100+COUNTIF(S40:W40,\"=2\")*80+COUNTIF(S40:W40,\"=3\")*50+COUNTIF(S40:W40,\"=8\")*20+COUNTIF(S40:W40,\"=9\")*0)/COUNTA(S40:W40)/100,\"N/A\")","v":"N/A"},"N/A",{"$f":"IF(COUNTA(#REF!)>0,(COUNTIF(#REF!,\"=0\")*0+COUNTIF(#REF!,\"=1\")*100+COUNTIF(#REF!,\"=2\")*80+COUNTIF(#REF!,\"=3\")*50+COUNTIF(#REF!,\"=8\")*20+COUNTIF(#REF!,\"=9\")*0)/COUNTA(#REF!)/100,\"N/A\")","v":{"$error":"#REF!"}},{"$f":"IF(COUNTA(#REF!)>0,(COUNTIF(#REF!,\"=0\")*0+COUNTIF(#REF!,\"=1\")*100+COUNTIF(#REF!,\"=2\")*80+COUNTIF(#REF!,\"=3\")*50+COUNTIF(#REF!,\"=8\")*20+COUNTIF(#REF!,\"=9\")*0)/COUNTA(#REF!)/100,\"N/A\")","v":{"$error":"#REF!"}},{"$f":"IF(AND(COUNTA(B40:X40)<>0,#REF!<>\"\"),AVERAGE(Y40:AE40),\"N/A\")","v":{"$error":"#REF!"}},1,1,1,1,1,{"$error":"#REF!"},{"$error":"#REF!"},{"$error":"#REF!"}]
[{"$nulls":24},{"$f":"IF(COUNTA(B41:G41)>0,(COUNTIF(B41:G41,\"=0\")*0+COUNTIF(B41:G41,\"=1\")*100+COUNTIF(B41:G41,\"=2\")*80+COUNTIF(B41:G41,\"=3\")*50+COUNTIF(B41:G41,\"=8\")*20+COUNTIF(B41:G41,\"=9\")*0)/COUNTA(B41:G41)/100,\"N/A\")","v":"N/A"},{"$f":"IF(COUNTA(K41:P41)>0,(COUNTIF(K41:P41,\"=0\")*0+COUNTIF(K41:P41,\"=1\")*100+COUNTIF(K41:P41,\"=2\")*80+COUNTIF(K41:P41,\"=3\")*50+COUNTIF(K41:P41,\"=8\")*20+COUNTIF(K41:P41,\"=9\")*0)/COUNTA(K41:P41)/100,\"N/A\")","v":"N/A"},{"$f":"IF(COUNTA(Q41)>0,(COUNTIF(Q41,\"=0\")*0+COUNTIF(Q41,\"=1\")*100+COUNTIF(Q41,\"=2\")*80+COUNTIF(Q41,\"=3\")*50+COUNTIF(Q41,\"=8\")*20+COUNTIF(Q41,\"=9\")*0)/COUNTA(Q41)/100,\"N/A\")","v":"N/A"},{"$f":"IF(COUNTA(S41:W41)<>0,(COUNTIF(S41:W41,\"=0\")*0+COUNTIF(S41:W41,\"=1\")*100+COUNTIF(S41:W41,\"=2\")*80+COUNTIF(S41:W41,\"=3\")*50+COUNTIF(S41:W41,\"=8\")*20+COUNTIF(S41:W41,\"=9\")*0)/COUNTA(S41:W41)/100,\"N/A\")","v":"N/A"},"N/A",{"$f":"IF(COUNTA(#REF!)>0,(COUNTIF(#REF!,\"=0\")*0+COUNTIF(#REF!,\"=1\")*100+COUNTIF(#REF!,\"=2\")*80+COUNTIF(#REF!,\"=3\")*50+COUNTIF(#REF!,\"=8\")*20+COUNTIF(#REF!,\"=9\")*0)/COUNTA(#REF!)/100,\"N/A\")","v":{"$error":"#REF!"}},{"$f":"IF(COUNTA(#REF!)>0,(COUNTIF(#REF!,\"=0\")*0+COUNTIF(#REF!,\"=1\")*100+COUNTIF(#REF!,\"=2\")*80+COUNTIF(#REF!,\"=3\")*50+COUNTIF(#REF!,\"=8\")*20+COUNTIF(#REF!,\"=9\")*0)/COUNTA(#REF!)/100,\"N/A\")","v":{"$error":"#REF!"}},{"$f":"IF(AND(COUNTA(B41:X41)<>0,#REF!<>\"\"),AVERAGE(Y41:AE41),\"N/A\")","v":{"$error":"#REF!"}},1,1,1,1,1,{"$error":"#REF!"},{"$error":"#REF!"},{"$error":"#REF!"}]
[{"$nulls":24},{"$f":"IF(COUNTA(B42:G42)>0,(COUNTIF(B42:G42,\"=0\")*0+COUNTIF(B42:G42,\"=1\")*100+COUNTIF(B42:G42,\"=2\")*80+COUNTIF(B42:G42,\"=3\")*50+COUNTIF(B42:G42,\"=8\")*20+COUNTIF(B42:G42,\"=9\")*0)/COUNTA(B42:G42)/100,\"N/A\")","v":"N/A"},{"$f":"IF(COUNTA(K42:P42)>0,(COUNTIF(K42:P42,\"=0\")*0+COUNTIF(K42:P42,\"=1\")*100+COUNTIF(K42:P42,\"=2\")*80+COUNTIF(K42:P42,\"=3\")*50+COUNTIF(K42:P42,\"=8\")*20+COUNTIF(K42:P42,\"=9\")*0)/COUNTA(K42:P42)/100,\"N/A\")","v":"N/A"},{"$f":"IF(COUNTA(Q42)>0,(COUNTIF(Q42,\"=0\")*0+COUNTIF(Q42,\"=1\")*100+COUNTIF(Q42,\"=2\")*80+COUNTIF(Q42,\"=3\")*50+COUNTIF(Q42,\"=8\")*20+COUNTIF(Q42,\"=9\")*0)/COUNTA(Q42)/100,\"N/A\")","v":"N/A"},{"$f":"IF(COUNTA(S42:W42)<>0,(COUNTIF(S42:W42,\"=0\")*0+COUNTIF(S42:W42,\"=1\")*100+COUNTIF(S42:W42,\"=2\")*80+COUNTIF(S42:W42,\"=3\")*50+COUNTIF(S42:W42,\"=8\")*20+COUNTIF(S42:W42,\"=9\")*0)/COUNTA(S42:W42)/100,\"N/A\")","v":"N/A"},"N/A",{"$f":"IF(COUNTA(#REF!)>0,(COUNTIF(#REF!,\"=0\")*0+COUNTIF(#REF!,\"=1\")*100+COUNTIF(#REF!,\"=2\")*80+COUNTIF(#REF!,\"=3\")*50+COUNTIF(#REF!,\"=8\")*20+COUNTIF(#REF!,\"=9\")*0)/COUNTA(#REF!)/100,\"N/A\")","v":{"$error":"#REF!"}},{"$f":"IF(COUNTA(#REF!)>0,(COUNTIF(#REF!,\"=0\")*0+COUNTIF(#REF!,\"=1\")*100+COUNTIF(#REF!,\"=2\")*80+COUNTIF(#REF!,\"=3\")*50+COUNTIF(#REF!,\"=8\")*20+COUNTIF(#REF!,\"=9\")*0)/COUNTA(#REF!)/100,\"N/A\")","v":{"$error":"#REF!"}},{"$f":"IF(AND(COUNTA(B42:X42)<>0,#REF!<>\"\"),AVERAGE(Y42:AE42),\"N/A\")","v":{"$error":"#REF!"}},1,1,1,1,1,{"$error":"#REF!"},{"$error":"#REF!"},{"$error":"#REF!"}]
[{"$nulls":24},{"$f":"IF(COUNTA(B43:G43)>0,(COUNTIF(B43:G43,\"=0\")*0+COUNTIF(B43:G43,\"=1\")*100+COUNTIF(B43:G43,\"=2\")*80+COUNTIF(B43:G43,\"=3\")*50+COUNTIF(B43:G43,\"=8\")*20+COUNTIF(B43:G43,\"=9\")*0)/COUNTA(B43:G43)/100,\"N/A\")","v":"N/A"},{"$f":"IF(COUNTA(K43:P43)>0,(COUNTIF(K43:P43,\"=0\")*0+COUNTIF(K43:P43,\"=1\")*100+COUNTIF(K43:P43,\"=2\")*80+COUNTIF(K43:P43,\"=3\")*50+COUNTIF(K43:P43,\"=8\")*20+COUNTIF(K43:P43,\"=9\")*0)/COUNTA(K43:P43)/100,\"N/A\")","v":"N/A"},{"$f":"IF(COUNTA(Q43)>0,(COUNTIF(Q43,\"=0\")*0+COUNTIF(Q43,\"=1\")*100+COUNTIF(Q43,\"=2\")*80+COUNTIF(Q43,\"=3\")*50+COUNTIF(Q43,\"=8\")*20+COUNTIF(Q43,\"=9\")*0)/COUNTA(Q43)/100,\"N/A\")","v":"N/A"},{"$f":"IF(COUNTA(S43:W43)<>0,(COUNTIF(S43:W43,\"=0\")*0+COUNTIF(S43:W43,\"=1\")*100+COUNTIF(S43:W43,\"=2\")*80+COUNTIF(S43:W43,\"=3\")*50+COUNTIF(S43:W43,\"=8\")*20+COUNTIF(S43:W43,\"=9\")*0)/COUNTA(S43:W43)/100,\"N/A\")","v":"N/A"},"N/A",{"$f":"IF(COUNTA(#REF!)>0,(COUNTIF(#REF!,\"=0\")*0+COUNTIF(#REF!,\"=1\")*100+COUNTIF(#REF!,\"=2\")*80+COUNTIF(#REF!,\"=3\")*50+COUNTIF(#REF!,\"=8\")*20+COUNTIF(#REF!,\"=9\")*0)/COUNTA(#REF!)/100,\"N/A\")","v":{"$error":"#REF!"}},{"$f":"IF(COUNTA(#REF!)>0,(COUNTIF(#REF!,\"=0\")*0+COUNTIF(#REF!,\"=1\")*100+COUNTIF(#REF!,\"=2\")*80+COUNTIF(#REF!,\"=3\")*50+COUNTIF(#REF!,\"=8\")*20+COUNTIF(#REF!,\"=9\")*0)/COUNTA(#REF!)/100,\"N/A\")","v":{"$error":"#REF!"}},{"$f":"IF(AND(COUNTA(B43:X43)<>0,#REF!<>\"\"),AVERAGE(Y43:AE43),\"N/A\")","v":{"$error":"#REF!"}},1,1,1,1,1,{"$error":"#REF!"},{"$error":"#REF!"},{"$error":"#REF!"}]
[{"$nulls":24},{"$f":"IF(COUNTA(B44:G44)>0,(COUNTIF(B44:G44,\"=0\")*0+COUNTIF(B44:G44,\"=1\")*100+COUNTIF(B44:G44,\"=2\")*80+COUNTIF(B44:G44,\"=3\")*50+COUNTIF(B44:G44,\"=8\")*20+COUNTIF(B44:G44,\"=9\")*0)/COUNTA(B44:G44)/100,\"N/A\")","v":"N/A"},{"$f":"IF(COUNTA(K44:P44)>0,(COUNTIF(K44:P44,\"=0\")*0+COUNTIF(K44:P44,\"=1\")*100+COUNTIF(K44:P44,\"=2\")*80+COUNTIF(K44:P44,\"=3\")*50+COUNTIF(K44:P44,\"=8\")*20+COUNTIF(K44:P44,\"=9\")*0)/COUNTA(K44:P44)/100,\"N/A\")","v":"N/A"},{"$f":"IF(COUNTA(Q44)>0,(COUNTIF(Q44,\"=0\")*0+COUNTIF(Q44,\"=1\")*100+COUNTIF(Q44,\"=2\")*80+COUNTIF(Q44,\"=3\")*50+COUNTIF(Q44,\"=8\")*20+COUNTIF(Q44,\"=9\")*0)/COUNTA(Q44)/100,\"N/A\")","v":"N/A"},{"$f":"IF(COUNTA(S44:W44)<>0,(COUNTIF(S44:W44,\"=0\")*0+COUNTIF(S44:W44,\"=1\")*100+COUNTIF(S44:W44,\"=2\")*80+COUNTIF(S44:W44,\"=3\")*50+COUNTIF(S44:W44,\"=8\")*20+COUNTIF(S44:W44,\"=9\")*0)/COUNTA(S44:W44)/100,\"N/A\")","v":"N/A"},"N/A",{"$f":"IF(COUNTA(#REF!)>0,(COUNTIF(#REF!,\"=0\")*0+COUNTIF(#REF!,\"=1\")*100+COUNTIF(#REF!,\"=2\")*80+COUNTIF(#REF!,\"=3\")*50+COUNTIF(#REF!,\"=8\")*20+COUNTIF(#REF!,\"=9\")*0)/COUNTA(#REF!)/100,\"N/A\")","v":{"$error":"#REF!"}},{"$f":"IF(COUNTA(#REF!)>0,(COUNTIF(#REF!,\"=0\")*0+COUNTIF(#REF!,\"=1\")*100+COUNTIF(#REF!,\"=2\")*80+COUNTIF(#REF!,\"=3\")*50+COUNTIF(#REF!,\"=8\")*20+COUNTIF(#REF!,\"=9\")*0)/COUNTA(#REF!)/100,\"N/A\")","v":{"$error":"#REF!"}},{"$f":"IF(AND(COUNTA(B44:X44)<>0,#REF!<>\"\"),AVERAGE(Y44:AE44),\"N/A\")","v":{"$error":"#REF!"}},1,1,1,1,1,{"$error":"#REF!"},{"$error":"#REF!"},{"$error":"#REF!"}]
[{"$nulls":24},{"$f":"IF(COUNTA(B45:G45)>0,(COUNTIF(B45:G45,\"=0\")*0+COUNTIF(B45:G45,\"=1\")*100+COUNTIF(B45:G45,\"=2\")*80+COUNTIF(B45:G45,\"=3\")*50+COUNTIF(B45:G45,\"=8\")*20+COUNTIF(B45:G45,\"=9\")*0)/COUNTA(B45:G45)/100,\"N/A\")","v":"N/A"},{"$f":"IF(COUNTA(K45:P45)>0,(COUNTIF(K45:P45,\"=0\")*0+COUNTIF(K45:P45,\"=1\")*100+COUNTIF(K45:P45,\"=2\")*80+COUNTIF(K45:P45,\"=3\")*50+COUNTIF(K45:P45,\"=8\")*20+COUNTIF(K45:P45,\"=9\")*0)/COUNTA(K45:P45)/100,\"N/A\")","v":"N/A"},{"$f":"IF(COUNTA(Q45)>0,(COUNTIF(Q45,\"=0\")*0+COUNTIF(Q45,\"=1\")*100+COUNTIF(Q45,\"=2\")*80+COUNTIF(Q45,\"=3\")*50+COUNTIF(Q45,\"=8\")*20+COUNTIF(Q45,\"=9\")*0)/COUNTA(Q45)/100,\"N/A\")","v":"N/A"},{"$f":"IF(COUNTA(S45:W45)<>0,(COUNTIF(S45:W45,\"=0\")*0+COUNTIF(S45:W45,\"=1\")*100+COUNTIF(S45:W45,\"=2\")*80+COUNTIF(S45:W45,\"=3\")*50+COUNTIF(S45:W45,\"=8\")*20+COUNTIF(S45:W45,\"=9\")*0)/COUNTA(S45:W45)/100,\"N/A\")","v":"N/A"},"N/A",{"$f":"IF(COUNTA(#REF!)>0,(COUNTIF(#REF!,\"=0\")*0+COUNTIF(#REF!,\"=1\")*100+COUNTIF(#REF!,\"=2\")*80+COUNTIF(#REF!,\"=3\")*50+COUNTIF(#REF!,\"=8\")*20+COUNTIF(#REF!,\"=9\")*0)/COUNTA(#REF!)/100,\"N/A\")","v":{"$error":"#REF!"}},{"$f":"IF(COUNTA(#REF!)>0,(COUNTIF(#REF!,\"=0\")*0+COUNTIF(#REF!,\"=1\")*100+COUNTIF(#REF!,\"=2\")*80+COUNTIF(#REF!,\"=3\")*50+COUNTIF(#REF!,\"=8\")*20+COUNTIF(#REF!,\"=9\")*0)/COUNTA(#REF!)/100,\"N/A\")","v":{"$error":"#REF!"}},{"$f":"IF(AND(COUNTA(B45:X45)<>0,#REF!<>\"\"),AVERAGE(Y45:AE45),\"N/A\")","v":{"$error":"#REF!"}},1,1,1,1,1,{"$error":"#REF!"},{"$error":"#REF!"},{"$error":"#REF!"}]
[{"$nulls":24},{"$f":"IF(COUNTA(B46:G46)>0,(COUNTIF(B46:G46,\"=0\")*0+COUNTIF(B46:G46,\"=1\")*100+COUNTIF(B46:G46,\"=2\")*80+COUNTIF(B46:G46,\"=3\")*50+COUNTIF(B46:G46,\"=8\")*20+COUNTIF(B46:G46,\"=9\")*0)/COUNTA(B46:G46)/100,\"N/A\")","v":"N/A"},{"$f":"IF(COUNTA(K46:P46)>0,(COUNTIF(K46:P46,\"=0\")*0+COUNTIF(K46:P46,\"=1\")*100+COUNTIF(K46:P46,\"=2\")*80+COUNTIF(K46:P46,\"=3\")*50+COUNTIF(K46:P46,\"=8\")*20+COUNTIF(K46:P46,\"=9\")*0)/COUNTA(K46:P46)/100,\"N/A\")","v":"N/A"},{"$f":"IF(COUNTA(Q46)>0,(COUNTIF(Q46,\"=0\")*0+COUNTIF(Q46,\"=1\")*100+COUNTIF(Q46,\"=2\")*80+COUNTIF(Q46,\"=3\")*50+COUNTIF(Q46,\"=8\")*20+COUNTIF(Q46,\"=9\")*0)/COUNTA(Q46)/100,\"N/A\")","v":"N/A"},{"$f":"IF(COUNTA(S46:W46)<>0,(COUNTIF(S46:W46,\"=0\")*0+COUNTIF(S46:W46,\"=1\")*100+COUNTIF(S46:W46,\"=2\")*80+COUNTIF(S46:W46,\"=3\")*50+COUNTIF(S46:W46,\"=8\")*20+COUNTIF(S46:W46,\"=9\")*0)/COUNTA(S46:W46)/100,\"N/A\")","v":"N/A"},"N/A",{"$f":"IF(COUNTA(#REF!)>0,(COUNTIF(#REF!,\"=0\")*0+COUNTIF(#REF!,\"=1\")*100+COUNTIF(#REF!,\"=2\")*80+COUNTIF(#REF!,\"=3\")*50+COUNTIF(#REF!,\"=8\")*20+COUNTIF(#REF!,\"=9\")*0)/COUNTA(#REF!)/100,\"N/A\")","v":{"$error":"#REF!"}},{"$f":"IF(COUNTA(#REF!)>0,(COUNTIF(#REF!,\"=0\")*0+COUNTIF(#REF!,\"=1\")*100+COUNTIF(#REF!,\"=2\")*80+COUNTIF(#REF!,\"=3\")*50+COUNTIF(#REF!,\"=8\")*20+COUNTIF(#REF!,\"=9\")*0)/COUNTA(#REF!)/100,\"N/A\")","v":{"$error":"#REF!"}},{"$f":"IF(AND(COUNTA(B46:X46)<>0,#REF!<>\"\"),AVERAGE(Y46:AE46),\"N/A\")","v":{"$error":"#REF!"}},1,1,1,1,1,{"$error":"#REF!"},{"$error":"#REF!"},{"$error":"#REF!"}]
[{"$nulls":24},{"$f":"IF(COUNTA(B47:G47)>0,(COUNTIF(B47:G47,\"=0\")*0+COUNTIF(B47:G47,\"=1\")*100+COUNTIF(B47:G47,\"=2\")*80+COUNTIF(B47:G47,\"=3\")*50+COUNTIF(B47:G47,\"=8\")*20+COUNTIF(B47:G47,\"=9\")*0)/COUNTA(B47:G47)/100,\"N/A\")","v":"N/A"},{"$f":"IF(COUNTA(K47:P47)>0,(COUNTIF(K47:P47,\"=0\")*0+COUNTIF(K47:P47,\"=1\")*100+COUNTIF(K47:P47,\"=2\")*80+COUNTIF(K47:P47,\"=3\")*50+COUNTIF(K47:P47,\"=8\")*20+COUNTIF(K47:P47,\"=9\")*0)/COUNTA(K47:P47)/100,\"N/A\")","v":"N/A"},{"$f":"IF(COUNTA(Q47)>0,(COUNTIF(Q47,\"=0\")*0+COUNTIF(Q47,\"=1\")*100+COUNTIF(Q47,\"=2\")*80+COUNTIF(Q47,\"=3\")*50+COUNTIF(Q47,\"=8\")*20+COUNTIF(Q47,\"=9\")*0)/COUNTA(Q47)/100,\"N/A\")","v":"N/A"},{"$f":"IF(COUNTA(S47:W47)<>0,(COUNTIF(S47:W47,\"=0\")*0+COUNTIF(S47:W47,\"=1\")*100+COUNTIF(S47:W47,\"=2\")*80+COUNTIF(S47:W47,\"=3\")*50+COUNTIF(S47:W47,\"=8\")*20+COUNTIF(S47:W47,\"=9\")*0)/COUNTA(S47:W47)/100,\"N/A\")","v":"N/A"},"N/A",{"$f":"IF(COUNTA(#REF!)>0,(COUNTIF(#REF!,\"=0\")*0+COUNTIF(#REF!,\"=1\")*100+COUNTIF(#REF!,\"=2\")*80+COUNTIF(#REF!,\"=3\")*50+COUNTIF(#REF!,\"=8\")*20+COUNTIF(#REF!,\"=9\")*0)/COUNTA(#REF!)/100,\"N/A\")","v":{"$error":"#REF!"}},{"$f":"IF(COUNTA(#REF!)>0,(COUNTIF(#REF!,\"=0\")*0+COUNTIF(#REF!,\"=1\")*100+COUNTIF(#REF!,\"=2\")*80+COUNTIF(#REF!,\"=3\")*50+COUNTIF(#REF!,\"=8\")*20+COUNTIF(#REF!,\"=9\")*0)/COUNTA(#REF!)/100,\"N/A\")","v":{"$error":"#REF!"}},{"$f":"IF(AND(COUNTA(B47:X47)<>0,#REF!<>\"\"),AVERAGE(Y47:AE47),\"N/A\")","v":{"$error":"#REF!"}},1,1,1,1,1,{"$error":"#REF!"},{"$error":"#REF!"},{"$error":"#REF!"}]
[{"$nulls":24},{"$f":"IF(COUNTA(B48:G48)>0,(COUNTIF(B48:G48,\"=0\")*0+COUNTIF(B48:G48,\"=1\")*100+COUNTIF(B48:G48,\"=2\")*80+COUNTIF(B48:G48,\"=3\")*50+COUNTIF(B48:G48,\"=8\")*20+COUNTIF(B48:G48,\"=9\")*0)/COUNTA(B48:G48)/100,\"N/A\")","v":"N/A"},{"$f":"IF(COUNTA(K48:P48)>0,(COUNTIF(K48:P48,\"=0\")*0+COUNTIF(K48:P48,\"=1\")*100+COUNTIF(K48:P48,\"=2\")*80+COUNTIF(K48:P48,\"=3\")*50+COUNTIF(K48:P48,\"=8\")*20+COUNTIF(K48:P48,\"=9\")*0)/COUNTA(K48:P48)/100,\"N/A\")","v":"N/A"},{"$f":"IF(COUNTA(Q48)>0,(COUNTIF(Q48,\"=0\")*0+COUNTIF(Q48,\"=1\")*100+COUNTIF(Q48,\"=2\")*80+COUNTIF(Q48,\"=3\")*50+COUNTIF(Q48,\"=8\")*20+COUNTIF(Q48,\"=9\")*0)/COUNTA(Q48)/100,\"N/A\")","v":"N/A"},{"$f":"IF(COUNTA(S48:W48)<>0,(COUNTIF(S48:W48,\"=0\")*0+COUNTIF(S48:W48,\"=1\")*100+COUNTIF(S48:W48,\"=2\")*80+COUNTIF(S48:W48,\"=3\")*50+COUNTIF(S48:W48,\"=8\")*20+COUNTIF(S48:W48,\"=9\")*0)/COUNTA(S48:W48)/100,\"N/A\")","v":"N/A"},"N/A",{"$f":"IF(COUNTA(#REF!)>0,(COUNTIF(#REF!,\"=0\")*0+COUNTIF(#REF!,\"=1\")*100+COUNTIF(#REF!,\"=2\")*80+COUNTIF(#REF!,\"=3\")*50+COUNTIF(#REF!,\"=8\")*20+COUNTIF(#REF!,\"=9\")*0)/COUNTA(#REF!)/100,\"N/A\")","v":{"$error":"#REF!"}},{"$f":"IF(COUNTA(#REF!)>0,(COUNTIF(#REF!,\"=0\")*0+COUNTIF(#REF!,\"=1\")*100+COUNTIF(#REF!,\"=2\")*80+COUNTIF(#REF!,\"=3\")*50+COUNTIF(#REF!,\"=8\")*20+COUNTIF(#REF!,\"=9\")*0)/COUNTA(#REF!)/100,\"N/A\")","v":{"$error":"#REF!"}},{"$f":"IF(AND(COUNTA(B48:X48)<>0,#REF!<>\"\"),AVERAGE(Y48:AE48),\"N/A\")","v":{"$error":"#REF!"}},1,1,1,1,1,{"$error":"#REF!"},{"$error":"#REF!"},{"$error":"#REF!"}]
[{"$nulls":24},{"$f":"IF(COUNTA(B49:G49)>0,(COUNTIF(B49:G49,\"=0\")*0+COUNTIF(B49:G49,\"=1\")*100+COUNTIF(B49:G49,\"=2\")*80+COUNTIF(B49:G49,\"=3\")*50+COUNTIF(B49:G49,\"=8\")*20+COUNTIF(B49:G49,\"=9\")*0)/COUNTA(B49:G49)/100,\"N/A\")","v":"N/A"},{"$f":"IF(COUNTA(K49:P49)>0,(COUNTIF(K49:P49,\"=0\")*0+COUNTIF(K49:P49,\"=1\")*100+COUNTIF(K49:P49,\"=2\")*80+COUNTIF(K49:P49,\"=3\")*50+COUNTIF(K49:P49,\"=8\")*20+COUNTIF(K49:P49,\"=9\")*0)/COUNTA(K49:P49)/100,\"N/A\")","v":"N/A"},{"$f":"IF(COUNTA(Q49)>0,(COUNTIF(Q49,\"=0\")*0+COUNTIF(Q49,\"=1\")*100+COUNTIF(Q49,\"=2\")*80+COUNTIF(Q49,\"=3\")*50+COUNTIF(Q49,\"=8\")*20+COUNTIF(Q49,\"=9\")*0)/COUNTA(Q49)/100,\"N/A\")","v":"N/A"},{"$f":"IF(COUNTA(S49:W49)<>0,(COUNTIF(S49:W49,\"=0\")*0+COUNTIF(S49:W49,\"=1\")*100+COUNTIF(S49:W49,\"=2\")*80+COUNTIF(S49:W49,\"=3\")*50+COUNTIF(S49:W49,\"=8\")*20+COUNTIF(S49:W49,\"=9\")*0)/COUNTA(S49:W49)/100,\"N/A\")","v":"N/A"},"N/A",{"$f":"IF(COUNTA(#REF!)>0,(COUNTIF(#REF!,\"=0\")*0+COUNTIF(#REF!,\"=1\")*100+COUNTIF(#REF!,\"=2\")*80+COUNTIF(#REF!,\"=3\")*50+COUNTIF(#REF!,\"=8\")*20+COUNTIF(#REF!,\"=9\")*0)/COUNTA(#REF!)/100,\"N/A\")","v":{"$error":"#REF!"}},{"$f":"IF(COUNTA(#REF!)>0,(COUNTIF(#REF!,\"=0\")*0+COUNTIF(#REF!,\"=1\")*100+COUNTIF(#REF!,\"=2\")*80+COUNTIF(#REF!,\"=3\")*50+COUNTIF(#REF!,\"=8\")*20+COUNTIF(#REF!,\"=9\")*0)/COUNTA(#REF!)/100,\"N/A\")","v":{"$error":"#REF!"}},{"$f":"IF(AND(COUNTA(B49:X49)<>0,#REF!<>\"\"),AVERAGE(Y49:AE49),\"N/A\")","v":{"$error":"#REF!"}},{"$f":"IF(Y49=\"N/A\",1,\"\")","v":1},1,1,1,1,{"$error":"#REF!"},{"$error":"#REF!"},{"$error":"#REF!"}]
[{"$nulls":24},{"$f":"IF(COUNTA(B50:G50)>0,(COUNTIF(B50:G50,\"=0\")*0+COUNTIF(B50:G50,\"=1\")*100+COUNTIF(B50:G50,\"=2\")*80+COUNTIF(B50:G50,\"=3\")*50+COUNTIF(B50:G50,\"=8\")*20+COUNTIF(B50:G50,\"=9\")*0)/COUNTA(B50:G50)/100,\"N/A\")","v":"N/A"},{"$f":"IF(COUNTA(K50:P50)>0,(COUNTIF(K50:P50,\"=0\")*0+COUNTIF(K50:P50,\"=1\")*100+COUNTIF(K50:P50,\"=2\")*80+COUNTIF(K50:P50,\"=3\")*50+COUNTIF(K50:P50,\"=8\")*20+COUNTIF(K50:P50,\"=9\")*0)/COUNTA(K50:P50)/100,\"N/A\")","v":"N/A"},{"$f":"IF(COUNTA(Q50)>0,(COUNTIF(Q50,\"=0\")*0+COUNTIF(Q50,\"=1\")*100+COUNTIF(Q50,\"=2\")*80+COUNTIF(Q50,\"=3\")*50+COUNTIF(Q50,\"=8\")*20+COUNTIF(Q50,\"=9\")*0)/COUNTA(Q50)/100,\"N/A\")","v":"N/A"},{"$f":"IF(COUNTA(S50:W50)<>0,(COUNTIF(S50:W50,\"=0\")*0+COUNTIF(S50:W50,\"=1\")*100+COUNTIF(S50:W50,\"=2\")*80+COUNTIF(S50:W50,\"=3\")*50+COUNTIF(S50:W50,\"=8\")*20+COUNTIF(S50:W50,\"=9\")*0)/COUNTA(S50:W50)/100,\"N/A\")","v":"N/A"},"N/A",{"$f":"IF(COUNTA(#REF!)>0,(COUNTIF(#REF!,\"=0\")*0+COUNTIF(#REF!,\"=1\")*100+COUNTIF(#REF!,\"=2\")*80+COUNTIF(#REF!,\"=3\")*50+COUNTIF(#REF!,\"=8\")*20+COUNTIF(#REF!,\"=9\")*0)/COUNTA(#REF!)/100,\"N/A\")","v":{"$error":"#REF!"}},{"$f":"IF(COUNTA(#REF!)>0,(COUNTIF(#REF!,\"=0\")*0+COUNTIF(#REF!,\"=1\")*100+COUNTIF(#REF!,\"=2\")*80+COUNTIF(#REF!,\"=3\")*50+COUNTIF(#REF!,\"=8\")*20+COUNTIF(#REF!,\"=9\")*0)/COUNTA(#REF!)/100,\"N/A\")","v":{"$error":"#REF!"}},{"$f":"IF(AND(COUNTA(B50:X50)<>0,#REF!<>\"\"),AVERAGE(Y50:AE50),\"N/A\")","v":{"$error":"#REF!"}},1,1,1,1,1,{"$error":"#REF!"},{"$error":"#REF!"},{"$error":"#REF!"}]
[{"$nulls":24},{"$f":"IF(COUNTA(B51:G51)>0,(COUNTIF(B51:G51,\"=0\")*0+COUNTIF(B51:G51,\"=1\")*100+COUNTIF(B51:G51,\"=2\")*80+COUNTIF(B51:G51,\"=3\")*50+COUNTIF(B51:G51,\"=8\")*20+COUNTIF(B51:G51,\"=9\")*0)/COUNTA(B51:G51)/100,\"N/A\")","v":"N/A"},{"$f":"IF(COUNTA(K51:P51)>0,(COUNTIF(K51:P51,\"=0\")*0+COUNTIF(K51:P51,\"=1\")*100+COUNTIF(K51:P51,\"=2\")*80+COUNTIF(K51:P51,\"=3\")*50+COUNTIF(K51:P51,\"=8\")*20+COUNTIF(K51:P51,\"=9\")*0)/COUNTA(K51:P51)/100,\"N/A\")","v":"N/A"},{"$f":"IF(COUNTA(Q51)>0,(COUNTIF(Q51,\"=0\")*0+COUNTIF(Q51,\"=1\")*100+COUNTIF(Q51,\"=2\")*80+COUNTIF(Q51,\"=3\")*50+COUNTIF(Q51,\"=8\")*20+COUNTIF(Q51,\"=9\")*0)/COUNTA(Q51)/100,\"N/A\")","v":"N/A"},{"$f":"IF(COUNTA(S51:W51)<>0,(COUNTIF(S51:W51,\"=0\")*0+COUNTIF(S51:W51,\"=1\")*100+COUNTIF(S51:W51,\"=2\")*80+COUNTIF(S51:W51,\"=3\")*50+COUNTIF(S51:W51,\"=8\")*20+COUNTIF(S51:W51,\"=9\")*0)/COUNTA(S51:W51)/100,\"N/A\")","v":"N/A"},"N/A",{"$f":"IF(COUNTA(#REF!)>0,(COUNTIF(#REF!,\"=0\")*0+COUNTIF(#REF!,\"=1\")*100+COUNTIF(#REF!,\"=2\")*80+COUNTIF(#REF!,\"=3\")*50+COUNTIF(#REF!,\"=8\")*20+COUNTIF(#REF!,\"=9\")*0)/COUNTA(#REF!)/100,\"N/A\")","v":{"$error":"#REF!"}},{"$f":"IF(COUNTA(#REF!)>0,(COUNTIF(#REF!,\"=0\")*0+COUNTIF(#REF!,\"=1\")*100+COUNTIF(#REF!,\"=2\")*80+COUNTIF(#REF!,\"=3\")*50+COUNTIF(#REF!,\"=8\")*20+COUNTIF(#REF!,\"=9\")*0)/COUNTA(#REF!)/100,\"N/A\")","v":{"$error":"#REF!"}},{"$f":"IF(AND(COUNTA(B51:X51)<>0,#REF!<>\"\"),AVERAGE(Y51:AE51),\"N/A\")","v":{"$error":"#REF!"}},1,1,1,1,1,{"$error":"#REF!"},{"$error":"#REF!"},{"$error":"#REF!"}]
[{"$nulls":24},{"$f":"IF(COUNTA(B52:G52)>0,(COUNTIF(B52:G52,\"=0\")*0+COUNTIF(B52:G52,\"=1\")*100+COUNTIF(B52:G52,\"=2\")*80+COUNTIF(B52:G52,\"=3\")*50+COUNTIF(B52:G52,\"=8\")*20+COUNTIF(B52:G52,\"=9\")*0)/COUNTA(B52:G52)/100,\"N/A\")","v":"N/A"},{"$f":"IF(COUNTA(K52:P52)>0,(COUNTIF(K52:P52,\"=0\")*0+COUNTIF(K52:P52,\"=1\")*100+COUNTIF(K52:P52,\"=2\")*80+COUNTIF(K52:P52,\"=3\")*50+COUNTIF(K52:P52,\"=8\")*20+COUNTIF(K52:P52,\"=9\")*0)/COUNTA(K52:P52)/100,\"N/A\")","v":"N/A"},{"$f":"IF(COUNTA(Q52)>0,(COUNTIF(Q52,\"=0\")*0+COUNTIF(Q52,\"=1\")*100+COUNTIF(Q52,\"=2\")*80+COUNTIF(Q52,\"=3\")*50+COUNTIF(Q52,\"=8\")*20+COUNTIF(Q52,\"=9\")*0)/COUNTA(Q52)/100,\"N/A\")","v":"N/A"},{"$f":"IF(COUNTA(S52:W52)<>0,(COUNTIF(S52:W52,\"=0\")*0+COUNTIF(S52:W52,\"=1\")*100+COUNTIF(S52:W52,\"=2\")*80+COUNTIF(S52:W52,\"=3\")*50+COUNTIF(S52:W52,\"=8\")*20+COUNTIF(S52:W52,\"=9\")*0)/COUNTA(S52:W52)/100,\"N/A\")","v":"N/A"},"N/A",{"$f":"IF(COUNTA(#REF!)>0,(COUNTIF(#REF!,\"=0\")*0+COUNTIF(#REF!,\"=1\")*100+COUNTIF(#REF!,\"=2\")*80+COUNTIF(#REF!,\"=3\")*50+COUNTIF(#REF!,\"=8\")*20+COUNTIF(#REF!,\"=9\")*0)/COUNTA(#REF!)/100,\"N/A\")","v":{"$error":"#REF!"}},{"$f":"IF(COUNTA(#REF!)>0,(COUNTIF(#REF!,\"=0\")*0+COUNTIF(#REF!,\"=1\")*100+COUNTIF(#REF!,\"=2\")*80+COUNTIF(#REF!,\"=3\")*50+COUNTIF(#REF!,\"=8\")*20+COUNTIF(#REF!,\"=9\")*0)/COUNTA(#REF!)/100,\"N/A\")","v":{"$error":"#REF!"}},{"$f":"IF(AND(COUNTA(B52:X52)<>0,#REF!<>\"\"),AVERAGE(Y52:AE52),\"N/A\")","v":{"$error":"#REF!"}},1,1,1,1,1,{"$error":"#REF!"},{"$error":"#REF!"},{"$error":"#REF!"}]
[{"$nulls":24},{"$f":"IF(COUNTA(B53:G53)>0,(COUNTIF(B53:G53,\"=0\")*0+COUNTIF(B53:G53,\"=1\")*100+COUNTIF(B53:G53,\"=2\")*80+COUNTIF(B53:G53,\"=3\")*50+COUNTIF(B53:G53,\"=8\")*20+COUNTIF(B53:G53,\"=9\")*0)/COUNTA(B53:G53)/100,\"N/A\")","v":"N/A"},{"$f":"IF(COUNTA(K53:P53)>0,(COUNTIF(K53:P53,\"=0\")*0+COUNTIF(K53:P53,\"=1\")*100+COUNTIF(K53:P53,\"=2\")*80+COUNTIF(K53:P53,\"=3\")*50+COUNTIF(K53:P53,\"=8\")*20+COUNTIF(K53:P53,\"=9\")*0)/COUNTA(K53:P53)/100,\"N/A\")","v":"N/A"},{"$f":"IF(COUNTA(Q53)>0,(COUNTIF(Q53,\"=0\")*0+COUNTIF(Q53,\"=1\")*100+COUNTIF(Q53,\"=2\")*80+COUNTIF(Q53,\"=3\")*50+COUNTIF(Q53,\"=8\")*20+COUNTIF(Q53,\"=9\")*0)/COUNTA(Q53)/100,\"N/A\")","v":"N/A"},{"$f":"IF(COUNTA(S53:W53)<>0,(COUNTIF(S53:W53,\"=0\")*0+COUNTIF(S53:W53,\"=1\")*100+COUNTIF(S53:W53,\"=2\")*80+COUNTIF(S53:W53,\"=3\")*50+COUNTIF(S53:W53,\"=8\")*20+COUNTIF(S53:W53,\"=9\")*0)/COUNTA(S53:W53)/100,\"N/A\")","v":"N/A"},"N/A",{"$f":"IF(COUNTA(#REF!)>0,(COUNTIF(#REF!,\"=0\")*0+COUNTIF(#REF!,\"=1\")*100+COUNTIF(#REF!,\"=2\")*80+COUNTIF(#REF!,\"=3\")*50+COUNTIF(#REF!,\"=8\")*20+COUNTIF(#REF!,\"=9\")*0)/COUNTA(#REF!)/100,\"N/A\")","v":{"$error":"#REF!"}},{"$f":"IF(COUNTA(#REF!)>0,(COUNTIF(#REF!,\"=0\")*0+COUNTIF(#REF!,\"=1\")*100+COUNTIF(#REF!,\"=2\")*80+COUNTIF(#REF!,\"=3\")*50+COUNTIF(#REF!,\"=8\")*20+COUNTIF(#REF!,\"=9\")*0)/COUNTA(#REF!)/100,\"N/A\")","v":{"$error":"#REF!"}},{"$f":"IF(AND(COUNTA(B53:X53)<>0,#REF!<>\"\"),AVERAGE(Y53:AE53),\"N/A\")","v":{"$error":"#REF!"}},1,1,1,1,1,{"$error":"#REF!"},{"$error":"#REF!"},{"$error":"#REF!"}]
[{"$nulls":24},{"$f":"IF(COUNTA(B54:G54)>0,(COUNTIF(B54:G54,\"=0\")*0+COUNTIF(B54:G54,\"=1\")*100+COUNTIF(B54:G54,\"=2\")*80+COUNTIF(B54:G54,\"=3\")*50+COUNTIF(B54:G54,\"=8\")*20+COUNTIF(B54:G54,\"=9\")*0)/COUNTA(B54:G54)/100,\"N/A\")","v":"N/A"},{"$f":"IF(COUNTA(K54:P54)>0,(COUNTIF(K54:P54,\"=0\")*0+COUNTIF(K54:P54,\"=1\")*100+COUNTIF(K54:P54,\"=2\")*80+COUNTIF(K54:P54,\"=3\")*50+COUNTIF(K54:P54,\"=8\")*20+COUNTIF(K54:P54,\"=9\")*0)/COUNTA(K54:P54)/100,\"N/A\")","v":"N/A"},{"$f":"IF(COUNTA(Q54)>0,(COUNTIF(Q54,\"=0\")*0+COUNTIF(Q54,\"=1\")*100+COUNTIF(Q54,\"=2\")*80+COUNTIF(Q54,\"=3\")*50+COUNTIF(Q54,\"=8\")*20+COUNTIF(Q54,\"=9\")*0)/COUNTA(Q54)/100,\"N/A\")","v":"N/A"},{"$f":"IF(COUNTA(S54:W54)<>0,(COUNTIF(S54:W54,\"=0\")*0+COUNTIF(S54:W54,\"=1\")*100+COUNTIF(S54:W54,\"=2\")*80+COUNTIF(S54:W54,\"=3\")*50+COUNTIF(S54:W54,\"=8\")*20+COUNTIF(S54:W54,\"=9\")*0)/COUNTA(S54:W54)/100,\"N/A\")","v":"N/A"},"N/A",{"$f":"IF(COUNTA(#REF!)>0,(COUNTIF(#REF!,\"=0\")*0+COUNTIF(#REF!,\"=1\")*100+COUNTIF(#REF!,\"=2\")*80+COUNTIF(#REF!,\"=3\")*50+COUNTIF(#REF!,\"=8\")*20+COUNTIF(#REF!,\"=9\")*0)/COUNTA(#REF!)/100,\"N/A\")","v":{"$error":"#REF!"}},{"$f":"IF(COUNTA(#REF!)>0,(COUNTIF(#REF!,\"=0\")*0+COUNTIF(#REF!,\"=1\")*100+COUNTIF(#REF!,\"=2\")*80+COUNTIF(#REF!,\"=3\")*50+COUNTIF(#REF!,\"=8\")*20+COUNTIF(#REF!,\"=9\")*0)/COUNTA(#REF!)/100,\"N/A\")","v":{"$error":"#REF!"}},{"$f":"IF(AND(COUNTA(B54:X54)<>0,#REF!<>\"\"),AVERAGE(Y54:AE54),\"N/A\")","v":{"$error":"#REF!"}},1,1,1,1,1,{"$error":"#REF!"},{"$error":"#REF!"},{"$error":"#REF!"}]
[{"$nulls":24},{"$f":"IF(COUNTA(B55:G55)>0,(COUNTIF(B55:G55,\"=0\")*0+COUNTIF(B55:G55,\"=1\")*100+COUNTIF(B55:G55,\"=2\")*80+COUNTIF(B55:G55,\"=3\")*50+COUNTIF(B55:G55,\"=8\")*20+COUNTIF(B55:G55,\"=9\")*0)/COUNTA(B55:G55)/100,\"N/A\")","v":"N/A"},{"$f":"IF(COUNTA(K55:P55)>0,(COUNTIF(K55:P55,\"=0\")*0+COUNTIF(K55:P55,\"=1\")*100+COUNTIF(K55:P55,\"=2\")*80+COUNTIF(K55:P55,\"=3\")*50+COUNTIF(K55:P55,\"=8\")*20+COUNTIF(K55:P55,\"=9\")*0)/COUNTA(K55:P55)/100,\"N/A\")","v":"N/A"},{"$f":"IF(COUNTA(Q55)>0,(COUNTIF(Q55,\"=0\")*0+COUNTIF(Q55,\"=1\")*100+COUNTIF(Q55,\"=2\")*80+COUNTIF(Q55,\"=3\")*50+COUNTIF(Q55,\"=8\")*20+COUNTIF(Q55,\"=9\")*0)/COUNTA(Q55)/100,\"N/A\")","v":"N/A"},{"$f":"IF(COUNTA(S55:W55)<>0,(COUNTIF(S55:W55,\"=0\")*0+COUNTIF(S55:W55,\"=1\")*100+COUNTIF(S55:W55,\"=2\")*80+COUNTIF(S55:W55,\"=3\")*50+COUNTIF(S55:W55,\"=8\")*20+COUNTIF(S55:W55,\"=9\")*0)/COUNTA(S55:W55)/100,\"N/A\")","v":"N/A"},"N/A",{"$f":"IF(COUNTA(#REF!)>0,(COUNTIF(#REF!,\"=0\")*0+COUNTIF(#REF!,\"=1\")*100+COUNTIF(#REF!,\"=2\")*80+COUNTIF(#REF!,\"=3\")*50+COUNTIF(#REF!,\"=8\")*20+COUNTIF(#REF!,\"=9\")*0)/COUNTA(#REF!)/100,\"N/A\")","v":{"$error":"#REF!"}},{"$f":"IF(COUNTA(#REF!)>0,(COUNTIF(#REF!,\"=0\")*0+COUNTIF(#REF!,\"=1\")*100+COUNTIF(#REF!,\"=2\")*80+COUNTIF(#REF!,\"=3\")*50+COUNTIF(#REF!,\"=8\")*20+COUNTIF(#REF!,\"=9\")*0)/COUNTA(#REF!)/100,\"N/A\")","v":{"$error":"#REF!"}},{"$f":"IF(AND(COUNTA(B55:X55)<>0,#REF!<>\"\"),AVERAGE(Y55:AE55),\"N/A\")","v":{"$error":"#REF!"}},1,1,1,1,1,{"$error":"#REF!"},{"$error":"#REF!"},{"$error":"#REF!"}]
[{"$nulls":24},{"$f":"IF(COUNTA(B56:G56)>0,(COUNTIF(B56:G56,\"=0\")*0+COUNTIF(B56:G56,\"=1\")*100+COUNTIF(B56:G56,\"=2\")*80+COUNTIF(B56:G56,\"=3\")*50+COUNTIF(B56:G56,\"=8\")*20+COUNTIF(B56:G56,\"=9\")*0)/COUNTA(B56:G56)/100,\"N/A\")","v":"N/A"},{"$f":"IF(COUNTA(K56:P56)>0,(COUNTIF(K56:P56,\"=0\")*0+COUNTIF(K56:P56,\"=1\")*100+COUNTIF(K56:P56,\"=2\")*80+COUNTIF(K56:P56,\"=3\")*50+COUNTIF(K56:P56,\"=8\")*20+COUNTIF(K56:P56,\"=9\")*0)/COUNTA(K56:P56)/100,\"N/A\")","v":"N/A"},{"$f":"IF(COUNTA(Q56)>0,(COUNTIF(Q56,\"=0\")*0+COUNTIF(Q56,\"=1\")*100+COUNTIF(Q56,\"=2\")*80+COUNTIF(Q56,\"=3\")*50+COUNTIF(Q56,\"=8\")*20+COUNTIF(Q56,\"=9\")*0)/COUNTA(Q56)/100,\"N/A\")","v":"N/A"},{"$f":"IF(COUNTA(S56:W56)<>0,(COUNTIF(S56:W56,\"=0\")*0+COUNTIF(S56:W56,\"=1\")*100+COUNTIF(S56:W56,\"=2\")*80+COUNTIF(S56:W56,\"=3\")*50+COUNTIF(S56:W56,\"=8\")*20+COUNTIF(S56:W56,\"=9\")*0)/COUNTA(S56:W56)/100,\"N/A\")","v":"N/A"},"N/A",{"$f":"IF(COUNTA(#REF!)>0,(COUNTIF(#REF!,\"=0\")*0+COUNTIF(#REF!,\"=1\")*100+COUNTIF(#REF!,\"=2\")*80+COUNTIF(#REF!,\"=3\")*50+COUNTIF(#REF!,\"=8\")*20+COUNTIF(#REF!,\"=9\")*0)/COUNTA(#REF!)/100,\"N/A\")","v":{"$error":"#REF!"}},{"$f":"IF(COUNTA(#REF!)>0,(COUNTIF(#REF!,\"=0\")*0+COUNTIF(#REF!,\"=1\")*100+COUNTIF(#REF!,\"=2\")*80+COUNTIF(#REF!,\"=3\")*50+COUNTIF(#REF!,\"=8\")*20+COUNTIF(#REF!,\"=9\")*0)/COUNTA(#REF!)/100,\"N/A\")","v":{"$error":"#REF!"}},{"$f":"IF(AND(COUNTA(B56:X56)<>0,#REF!<>\"\"),AVERAGE(Y56:AE56),\"N/A\")","v":{"$error":"#REF!"}},1,1,1,1,1,{"$error":"#REF!"},{"$error":"#REF!"},{"$error":"#REF!"}]
[{"$nulls":24},{"$f":"IF(COUNTA(B57:G57)>0,(COUNTIF(B57:G57,\"=0\")*0+COUNTIF(B57:G57,\"=1\")*100+COUNTIF(B57:G57,\"=2\")*80+COUNTIF(B57:G57,\"=3\")*50+COUNTIF(B57:G57,\"=8\")*20+COUNTIF(B57:G57,\"=9\")*0)/COUNTA(B57:G57)/100,\"N/A\")","v":"N/A"},{"$f":"IF(COUNTA(K57:P57)>0,(COUNTIF(K57:P57,\"=0\")*0+COUNTIF(K57:P57,\"=1\")*100+COUNTIF(K57:P57,\"=2\")*80+COUNTIF(K57:P57,\"=3\")*50+COUNTIF(K57:P57,\"=8\")*20+COUNTIF(K57:P57,\"=9\")*0)/COUNTA(K57:P57)/100,\"N/A\")","v":"N/A"},{"$f":"IF(COUNTA(Q57)>0,(COUNTIF(Q57,\"=0\")*0+COUNTIF(Q57,\"=1\")*100+COUNTIF(Q57,\"=2\")*80+COUNTIF(Q57,\"=3\")*50+COUNTIF(Q57,\"=8\")*20+COUNTIF(Q57,\"=9\")*0)/COUNTA(Q57)/100,\"N/A\")","v":"N/A"},{"$f":"IF(COUNTA(S57:W57)<>0,(COUNTIF(S57:W57,\"=0\")*0+COUNTIF(S57:W57,\"=1\")*100+COUNTIF(S57:W57,\"=2\")*80+COUNTIF(S57:W57,\"=3\")*50+COUNTIF(S57:W57,\"=8\")*20+COUNTIF(S57:W57,\"=9\")*0)/COUNTA(S57:W57)/100,\"N/A\")","v":"N/A"},"N/A",{"$f":"IF(COUNTA(#REF!)>0,(COUNTIF(#REF!,\"=0\")*0+COUNTIF(#REF!,\"=1\")*100+COUNTIF(#REF!,\"=2\")*80+COUNTIF(#REF!,\"=3\")*50+COUNTIF(#REF!,\"=8\")*20+COUNTIF(#REF!,\"=9\")*0)/COUNTA(#REF!)/100,\"N/A\")","v":{"$error":"#REF!"}},{"$f":"IF(COUNTA(#REF!)>0,(COUNTIF(#REF!,\"=0\")*0+COUNTIF(#REF!,\"=1\")*100+COUNTIF(#REF!,\"=2\")*80+COUNTIF(#REF!,\"=3\")*50+COUNTIF(#REF!,\"=8\")*20+COUNTIF(#REF!,\"=9\")*0)/COUNTA(#REF!)/100,\"N/A\")","v":{"$error":"#REF!"}},{"$f":"IF(AND(COUNTA(B57:X57)<>0,#REF!<>\"\"),AVERAGE(Y57:AE57),\"N/A\")","v":{"$error":"#REF!"}},1,1,1,1,1,{"$error":"#REF!"},{"$error":"#REF!"},{"$error":"#REF!"}]
[{"$nulls":24},{"$f":"IF(COUNTA(B58:G58)>0,(COUNTIF(B58:G58,\"=0\")*0+COUNTIF(B58:G58,\"=1\")*100+COUNTIF(B58:G58,\"=2\")*80+COUNTIF(B58:G58,\"=3\")*50+COUNTIF(B58:G58,\"=8\")*20+COUNTIF(B58:G58,\"=9\")*0)/COUNTA(B58:G58)/100,\"N/A\")","v":"N/A"},{"$f":"IF(COUNTA(K58:P58)>0,(COUNTIF(K58:P58,\"=0\")*0+COUNTIF(K58:P58,\"=1\")*100+COUNTIF(K58:P58,\"=2\")*80+COUNTIF(K58:P58,\"=3\")*50+COUNTIF(K58:P58,\"=8\")*20+COUNTIF(K58:P58,\"=9\")*0)/COUNTA(K58:P58)/100,\"N/A\")","v":"N/A"},{"$f":"IF(COUNTA(Q58)>0,(COUNTIF(Q58,\"=0\")*0+COUNTIF(Q58,\"=1\")*100+COUNTIF(Q58,\"=2\")*80+COUNTIF(Q58,\"=3\")*50+COUNTIF(Q58,\"=8\")*20+COUNTIF(Q58,\"=9\")*0)/COUNTA(Q58)/100,\"N/A\")","v":"N/A"},{"$f":"IF(COUNTA(S58:W58)<>0,(COUNTIF(S58:W58,\"=0\")*0+COUNTIF(S58:W58,\"=1\")*100+COUNTIF(S58:W58,\"=2\")*80+COUNTIF(S58:W58,\"=3\")*50+COUNTIF(S58:W58,\"=8\")*20+COUNTIF(S58:W58,\"=9\")*0)/COUNTA(S58:W58)/100,\"N/A\")","v":"N/A"},"N/A",{"$f":"IF(COUNTA(#REF!)>0,(COUNTIF(#REF!,\"=0\")*0+COUNTIF(#REF!,\"=1\")*100+COUNTIF(#REF!,\"=2\")*80+COUNTIF(#REF!,\"=3\")*50+COUNTIF(#REF!,\"=8\")*20+COUNTIF(#REF!,\"=9\")*0)/COUNTA(#REF!)/100,\"N/A\")","v":{"$error":"#REF!"}},{"$f":"IF(COUNTA(#REF!)>0,(COUNTIF(#REF!,\"=0\")*0+COUNTIF(#REF!,\"=1\")*100+COUNTIF(#REF!,\"=2\")*80+COUNTIF(#REF!,\"=3\")*50+COUNTIF(#REF!,\"=8\")*20+COUNTIF(#REF!,\"=9\")*0)/COUNTA(#REF!)/100,\"N/A\")","v":{"$error":"#REF!"}},{"$f":"IF(AND(COUNTA(B58:X58)<>0,#REF!<>\"\"),AVERAGE(Y58:AE58),\"N/A\")","v":{"$error":"#REF!"}},1,1,1,1,1,{"$error":"#REF!"},{"$error":"#REF!"},{"$error":"#REF!"}]
[{"$nulls":24},{"$f":"IF(COUNTA(B59:G59)>0,(COUNTIF(B59:G59,\"=0\")*0+COUNTIF(B59:G59,\"=1\")*100+COUNTIF(B59:G59,\"=2\")*80+COUNTIF(B59:G59,\"=3\")*50+COUNTIF(B59:G59,\"=8\")*20+COUNTIF(B59:G59,\"=9\")*0)/COUNTA(B59:G59)/100,\"N/A\")","v":"N/A"},{"$f":"IF(COUNTA(K59:P59)>0,(COUNTIF(K59:P59,\"=0\")*0+COUNTIF(K59:P59,\"=1\")*100+COUNTIF(K59:P59,\"=2\")*80+COUNTIF(K59:P59,\"=3\")*50+COUNTIF(K59:P59,\"=8\")*20+COUNTIF(K59:P59,\"=9\")*0)/COUNTA(K59:P59)/100,\"N/A\")","v":"N/A"},{"$f":"IF(COUNTA(Q59)>0,(COUNTIF(Q59,\"=0\")*0+COUNTIF(Q59,\"=1\")*100+COUNTIF(Q59,\"=2\")*80+COUNTIF(Q59,\"=3\")*50+COUNTIF(Q59,\"=8\")*20+COUNTIF(Q59,\"=9\")*0)/COUNTA(Q59)/100,\"N/A\")","v":"N/A"},{"$f":"IF(COUNTA(S59:W59)<>0,(COUNTIF(S59:W59,\"=0\")*0+COUNTIF(S59:W59,\"=1\")*100+COUNTIF(S59:W59,\"=2\")*80+COUNTIF(S59:W59,\"=3\")*50+COUNTIF(S59:W59,\"=8\")*20+COUNTIF(S59:W59,\"=9\")*0)/COUNTA(S59:W59)/100,\"N/A\")","v":"N/A"},"N/A",{"$f":"IF(COUNTA(#REF!)>0,(COUNTIF(#REF!,\"=0\")*0+COUNTIF(#REF!,\"=1\")*100+COUNTIF(#REF!,\"=2\")*80+COUNTIF(#REF!,\"=3\")*50+COUNTIF(#REF!,\"=8\")*20+COUNTIF(#REF!,\"=9\")*0)/COUNTA(#REF!)/100,\"N/A\")","v":{"$error":"#REF!"}},{"$f":"IF(COUNTA(#REF!)>0,(COUNTIF(#REF!,\"=0\")*0+COUNTIF(#REF!,\"=1\")*100+COUNTIF(#REF!,\"=2\")*80+COUNTIF(#REF!,\"=3\")*50+COUNTIF(#REF!,\"=8\")*20+COUNTIF(#REF!,\"=9\")*0)/COUNTA(#REF!)/100,\"N/A\")","v":{"$error":"#REF!"}},{"$f":"IF(AND(COUNTA(B59:X59)<>0,#REF!<>\"\"),AVERAGE(Y59:AE59),\"N/A\")","v":{"$error":"#REF!"}},1,1,1,1,1,{"$error":"#REF!"},{"$error":"#REF!"},{"$error":"#REF!"}]
[{"$nulls":24},{"$f":"IF(COUNTA(B60:G60)>0,(COUNTIF(B60:G60,\"=0\")*0+COUNTIF(B60:G60,\"=1\")*100+COUNTIF(B60:G60,\"=2\")*80+COUNTIF(B60:G60,\"=3\")*50+COUNTIF(B60:G60,\"=8\")*20+COUNTIF(B60:G60,\"=9\")*0)/COUNTA(B60:G60)/100,\"N/A\")","v":"N/A"},{"$f":"IF(COUNTA(K60:P60)>0,(COUNTIF(K60:P60,\"=0\")*0+COUNTIF(K60:P60,\"=1\")*100+COUNTIF(K60:P60,\"=2\")*80+COUNTIF(K60:P60,\"=3\")*50+COUNTIF(K60:P60,\"=8\")*20+COUNTIF(K60:P60,\"=9\")*0)/COUNTA(K60:P60)/100,\"N/A\")","v":"N/A"},{"$f":"IF(COUNTA(Q60)>0,(COUNTIF(Q60,\"=0\")*0+COUNTIF(Q60,\"=1\")*100+COUNTIF(Q60,\"=2\")*80+COUNTIF(Q60,\"=3\")*50+COUNTIF(Q60,\"=8\")*20+COUNTIF(Q60,\"=9\")*0)/COUNTA(Q60)/100,\"N/A\")","v":"N/A"},{"$f":"IF(COUNTA(S60:W60)<>0,(COUNTIF(S60:W60,\"=0\")*0+COUNTIF(S60:W60,\"=1\")*100+COUNTIF(S60:W60,\"=2\")*80+COUNTIF(S60:W60,\"=3\")*50+COUNTIF(S60:W60,\"=8\")*20+COUNTIF(S60:W60,\"=9\")*0)/COUNTA(S60:W60)/100,\"N/A\")","v":"N/A"},"N/A",{"$f":"IF(COUNTA(#REF!)>0,(COUNTIF(#REF!,\"=0\")*0+COUNTIF(#REF!,\"=1\")*100+COUNTIF(#REF!,\"=2\")*80+COUNTIF(#REF!,\"=3\")*50+COUNTIF(#REF!,\"=8\")*20+COUNTIF(#REF!,\"=9\")*0)/COUNTA(#REF!)/100,\"N/A\")","v":{"$error":"#REF!"}},{"$f":"IF(COUNTA(#REF!)>0,(COUNTIF(#REF!,\"=0\")*0+COUNTIF(#REF!,\"=1\")*100+COUNTIF(#REF!,\"=2\")*80+COUNTIF(#REF!,\"=3\")*50+COUNTIF(#REF!,\"=8\")*20+COUNTIF(#REF!,\"=9\")*0)/COUNTA(#REF!)/100,\"N/A\")","v":{"$error":"#REF!"}},{"$f":"IF(AND(COUNTA(B60:X60)<>0,#REF!<>\"\"),AVERAGE(Y60:AE60),\"N/A\")","v":{"$error":"#REF!"}},1,1,1,1,1,{"$error":"#REF!"},{"$error":"#REF!"},{"$error":"#REF!"}]
[{"$nulls":24},{"$f":"IF(COUNTA(B61:G61)>0,(COUNTIF(B61:G61,\"=0\")*0+COUNTIF(B61:G61,\"=1\")*100+COUNTIF(B61:G61,\"=2\")*80+COUNTIF(B61:G61,\"=3\")*50+COUNTIF(B61:G61,\"=8\")*20+COUNTIF(B61:G61,\"=9\")*0)/COUNTA(B61:G61)/100,\"N/A\")","v":"N/A"},{"$f":"IF(COUNTA(K61:P61)>0,(COUNTIF(K61:P61,\"=0\")*0+COUNTIF(K61:P61,\"=1\")*100+COUNTIF(K61:P61,\"=2\")*80+COUNTIF(K61:P61,\"=3\")*50+COUNTIF(K61:P61,\"=8\")*20+COUNTIF(K61:P61,\"=9\")*0)/COUNTA(K61:P61)/100,\"N/A\")","v":"N/A"},{"$f":"IF(COUNTA(Q61)>0,(COUNTIF(Q61,\"=0\")*0+COUNTIF(Q61,\"=1\")*100+COUNTIF(Q61,\"=2\")*80+COUNTIF(Q61,\"=3\")*50+COUNTIF(Q61,\"=8\")*20+COUNTIF(Q61,\"=9\")*0)/COUNTA(Q61)/100,\"N/A\")","v":"N/A"},{"$f":"IF(COUNTA(S61:W61)<>0,(COUNTIF(S61:W61,\"=0\")*0+COUNTIF(S61:W61,\"=1\")*100+COUNTIF(S61:W61,\"=2\")*80+COUNTIF(S61:W61,\"=3\")*50+COUNTIF(S61:W61,\"=8\")*20+COUNTIF(S61:W61,\"=9\")*0)/COUNTA(S61:W61)/100,\"N/A\")","v":"N/A"},"N/A",{"$f":"IF(COUNTA(#REF!)>0,(COUNTIF(#REF!,\"=0\")*0+COUNTIF(#REF!,\"=1\")*100+COUNTIF(#REF!,\"=2\")*80+COUNTIF(#REF!,\"=3\")*50+COUNTIF(#REF!,\"=8\")*20+COUNTIF(#REF!,\"=9\")*0)/COUNTA(#REF!)/100,\"N/A\")","v":{"$error":"#REF!"}},{"$f":"IF(COUNTA(#REF!)>0,(COUNTIF(#REF!,\"=0\")*0+COUNTIF(#REF!,\"=1\")*100+COUNTIF(#REF!,\"=2\")*80+COUNTIF(#REF!,\"=3\")*50+COUNTIF(#REF!,\"=8\")*20+COUNTIF(#REF!,\"=9\")*0)/COUNTA(#REF!)/100,\"N/A\")","v":{"$error":"#REF!"}},{"$f":"IF(AND(COUNTA(B61:X61)<>0,#REF!<>\"\"),AVERAGE(Y61:AE61),\"N/A\")","v":{"$error":"#REF!"}},1,1,1,1,1,{"$error":"#REF!"},{"$error":"#REF!"},{"$error":"#REF!"}]
[{"$nulls":24},{"$f":"IF(COUNTA(B62:G62)>0,(COUNTIF(B62:G62,\"=0\")*0+COUNTIF(B62:G62,\"=1\")*100+COUNTIF(B62:G62,\"=2\")*80+COUNTIF(B62:G62,\"=3\")*50+COUNTIF(B62:G62,\"=8\")*20+COUNTIF(B62:G62,\"=9\")*0)/COUNTA(B62:G62)/100,\"N/A\")","v":"N/A"},{"$f":"IF(COUNTA(K62:P62)>0,(COUNTIF(K62:P62,\"=0\")*0+COUNTIF(K62:P62,\"=1\")*100+COUNTIF(K62:P62,\"=2\")*80+COUNTIF(K62:P62,\"=3\")*50+COUNTIF(K62:P62,\"=8\")*20+COUNTIF(K62:P62,\"=9\")*0)/COUNTA(K62:P62)/100,\"N/A\")","v":"N/A"},{"$f":"IF(COUNTA(Q62)>0,(COUNTIF(Q62,\"=0\")*0+COUNTIF(Q62,\"=1\")*100+COUNTIF(Q62,\"=2\")*80+COUNTIF(Q62,\"=3\")*50+COUNTIF(Q62,\"=8\")*20+COUNTIF(Q62,\"=9\")*0)/COUNTA(Q62)/100,\"N/A\")","v":"N/A"},{"$f":"IF(COUNTA(S62:W62)<>0,(COUNTIF(S62:W62,\"=0\")*0+COUNTIF(S62:W62,\"=1\")*100+COUNTIF(S62:W62,\"=2\")*80+COUNTIF(S62:W62,\"=3\")*50+COUNTIF(S62:W62,\"=8\")*20+COUNTIF(S62:W62,\"=9\")*0)/COUNTA(S62:W62)/100,\"N/A\")","v":"N/A"},"N/A",{"$f":"IF(COUNTA(#REF!)>0,(COUNTIF(#REF!,\"=0\")*0+COUNTIF(#REF!,\"=1\")*100+COUNTIF(#REF!,\"=2\")*80+COUNTIF(#REF!,\"=3\")*50+COUNTIF(#REF!,\"=8\")*20+COUNTIF(#REF!,\"=9\")*0)/COUNTA(#REF!)/100,\"N/A\")","v":{"$error":"#REF!"}},{"$f":"IF(COUNTA(#REF!)>0,(COUNTIF(#REF!,\"=0\")*0+COUNTIF(#REF!,\"=1\")*100+COUNTIF(#REF!,\"=2\")*80+COUNTIF(#REF!,\"=3\")*50+COUNTIF(#REF!,\"=8\")*20+COUNTIF(#REF!,\"=9\")*0)/COUNTA(#REF!)/100,\"N/A\")","v":{"$error":"#REF!"}},{"$f":"IF(AND(COUNTA(B62:X62)<>0,#REF!<>\"\"),AVERAGE(Y62:AE62),\"N/A\")","v":{"$error":"#REF!"}},1,1,1,1,1,{"$error":"#REF!"},{"$error":"#REF!"},{"$error":"#REF!"}]
[{"$nulls":24},{"$f":"IF(COUNTA(B63:G63)>0,(COUNTIF(B63:G63,\"=0\")*0+COUNTIF(B63:G63,\"=1\")*100+COUNTIF(B63:G63,\"=2\")*80+COUNTIF(B63:G63,\"=3\")*50+COUNTIF(B63:G63,\"=8\")*20+COUNTIF(B63:G63,\"=9\")*0)/COUNTA(B63:G63)/100,\"N/A\")","v":"N/A"},{"$f":"IF(COUNTA(K63:P63)>0,(COUNTIF(K63:P63,\"=0\")*0+COUNTIF(K63:P63,\"=1\")*100+COUNTIF(K63:P63,\"=2\")*80+COUNTIF(K63:P63,\"=3\")*50+COUNTIF(K63:P63,\"=8\")*20+COUNTIF(K63:P63,\"=9\")*0)/COUNTA(K63:P63)/100,\"N/A\")","v":"N/A"},{"$f":"IF(COUNTA(Q63)>0,(COUNTIF(Q63,\"=0\")*0+COUNTIF(Q63,\"=1\")*100+COUNTIF(Q63,\"=2\")*80+COUNTIF(Q63,\"=3\")*50+COUNTIF(Q63,\"=8\")*20+COUNTIF(Q63,\"=9\")*0)/COUNTA(Q63)/100,\"N/A\")","v":"N/A"},{"$f":"IF(COUNTA(S63:W63)<>0,(COUNTIF(S63:W63,\"=0\")*0+COUNTIF(S63:W63,\"=1\")*100+COUNTIF(S63:W63,\"=2\")*80+COUNTIF(S63:W63,\"=3\")*50+COUNTIF(S63:W63,\"=8\")*20+COUNTIF(S63:W63,\"=9\")*0)/COUNTA(S63:W63)/100,\"N/A\")","v":"N/A"},"N/A",{"$f":"IF(COUNTA(#REF!)>0,(COUNTIF(#REF!,\"=0\")*0+COUNTIF(#REF!,\"=1\")*100+COUNTIF(#REF!,\"=2\")*80+COUNTIF(#REF!,\"=3\")*50+COUNTIF(#REF!,\"=8\")*20+COUNTIF(#REF!,\"=9\")*0)/COUNTA(#REF!)/100,\"N/A\")","v":{"$error":"#REF!"}},{"$f":"IF(COUNTA(#REF!)>0,(COUNTIF(#REF!,\"=0\")*0+COUNTIF(#REF!,\"=1\")*100+COUNTIF(#REF!,\"=2\")*80+COUNTIF(#REF!,\"=3\")*50+COUNTIF(#REF!,\"=8\")*20+COUNTIF(#REF!,\"=9\")*0)/COUNTA(#REF!)/100,\"N/A\")","v":{"$error":"#REF!"}},{"$f":"IF(AND(COUNTA(B63:X63)<>0,#REF!<>\"\"),AVERAGE(Y63:AE63),\"N/A\")","v":{"$error":"#REF!"}},1,1,1,1,1,{"$error":"#REF!"},{"$error":"#REF!"},{"$error":"#REF!"}]
[{"$nulls":24},{"$f":"IF(COUNTA(B64:G64)>0,(COUNTIF(B64:G64,\"=0\")*0+COUNTIF(B64:G64,\"=1\")*100+COUNTIF(B64:G64,\"=2\")*80+COUNTIF(B64:G64,\"=3\")*50+COUNTIF(B64:G64,\"=8\")*20+COUNTIF(B64:G64,\"=9\")*0)/COUNTA(B64:G64)/100,\"N/A\")","v":"N/A"},{"$f":"IF(COUNTA(K64:P64)>0,(COUNTIF(K64:P64,\"=0\")*0+COUNTIF(K64:P64,\"=1\")*100+COUNTIF(K64:P64,\"=2\")*80+COUNTIF(K64:P64,\"=3\")*50+COUNTIF(K64:P64,\"=8\")*20+COUNTIF(K64:P64,\"=9\")*0)/COUNTA(K64:P64)/100,\"N/A\")","v":"N/A"},{"$f":"IF(COUNTA(Q64)>0,(COUNTIF(Q64,\"=0\")*0+COUNTIF(Q64,\"=1\")*100+COUNTIF(Q64,\"=2\")*80+COUNTIF(Q64,\"=3\")*50+COUNTIF(Q64,\"=8\")*20+COUNTIF(Q64,\"=9\")*0)/COUNTA(Q64)/100,\"N/A\")","v":"N/A"},{"$f":"IF(COUNTA(S64:W64)<>0,(COUNTIF(S64:W64,\"=0\")*0+COUNTIF(S64:W64,\"=1\")*100+COUNTIF(S64:W64,\"=2\")*80+COUNTIF(S64:W64,\"=3\")*50+COUNTIF(S64:W64,\"=8\")*20+COUNTIF(S64:W64,\"=9\")*0)/COUNTA(S64:W64)/100,\"N/A\")","v":"N/A"},"N/A",{"$f":"IF(COUNTA(#REF!)>0,(COUNTIF(#REF!,\"=0\")*0+COUNTIF(#REF!,\"=1\")*100+COUNTIF(#REF!,\"=2\")*80+COUNTIF(#REF!,\"=3\")*50+COUNTIF(#REF!,\"=8\")*20+COUNTIF(#REF!,\"=9\")*0)/COUNTA(#REF!)/100,\"N/A\")","v":{"$error":"#REF!"}},{"$f":"IF(COUNTA(#REF!)>0,(COUNTIF(#REF!,\"=0\")*0+COUNTIF(#REF!,\"=1\")*100+COUNTIF(#REF!,\"=2\")*80+COUNTIF(#REF!,\"=3\")*50+COUNTIF(#REF!,\"=8\")*20+COUNTIF(#REF!,\"=9\")*0)/COUNTA(#REF!)/100,\"N/A\")","v":{"$error":"#REF!"}},{"$f":"IF(AND(COUNTA(B64:X64)<>0,#REF!<>\"\"),AVERAGE(Y64:AE64),\"N/A\")","v":{"$error":"#REF!"}},1,1,1,1,1,{"$error":"#REF!"},{"$error":"#REF!"},{"$error":"#REF!"}]
[{"$nulls":24},{"$f":"IF(COUNTA(B65:G65)>0,(COUNTIF(B65:G65,\"=0\")*0+COUNTIF(B65:G65,\"=1\")*100+COUNTIF(B65:G65,\"=2\")*80+COUNTIF(B65:G65,\"=3\")*50+COUNTIF(B65:G65,\"=8\")*20+COUNTIF(B65:G65,\"=9\")*0)/COUNTA(B65:G65)/100,\"N/A\")","v":"N/A"},{"$f":"IF(COUNTA(K65:P65)>0,(COUNTIF(K65:P65,\"=0\")*0+COUNTIF(K65:P65,\"=1\")*100+COUNTIF(K65:P65,\"=2\")*80+COUNTIF(K65:P65,\"=3\")*50+COUNTIF(K65:P65,\"=8\")*20+COUNTIF(K65:P65,\"=9\")*0)/COUNTA(K65:P65)/100,\"N/A\")","v":"N/A"},{"$f":"IF(COUNTA(Q65)>0,(COUNTIF(Q65,\"=0\")*0+COUNTIF(Q65,\"=1\")*100+COUNTIF(Q65,\"=2\")*80+COUNTIF(Q65,\"=3\")*50+COUNTIF(Q65,\"=8\")*20+COUNTIF(Q65,\"=9\")*0)/COUNTA(Q65)/100,\"N/A\")","v":"N/A"},{"$f":"IF(COUNTA(S65:W65)<>0,(COUNTIF(S65:W65,\"=0\")*0+COUNTIF(S65:W65,\"=1\")*100+COUNTIF(S65:W65,\"=2\")*80+COUNTIF(S65:W65,\"=3\")*50+COUNTIF(S65:W65,\"=8\")*20+COUNTIF(S65:W65,\"=9\")*0)/COUNTA(S65:W65)/100,\"N/A\")","v":"N/A"},"N/A",{"$f":"IF(COUNTA(#REF!)>0,(COUNTIF(#REF!,\"=0\")*0+COUNTIF(#REF!,\"=1\")*100+COUNTIF(#REF!,\"=2\")*80+COUNTIF(#REF!,\"=3\")*50+COUNTIF(#REF!,\"=8\")*20+COUNTIF(#REF!,\"=9\")*0)/COUNTA(#REF!)/100,\"N/A\")","v":{"$error":"#REF!"}},{"$f":"IF(COUNTA(#REF!)>0,(COUNTIF(#REF!,\"=0\")*0+COUNTIF(#REF!,\"=1\")*100+COUNTIF(#REF!,\"=2\")*80+COUNTIF(#REF!,\"=3\")*50+COUNTIF(#REF!,\"=8\")*20+COUNTIF(#REF!,\"=9\")*0)/COUNTA(#REF!)/100,\"N/A\")","v":{"$error":"#REF!"}},{"$f":"IF(AND(COUNTA(B65:X65)<>0,#REF!<>\"\"),AVERAGE(Y65:AE65),\"N/A\")","v":{"$error":"#REF!"}},1,1,1,1,1,{"$error":"#REF!"},{"$error":"#REF!"},{"$error":"#REF!"}]
[{"$nulls":24},{"$f":"IF(COUNTA(B66:G66)>0,(COUNTIF(B66:G66,\"=0\")*0+COUNTIF(B66:G66,\"=1\")*100+COUNTIF(B66:G66,\"=2\")*80+COUNTIF(B66:G66,\"=3\")*50+COUNTIF(B66:G66,\"=8\")*20+COUNTIF(B66:G66,\"=9\")*0)/COUNTA(B66:G66)/100,\"N/A\")","v":"N/A"},{"$f":"IF(COUNTA(K66:P66)>0,(COUNTIF(K66:P66,\"=0\")*0+COUNTIF(K66:P66,\"=1\")*100+COUNTIF(K66:P66,\"=2\")*80+COUNTIF(K66:P66,\"=3\")*50+COUNTIF(K66:P66,\"=8\")*20+COUNTIF(K66:P66,\"=9\")*0)/COUNTA(K66:P66)/100,\"N/A\")","v":"N/A"},{"$f":"IF(COUNTA(Q66)>0,(COUNTIF(Q66,\"=0\")*0+COUNTIF(Q66,\"=1\")*100+COUNTIF(Q66,\"=2\")*80+COUNTIF(Q66,\"=3\")*50+COUNTIF(Q66,\"=8\")*20+COUNTIF(Q66,\"=9\")*0)/COUNTA(Q66)/100,\"N/A\")","v":"N/A"},{"$f":"IF(COUNTA(S66:W66)<>0,(COUNTIF(S66:W66,\"=0\")*0+COUNTIF(S66:W66,\"=1\")*100+COUNTIF(S66:W66,\"=2\")*80+COUNTIF(S66:W66,\"=3\")*50+COUNTIF(S66:W66,\"=8\")*20+COUNTIF(S66:W66,\"=9\")*0)/COUNTA(S66:W66)/100,\"N/A\")","v":"N/A"},"N/A",{"$f":"IF(COUNTA(#REF!)>0,(COUNTIF(#REF!,\"=0\")*0+COUNTIF(#REF!,\"=1\")*100+COUNTIF(#REF!,\"=2\")*80+COUNTIF(#REF!,\"=3\")*50+COUNTIF(#REF!,\"=8\")*20+COUNTIF(#REF!,\"=9\")*0)/COUNTA(#REF!)/100,\"N/A\")","v":{"$error":"#REF!"}},{"$f":"IF(COUNTA(#REF!)>0,(COUNTIF(#REF!,\"=0\")*0+COUNTIF(#REF!,\"=1\")*100+COUNTIF(#REF!,\"=2\")*80+COUNTIF(#REF!,\"=3\")*50+COUNTIF(#REF!,\"=8\")*20+COUNTIF(#REF!,\"=9\")*0)/COUNTA(#REF!)/100,\"N/A\")","v":{"$error":"#REF!"}},{"$f":"IF(AND(COUNTA(B66:X66)<>0,#REF!<>\"\"),AVERAGE(Y66:AE66),\"N/A\")","v":{"$error":"#REF!"}},1,1,1,1,1,{"$error":"#REF!"},{"$error":"#REF!"},{"$error":"#REF!"}]
[{"$nulls":24},{"$f":"IF(COUNTA(B67:G67)>0,(COUNTIF(B67:G67,\"=0\")*0+COUNTIF(B67:G67,\"=1\")*100+COUNTIF(B67:G67,\"=2\")*80+COUNTIF(B67:G67,\"=3\")*50+COUNTIF(B67:G67,\"=8\")*20+COUNTIF(B67:G67,\"=9\")*0)/COUNTA(B67:G67)/100,\"N/A\")","v":"N/A"},{"$f":"IF(COUNTA(K67:P67)>0,(COUNTIF(K67:P67,\"=0\")*0+COUNTIF(K67:P67,\"=1\")*100+COUNTIF(K67:P67,\"=2\")*80+COUNTIF(K67:P67,\"=3\")*50+COUNTIF(K67:P67,\"=8\")*20+COUNTIF(K67:P67,\"=9\")*0)/COUNTA(K67:P67)/100,\"N/A\")","v":"N/A"},{"$f":"IF(COUNTA(Q67)>0,(COUNTIF(Q67,\"=0\")*0+COUNTIF(Q67,\"=1\")*100+COUNTIF(Q67,\"=2\")*80+COUNTIF(Q67,\"=3\")*50+COUNTIF(Q67,\"=8\")*20+COUNTIF(Q67,\"=9\")*0)/COUNTA(Q67)/100,\"N/A\")","v":"N/A"},{"$f":"IF(COUNTA(S67:W67)<>0,(COUNTIF(S67:W67,\"=0\")*0+COUNTIF(S67:W67,\"=1\")*100+COUNTIF(S67:W67,\"=2\")*80+COUNTIF(S67:W67,\"=3\")*50+COUNTIF(S67:W67,\"=8\")*20+COUNTIF(S67:W67,\"=9\")*0)/COUNTA(S67:W67)/100,\"N/A\")","v":"N/A"},"N/A",{"$f":"IF(COUNTA(#REF!)>0,(COUNTIF(#REF!,\"=0\")*0+COUNTIF(#REF!,\"=1\")*100+COUNTIF(#REF!,\"=2\")*80+COUNTIF(#REF!,\"=3\")*50+COUNTIF(#REF!,\"=8\")*20+COUNTIF(#REF!,\"=9\")*0)/COUNTA(#REF!)/100,\"N/A\")","v":{"$error":"#REF!"}},{"$f":"IF(COUNTA(#REF!)>0,(COUNTIF(#REF!,\"=0\")*0+COUNTIF(#REF!,\"=1\")*100+COUNTIF(#REF!,\"=2\")*80+COUNTIF(#REF!,\"=3\")*50+COUNTIF(#REF!,\"=8\")*20+COUNTIF(#REF!,\"=9\")*0)/COUNTA(#REF!)/100,\"N/A\")","v":{"$error":"#REF!"}},{"$f":"IF(AND(COUNTA(B67:X67)<>0,#REF!<>\"\"),AVERAGE(Y67:AE67),\"N/A\")","v":{"$error":"#REF!"}},1,1,1,1,1,{"$error":"#REF!"},{"$error":"#REF!"},{"$error":"#REF!"}]
[{"$nulls":24},{"$f":"IF(COUNTA(B68:G68)>0,(COUNTIF(B68:G68,\"=0\")*0+COUNTIF(B68:G68,\"=1\")*100+COUNTIF(B68:G68,\"=2\")*80+COUNTIF(B68:G68,\"=3\")*50+COUNTIF(B68:G68,\"=8\")*20+COUNTIF(B68:G68,\"=9\")*0)/COUNTA(B68:G68)/100,\"N/A\")","v":"N/A"},{"$f":"IF(COUNTA(K68:P68)>0,(COUNTIF(K68:P68,\"=0\")*0+COUNTIF(K68:P68,\"=1\")*100+COUNTIF(K68:P68,\"=2\")*80+COUNTIF(K68:P68,\"=3\")*50+COUNTIF(K68:P68,\"=8\")*20+COUNTIF(K68:P68,\"=9\")*0)/COUNTA(K68:P68)/100,\"N/A\")","v":"N/A"},{"$f":"IF(COUNTA(Q68)>0,(COUNTIF(Q68,\"=0\")*0+COUNTIF(Q68,\"=1\")*100+COUNTIF(Q68,\"=2\")*80+COUNTIF(Q68,\"=3\")*50+COUNTIF(Q68,\"=8\")*20+COUNTIF(Q68,\"=9\")*0)/COUNTA(Q68)/100,\"N/A\")","v":"N/A"},{"$f":"IF(COUNTA(S68:W68)<>0,(COUNTIF(S68:W68,\"=0\")*0+COUNTIF(S68:W68,\"=1\")*100+COUNTIF(S68:W68,\"=2\")*80+COUNTIF(S68:W68,\"=3\")*50+COUNTIF(S68:W68,\"=8\")*20+COUNTIF(S68:W68,\"=9\")*0)/COUNTA(S68:W68)/100,\"N/A\")","v":"N/A"},"N/A",{"$f":"IF(COUNTA(#REF!)>0,(COUNTIF(#REF!,\"=0\")*0+COUNTIF(#REF!,\"=1\")*100+COUNTIF(#REF!,\"=2\")*80+COUNTIF(#REF!,\"=3\")*50+COUNTIF(#REF!,\"=8\")*20+COUNTIF(#REF!,\"=9\")*0)/COUNTA(#REF!)/100,\"N/A\")","v":{"$error":"#REF!"}},{"$f":"IF(COUNTA(#REF!)>0,(COUNTIF(#REF!,\"=0\")*0+COUNTIF(#REF!,\"=1\")*100+COUNTIF(#REF!,\"=2\")*80+COUNTIF(#REF!,\"=3\")*50+COUNTIF(#REF!,\"=8\")*20+COUNTIF(#REF!,\"=9\")*0)/COUNTA(#REF!)/100,\"N/A\")","v":{"$error":"#REF!"}},{"$f":"IF(AND(COUNTA(B68:X68)<>0,#REF!<>\"\"),AVERAGE(Y68:AE68),\"N/A\")","v":{"$error":"#REF!"}},1,1,1,1,1,{"$error":"#REF!"},{"$error":"#REF!"},{"$error":"#REF!"}]
[{"$nulls":24},{"$f":"IF(COUNTA(B69:G69)>0,(COUNTIF(B69:G69,\"=0\")*0+COUNTIF(B69:G69,\"=1\")*100+COUNTIF(B69:G69,\"=2\")*80+COUNTIF(B69:G69,\"=3\")*50+COUNTIF(B69:G69,\"=8\")*20+COUNTIF(B69:G69,\"=9\")*0)/COUNTA(B69:G69)/100,\"N/A\")","v":"N/A"},{"$f":"IF(COUNTA(K69:P69)>0,(COUNTIF(K69:P69,\"=0\")*0+COUNTIF(K69:P69,\"=1\")*100+COUNTIF(K69:P69,\"=2\")*80+COUNTIF(K69:P69,\"=3\")*50+COUNTIF(K69:P69,\"=8\")*20+COUNTIF(K69:P69,\"=9\")*0)/COUNTA(K69:P69)/100,\"N/A\")","v":"N/A"},{"$f":"IF(COUNTA(Q69)>0,(COUNTIF(Q69,\"=0\")*0+COUNTIF(Q69,\"=1\")*100+COUNTIF(Q69,\"=2\")*80+COUNTIF(Q69,\"=3\")*50+COUNTIF(Q69,\"=8\")*20+COUNTIF(Q69,\"=9\")*0)/COUNTA(Q69)/100,\"N/A\")","v":"N/A"},{"$f":"IF(COUNTA(S69:W69)<>0,(COUNTIF(S69:W69,\"=0\")*0+COUNTIF(S69:W69,\"=1\")*100+COUNTIF(S69:W69,\"=2\")*80+COUNTIF(S69:W69,\"=3\")*50+COUNTIF(S69:W69,\"=8\")*20+COUNTIF(S69:W69,\"=9\")*0)/COUNTA(S69:W69)/100,\"N/A\")","v":"N/A"},"N/A",{"$f":"IF(COUNTA(#REF!)>0,(COUNTIF(#REF!,\"=0\")*0+COUNTIF(#REF!,\"=1\")*100+COUNTIF(#REF!,\"=2\")*80+COUNTIF(#REF!,\"=3\")*50+COUNTIF(#REF!,\"=8\")*20+COUNTIF(#REF!,\"=9\")*0)/COUNTA(#REF!)/100,\"N/A\")","v":{"$error":"#REF!"}},{"$f":"IF(COUNTA(#REF!)>0,(COUNTIF(#REF!,\"=0\")*0+COUNTIF(#REF!,\"=1\")*100+COUNTIF(#REF!,\"=2\")*80+COUNTIF(#REF!,\"=3\")*50+COUNTIF(#REF!,\"=8\")*20+COUNTIF(#REF!,\"=9\")*0)/COUNTA(#REF!)/100,\"N/A\")","v":{"$error":"#REF!"}},{"$f":"IF(AND(COUNTA(B69:X69)<>0,#REF!<>\"\"),AVERAGE(Y69:AE69),\"N/A\")","v":{"$error":"#REF!"}},1,1,1,1,1,{"$error":"#REF!"},{"$error":"#REF!"},{"$error":"#REF!"}]
[{"$nulls":24},{"$f":"IF(COUNTA(B70:G70)>0,(COUNTIF(B70:G70,\"=0\")*0+COUNTIF(B70:G70,\"=1\")*100+COUNTIF(B70:G70,\"=2\")*80+COUNTIF(B70:G70,\"=3\")*50+COUNTIF(B70:G70,\"=8\")*20+COUNTIF(B70:G70,\"=9\")*0)/COUNTA(B70:G70)/100,\"N/A\")","v":"N/A"},{"$f":"IF(COUNTA(K70:P70)>0,(COUNTIF(K70:P70,\"=0\")*0+COUNTIF(K70:P70,\"=1\")*100+COUNTIF(K70:P70,\"=2\")*80+COUNTIF(K70:P70,\"=3\")*50+COUNTIF(K70:P70,\"=8\")*20+COUNTIF(K70:P70,\"=9\")*0)/COUNTA(K70:P70)/100,\"N/A\")","v":"N/A"},{"$f":"IF(COUNTA(Q70)>0,(COUNTIF(Q70,\"=0\")*0+COUNTIF(Q70,\"=1\")*100+COUNTIF(Q70,\"=2\")*80+COUNTIF(Q70,\"=3\")*50+COUNTIF(Q70,\"=8\")*20+COUNTIF(Q70,\"=9\")*0)/COUNTA(Q70)/100,\"N/A\")","v":"N/A"},{"$f":"IF(COUNTA(S70:W70)<>0,(COUNTIF(S70:W70,\"=0\")*0+COUNTIF(S70:W70,\"=1\")*100+COUNTIF(S70:W70,\"=2\")*80+COUNTIF(S70:W70,\"=3\")*50+COUNTIF(S70:W70,\"=8\")*20+COUNTIF(S70:W70,\"=9\")*0)/COUNTA(S70:W70)/100,\"N/A\")","v":"N/A"},"N/A",{"$f":"IF(COUNTA(#REF!)>0,(COUNTIF(#REF!,\"=0\")*0+COUNTIF(#REF!,\"=1\")*100+COUNTIF(#REF!,\"=2\")*80+COUNTIF(#REF!,\"=3\")*50+COUNTIF(#REF!,\"=8\")*20+COUNTIF(#REF!,\"=9\")*0)/COUNTA(#REF!)/100,\"N/A\")","v":{"$error":"#REF!"}},{"$f":"IF(COUNTA(#REF!)>0,(COUNTIF(#REF!,\"=0\")*0+COUNTIF(#REF!,\"=1\")*100+COUNTIF(#REF!,\"=2\")*80+COUNTIF(#REF!,\"=3\")*50+COUNTIF(#REF!,\"=8\")*20+COUNTIF(#REF!,\"=9\")*0)/COUNTA(#REF!)/100,\"N/A\")","v":{"$error":"#REF!"}},{"$f":"IF(AND(COUNTA(B70:X70)<>0,#REF!<>\"\"),AVERAGE(Y70:AE70),\"N/A\")","v":{"$error":"#REF!"}},1,1,1,1,1,{"$error":"#REF!"},{"$error":"#REF!"},{"$error":"#REF!"}]
[{"$nulls":24},{"$f":"IF(COUNTA(B71:G71)>0,(COUNTIF(B71:G71,\"=0\")*0+COUNTIF(B71:G71,\"=1\")*100+COUNTIF(B71:G71,\"=2\")*80+COUNTIF(B71:G71,\"=3\")*50+COUNTIF(B71:G71,\"=8\")*20+COUNTIF(B71:G71,\"=9\")*0)/COUNTA(B71:G71)/100,\"N/A\")","v":"N/A"},{"$f":"IF(COUNTA(K71:P71)>0,(COUNTIF(K71:P71,\"=0\")*0+COUNTIF(K71:P71,\"=1\")*100+COUNTIF(K71:P71,\"=2\")*80+COUNTIF(K71:P71,\"=3\")*50+COUNTIF(K71:P71,\"=8\")*20+COUNTIF(K71:P71,\"=9\")*0)/COUNTA(K71:P71)/100,\"N/A\")","v":"N/A"},{"$f":"IF(COUNTA(Q71)>0,(COUNTIF(Q71,\"=0\")*0+COUNTIF(Q71,\"=1\")*100+COUNTIF(Q71,\"=2\")*80+COUNTIF(Q71,\"=3\")*50+COUNTIF(Q71,\"=8\")*20+COUNTIF(Q71,\"=9\")*0)/COUNTA(Q71)/100,\"N/A\")","v":"N/A"},{"$f":"IF(COUNTA(S71:W71)<>0,(COUNTIF(S71:W71,\"=0\")*0+COUNTIF(S71:W71,\"=1\")*100+COUNTIF(S71:W71,\"=2\")*80+COUNTIF(S71:W71,\"=3\")*50+COUNTIF(S71:W71,\"=8\")*20+COUNTIF(S71:W71,\"=9\")*0)/COUNTA(S71:W71)/100,\"N/A\")","v":"N/A"},"N/A",{"$f":"IF(COUNTA(#REF!)>0,(COUNTIF(#REF!,\"=0\")*0+COUNTIF(#REF!,\"=1\")*100+COUNTIF(#REF!,\"=2\")*80+COUNTIF(#REF!,\"=3\")*50+COUNTIF(#REF!,\"=8\")*20+COUNTIF(#REF!,\"=9\")*0)/COUNTA(#REF!)/100,\"N/A\")","v":{"$error":"#REF!"}},{"$f":"IF(COUNTA(#REF!)>0,(COUNTIF(#REF!,\"=0\")*0+COUNTIF(#REF!,\"=1\")*100+COUNTIF(#REF!,\"=2\")*80+COUNTIF(#REF!,\"=3\")*50+COUNTIF(#REF!,\"=8\")*20+COUNTIF(#REF!,\"=9\")*0)/COUNTA(#REF!)/100,\"N/A\")","v":{"$error":"#REF!"}},{"$f":"IF(AND(COUNTA(B71:X71)<>0,#REF!<>\"\"),AVERAGE(Y71:AE71),\"N/A\")","v":{"$error":"#REF!"}},1,1,1,1,1,{"$error":"#REF!"},{"$error":"#REF!"},{"$error":"#REF!"}]
[{"$nulls":24},{"$f":"IF(COUNTA(B72:G72)>0,(COUNTIF(B72:G72,\"=0\")*0+COUNTIF(B72:G72,\"=1\")*100+COUNTIF(B72:G72,\"=2\")*80+COUNTIF(B72:G72,\"=3\")*50+COUNTIF(B72:G72,\"=8\")*20+COUNTIF(B72:G72,\"=9\")*0)/COUNTA(B72:G72)/100,\"N/A\")","v":"N/A"},{"$f":"IF(COUNTA(K72:P72)>0,(COUNTIF(K72:P72,\"=0\")*0+COUNTIF(K72:P72,\"=1\")*100+COUNTIF(K72:P72,\"=2\")*80+COUNTIF(K72:P72,\"=3\")*50+COUNTIF(K72:P72,\"=8\")*20+COUNTIF(K72:P72,\"=9\")*0)/COUNTA(K72:P72)/100,\"N/A\")","v":"N/A"},{"$f":"IF(COUNTA(Q72)>0,(COUNTIF(Q72,\"=0\")*0+COUNTIF(Q72,\"=1\")*100+COUNTIF(Q72,\"=2\")*80+COUNTIF(Q72,\"=3\")*50+COUNTIF(Q72,\"=8\")*20+COUNTIF(Q72,\"=9\")*0)/COUNTA(Q72)/100,\"N/A\")","v":"N/A"},{"$f":"IF(COUNTA(S72:W72)<>0,(COUNTIF(S72:W72,\"=0\")*0+COUNTIF(S72:W72,\"=1\")*100+COUNTIF(S72:W72,\"=2\")*80+COUNTIF(S72:W72,\"=3\")*50+COUNTIF(S72:W72,\"=8\")*20+COUNTIF(S72:W72,\"=9\")*0)/COUNTA(S72:W72)/100,\"N/A\")","v":"N/A"},"N/A",{"$f":"IF(COUNTA(#REF!)>0,(COUNTIF(#REF!,\"=0\")*0+COUNTIF(#REF!,\"=1\")*100+COUNTIF(#REF!,\"=2\")*80+COUNTIF(#REF!,\"=3\")*50+COUNTIF(#REF!,\"=8\")*20+COUNTIF(#REF!,\"=9\")*0)/COUNTA(#REF!)/100,\"N/A\")","v":{"$error":"#REF!"}},{"$f":"IF(COUNTA(#REF!)>0,(COUNTIF(#REF!,\"=0\")*0+COUNTIF(#REF!,\"=1\")*100+COUNTIF(#REF!,\"=2\")*80+COUNTIF(#REF!,\"=3\")*50+COUNTIF(#REF!,\"=8\")*20+COUNTIF(#REF!,\"=9\")*0)/COUNTA(#REF!)/100,\"N/A\")","v":{"$error":"#REF!"}},{"$f":"IF(AND(COUNTA(B72:X72)<>0,#REF!<>\"\"),AVERAGE(Y72:AE72),\"N/A\")","v":{"$error":"#REF!"}},1,1,1,1,1,{"$error":"#REF!"},{"$error":"#REF!"},{"$error":"#REF!"}]
[{"$nulls":24},{"$f":"IF(COUNTA(B73:G73)>0,(COUNTIF(B73:G73,\"=0\")*0+COUNTIF(B73:G73,\"=1\")*100+COUNTIF(B73:G73,\"=2\")*80+COUNTIF(B73:G73,\"=3\")*50+COUNTIF(B73:G73,\"=8\")*20+COUNTIF(B73:G73,\"=9\")*0)/COUNTA(B73:G73)/100,\"N/A\")","v":"N/A"},{"$f":"IF(COUNTA(K73:P73)>0,(COUNTIF(K73:P73,\"=0\")*0+COUNTIF(K73:P73,\"=1\")*100+COUNTIF(K73:P73,\"=2\")*80+COUNTIF(K73:P73,\"=3\")*50+COUNTIF(K73:P73,\"=8\")*20+COUNTIF(K73:P73,\"=9\")*0)/COUNTA(K73:P73)/100,\"N/A\")","v":"N/A"},{"$f":"IF(COUNTA(Q73)>0,(COUNTIF(Q73,\"=0\")*0+COUNTIF(Q73,\"=1\")*100+COUNTIF(Q73,\"=2\")*80+COUNTIF(Q73,\"=3\")*50+COUNTIF(Q73,\"=8\")*20+COUNTIF(Q73,\"=9\")*0)/COUNTA(Q73)/100,\"N/A\")","v":"N/A"},{"$f":"IF(COUNTA(S73:W73)<>0,(COUNTIF(S73:W73,\"=0\")*0+COUNTIF(S73:W73,\"=1\")*100+COUNTIF(S73:W73,\"=2\")*80+COUNTIF(S73:W73,\"=3\")*50+COUNTIF(S73:W73,\"=8\")*20+COUNTIF(S73:W73,\"=9\")*0)/COUNTA(S73:W73)/100,\"N/A\")","v":"N/A"},"N/A",{"$f":"IF(COUNTA(#REF!)>0,(COUNTIF(#REF!,\"=0\")*0+COUNTIF(#REF!,\"=1\")*100+COUNTIF(#REF!,\"=2\")*80+COUNTIF(#REF!,\"=3\")*50+COUNTIF(#REF!,\"=8\")*20+COUNTIF(#REF!,\"=9\")*0)/COUNTA(#REF!)/100,\"N/A\")","v":{"$error":"#REF!"}},{"$f":"IF(COUNTA(#REF!)>0,(COUNTIF(#REF!,\"=0\")*0+COUNTIF(#REF!,\"=1\")*100+COUNTIF(#REF!,\"=2\")*80+COUNTIF(#REF!,\"=3\")*50+COUNTIF(#REF!,\"=8\")*20+COUNTIF(#REF!,\"=9\")*0)/COUNTA(#REF!)/100,\"N/A\")","v":{"$error":"#REF!"}},{"$f":"IF(AND(COUNTA(B73:X73)<>0,#REF!<>\"\"),AVERAGE(Y73:AE73),\"N/A\")","v":{"$error":"#REF!"}},1,1,1,1,1,{"$error":"#REF!"},{"$error":"#REF!"},{"$error":"#REF!"}]
[{"$nulls":24},{"$f":"IF(COUNTA(B74:G74)>0,(COUNTIF(B74:G74,\"=0\")*0+COUNTIF(B74:G74,\"=1\")*100+COUNTIF(B74:G74,\"=2\")*80+COUNTIF(B74:G74,\"=3\")*50+COUNTIF(B74:G74,\"=8\")*20+COUNTIF(B74:G74,\"=9\")*0)/COUNTA(B74:G74)/100,\"N/A\")","v":"N/A"},{"$f":"IF(COUNTA(K74:P74)>0,(COUNTIF(K74:P74,\"=0\")*0+COUNTIF(K74:P74,\"=1\")*100+COUNTIF(K74:P74,\"=2\")*80+COUNTIF(K74:P74,\"=3\")*50+COUNTIF(K74:P74,\"=8\")*20+COUNTIF(K74:P74,\"=9\")*0)/COUNTA(K74:P74)/100,\"N/A\")","v":"N/A"},{"$f":"IF(COUNTA(Q74)>0,(COUNTIF(Q74,\"=0\")*0+COUNTIF(Q74,\"=1\")*100+COUNTIF(Q74,\"=2\")*80+COUNTIF(Q74,\"=3\")*50+COUNTIF(Q74,\"=8\")*20+COUNTIF(Q74,\"=9\")*0)/COUNTA(Q74)/100,\"N/A\")","v":"N/A"},{"$f":"IF(COUNTA(S74:W74)<>0,(COUNTIF(S74:W74,\"=0\")*0+COUNTIF(S74:W74,\"=1\")*100+COUNTIF(S74:W74,\"=2\")*80+COUNTIF(S74:W74,\"=3\")*50+COUNTIF(S74:W74,\"=8\")*20+COUNTIF(S74:W74,\"=9\")*0)/COUNTA(S74:W74)/100,\"N/A\")","v":"N/A"},"N/A",{"$f":"IF(COUNTA(#REF!)>0,(COUNTIF(#REF!,\"=0\")*0+COUNTIF(#REF!,\"=1\")*100+COUNTIF(#REF!,\"=2\")*80+COUNTIF(#REF!,\"=3\")*50+COUNTIF(#REF!,\"=8\")*20+COUNTIF(#REF!,\"=9\")*0)/COUNTA(#REF!)/100,\"N/A\")","v":{"$error":"#REF!"}},{"$f":"IF(COUNTA(#REF!)>0,(COUNTIF(#REF!,\"=0\")*0+COUNTIF(#REF!,\"=1\")*100+COUNTIF(#REF!,\"=2\")*80+COUNTIF(#REF!,\"=3\")*50+COUNTIF(#REF!,\"=8\")*20+COUNTIF(#REF!,\"=9\")*0)/COUNTA(#REF!)/100,\"N/A\")","v":{"$error":"#REF!"}},{"$f":"IF(AND(COUNTA(B74:X74)<>0,#REF!<>\"\"),AVERAGE(Y74:AE74),\"N/A\")","v":{"$error":"#REF!"}},1,1,1,1,1,{"$error":"#REF!"},{"$error":"#REF!"},{"$error":"#REF!"}]
[{"$nulls":24},{"$f":"IF(COUNTA(B75:G75)>0,(COUNTIF(B75:G75,\"=0\")*0+COUNTIF(B75:G75,\"=1\")*100+COUNTIF(B75:G75,\"=2\")*80+COUNTIF(B75:G75,\"=3\")*50+COUNTIF(B75:G75,\"=8\")*20+COUNTIF(B75:G75,\"=9\")*0)/COUNTA(B75:G75)/100,\"N/A\")","v":"N/A"},{"$f":"IF(COUNTA(K75:P75)>0,(COUNTIF(K75:P75,\"=0\")*0+COUNTIF(K75:P75,\"=1\")*100+COUNTIF(K75:P75,\"=2\")*80+COUNTIF(K75:P75,\"=3\")*50+COUNTIF(K75:P75,\"=8\")*20+COUNTIF(K75:P75,\"=9\")*0)/COUNTA(K75:P75)/100,\"N/A\")","v":"N/A"},{"$f":"IF(COUNTA(Q75)>0,(COUNTIF(Q75,\"=0\")*0+COUNTIF(Q75,\"=1\")*100+COUNTIF(Q75,\"=2\")*80+COUNTIF(Q75,\"=3\")*50+COUNTIF(Q75,\"=8\")*20+COUNTIF(Q75,\"=9\")*0)/COUNTA(Q75)/100,\"N/A\")","v":"N/A"},{"$f":"IF(COUNTA(S75:W75)<>0,(COUNTIF(S75:W75,\"=0\")*0+COUNTIF(S75:W75,\"=1\")*100+COUNTIF(S75:W75,\"=2\")*80+COUNTIF(S75:W75,\"=3\")*50+COUNTIF(S75:W75,\"=8\")*20+COUNTIF(S75:W75,\"=9\")*0)/COUNTA(S75:W75)/100,\"N/A\")","v":"N/A"},"N/A",{"$f":"IF(COUNTA(#REF!)>0,(COUNTIF(#REF!,\"=0\")*0+COUNTIF(#REF!,\"=1\")*100+COUNTIF(#REF!,\"=2\")*80+COUNTIF(#REF!,\"=3\")*50+COUNTIF(#REF!,\"=8\")*20+COUNTIF(#REF!,\"=9\")*0)/COUNTA(#REF!)/100,\"N/A\")","v":{"$error":"#REF!"}},{"$f":"IF(COUNTA(#REF!)>0,(COUNTIF(#REF!,\"=0\")*0+COUNTIF(#REF!,\"=1\")*100+COUNTIF(#REF!,\"=2\")*80+COUNTIF(#REF!,\"=3\")*50+COUNTIF(#REF!,\"=8\")*20+COUNTIF(#REF!,\"=9\")*0)/COUNTA(#REF!)/100,\"N/A\")","v":{"$error":"#REF!"}},{"$f":"IF(AND(COUNTA(B75:X75)<>0,#REF!<>\"\"),AVERAGE(Y75:AE75),\"N/A\")","v":{"$error":"#REF!"}},1,1,1,1,1,{"$error":"#REF!"},{"$error":"#REF!"},{"$error":"#REF!"}]
[{"$nulls":24},{"$f":"IF(COUNTA(B76:G76)>0,(COUNTIF(B76:G76,\"=0\")*0+COUNTIF(B76:G76,\"=1\")*100+COUNTIF(B76:G76,\"=2\")*80+COUNTIF(B76:G76,\"=3\")*50+COUNTIF(B76:G76,\"=8\")*20+COUNTIF(B76:G76,\"=9\")*0)/COUNTA(B76:G76)/100,\"N/A\")","v":"N/A"},{"$f":"IF(COUNTA(K76:P76)>0,(COUNTIF(K76:P76,\"=0\")*0+COUNTIF(K76:P76,\"=1\")*100+COUNTIF(K76:P76,\"=2\")*80+COUNTIF(K76:P76,\"=3\")*50+COUNTIF(K76:P76,\"=8\")*20+COUNTIF(K76:P76,\"=9\")*0)/COUNTA(K76:P76)/100,\"N/A\")","v":"N/A"},{"$f":"IF(COUNTA(Q76)>0,(COUNTIF(Q76,\"=0\")*0+COUNTIF(Q76,\"=1\")*100+COUNTIF(Q76,\"=2\")*80+COUNTIF(Q76,\"=3\")*50+COUNTIF(Q76,\"=8\")*20+COUNTIF(Q76,\"=9\")*0)/COUNTA(Q76)/100,\"N/A\")","v":"N/A"},{"$f":"IF(COUNTA(S76:W76)<>0,(COUNTIF(S76:W76,\"=0\")*0+COUNTIF(S76:W76,\"=1\")*100+COUNTIF(S76:W76,\"=2\")*80+COUNTIF(S76:W76,\"=3\")*50+COUNTIF(S76:W76,\"=8\")*20+COUNTIF(S76:W76,\"=9\")*0)/COUNTA(S76:W76)/100,\"N/A\")","v":"N/A"},"N/A",{"$f":"IF(COUNTA(#REF!)>0,(COUNTIF(#REF!,\"=0\")*0+COUNTIF(#REF!,\"=1\")*100+COUNTIF(#REF!,\"=2\")*80+COUNTIF(#REF!,\"=3\")*50+COUNTIF(#REF!,\"=8\")*20+COUNTIF(#REF!,\"=9\")*0)/COUNTA(#REF!)/100,\"N/A\")","v":{"$error":"#REF!"}},{"$f":"IF(COUNTA(#REF!)>0,(COUNTIF(#REF!,\"=0\")*0+COUNTIF(#REF!,\"=1\")*100+COUNTIF(#REF!,\"=2\")*80+COUNTIF(#REF!,\"=3\")*50+COUNTIF(#REF!,\"=8\")*20+COUNTIF(#REF!,\"=9\")*0)/COUNTA(#REF!)/100,\"N/A\")","v":{"$error":"#REF!"}},{"$f":"IF(AND(COUNTA(B76:X76)<>0,#REF!<>\"\"),AVERAGE(Y76:AE76),\"N/A\")","v":{"$error":"#REF!"}},1,1,1,1,1,{"$error":"#REF!"},{"$error":"#REF!"},{"$error":"#REF!"}]
[{"$nulls":24},{"$f":"IF(COUNTA(B77:G77)>0,(COUNTIF(B77:G77,\"=0\")*0+COUNTIF(B77:G77,\"=1\")*100+COUNTIF(B77:G77,\"=2\")*80+COUNTIF(B77:G77,\"=3\")*50+COUNTIF(B77:G77,\"=8\")*20+COUNTIF(B77:G77,\"=9\")*0)/COUNTA(B77:G77)/100,\"N/A\")","v":"N/A"},{"$f":"IF(COUNTA(K77:P77)>0,(COUNTIF(K77:P77,\"=0\")*0+COUNTIF(K77:P77,\"=1\")*100+COUNTIF(K77:P77,\"=2\")*80+COUNTIF(K77:P77,\"=3\")*50+COUNTIF(K77:P77,\"=8\")*20+COUNTIF(K77:P77,\"=9\")*0)/COUNTA(K77:P77)/100,\"N/A\")","v":"N/A"},{"$f":"IF(COUNTA(Q77)>0,(COUNTIF(Q77,\"=0\")*0+COUNTIF(Q77,\"=1\")*100+COUNTIF(Q77,\"=2\")*80+COUNTIF(Q77,\"=3\")*50+COUNTIF(Q77,\"=8\")*20+COUNTIF(Q77,\"=9\")*0)/COUNTA(Q77)/100,\"N/A\")","v":"N/A"},{"$f":"IF(COUNTA(S77:W77)<>0,(COUNTIF(S77:W77,\"=0\")*0+COUNTIF(S77:W77,\"=1\")*100+COUNTIF(S77:W77,\"=2\")*80+COUNTIF(S77:W77,\"=3\")*50+COUNTIF(S77:W77,\"=8\")*20+COUNTIF(S77:W77,\"=9\")*0)/COUNTA(S77:W77)/100,\"N/A\")","v":"N/A"},"N/A",{"$f":"IF(COUNTA(#REF!)>0,(COUNTIF(#REF!,\"=0\")*0+COUNTIF(#REF!,\"=1\")*100+COUNTIF(#REF!,\"=2\")*80+COUNTIF(#REF!,\"=3\")*50+COUNTIF(#REF!,\"=8\")*20+COUNTIF(#REF!,\"=9\")*0)/COUNTA(#REF!)/100,\"N/A\")","v":{"$error":"#REF!"}},{"$f":"IF(COUNTA(#REF!)>0,(COUNTIF(#REF!,\"=0\")*0+COUNTIF(#REF!,\"=1\")*100+COUNTIF(#REF!,\"=2\")*80+COUNTIF(#REF!,\"=3\")*50+COUNTIF(#REF!,\"=8\")*20+COUNTIF(#REF!,\"=9\")*0)/COUNTA(#REF!)/100,\"N/A\")","v":{"$error":"#REF!"}},{"$f":"IF(AND(COUNTA(B77:X77)<>0,#REF!<>\"\"),AVERAGE(Y77:AE77),\"N/A\")","v":{"$error":"#REF!"}},1,1,1,1,1,{"$error":"#REF!"},{"$error":"#REF!"},{"$error":"#REF!"}]
[{"$nulls":24},{"$f":"IF(COUNTA(B78:G78)>0,(COUNTIF(B78:G78,\"=0\")*0+COUNTIF(B78:G78,\"=1\")*100+COUNTIF(B78:G78,\"=2\")*80+COUNTIF(B78:G78,\"=3\")*50+COUNTIF(B78:G78,\"=8\")*20+COUNTIF(B78:G78,\"=9\")*0)/COUNTA(B78:G78)/100,\"N/A\")","v":"N/A"},{"$f":"IF(COUNTA(K78:P78)>0,(COUNTIF(K78:P78,\"=0\")*0+COUNTIF(K78:P78,\"=1\")*100+COUNTIF(K78:P78,\"=2\")*80+COUNTIF(K78:P78,\"=3\")*50+COUNTIF(K78:P78,\"=8\")*20+COUNTIF(K78:P78,\"=9\")*0)/COUNTA(K78:P78)/100,\"N/A\")","v":"N/A"},{"$f":"IF(COUNTA(Q78)>0,(COUNTIF(Q78,\"=0\")*0+COUNTIF(Q78,\"=1\")*100+COUNTIF(Q78,\"=2\")*80+COUNTIF(Q78,\"=3\")*50+COUNTIF(Q78,\"=8\")*20+COUNTIF(Q78,\"=9\")*0)/COUNTA(Q78)/100,\"N/A\")","v":"N/A"},{"$f":"IF(COUNTA(S78:W78)<>0,(COUNTIF(S78:W78,\"=0\")*0+COUNTIF(S78:W78,\"=1\")*100+COUNTIF(S78:W78,\"=2\")*80+COUNTIF(S78:W78,\"=3\")*50+COUNTIF(S78:W78,\"=8\")*20+COUNTIF(S78:W78,\"=9\")*0)/COUNTA(S78:W78)/100,\"N/A\")","v":"N/A"},"N/A",{"$f":"IF(COUNTA(#REF!)>0,(COUNTIF(#REF!,\"=0\")*0+COUNTIF(#REF!,\"=1\")*100+COUNTIF(#REF!,\"=2\")*80+COUNTIF(#REF!,\"=3\")*50+COUNTIF(#REF!,\"=8\")*20+COUNTIF(#REF!,\"=9\")*0)/COUNTA(#REF!)/100,\"N/A\")","v":{"$error":"#REF!"}},{"$f":"IF(COUNTA(#REF!)>0,(COUNTIF(#REF!,\"=0\")*0+COUNTIF(#REF!,\"=1\")*100+COUNTIF(#REF!,\"=2\")*80+COUNTIF(#REF!,\"=3\")*50+COUNTIF(#REF!,\"=8\")*20+COUNTIF(#REF!,\"=9\")*0)/COUNTA(#REF!)/100,\"N/A\")","v":{"$error":"#REF!"}},{"$f":"IF(AND(COUNTA(B78:X78)<>0,#REF!<>\"\"),AVERAGE(Y78:AE78),\"N/A\")","v":{"$error":"#REF!"}},1,1,1,1,1,{"$error":"#REF!"},{"$error":"#REF!"},{"$error":"#REF!"}]
[{"$nulls":24},{"$f":"IF(COUNTA(B79:G79)>0,(COUNTIF(B79:G79,\"=0\")*0+COUNTIF(B79:G79,\"=1\")*100+COUNTIF(B79:G79,\"=2\")*80+COUNTIF(B79:G79,\"=3\")*50+COUNTIF(B79:G79,\"=8\")*20+COUNTIF(B79:G79,\"=9\")*0)/COUNTA(B79:G79)/100,\"N/A\")","v":"N/A"},{"$f":"IF(COUNTA(K79:P79)>0,(COUNTIF(K79:P79,\"=0\")*0+COUNTIF(K79:P79,\"=1\")*100+COUNTIF(K79:P79,\"=2\")*80+COUNTIF(K79:P79,\"=3\")*50+COUNTIF(K79:P79,\"=8\")*20+COUNTIF(K79:P79,\"=9\")*0)/COUNTA(K79:P79)/100,\"N/A\")","v":"N/A"},{"$f":"IF(COUNTA(Q79)>0,(COUNTIF(Q79,\"=0\")*0+COUNTIF(Q79,\"=1\")*100+COUNTIF(Q79,\"=2\")*80+COUNTIF(Q79,\"=3\")*50+COUNTIF(Q79,\"=8\")*20+COUNTIF(Q79,\"=9\")*0)/COUNTA(Q79)/100,\"N/A\")","v":"N/A"},{"$f":"IF(COUNTA(S79:W79)<>0,(COUNTIF(S79:W79,\"=0\")*0+COUNTIF(S79:W79,\"=1\")*100+COUNTIF(S79:W79,\"=2\")*80+COUNTIF(S79:W79,\"=3\")*50+COUNTIF(S79:W79,\"=8\")*20+COUNTIF(S79:W79,\"=9\")*0)/COUNTA(S79:W79)/100,\"N/A\")","v":"N/A"},"N/A",{"$f":"IF(COUNTA(#REF!)>0,(COUNTIF(#REF!,\"=0\")*0+COUNTIF(#REF!,\"=1\")*100+COUNTIF(#REF!,\"=2\")*80+COUNTIF(#REF!,\"=3\")*50+COUNTIF(#REF!,\"=8\")*20+COUNTIF(#REF!,\"=9\")*0)/COUNTA(#REF!)/100,\"N/A\")","v":{"$error":"#REF!"}},{"$f":"IF(COUNTA(#REF!)>0,(COUNTIF(#REF!,\"=0\")*0+COUNTIF(#REF!,\"=1\")*100+COUNTIF(#REF!,\"=2\")*80+COUNTIF(#REF!,\"=3\")*50+COUNTIF(#REF!,\"=8\")*20+COUNTIF(#REF!,\"=9\")*0)/COUNTA(#REF!)/100,\"N/A\")","v":{"$error":"#REF!"}},{"$f":"IF(AND(COUNTA(B79:X79)<>0,#REF!<>\"\"),AVERAGE(Y79:AE79),\"N/A\")","v":{"$error":"#REF!"}},1,1,1,1,1,{"$error":"#REF!"},{"$error":"#REF!"},{"$error":"#REF!"}]
[{"$nulls":24},{"$f":"IF(COUNTA(B80:G80)>0,(COUNTIF(B80:G80,\"=0\")*0+COUNTIF(B80:G80,\"=1\")*100+COUNTIF(B80:G80,\"=2\")*80+COUNTIF(B80:G80,\"=3\")*50+COUNTIF(B80:G80,\"=8\")*20+COUNTIF(B80:G80,\"=9\")*0)/COUNTA(B80:G80)/100,\"N/A\")","v":"N/A"},{"$f":"IF(COUNTA(K80:P80)>0,(COUNTIF(K80:P80,\"=0\")*0+COUNTIF(K80:P80,\"=1\")*100+COUNTIF(K80:P80,\"=2\")*80+COUNTIF(K80:P80,\"=3\")*50+COUNTIF(K80:P80,\"=8\")*20+COUNTIF(K80:P80,\"=9\")*0)/COUNTA(K80:P80)/100,\"N/A\")","v":"N/A"},{"$f":"IF(COUNTA(Q80)>0,(COUNTIF(Q80,\"=0\")*0+COUNTIF(Q80,\"=1\")*100+COUNTIF(Q80,\"=2\")*80+COUNTIF(Q80,\"=3\")*50+COUNTIF(Q80,\"=8\")*20+COUNTIF(Q80,\"=9\")*0)/COUNTA(Q80)/100,\"N/A\")","v":"N/A"},{"$f":"IF(COUNTA(S80:W80)<>0,(COUNTIF(S80:W80,\"=0\")*0+COUNTIF(S80:W80,\"=1\")*100+COUNTIF(S80:W80,\"=2\")*80+COUNTIF(S80:W80,\"=3\")*50+COUNTIF(S80:W80,\"=8\")*20+COUNTIF(S80:W80,\"=9\")*0)/COUNTA(S80:W80)/100,\"N/A\")","v":"N/A"},"N/A",{"$f":"IF(COUNTA(#REF!)>0,(COUNTIF(#REF!,\"=0\")*0+COUNTIF(#REF!,\"=1\")*100+COUNTIF(#REF!,\"=2\")*80+COUNTIF(#REF!,\"=3\")*50+COUNTIF(#REF!,\"=8\")*20+COUNTIF(#REF!,\"=9\")*0)/COUNTA(#REF!)/100,\"N/A\")","v":{"$error":"#REF!"}},{"$f":"IF(COUNTA(#REF!)>0,(COUNTIF(#REF!,\"=0\")*0+COUNTIF(#REF!,\"=1\")*100+COUNTIF(#REF!,\"=2\")*80+COUNTIF(#REF!,\"=3\")*50+COUNTIF(#REF!,\"=8\")*20+COUNTIF(#REF!,\"=9\")*0)/COUNTA(#REF!)/100,\"N/A\")","v":{"$error":"#REF!"}},{"$f":"IF(AND(COUNTA(B80:X80)<>0,#REF!<>\"\"),AVERAGE(Y80:AE80),\"N/A\")","v":{"$error":"#REF!"}},1,1,1,1,1,{"$error":"#REF!"},{"$error":"#REF!"},{"$f":"IF(AF80=\"N/A\",1,\"\")","v":{"$error":"#REF!"}}]
[{"$nulls":24},{"$f":"IF(COUNTA(B81:G81)>0,(COUNTIF(B81:G81,\"=0\")*0+COUNTIF(B81:G81,\"=1\")*100+COUNTIF(B81:G81,\"=2\")*80+COUNTIF(B81:G81,\"=3\")*50+COUNTIF(B81:G81,\"=8\")*20+COUNTIF(B81:G81,\"=9\")*0)/COUNTA(B81:G81)/100,\"N/A\")","v":"N/A"},{"$f":"IF(COUNTA(K81:P81)>0,(COUNTIF(K81:P81,\"=0\")*0+COUNTIF(K81:P81,\"=1\")*100+COUNTIF(K81:P81,\"=2\")*80+COUNTIF(K81:P81,\"=3\")*50+COUNTIF(K81:P81,\"=8\")*20+COUNTIF(K81:P81,\"=9\")*0)/COUNTA(K81:P81)/100,\"N/A\")","v":"N/A"},{"$f":"IF(COUNTA(Q81)>0,(COUNTIF(Q81,\"=0\")*0+COUNTIF(Q81,\"=1\")*100+COUNTIF(Q81,\"=2\")*80+COUNTIF(Q81,\"=3\")*50+COUNTIF(Q81,\"=8\")*20+COUNTIF(Q81,\"=9\")*0)/COUNTA(Q81)/100,\"N/A\")","v":"N/A"},{"$f":"IF(COUNTA(S81:W81)<>0,(COUNTIF(S81:W81,\"=0\")*0+COUNTIF(S81:W81,\"=1\")*100+COUNTIF(S81:W81,\"=2\")*80+COUNTIF(S81:W81,\"=3\")*50+COUNTIF(S81:W81,\"=8\")*20+COUNTIF(S81:W81,\"=9\")*0)/COUNTA(S81:W81)/100,\"N/A\")","v":"N/A"},"N/A",{"$f":"IF(COUNTA(#REF!)>0,(COUNTIF(#REF!,\"=0\")*0+COUNTIF(#REF!,\"=1\")*100+COUNTIF(#REF!,\"=2\")*80+COUNTIF(#REF!,\"=3\")*50+COUNTIF(#REF!,\"=8\")*20+COUNTIF(#REF!,\"=9\")*0)/COUNTA(#REF!)/100,\"N/A\")","v":{"$error":"#REF!"}},{"$f":"IF(COUNTA(#REF!)>0,(COUNTIF(#REF!,\"=0\")*0+COUNTIF(#REF!,\"=1\")*100+COUNTIF(#REF!,\"=2\")*80+COUNTIF(#REF!,\"=3\")*50+COUNTIF(#REF!,\"=8\")*20+COUNTIF(#REF!,\"=9\")*0)/COUNTA(#REF!)/100,\"N/A\")","v":{"$error":"#REF!"}},{"$f":"IF(AND(COUNTA(B81:X81)<>0,#REF!<>\"\"),AVERAGE(Y81:AE81),\"N/A\")","v":{"$error":"#REF!"}},{"$f":"IF(Y81=\"N/A\",1,\"\")","v":1},1,1,1,1,{"$error":"#REF!"},{"$error":"#REF!"},{"$error":"#REF!"}]
[{"$nulls":24},{"$f":"IF(COUNTA(B82:G82)>0,(COUNTIF(B82:G82,\"=0\")*0+COUNTIF(B82:G82,\"=1\")*100+COUNTIF(B82:G82,\"=2\")*80+COUNTIF(B82:G82,\"=3\")*50+COUNTIF(B82:G82,\"=8\")*20+COUNTIF(B82:G82,\"=9\")*0)/COUNTA(B82:G82)/100,\"N/A\")","v":"N/A"},{"$f":"IF(COUNTA(K82:P82)>0,(COUNTIF(K82:P82,\"=0\")*0+COUNTIF(K82:P82,\"=1\")*100+COUNTIF(K82:P82,\"=2\")*80+COUNTIF(K82:P82,\"=3\")*50+COUNTIF(K82:P82,\"=8\")*20+COUNTIF(K82:P82,\"=9\")*0)/COUNTA(K82:P82)/100,\"N/A\")","v":"N/A"},{"$f":"IF(COUNTA(Q82)>0,(COUNTIF(Q82,\"=0\")*0+COUNTIF(Q82,\"=1\")*100+COUNTIF(Q82,\"=2\")*80+COUNTIF(Q82,\"=3\")*50+COUNTIF(Q82,\"=8\")*20+COUNTIF(Q82,\"=9\")*0)/COUNTA(Q82)/100,\"N/A\")","v":"N/A"},{"$f":"IF(COUNTA(S82:W82)<>0,(COUNTIF(S82:W82,\"=0\")*0+COUNTIF(S82:W82,\"=1\")*100+COUNTIF(S82:W82,\"=2\")*80+COUNTIF(S82:W82,\"=3\")*50+COUNTIF(S82:W82,\"=8\")*20+COUNTIF(S82:W82,\"=9\")*0)/COUNTA(S82:W82)/100,\"N/A\")","v":"N/A"},"N/A",{"$f":"IF(COUNTA(#REF!)>0,(COUNTIF(#REF!,\"=0\")*0+COUNTIF(#REF!,\"=1\")*100+COUNTIF(#REF!,\"=2\")*80+COUNTIF(#REF!,\"=3\")*50+COUNTIF(#REF!,\"=8\")*20+COUNTIF(#REF!,\"=9\")*0)/COUNTA(#REF!)/100,\"N/A\")","v":{"$error":"#REF!"}},{"$f":"IF(COUNTA(#REF!)>0,(COUNTIF(#REF!,\"=0\")*0+COUNTIF(#REF!,\"=1\")*100+COUNTIF(#REF!,\"=2\")*80+COUNTIF(#REF!,\"=3\")*50+COUNTIF(#REF!,\"=8\")*20+COUNTIF(#REF!,\"=9\")*0)/COUNTA(#REF!)/100,\"N/A\")","v":{"$error":"#REF!"}},{"$f":"IF(AND(COUNTA(B82:X82)<>0,#REF!<>\"\"),AVERAGE(Y82:AE82),\"N/A\")","v":{"$error":"#REF!"}},1,1,1,1,1,{"$error":"#REF!"},{"$error":"#REF!"},{"$error":"#REF!"}]
[{"$nulls":24},{"$f":"IF(COUNTA(B83:G83)>0,(COUNTIF(B83:G83,\"=0\")*0+COUNTIF(B83:G83,\"=1\")*100+COUNTIF(B83:G83,\"=2\")*80+COUNTIF(B83:G83,\"=3\")*50+COUNTIF(B83:G83,\"=8\")*20+COUNTIF(B83:G83,\"=9\")*0)/COUNTA(B83:G83)/100,\"N/A\")","v":"N/A"},{"$f":"IF(COUNTA(K83:P83)>0,(COUNTIF(K83:P83,\"=0\")*0+COUNTIF(K83:P83,\"=1\")*100+COUNTIF(K83:P83,\"=2\")*80+COUNTIF(K83:P83,\"=3\")*50+COUNTIF(K83:P83,\"=8\")*20+COUNTIF(K83:P83,\"=9\")*0)/COUNTA(K83:P83)/100,\"N/A\")","v":"N/A"},{"$f":"IF(COUNTA(Q83)>0,(COUNTIF(Q83,\"=0\")*0+COUNTIF(Q83,\"=1\")*100+COUNTIF(Q83,\"=2\")*80+COUNTIF(Q83,\"=3\")*50+COUNTIF(Q83,\"=8\")*20+COUNTIF(Q83,\"=9\")*0)/COUNTA(Q83)/100,\"N/A\")","v":"N/A"},{"$f":"IF(COUNTA(S83:W83)<>0,(COUNTIF(S83:W83,\"=0\")*0+COUNTIF(S83:W83,\"=1\")*100+COUNTIF(S83:W83,\"=2\")*80+COUNTIF(S83:W83,\"=3\")*50+COUNTIF(S83:W83,\"=8\")*20+COUNTIF(S83:W83,\"=9\")*0)/COUNTA(S83:W83)/100,\"N/A\")","v":"N/A"},"N/A",{"$f":"IF(COUNTA(#REF!)>0,(COUNTIF(#REF!,\"=0\")*0+COUNTIF(#REF!,\"=1\")*100+COUNTIF(#REF!,\"=2\")*80+COUNTIF(#REF!,\"=3\")*50+COUNTIF(#REF!,\"=8\")*20+COUNTIF(#REF!,\"=9\")*0)/COUNTA(#REF!)/100,\"N/A\")","v":{"$error":"#REF!"}},{"$f":"IF(COUNTA(#REF!)>0,(COUNTIF(#REF!,\"=0\")*0+COUNTIF(#REF!,\"=1\")*100+COUNTIF(#REF!,\"=2\")*80+COUNTIF(#REF!,\"=3\")*50+COUNTIF(#REF!,\"=8\")*20+COUNTIF(#REF!,\"=9\")*0)/COUNTA(#REF!)/100,\"N/A\")","v":{"$error":"#REF!"}},{"$f":"IF(AND(COUNTA(B83:X83)<>0,#REF!<>\"\"),AVERAGE(Y83:AE83),\"N/A\")","v":{"$error":"#REF!"}},1,1,1,1,1,{"$error":"#REF!"},{"$error":"#REF!"},{"$error":"#REF!"}]
[{"$nulls":24},{"$f":"IF(COUNTA(B84:G84)>0,(COUNTIF(B84:G84,\"=0\")*0+COUNTIF(B84:G84,\"=1\")*100+COUNTIF(B84:G84,\"=2\")*80+COUNTIF(B84:G84,\"=3\")*50+COUNTIF(B84:G84,\"=8\")*20+COUNTIF(B84:G84,\"=9\")*0)/COUNTA(B84:G84)/100,\"N/A\")","v":"N/A"},{"$f":"IF(COUNTA(K84:P84)>0,(COUNTIF(K84:P84,\"=0\")*0+COUNTIF(K84:P84,\"=1\")*100+COUNTIF(K84:P84,\"=2\")*80+COUNTIF(K84:P84,\"=3\")*50+COUNTIF(K84:P84,\"=8\")*20+COUNTIF(K84:P84,\"=9\")*0)/COUNTA(K84:P84)/100,\"N/A\")","v":"N/A"},{"$f":"IF(COUNTA(Q84)>0,(COUNTIF(Q84,\"=0\")*0+COUNTIF(Q84,\"=1\")*100+COUNTIF(Q84,\"=2\")*80+COUNTIF(Q84,\"=3\")*50+COUNTIF(Q84,\"=8\")*20+COUNTIF(Q84,\"=9\")*0)/COUNTA(Q84)/100,\"N/A\")","v":"N/A"},{"$f":"IF(COUNTA(S84:W84)<>0,(COUNTIF(S84:W84,\"=0\")*0+COUNTIF(S84:W84,\"=1\")*100+COUNTIF(S84:W84,\"=2\")*80+COUNTIF(S84:W84,\"=3\")*50+COUNTIF(S84:W84,\"=8\")*20+COUNTIF(S84:W84,\"=9\")*0)/COUNTA(S84:W84)/100,\"N/A\")","v":"N/A"},{"$f":"IF(COUNTA(X84:X84)>0,(COUNTIF(X84:X84,\"=0\")*0+COUNTIF(X84:X84,\"=1\")*100+COUNTIF(X84:X84,\"=2\")*80+COUNTIF(X84:X84,\"=3\")*50+COUNTIF(X84:X84,\"=8\")*20+COUNTIF(X84:X84,\"=9\")*0)/COUNTA(X84:X84)/100,\"N/A\")","v":"N/A"},{"$f":"IF(COUNTA(#REF!)>0,(COUNTIF(#REF!,\"=0\")*0+COUNTIF(#REF!,\"=1\")*100+COUNTIF(#REF!,\"=2\")*80+COUNTIF(#REF!,\"=3\")*50+COUNTIF(#REF!,\"=8\")*20+COUNTIF(#REF!,\"=9\")*0)/COUNTA(#REF!)/100,\"N/A\")","v":{"$error":"#REF!"}},{"$f":"IF(COUNTA(#REF!)>0,(COUNTIF(#REF!,\"=0\")*0+COUNTIF(#REF!,\"=1\")*100+COUNTIF(#REF!,\"=2\")*80+COUNTIF(#REF!,\"=3\")*50+COUNTIF(#REF!,\"=8\")*20+COUNTIF(#REF!,\"=9\")*0)/COUNTA(#REF!)/100,\"N/A\")","v":{"$error":"#REF!"}},{"$f":"IF(AND(COUNTA(B84:X84)<>0,#REF!<>\"\"),AVERAGE(Y84:AE84),\"N/A\")","v":{"$error":"#REF!"}},1,1,1,1,1,{"$error":"#REF!"},{"$error":"#REF!"},{"$error":"#REF!"}]
[{"$nulls":24},{"$f":"IF(COUNTA(B85:G85)>0,(COUNTIF(B85:G85,\"=0\")*0+COUNTIF(B85:G85,\"=1\")*100+COUNTIF(B85:G85,\"=2\")*80+COUNTIF(B85:G85,\"=3\")*50+COUNTIF(B85:G85,\"=8\")*20+COUNTIF(B85:G85,\"=9\")*0)/COUNTA(B85:G85)/100,\"N/A\")","v":"N/A"},{"$f":"IF(COUNTA(K85:P85)>0,(COUNTIF(K85:P85,\"=0\")*0+COUNTIF(K85:P85,\"=1\")*100+COUNTIF(K85:P85,\"=2\")*80+COUNTIF(K85:P85,\"=3\")*50+COUNTIF(K85:P85,\"=8\")*20+COUNTIF(K85:P85,\"=9\")*0)/COUNTA(K85:P85)/100,\"N/A\")","v":"N/A"},{"$f":"IF(COUNTA(Q85)>0,(COUNTIF(Q85,\"=0\")*0+COUNTIF(Q85,\"=1\")*100+COUNTIF(Q85,\"=2\")*80+COUNTIF(Q85,\"=3\")*50+COUNTIF(Q85,\"=8\")*20+COUNTIF(Q85,\"=9\")*0)/COUNTA(Q85)/100,\"N/A\")","v":"N/A"},{"$f":"IF(COUNTA(S85:W85)<>0,(COUNTIF(S85:W85,\"=0\")*0+COUNTIF(S85:W85,\"=1\")*100+COUNTIF(S85:W85,\"=2\")*80+COUNTIF(S85:W85,\"=3\")*50+COUNTIF(S85:W85,\"=8\")*20+COUNTIF(S85:W85,\"=9\")*0)/COUNTA(S85:W85)/100,\"N/A\")","v":"N/A"},"N/A",{"$f":"IF(COUNTA(#REF!)>0,(COUNTIF(#REF!,\"=0\")*0+COUNTIF(#REF!,\"=1\")*100+COUNTIF(#REF!,\"=2\")*80+COUNTIF(#REF!,\"=3\")*50+COUNTIF(#REF!,\"=8\")*20+COUNTIF(#REF!,\"=9\")*0)/COUNTA(#REF!)/100,\"N/A\")","v":{"$error":"#REF!"}},{"$f":"IF(COUNTA(#REF!)>0,(COUNTIF(#REF!,\"=0\")*0+COUNTIF(#REF!,\"=1\")*100+COUNTIF(#REF!,\"=2\")*80+COUNTIF(#REF!,\"=3\")*50+COUNTIF(#REF!,\"=8\")*20+COUNTIF(#REF!,\"=9\")*0)/COUNTA(#REF!)/100,\"N/A\")","v":{"$error":"#REF!"}},{"$f":"IF(AND(COUNTA(B85:X85)<>0,#REF!<>\"\"),AVERAGE(Y85:AE85),\"N/A\")","v":{"$error":"#REF!"}},1,1,1,1,1,{"$error":"#REF!"},{"$error":"#REF!"},{"$error":"#REF!"}]
[{"$nulls":24},{"$f":"IF(COUNTA(B86:G86)>0,(COUNTIF(B86:G86,\"=0\")*0+COUNTIF(B86:G86,\"=1\")*100+COUNTIF(B86:G86,\"=2\")*80+COUNTIF(B86:G86,\"=3\")*50+COUNTIF(B86:G86,\"=8\")*20+COUNTIF(B86:G86,\"=9\")*0)/COUNTA(B86:G86)/100,\"N/A\")","v":"N/A"},{"$f":"IF(COUNTA(K86:P86)>0,(COUNTIF(K86:P86,\"=0\")*0+COUNTIF(K86:P86,\"=1\")*100+COUNTIF(K86:P86,\"=2\")*80+COUNTIF(K86:P86,\"=3\")*50+COUNTIF(K86:P86,\"=8\")*20+COUNTIF(K86:P86,\"=9\")*0)/COUNTA(K86:P86)/100,\"N/A\")","v":"N/A"},{"$f":"IF(COUNTA(Q86)>0,(COUNTIF(Q86,\"=0\")*0+COUNTIF(Q86,\"=1\")*100+COUNTIF(Q86,\"=2\")*80+COUNTIF(Q86,\"=3\")*50+COUNTIF(Q86,\"=8\")*20+COUNTIF(Q86,\"=9\")*0)/COUNTA(Q86)/100,\"N/A\")","v":"N/A"},{"$f":"IF(COUNTA(S86:W86)<>0,(COUNTIF(S86:W86,\"=0\")*0+COUNTIF(S86:W86,\"=1\")*100+COUNTIF(S86:W86,\"=2\")*80+COUNTIF(S86:W86,\"=3\")*50+COUNTIF(S86:W86,\"=8\")*20+COUNTIF(S86:W86,\"=9\")*0)/COUNTA(S86:W86)/100,\"N/A\")","v":"N/A"},"N/A",{"$f":"IF(COUNTA(#REF!)>0,(COUNTIF(#REF!,\"=0\")*0+COUNTIF(#REF!,\"=1\")*100+COUNTIF(#REF!,\"=2\")*80+COUNTIF(#REF!,\"=3\")*50+COUNTIF(#REF!,\"=8\")*20+COUNTIF(#REF!,\"=9\")*0)/COUNTA(#REF!)/100,\"N/A\")","v":{"$error":"#REF!"}},{"$f":"IF(COUNTA(#REF!)>0,(COUNTIF(#REF!,\"=0\")*0+COUNTIF(#REF!,\"=1\")*100+COUNTIF(#REF!,\"=2\")*80+COUNTIF(#REF!,\"=3\")*50+COUNTIF(#REF!,\"=8\")*20+COUNTIF(#REF!,\"=9\")*0)/COUNTA(#REF!)/100,\"N/A\")","v":{"$error":"#REF!"}},{"$f":"IF(AND(COUNTA(B86:X86)<>0,#REF!<>\"\"),AVERAGE(Y86:AE86),\"N/A\")","v":{"$error":"#REF!"}},1,1,1,1,1,{"$error":"#REF!"},{"$error":"#REF!"},{"$error":"#REF!"}]
[{"$nulls":24},{"$f":"IF(COUNTA(B87:G87)>0,(COUNTIF(B87:G87,\"=0\")*0+COUNTIF(B87:G87,\"=1\")*100+COUNTIF(B87:G87,\"=2\")*80+COUNTIF(B87:G87,\"=3\")*50+COUNTIF(B87:G87,\"=8\")*20+COUNTIF(B87:G87,\"=9\")*0)/COUNTA(B87:G87)/100,\"N/A\")","v":"N/A"},{"$f":"IF(COUNTA(K87:P87)>0,(COUNTIF(K87:P87,\"=0\")*0+COUNTIF(K87:P87,\"=1\")*100+COUNTIF(K87:P87,\"=2\")*80+COUNTIF(K87:P87,\"=3\")*50+COUNTIF(K87:P87,\"=8\")*20+COUNTIF(K87:P87,\"=9\")*0)/COUNTA(K87:P87)/100,\"N/A\")","v":"N/A"},{"$f":"IF(COUNTA(Q87)>0,(COUNTIF(Q87,\"=0\")*0+COUNTIF(Q87,\"=1\")*100+COUNTIF(Q87,\"=2\")*80+COUNTIF(Q87,\"=3\")*50+COUNTIF(Q87,\"=8\")*20+COUNTIF(Q87,\"=9\")*0)/COUNTA(Q87)/100,\"N/A\")","v":"N/A"},{"$f":"IF(COUNTA(S87:W87)<>0,(COUNTIF(S87:W87,\"=0\")*0+COUNTIF(S87:W87,\"=1\")*100+COUNTIF(S87:W87,\"=2\")*80+COUNTIF(S87:W87,\"=3\")*50+COUNTIF(S87:W87,\"=8\")*20+COUNTIF(S87:W87,\"=9\")*0)/COUNTA(S87:W87)/100,\"N/A\")","v":"N/A"},"N/A",{"$f":"IF(COUNTA(#REF!)>0,(COUNTIF(#REF!,\"=0\")*0+COUNTIF(#REF!,\"=1\")*100+COUNTIF(#REF!,\"=2\")*80+COUNTIF(#REF!,\"=3\")*50+COUNTIF(#REF!,\"=8\")*20+COUNTIF(#REF!,\"=9\")*0)/COUNTA(#REF!)/100,\"N/A\")","v":{"$error":"#REF!"}},{"$f":"IF(COUNTA(#REF!)>0,(COUNTIF(#REF!,\"=0\")*0+COUNTIF(#REF!,\"=1\")*100+COUNTIF(#REF!,\"=2\")*80+COUNTIF(#REF!,\"=3\")*50+COUNTIF(#REF!,\"=8\")*20+COUNTIF(#REF!,\"=9\")*0)/COUNTA(#REF!)/100,\"N/A\")","v":{"$error":"#REF!"}},{"$f":"IF(AND(COUNTA(B87:X87)<>0,#REF!<>\"\"),AVERAGE(Y87:AE87),\"N/A\")","v":{"$error":"#REF!"}},1,1,1,1,1,{"$error":"#REF!"},{"$error":"#REF!"},{"$error":"#REF!"}]
[{"$nulls":24},{"$f":"IF(COUNTA(B88:G88)>0,(COUNTIF(B88:G88,\"=0\")*0+COUNTIF(B88:G88,\"=1\")*100+COUNTIF(B88:G88,\"=2\")*80+COUNTIF(B88:G88,\"=3\")*50+COUNTIF(B88:G88,\"=8\")*20+COUNTIF(B88:G88,\"=9\")*0)/COUNTA(B88:G88)/100,\"N/A\")","v":"N/A"},{"$f":"IF(COUNTA(K88:P88)>0,(COUNTIF(K88:P88,\"=0\")*0+COUNTIF(K88:P88,\"=1\")*100+COUNTIF(K88:P88,\"=2\")*80+COUNTIF(K88:P88,\"=3\")*50+COUNTIF(K88:P88,\"=8\")*20+COUNTIF(K88:P88,\"=9\")*0)/COUNTA(K88:P88)/100,\"N/A\")","v":"N/A"},{"$f":"IF(COUNTA(Q88)>0,(COUNTIF(Q88,\"=0\")*0+COUNTIF(Q88,\"=1\")*100+COUNTIF(Q88,\"=2\")*80+COUNTIF(Q88,\"=3\")*50+COUNTIF(Q88,\"=8\")*20+COUNTIF(Q88,\"=9\")*0)/COUNTA(Q88)/100,\"N/A\")","v":"N/A"},{"$f":"IF(COUNTA(S88:W88)<>0,(COUNTIF(S88:W88,\"=0\")*0+COUNTIF(S88:W88,\"=1\")*100+COUNTIF(S88:W88,\"=2\")*80+COUNTIF(S88:W88,\"=3\")*50+COUNTIF(S88:W88,\"=8\")*20+COUNTIF(S88:W88,\"=9\")*0)/COUNTA(S88:W88)/100,\"N/A\")","v":"N/A"},"N/A",{"$f":"IF(COUNTA(#REF!)>0,(COUNTIF(#REF!,\"=0\")*0+COUNTIF(#REF!,\"=1\")*100+COUNTIF(#REF!,\"=2\")*80+COUNTIF(#REF!,\"=3\")*50+COUNTIF(#REF!,\"=8\")*20+COUNTIF(#REF!,\"=9\")*0)/COUNTA(#REF!)/100,\"N/A\")","v":{"$error":"#REF!"}},{"$f":"IF(COUNTA(#REF!)>0,(COUNTIF(#REF!,\"=0\")*0+COUNTIF(#REF!,\"=1\")*100+COUNTIF(#REF!,\"=2\")*80+COUNTIF(#REF!,\"=3\")*50+COUNTIF(#REF!,\"=8\")*20+COUNTIF(#REF!,\"=9\")*0)/COUNTA(#REF!)/100,\"N/A\")","v":{"$error":"#REF!"}},{"$f":"IF(AND(COUNTA(B88:X88)<>0,#REF!<>\"\"),AVERAGE(Y88:AE88),\"N/A\")","v":{"$error":"#REF!"}},1,1,1,1,1,{"$error":"#REF!"},{"$error":"#REF!"},{"$error":"#REF!"}]
[{"$nulls":24},{"$f":"IF(COUNTA(B89:G89)>0,(COUNTIF(B89:G89,\"=0\")*0+COUNTIF(B89:G89,\"=1\")*100+COUNTIF(B89:G89,\"=2\")*80+COUNTIF(B89:G89,\"=3\")*50+COUNTIF(B89:G89,\"=8\")*20+COUNTIF(B89:G89,\"=9\")*0)/COUNTA(B89:G89)/100,\"N/A\")","v":"N/A"},{"$f":"IF(COUNTA(K89:P89)>0,(COUNTIF(K89:P89,\"=0\")*0+COUNTIF(K89:P89,\"=1\")*100+COUNTIF(K89:P89,\"=2\")*80+COUNTIF(K89:P89,\"=3\")*50+COUNTIF(K89:P89,\"=8\")*20+COUNTIF(K89:P89,\"=9\")*0)/COUNTA(K89:P89)/100,\"N/A\")","v":"N/A"},{"$f":"IF(COUNTA(Q89)>0,(COUNTIF(Q89,\"=0\")*0+COUNTIF(Q89,\"=1\")*100+COUNTIF(Q89,\"=2\")*80+COUNTIF(Q89,\"=3\")*50+COUNTIF(Q89,\"=8\")*20+COUNTIF(Q89,\"=9\")*0)/COUNTA(Q89)/100,\"N/A\")","v":"N/A"},{"$f":"IF(COUNTA(S89:W89)<>0,(COUNTIF(S89:W89,\"=0\")*0+COUNTIF(S89:W89,\"=1\")*100+COUNTIF(S89:W89,\"=2\")*80+COUNTIF(S89:W89,\"=3\")*50+COUNTIF(S89:W89,\"=8\")*20+COUNTIF(S89:W89,\"=9\")*0)/COUNTA(S89:W89)/100,\"N/A\")","v":"N/A"},"N/A",{"$f":"IF(COUNTA(#REF!)>0,(COUNTIF(#REF!,\"=0\")*0+COUNTIF(#REF!,\"=1\")*100+COUNTIF(#REF!,\"=2\")*80+COUNTIF(#REF!,\"=3\")*50+COUNTIF(#REF!,\"=8\")*20+COUNTIF(#REF!,\"=9\")*0)/COUNTA(#REF!)/100,\"N/A\")","v":{"$error":"#REF!"}},{"$f":"IF(COUNTA(#REF!)>0,(COUNTIF(#REF!,\"=0\")*0+COUNTIF(#REF!,\"=1\")*100+COUNTIF(#REF!,\"=2\")*80+COUNTIF(#REF!,\"=3\")*50+COUNTIF(#REF!,\"=8\")*20+COUNTIF(#REF!,\"=9\")*0)/COUNTA(#REF!)/100,\"N/A\")","v":{"$error":"#REF!"}},{"$f":"IF(AND(COUNTA(B89:X89)<>0,#REF!<>\"\"),AVERAGE(Y89:AE89),\"N/A\")","v":{"$error":"#REF!"}},1,1,1,1,1,{"$error":"#REF!"},{"$error":"#REF!"},{"$error":"#REF!"}]
[{"$nulls":24},{"$f":"IF(COUNTA(B90:G90)>0,(COUNTIF(B90:G90,\"=0\")*0+COUNTIF(B90:G90,\"=1\")*100+COUNTIF(B90:G90,\"=2\")*80+COUNTIF(B90:G90,\"=3\")*50+COUNTIF(B90:G90,\"=8\")*20+COUNTIF(B90:G90,\"=9\")*0)/COUNTA(B90:G90)/100,\"N/A\")","v":"N/A"},{"$f":"IF(COUNTA(K90:P90)>0,(COUNTIF(K90:P90,\"=0\")*0+COUNTIF(K90:P90,\"=1\")*100+COUNTIF(K90:P90,\"=2\")*80+COUNTIF(K90:P90,\"=3\")*50+COUNTIF(K90:P90,\"=8\")*20+COUNTIF(K90:P90,\"=9\")*0)/COUNTA(K90:P90)/100,\"N/A\")","v":"N/A"},{"$f":"IF(COUNTA(Q90)>0,(COUNTIF(Q90,\"=0\")*0+COUNTIF(Q90,\"=1\")*100+COUNTIF(Q90,\"=2\")*80+COUNTIF(Q90,\"=3\")*50+COUNTIF(Q90,\"=8\")*20+COUNTIF(Q90,\"=9\")*0)/COUNTA(Q90)/100,\"N/A\")","v":"N/A"},{"$f":"IF(COUNTA(S90:W90)<>0,(COUNTIF(S90:W90,\"=0\")*0+COUNTIF(S90:W90,\"=1\")*100+COUNTIF(S90:W90,\"=2\")*80+COUNTIF(S90:W90,\"=3\")*50+COUNTIF(S90:W90,\"=8\")*20+COUNTIF(S90:W90,\"=9\")*0)/COUNTA(S90:W90)/100,\"N/A\")","v":"N/A"},"N/A",{"$f":"IF(COUNTA(#REF!)>0,(COUNTIF(#REF!,\"=0\")*0+COUNTIF(#REF!,\"=1\")*100+COUNTIF(#REF!,\"=2\")*80+COUNTIF(#REF!,\"=3\")*50+COUNTIF(#REF!,\"=8\")*20+COUNTIF(#REF!,\"=9\")*0)/COUNTA(#REF!)/100,\"N/A\")","v":{"$error":"#REF!"}},{"$f":"IF(COUNTA(#REF!)>0,(COUNTIF(#REF!,\"=0\")*0+COUNTIF(#REF!,\"=1\")*100+COUNTIF(#REF!,\"=2\")*80+COUNTIF(#REF!,\"=3\")*50+COUNTIF(#REF!,\"=8\")*20+COUNTIF(#REF!,\"=9\")*0)/COUNTA(#REF!)/100,\"N/A\")","v":{"$error":"#REF!"}},{"$f":"IF(AND(COUNTA(B90:X90)<>0,#REF!<>\"\"),AVERAGE(Y90:AE90),\"N/A\")","v":{"$error":"#REF!"}},1,1,1,1,1,{"$error":"#REF!"},{"$error":"#REF!"},{"$error":"#REF!"}]
[{"$nulls":24},{"$f":"IF(COUNTA(B91:G91)>0,(COUNTIF(B91:G91,\"=0\")*0+COUNTIF(B91:G91,\"=1\")*100+COUNTIF(B91:G91,\"=2\")*80+COUNTIF(B91:G91,\"=3\")*50+COUNTIF(B91:G91,\"=8\")*20+COUNTIF(B91:G91,\"=9\")*0)/COUNTA(B91:G91)/100,\"N/A\")","v":"N/A"},{"$f":"IF(COUNTA(K91:P91)>0,(COUNTIF(K91:P91,\"=0\")*0+COUNTIF(K91:P91,\"=1\")*100+COUNTIF(K91:P91,\"=2\")*80+COUNTIF(K91:P91,\"=3\")*50+COUNTIF(K91:P91,\"=8\")*20+COUNTIF(K91:P91,\"=9\")*0)/COUNTA(K91:P91)/100,\"N/A\")","v":"N/A"},{"$f":"IF(COUNTA(Q91)>0,(COUNTIF(Q91,\"=0\")*0+COUNTIF(Q91,\"=1\")*100+COUNTIF(Q91,\"=2\")*80+COUNTIF(Q91,\"=3\")*50+COUNTIF(Q91,\"=8\")*20+COUNTIF(Q91,\"=9\")*0)/COUNTA(Q91)/100,\"N/A\")","v":"N/A"},{"$f":"IF(COUNTA(S91:W91)<>0,(COUNTIF(S91:W91,\"=0\")*0+COUNTIF(S91:W91,\"=1\")*100+COUNTIF(S91:W91,\"=2\")*80+COUNTIF(S91:W91,\"=3\")*50+COUNTIF(S91:W91,\"=8\")*20+COUNTIF(S91:W91,\"=9\")*0)/COUNTA(S91:W91)/100,\"N/A\")","v":"N/A"},"N/A",{"$f":"IF(COUNTA(#REF!)>0,(COUNTIF(#REF!,\"=0\")*0+COUNTIF(#REF!,\"=1\")*100+COUNTIF(#REF!,\"=2\")*80+COUNTIF(#REF!,\"=3\")*50+COUNTIF(#REF!,\"=8\")*20+COUNTIF(#REF!,\"=9\")*0)/COUNTA(#REF!)/100,\"N/A\")","v":{"$error":"#REF!"}},{"$f":"IF(COUNTA(#REF!)>0,(COUNTIF(#REF!,\"=0\")*0+COUNTIF(#REF!,\"=1\")*100+COUNTIF(#REF!,\"=2\")*80+COUNTIF(#REF!,\"=3\")*50+COUNTIF(#REF!,\"=8\")*20+COUNTIF(#REF!,\"=9\")*0)/COUNTA(#REF!)/100,\"N/A\")","v":{"$error":"#REF!"}},{"$f":"IF(AND(COUNTA(B91:X91)<>0,#REF!<>\"\"),AVERAGE(Y91:AE91),\"N/A\")","v":{"$error":"#REF!"}},1,1,1,1,1,{"$error":"#REF!"},{"$error":"#REF!"},{"$error":"#REF!"}]
[{"$nulls":24},{"$f":"IF(COUNTA(B92:G92)>0,(COUNTIF(B92:G92,\"=0\")*0+COUNTIF(B92:G92,\"=1\")*100+COUNTIF(B92:G92,\"=2\")*80+COUNTIF(B92:G92,\"=3\")*50+COUNTIF(B92:G92,\"=8\")*20+COUNTIF(B92:G92,\"=9\")*0)/COUNTA(B92:G92)/100,\"N/A\")","v":"N/A"},{"$f":"IF(COUNTA(K92:P92)>0,(COUNTIF(K92:P92,\"=0\")*0+COUNTIF(K92:P92,\"=1\")*100+COUNTIF(K92:P92,\"=2\")*80+COUNTIF(K92:P92,\"=3\")*50+COUNTIF(K92:P92,\"=8\")*20+COUNTIF(K92:P92,\"=9\")*0)/COUNTA(K92:P92)/100,\"N/A\")","v":"N/A"},{"$f":"IF(COUNTA(Q92)>0,(COUNTIF(Q92,\"=0\")*0+COUNTIF(Q92,\"=1\")*100+COUNTIF(Q92,\"=2\")*80+COUNTIF(Q92,\"=3\")*50+COUNTIF(Q92,\"=8\")*20+COUNTIF(Q92,\"=9\")*0)/COUNTA(Q92)/100,\"N/A\")","v":"N/A"},{"$f":"IF(COUNTA(S92:W92)<>0,(COUNTIF(S92:W92,\"=0\")*0+COUNTIF(S92:W92,\"=1\")*100+COUNTIF(S92:W92,\"=2\")*80+COUNTIF(S92:W92,\"=3\")*50+COUNTIF(S92:W92,\"=8\")*20+COUNTIF(S92:W92,\"=9\")*0)/COUNTA(S92:W92)/100,\"N/A\")","v":"N/A"},"N/A",{"$f":"IF(COUNTA(#REF!)>0,(COUNTIF(#REF!,\"=0\")*0+COUNTIF(#REF!,\"=1\")*100+COUNTIF(#REF!,\"=2\")*80+COUNTIF(#REF!,\"=3\")*50+COUNTIF(#REF!,\"=8\")*20+COUNTIF(#REF!,\"=9\")*0)/COUNTA(#REF!)/100,\"N/A\")","v":{"$error":"#REF!"}},{"$f":"IF(COUNTA(#REF!)>0,(COUNTIF(#REF!,\"=0\")*0+COUNTIF(#REF!,\"=1\")*100+COUNTIF(#REF!,\"=2\")*80+COUNTIF(#REF!,\"=3\")*50+COUNTIF(#REF!,\"=8\")*20+COUNTIF(#REF!,\"=9\")*0)/COUNTA(#REF!)/100,\"N/A\")","v":{"$error":"#REF!"}},{"$f":"IF(AND(COUNTA(B92:X92)<>0,#REF!<>\"\"),AVERAGE(Y92:AE92),\"N/A\")","v":{"$error":"#REF!"}},1,1,1,1,1,{"$error":"#REF!"},{"$error":"#REF!"},{"$error":"#REF!"}]
[{"$nulls":24},{"$f":"IF(COUNTA(B93:G93)>0,(COUNTIF(B93:G93,\"=0\")*0+COUNTIF(B93:G93,\"=1\")*100+COUNTIF(B93:G93,\"=2\")*80+COUNTIF(B93:G93,\"=3\")*50+COUNTIF(B93:G93,\"=8\")*20+COUNTIF(B93:G93,\"=9\")*0)/COUNTA(B93:G93)/100,\"N/A\")","v":"N/A"},{"$f":"IF(COUNTA(K93:P93)>0,(COUNTIF(K93:P93,\"=0\")*0+COUNTIF(K93:P93,\"=1\")*100+COUNTIF(K93:P93,\"=2\")*80+COUNTIF(K93:P93,\"=3\")*50+COUNTIF(K93:P93,\"=8\")*20+COUNTIF(K93:P93,\"=9\")*0)/COUNTA(K93:P93)/100,\"N/A\")","v":"N/A"},{"$f":"IF(COUNTA(Q93)>0,(COUNTIF(Q93,\"=0\")*0+COUNTIF(Q93,\"=1\")*100+COUNTIF(Q93,\"=2\")*80+COUNTIF(Q93,\"=3\")*50+COUNTIF(Q93,\"=8\")*20+COUNTIF(Q93,\"=9\")*0)/COUNTA(Q93)/100,\"N/A\")","v":"N/A"},{"$f":"IF(COUNTA(S93:W93)<>0,(COUNTIF(S93:W93,\"=0\")*0+COUNTIF(S93:W93,\"=1\")*100+COUNTIF(S93:W93,\"=2\")*80+COUNTIF(S93:W93,\"=3\")*50+COUNTIF(S93:W93,\"=8\")*20+COUNTIF(S93:W93,\"=9\")*0)/COUNTA(S93:W93)/100,\"N/A\")","v":"N/A"},"N/A",{"$f":"IF(COUNTA(#REF!)>0,(COUNTIF(#REF!,\"=0\")*0+COUNTIF(#REF!,\"=1\")*100+COUNTIF(#REF!,\"=2\")*80+COUNTIF(#REF!,\"=3\")*50+COUNTIF(#REF!,\"=8\")*20+COUNTIF(#REF!,\"=9\")*0)/COUNTA(#REF!)/100,\"N/A\")","v":{"$error":"#REF!"}},{"$f":"IF(COUNTA(#REF!)>0,(COUNTIF(#REF!,\"=0\")*0+COUNTIF(#REF!,\"=1\")*100+COUNTIF(#REF!,\"=2\")*80+COUNTIF(#REF!,\"=3\")*50+COUNTIF(#REF!,\"=8\")*20+COUNTIF(#REF!,\"=9\")*0)/COUNTA(#REF!)/100,\"N/A\")","v":{"$error":"#REF!"}},{"$f":"IF(AND(COUNTA(B93:X93)<>0,#REF!<>\"\"),AVERAGE(Y93:AE93),\"N/A\")","v":{"$error":"#REF!"}},1,1,1,1,1,{"$error":"#REF!"},{"$error":"#REF!"},{"$error":"#REF!"}]
[{"$nulls":24},{"$f":"IF(COUNTA(B94:G94)>0,(COUNTIF(B94:G94,\"=0\")*0+COUNTIF(B94:G94,\"=1\")*100+COUNTIF(B94:G94,\"=2\")*80+COUNTIF(B94:G94,\"=3\")*50+COUNTIF(B94:G94,\"=8\")*20+COUNTIF(B94:G94,\"=9\")*0)/COUNTA(B94:G94)/100,\"N/A\")","v":"N/A"},{"$f":"IF(COUNTA(K94:P94)>0,(COUNTIF(K94:P94,\"=0\")*0+COUNTIF(K94:P94,\"=1\")*100+COUNTIF(K94:P94,\"=2\")*80+COUNTIF(K94:P94,\"=3\")*50+COUNTIF(K94:P94,\"=8\")*20+COUNTIF(K94:P94,\"=9\")*0)/COUNTA(K94:P94)/100,\"N/A\")","v":"N/A"},{"$f":"IF(COUNTA(Q94)>0,(COUNTIF(Q94,\"=0\")*0+COUNTIF(Q94,\"=1\")*100+COUNTIF(Q94,\"=2\")*80+COUNTIF(Q94,\"=3\")*50+COUNTIF(Q94,\"=8\")*20+COUNTIF(Q94,\"=9\")*0)/COUNTA(Q94)/100,\"N/A\")","v":"N/A"},{"$f":"IF(COUNTA(S94:W94)<>0,(COUNTIF(S94:W94,\"=0\")*0+COUNTIF(S94:W94,\"=1\")*100+COUNTIF(S94:W94,\"=2\")*80+COUNTIF(S94:W94,\"=3\")*50+COUNTIF(S94:W94,\"=8\")*20+COUNTIF(S94:W94,\"=9\")*0)/COUNTA(S94:W94)/100,\"N/A\")","v":"N/A"},"N/A",{"$f":"IF(COUNTA(#REF!)>0,(COUNTIF(#REF!,\"=0\")*0+COUNTIF(#REF!,\"=1\")*100+COUNTIF(#REF!,\"=2\")*80+COUNTIF(#REF!,\"=3\")*50+COUNTIF(#REF!,\"=8\")*20+COUNTIF(#REF!,\"=9\")*0)/COUNTA(#REF!)/100,\"N/A\")","v":{"$error":"#REF!"}},{"$f":"IF(COUNTA(#REF!)>0,(COUNTIF(#REF!,\"=0\")*0+COUNTIF(#REF!,\"=1\")*100+COUNTIF(#REF!,\"=2\")*80+COUNTIF(#REF!,\"=3\")*50+COUNTIF(#REF!,\"=8\")*20+COUNTIF(#REF!,\"=9\")*0)/COUNTA(#REF!)/100,\"N/A\")","v":{"$error":"#REF!"}},{"$f":"IF(AND(COUNTA(B94:X94)<>0,#REF!<>\"\"),AVERAGE(Y94:AE94),\"N/A\")","v":{"$error":"#REF!"}},1,1,1,1,1,{"$error":"#REF!"},{"$error":"#REF!"},{"$error":"#REF!"}]
[{"$nulls":24},{"$f":"IF(COUNTA(B95:G95)>0,(COUNTIF(B95:G95,\"=0\")*0+COUNTIF(B95:G95,\"=1\")*100+COUNTIF(B95:G95,\"=2\")*80+COUNTIF(B95:G95,\"=3\")*50+COUNTIF(B95:G95,\"=8\")*20+COUNTIF(B95:G95,\"=9\")*0)/COUNTA(B95:G95)/100,\"N/A\")","v":"N/A"},{"$f":"IF(COUNTA(K95:P95)>0,(COUNTIF(K95:P95,\"=0\")*0+COUNTIF(K95:P95,\"=1\")*100+COUNTIF(K95:P95,\"=2\")*80+COUNTIF(K95:P95,\"=3\")*50+COUNTIF(K95:P95,\"=8\")*20+COUNTIF(K95:P95,\"=9\")*0)/COUNTA(K95:P95)/100,\"N/A\")","v":"N/A"},{"$f":"IF(COUNTA(Q95)>0,(COUNTIF(Q95,\"=0\")*0+COUNTIF(Q95,\"=1\")*100+COUNTIF(Q95,\"=2\")*80+COUNTIF(Q95,\"=3\")*50+COUNTIF(Q95,\"=8\")*20+COUNTIF(Q95,\"=9\")*0)/COUNTA(Q95)/100,\"N/A\")","v":"N/A"},{"$f":"IF(COUNTA(S95:W95)<>0,(COUNTIF(S95:W95,\"=0\")*0+COUNTIF(S95:W95,\"=1\")*100+COUNTIF(S95:W95,\"=2\")*80+COUNTIF(S95:W95,\"=3\")*50+COUNTIF(S95:W95,\"=8\")*20+COUNTIF(S95:W95,\"=9\")*0)/COUNTA(S95:W95)/100,\"N/A\")","v":"N/A"},"N/A",{"$f":"IF(COUNTA(#REF!)>0,(COUNTIF(#REF!,\"=0\")*0+COUNTIF(#REF!,\"=1\")*100+COUNTIF(#REF!,\"=2\")*80+COUNTIF(#REF!,\"=3\")*50+COUNTIF(#REF!,\"=8\")*20+COUNTIF(#REF!,\"=9\")*0)/COUNTA(#REF!)/100,\"N/A\")","v":{"$error":"#REF!"}},{"$f":"IF(COUNTA(#REF!)>0,(COUNTIF(#REF!,\"=0\")*0+COUNTIF(#REF!,\"=1\")*100+COUNTIF(#REF!,\"=2\")*80+COUNTIF(#REF!,\"=3\")*50+COUNTIF(#REF!,\"=8\")*20+COUNTIF(#REF!,\"=9\")*0)/COUNTA(#REF!)/100,\"N/A\")","v":{"$error":"#REF!"}},{"$f":"IF(AND(COUNTA(B95:X95)<>0,#REF!<>\"\"),AVERAGE(Y95:AE95),\"N/A\")","v":{"$error":"#REF!"}},1,1,1,1,1,{"$error":"#REF!"},{"$error":"#REF!"},{"$error":"#REF!"}]
[{"$nulls":24},{"$f":"IF(COUNTA(B96:G96)>0,(COUNTIF(B96:G96,\"=0\")*0+COUNTIF(B96:G96,\"=1\")*100+COUNTIF(B96:G96,\"=2\")*80+COUNTIF(B96:G96,\"=3\")*50+COUNTIF(B96:G96,\"=8\")*20+COUNTIF(B96:G96,\"=9\")*0)/COUNTA(B96:G96)/100,\"N/A\")","v":"N/A"},{"$f":"IF(COUNTA(K96:P96)>0,(COUNTIF(K96:P96,\"=0\")*0+COUNTIF(K96:P96,\"=1\")*100+COUNTIF(K96:P96,\"=2\")*80+COUNTIF(K96:P96,\"=3\")*50+COUNTIF(K96:P96,\"=8\")*20+COUNTIF(K96:P96,\"=9\")*0)/COUNTA(K96:P96)/100,\"N/A\")","v":"N/A"},{"$f":"IF(COUNTA(Q96)>0,(COUNTIF(Q96,\"=0\")*0+COUNTIF(Q96,\"=1\")*100+COUNTIF(Q96,\"=2\")*80+COUNTIF(Q96,\"=3\")*50+COUNTIF(Q96,\"=8\")*20+COUNTIF(Q96,\"=9\")*0)/COUNTA(Q96)/100,\"N/A\")","v":"N/A"},{"$f":"IF(COUNTA(S96:W96)<>0,(COUNTIF(S96:W96,\"=0\")*0+COUNTIF(S96:W96,\"=1\")*100+COUNTIF(S96:W96,\"=2\")*80+COUNTIF(S96:W96,\"=3\")*50+COUNTIF(S96:W96,\"=8\")*20+COUNTIF(S96:W96,\"=9\")*0)/COUNTA(S96:W96)/100,\"N/A\")","v":"N/A"},"N/A",{"$f":"IF(COUNTA(#REF!)>0,(COUNTIF(#REF!,\"=0\")*0+COUNTIF(#REF!,\"=1\")*100+COUNTIF(#REF!,\"=2\")*80+COUNTIF(#REF!,\"=3\")*50+COUNTIF(#REF!,\"=8\")*20+COUNTIF(#REF!,\"=9\")*0)/COUNTA(#REF!)/100,\"N/A\")","v":{"$error":"#REF!"}},{"$f":"IF(COUNTA(#REF!)>0,(COUNTIF(#REF!,\"=0\")*0+COUNTIF(#REF!,\"=1\")*100+COUNTIF(#REF!,\"=2\")*80+COUNTIF(#REF!,\"=3\")*50+COUNTIF(#REF!,\"=8\")*20+COUNTIF(#REF!,\"=9\")*0)/COUNTA(#REF!)/100,\"N/A\")","v":{"$error":"#REF!"}},{"$f":"IF(AND(COUNTA(B96:X96)<>0,#REF!<>\"\"),AVERAGE(Y96:AE96),\"N/A\")","v":{"$error":"#REF!"}},1,1,1,1,1,{"$error":"#REF!"},{"$error":"#REF!"},{"$error":"#REF!"}]
[{"$nulls":24},{"$f":"IF(COUNTA(B97:G97)>0,(COUNTIF(B97:G97,\"=0\")*0+COUNTIF(B97:G97,\"=1\")*100+COUNTIF(B97:G97,\"=2\")*80+COUNTIF(B97:G97,\"=3\")*50+COUNTIF(B97:G97,\"=8\")*20+COUNTIF(B97:G97,\"=9\")*0)/COUNTA(B97:G97)/100,\"N/A\")","v":"N/A"},{"$f":"IF(COUNTA(K97:P97)>0,(COUNTIF(K97:P97,\"=0\")*0+COUNTIF(K97:P97,\"=1\")*100+COUNTIF(K97:P97,\"=2\")*80+COUNTIF(K97:P97,\"=3\")*50+COUNTIF(K97:P97,\"=8\")*20+COUNTIF(K97:P97,\"=9\")*0)/COUNTA(K97:P97)/100,\"N/A\")","v":"N/A"},{"$f":"IF(COUNTA(Q97)>0,(COUNTIF(Q97,\"=0\")*0+COUNTIF(Q97,\"=1\")*100+COUNTIF(Q97,\"=2\")*80+COUNTIF(Q97,\"=3\")*50+COUNTIF(Q97,\"=8\")*20+COUNTIF(Q97,\"=9\")*0)/COUNTA(Q97)/100,\"N/A\")","v":"N/A"},{"$f":"IF(COUNTA(S97:W97)<>0,(COUNTIF(S97:W97,\"=0\")*0+COUNTIF(S97:W97,\"=1\")*100+COUNTIF(S97:W97,\"=2\")*80+COUNTIF(S97:W97,\"=3\")*50+COUNTIF(S97:W97,\"=8\")*20+COUNTIF(S97:W97,\"=9\")*0)/COUNTA(S97:W97)/100,\"N/A\")","v":"N/A"},"N/A",{"$f":"IF(COUNTA(#REF!)>0,(COUNTIF(#REF!,\"=0\")*0+COUNTIF(#REF!,\"=1\")*100+COUNTIF(#REF!,\"=2\")*80+COUNTIF(#REF!,\"=3\")*50+COUNTIF(#REF!,\"=8\")*20+COUNTIF(#REF!,\"=9\")*0)/COUNTA(#REF!)/100,\"N/A\")","v":{"$error":"#REF!"}},{"$f":"IF(COUNTA(#REF!)>0,(COUNTIF(#REF!,\"=0\")*0+COUNTIF(#REF!,\"=1\")*100+COUNTIF(#REF!,\"=2\")*80+COUNTIF(#REF!,\"=3\")*50+COUNTIF(#REF!,\"=8\")*20+COUNTIF(#REF!,\"=9\")*0)/COUNTA(#REF!)/100,\"N/A\")","v":{"$error":"#REF!"}},{"$f":"IF(AND(COUNTA(B97:X97)<>0,#REF!<>\"\"),AVERAGE(Y97:AE97),\"N/A\")","v":{"$error":"#REF!"}},1,1,1,1,1,{"$error":"#REF!"},{"$error":"#REF!"},{"$error":"#REF!"}]
[{"$nulls":24},{"$f":"IF(COUNTA(B98:G98)>0,(COUNTIF(B98:G98,\"=0\")*0+COUNTIF(B98:G98,\"=1\")*100+COUNTIF(B98:G98,\"=2\")*80+COUNTIF(B98:G98,\"=3\")*50+COUNTIF(B98:G98,\"=8\")*20+COUNTIF(B98:G98,\"=9\")*0)/COUNTA(B98:G98)/100,\"N/A\")","v":"N/A"},{"$f":"IF(COUNTA(K98:P98)>0,(COUNTIF(K98:P98,\"=0\")*0+COUNTIF(K98:P98,\"=1\")*100+COUNTIF(K98:P98,\"=2\")*80+COUNTIF(K98:P98,\"=3\")*50+COUNTIF(K98:P98,\"=8\")*20+COUNTIF(K98:P98,\"=9\")*0)/COUNTA(K98:P98)/100,\"N/A\")","v":"N/A"},{"$f":"IF(COUNTA(Q98)>0,(COUNTIF(Q98,\"=0\")*0+COUNTIF(Q98,\"=1\")*100+COUNTIF(Q98,\"=2\")*80+COUNTIF(Q98,\"=3\")*50+COUNTIF(Q98,\"=8\")*20+COUNTIF(Q98,\"=9\")*0)/COUNTA(Q98)/100,\"N/A\")","v":"N/A"},{"$f":"IF(COUNTA(S98:W98)<>0,(COUNTIF(S98:W98,\"=0\")*0+COUNTIF(S98:W98,\"=1\")*100+COUNTIF(S98:W98,\"=2\")*80+COUNTIF(S98:W98,\"=3\")*50+COUNTIF(S98:W98,\"=8\")*20+COUNTIF(S98:W98,\"=9\")*0)/COUNTA(S98:W98)/100,\"N/A\")","v":"N/A"},"N/A",{"$f":"IF(COUNTA(#REF!)>0,(COUNTIF(#REF!,\"=0\")*0+COUNTIF(#REF!,\"=1\")*100+COUNTIF(#REF!,\"=2\")*80+COUNTIF(#REF!,\"=3\")*50+COUNTIF(#REF!,\"=8\")*20+COUNTIF(#REF!,\"=9\")*0)/COUNTA(#REF!)/100,\"N/A\")","v":{"$error":"#REF!"}},{"$f":"IF(COUNTA(#REF!)>0,(COUNTIF(#REF!,\"=0\")*0+COUNTIF(#REF!,\"=1\")*100+COUNTIF(#REF!,\"=2\")*80+COUNTIF(#REF!,\"=3\")*50+COUNTIF(#REF!,\"=8\")*20+COUNTIF(#REF!,\"=9\")*0)/COUNTA(#REF!)/100,\"N/A\")","v":{"$error":"#REF!"}},{"$f":"IF(AND(COUNTA(B98:X98)<>0,#REF!<>\"\"),AVERAGE(Y98:AE98),\"N/A\")","v":{"$error":"#REF!"}},1,1,1,1,1,{"$error":"#REF!"},{"$error":"#REF!"},{"$error":"#REF!"}]
[{"$nulls":24},{"$f":"IF(COUNTA(B99:G99)>0,(COUNTIF(B99:G99,\"=0\")*0+COUNTIF(B99:G99,\"=1\")*100+COUNTIF(B99:G99,\"=2\")*80+COUNTIF(B99:G99,\"=3\")*50+COUNTIF(B99:G99,\"=8\")*20+COUNTIF(B99:G99,\"=9\")*0)/COUNTA(B99:G99)/100,\"N/A\")","v":"N/A"},{"$f":"IF(COUNTA(K99:P99)>0,(COUNTIF(K99:P99,\"=0\")*0+COUNTIF(K99:P99,\"=1\")*100+COUNTIF(K99:P99,\"=2\")*80+COUNTIF(K99:P99,\"=3\")*50+COUNTIF(K99:P99,\"=8\")*20+COUNTIF(K99:P99,\"=9\")*0)/COUNTA(K99:P99)/100,\"N/A\")","v":"N/A"},{"$f":"IF(COUNTA(Q99)>0,(COUNTIF(Q99,\"=0\")*0+COUNTIF(Q99,\"=1\")*100+COUNTIF(Q99,\"=2\")*80+COUNTIF(Q99,\"=3\")*50+COUNTIF(Q99,\"=8\")*20+COUNTIF(Q99,\"=9\")*0)/COUNTA(Q99)/100,\"N/A\")","v":"N/A"},{"$f":"IF(COUNTA(S99:W99)<>0,(COUNTIF(S99:W99,\"=0\")*0+COUNTIF(S99:W99,\"=1\")*100+COUNTIF(S99:W99,\"=2\")*80+COUNTIF(S99:W99,\"=3\")*50+COUNTIF(S99:W99,\"=8\")*20+COUNTIF(S99:W99,\"=9\")*0)/COUNTA(S99:W99)/100,\"N/A\")","v":"N/A"},"N/A",{"$f":"IF(COUNTA(#REF!)>0,(COUNTIF(#REF!,\"=0\")*0+COUNTIF(#REF!,\"=1\")*100+COUNTIF(#REF!,\"=2\")*80+COUNTIF(#REF!,\"=3\")*50+COUNTIF(#REF!,\"=8\")*20+COUNTIF(#REF!,\"=9\")*0)/COUNTA(#REF!)/100,\"N/A\")","v":{"$error":"#REF!"}},{"$f":"IF(COUNTA(#REF!)>0,(COUNTIF(#REF!,\"=0\")*0+COUNTIF(#REF!,\"=1\")*100+COUNTIF(#REF!,\"=2\")*80+COUNTIF(#REF!,\"=3\")*50+COUNTIF(#REF!,\"=8\")*20+COUNTIF(#REF!,\"=9\")*0)/COUNTA(#REF!)/100,\"N/A\")","v":{"$error":"#REF!"}},{"$f":"IF(AND(COUNTA(B99:X99)<>0,#REF!<>\"\"),AVERAGE(Y99:AE99),\"N/A\")","v":{"$error":"#REF!"}},1,1,1,1,1,{"$error":"#REF!"},{"$error":"#REF!"},{"$error":"#REF!"}]
[{"$nulls":24},{"$f":"IF(COUNTA(B100:G100)>0,(COUNTIF(B100:G100,\"=0\")*0+COUNTIF(B100:G100,\"=1\")*100+COUNTIF(B100:G100,\"=2\")*80+COUNTIF(B100:G100,\"=3\")*50+COUNTIF(B100:G100,\"=8\")*20+COUNTIF(B100:G100,\"=9\")*0)/COUNTA(B100:G100)/100,\"N/A\")","v":"N/A"},{"$f":"IF(COUNTA(K100:P100)>0,(COUNTIF(K100:P100,\"=0\")*0+COUNTIF(K100:P100,\"=1\")*100+COUNTIF(K100:P100,\"=2\")*80+COUNTIF(K100:P100,\"=3\")*50+COUNTIF(K100:P100,\"=8\")*20+COUNTIF(K100:P100,\"=9\")*0)/COUNTA(K100:P100)/100,\"N/A\")","v":"N/A"},{"$f":"IF(COUNTA(Q100)>0,(COUNTIF(Q100,\"=0\")*0+COUNTIF(Q100,\"=1\")*100+COUNTIF(Q100,\"=2\")*80+COUNTIF(Q100,\"=3\")*50+COUNTIF(Q100,\"=8\")*20+COUNTIF(Q100,\"=9\")*0)/COUNTA(Q100)/100,\"N/A\")","v":"N/A"},{"$f":"IF(COUNTA(S100:W100)<>0,(COUNTIF(S100:W100,\"=0\")*0+COUNTIF(S100:W100,\"=1\")*100+COUNTIF(S100:W100,\"=2\")*80+COUNTIF(S100:W100,\"=3\")*50+COUNTIF(S100:W100,\"=8\")*20+COUNTIF(S100:W100,\"=9\")*0)/COUNTA(S100:W100)/100,\"N/A\")","v":"N/A"},"N/A",{"$f":"IF(COUNTA(#REF!)>0,(COUNTIF(#REF!,\"=0\")*0+COUNTIF(#REF!,\"=1\")*100+COUNTIF(#REF!,\"=2\")*80+COUNTIF(#REF!,\"=3\")*50+COUNTIF(#REF!,\"=8\")*20+COUNTIF(#REF!,\"=9\")*0)/COUNTA(#REF!)/100,\"N/A\")","v":{"$error":"#REF!"}},{"$f":"IF(COUNTA(#REF!)>0,(COUNTIF(#REF!,\"=0\")*0+COUNTIF(#REF!,\"=1\")*100+COUNTIF(#REF!,\"=2\")*80+COUNTIF(#REF!,\"=3\")*50+COUNTIF(#REF!,\"=8\")*20+COUNTIF(#REF!,\"=9\")*0)/COUNTA(#REF!)/100,\"N/A\")","v":{"$error":"#REF!"}},{"$f":"IF(AND(COUNTA(B100:X100)<>0,#REF!<>\"\"),AVERAGE(Y100:AE100),\"N/A\")","v":{"$error":"#REF!"}},1,1,1,1,1,{"$error":"#REF!"},{"$error":"#REF!"},{"$error":"#REF!"}]
[{"$nulls":24},{"$f":"IF(COUNTA(B101:G101)>0,(COUNTIF(B101:G101,\"=0\")*0+COUNTIF(B101:G101,\"=1\")*100+COUNTIF(B101:G101,\"=2\")*80+COUNTIF(B101:G101,\"=3\")*50+COUNTIF(B101:G101,\"=8\")*20+COUNTIF(B101:G101,\"=9\")*0)/COUNTA(B101:G101)/100,\"N/A\")","v":"N/A"},{"$f":"IF(COUNTA(K101:P101)>0,(COUNTIF(K101:P101,\"=0\")*0+COUNTIF(K101:P101,\"=1\")*100+COUNTIF(K101:P101,\"=2\")*80+COUNTIF(K101:P101,\"=3\")*50+COUNTIF(K101:P101,\"=8\")*20+COUNTIF(K101:P101,\"=9\")*0)/COUNTA(K101:P101)/100,\"N/A\")","v":"N/A"},{"$f":"IF(COUNTA(Q101)>0,(COUNTIF(Q101,\"=0\")*0+COUNTIF(Q101,\"=1\")*100+COUNTIF(Q101,\"=2\")*80+COUNTIF(Q101,\"=3\")*50+COUNTIF(Q101,\"=8\")*20+COUNTIF(Q101,\"=9\")*0)/COUNTA(Q101)/100,\"N/A\")","v":"N/A"},{"$f":"IF(COUNTA(S101:W101)<>0,(COUNTIF(S101:W101,\"=0\")*0+COUNTIF(S101:W101,\"=1\")*100+COUNTIF(S101:W101,\"=2\")*80+COUNTIF(S101:W101,\"=3\")*50+COUNTIF(S101:W101,\"=8\")*20+COUNTIF(S101:W101,\"=9\")*0)/COUNTA(S101:W101)/100,\"N/A\")","v":"N/A"},"N/A",{"$f":"IF(COUNTA(#REF!)>0,(COUNTIF(#REF!,\"=0\")*0+COUNTIF(#REF!,\"=1\")*100+COUNTIF(#REF!,\"=2\")*80+COUNTIF(#REF!,\"=3\")*50+COUNTIF(#REF!,\"=8\")*20+COUNTIF(#REF!,\"=9\")*0)/COUNTA(#REF!)/100,\"N/A\")","v":{"$error":"#REF!"}},{"$f":"IF(COUNTA(#REF!)>0,(COUNTIF(#REF!,\"=0\")*0+COUNTIF(#REF!,\"=1\")*100+COUNTIF(#REF!,\"=2\")*80+COUNTIF(#REF!,\"=3\")*50+COUNTIF(#REF!,\"=8\")*20+COUNTIF(#REF!,\"=9\")*0)/COUNTA(#REF!)/100,\"N/A\")","v":{"$error":"#REF!"}},{"$f":"IF(AND(COUNTA(B101:X101)<>0,#REF!<>\"\"),AVERAGE(Y101:AE101),\"N/A\")","v":{"$error":"#REF!"}},1,1,1,1,1,{"$error":"#REF!"},{"$error":"#REF!"},{"$error":"#REF!"}]
[{"$nulls":24},{"$f":"IF(COUNTA(B102:G102)>0,(COUNTIF(B102:G102,\"=0\")*0+COUNTIF(B102:G102,\"=1\")*100+COUNTIF(B102:G102,\"=2\")*80+COUNTIF(B102:G102,\"=3\")*50+COUNTIF(B102:G102,\"=8\")*20+COUNTIF(B102:G102,\"=9\")*0)/COUNTA(B102:G102)/100,\"N/A\")","v":"N/A"},{"$f":"IF(COUNTA(K102:P102)>0,(COUNTIF(K102:P102,\"=0\")*0+COUNTIF(K102:P102,\"=1\")*100+COUNTIF(K102:P102,\"=2\")*80+COUNTIF(K102:P102,\"=3\")*50+COUNTIF(K102:P102,\"=8\")*20+COUNTIF(K102:P102,\"=9\")*0)/COUNTA(K102:P102)/100,\"N/A\")","v":"N/A"},{"$f":"IF(COUNTA(Q102)>0,(COUNTIF(Q102,\"=0\")*0+COUNTIF(Q102,\"=1\")*100+COUNTIF(Q102,\"=2\")*80+COUNTIF(Q102,\"=3\")*50+COUNTIF(Q102,\"=8\")*20+COUNTIF(Q102,\"=9\")*0)/COUNTA(Q102)/100,\"N/A\")","v":"N/A"},{"$f":"IF(COUNTA(S102:W102)<>0,(COUNTIF(S102:W102,\"=0\")*0+COUNTIF(S102:W102,\"=1\")*100+COUNTIF(S102:W102,\"=2\")*80+COUNTIF(S102:W102,\"=3\")*50+COUNTIF(S102:W102,\"=8\")*20+COUNTIF(S102:W102,\"=9\")*0)/COUNTA(S102:W102)/100,\"N/A\")","v":"N/A"},"N/A",{"$f":"IF(COUNTA(#REF!)>0,(COUNTIF(#REF!,\"=0\")*0+COUNTIF(#REF!,\"=1\")*100+COUNTIF(#REF!,\"=2\")*80+COUNTIF(#REF!,\"=3\")*50+COUNTIF(#REF!,\"=8\")*20+COUNTIF(#REF!,\"=9\")*0)/COUNTA(#REF!)/100,\"N/A\")","v":{"$error":"#REF!"}},{"$f":"IF(COUNTA(#REF!)>0,(COUNTIF(#REF!,\"=0\")*0+COUNTIF(#REF!,\"=1\")*100+COUNTIF(#REF!,\"=2\")*80+COUNTIF(#REF!,\"=3\")*50+COUNTIF(#REF!,\"=8\")*20+COUNTIF(#REF!,\"=9\")*0)/COUNTA(#REF!)/100,\"N/A\")","v":{"$error":"#REF!"}},{"$f":"IF(AND(COUNTA(B102:X102)<>0,#REF!<>\"\"),AVERAGE(Y102:AE102),\"N/A\")","v":{"$error":"#REF!"}},1,1,1,1,1,{"$error":"#REF!"},{"$error":"#REF!"},{"$error":"#REF!"}]
[{"$nulls":24},{"$f":"IF(COUNTA(B103:G103)>0,(COUNTIF(B103:G103,\"=0\")*0+COUNTIF(B103:G103,\"=1\")*100+COUNTIF(B103:G103,\"=2\")*80+COUNTIF(B103:G103,\"=3\")*50+COUNTIF(B103:G103,\"=8\")*20+COUNTIF(B103:G103,\"=9\")*0)/COUNTA(B103:G103)/100,\"N/A\")","v":"N/A"},{"$f":"IF(COUNTA(K103:P103)>0,(COUNTIF(K103:P103,\"=0\")*0+COUNTIF(K103:P103,\"=1\")*100+COUNTIF(K103:P103,\"=2\")*80+COUNTIF(K103:P103,\"=3\")*50+COUNTIF(K103:P103,\"=8\")*20+COUNTIF(K103:P103,\"=9\")*0)/COUNTA(K103:P103)/100,\"N/A\")","v":"N/A"},{"$f":"IF(COUNTA(Q103)>0,(COUNTIF(Q103,\"=0\")*0+COUNTIF(Q103,\"=1\")*100+COUNTIF(Q103,\"=2\")*80+COUNTIF(Q103,\"=3\")*50+COUNTIF(Q103,\"=8\")*20+COUNTIF(Q103,\"=9\")*0)/COUNTA(Q103)/100,\"N/A\")","v":"N/A"},{"$f":"IF(COUNTA(S103:W103)<>0,(COUNTIF(S103:W103,\"=0\")*0+COUNTIF(S103:W103,\"=1\")*100+COUNTIF(S103:W103,\"=2\")*80+COUNTIF(S103:W103,\"=3\")*50+COUNTIF(S103:W103,\"=8\")*20+COUNTIF(S103:W103,\"=9\")*0)/COUNTA(S103:W103)/100,\"N/A\")","v":"N/A"},"N/A",{"$f":"IF(COUNTA(#REF!)>0,(COUNTIF(#REF!,\"=0\")*0+COUNTIF(#REF!,\"=1\")*100+COUNTIF(#REF!,\"=2\")*80+COUNTIF(#REF!,\"=3\")*50+COUNTIF(#REF!,\"=8\")*20+COUNTIF(#REF!,\"=9\")*0)/COUNTA(#REF!)/100,\"N/A\")","v":{"$error":"#REF!"}},{"$f":"IF(COUNTA(#REF!)>0,(COUNTIF(#REF!,\"=0\")*0+COUNTIF(#REF!,\"=1\")*100+COUNTIF(#REF!,\"=2\")*80+COUNTIF(#REF!,\"=3\")*50+COUNTIF(#REF!,\"=8\")*20+COUNTIF(#REF!,\"=9\")*0)/COUNTA(#REF!)/100,\"N/A\")","v":{"$error":"#REF!"}},{"$f":"IF(AND(COUNTA(B103:X103)<>0,#REF!<>\"\"),AVERAGE(Y103:AE103),\"N/A\")","v":{"$error":"#REF!"}},1,1,1,1,1,{"$error":"#REF!"},{"$error":"#REF!"},{"$error":"#REF!"}]
[{"$nulls":24},{"$f":"IF(COUNTA(B104:G104)>0,(COUNTIF(B104:G104,\"=0\")*0+COUNTIF(B104:G104,\"=1\")*100+COUNTIF(B104:G104,\"=2\")*80+COUNTIF(B104:G104,\"=3\")*50+COUNTIF(B104:G104,\"=8\")*20+COUNTIF(B104:G104,\"=9\")*0)/COUNTA(B104:G104)/100,\"N/A\")","v":"N/A"},{"$f":"IF(COUNTA(K104:P104)>0,(COUNTIF(K104:P104,\"=0\")*0+COUNTIF(K104:P104,\"=1\")*100+COUNTIF(K104:P104,\"=2\")*80+COUNTIF(K104:P104,\"=3\")*50+COUNTIF(K104:P104,\"=8\")*20+COUNTIF(K104:P104,\"=9\")*0)/COUNTA(K104:P104)/100,\"N/A\")","v":"N/A"},{"$f":"IF(COUNTA(Q104)>0,(COUNTIF(Q104,\"=0\")*0+COUNTIF(Q104,\"=1\")*100+COUNTIF(Q104,\"=2\")*80+COUNTIF(Q104,\"=3\")*50+COUNTIF(Q104,\"=8\")*20+COUNTIF(Q104,\"=9\")*0)/COUNTA(Q104)/100,\"N/A\")","v":"N/A"},{"$f":"IF(COUNTA(S104:W104)<>0,(COUNTIF(S104:W104,\"=0\")*0+COUNTIF(S104:W104,\"=1\")*100+COUNTIF(S104:W104,\"=2\")*80+COUNTIF(S104:W104,\"=3\")*50+COUNTIF(S104:W104,\"=8\")*20+COUNTIF(S104:W104,\"=9\")*0)/COUNTA(S104:W104)/100,\"N/A\")","v":"N/A"},"N/A",{"$f":"IF(COUNTA(#REF!)>0,(COUNTIF(#REF!,\"=0\")*0+COUNTIF(#REF!,\"=1\")*100+COUNTIF(#REF!,\"=2\")*80+COUNTIF(#REF!,\"=3\")*50+COUNTIF(#REF!,\"=8\")*20+COUNTIF(#REF!,\"=9\")*0)/COUNTA(#REF!)/100,\"N/A\")","v":{"$error":"#REF!"}},{"$f":"IF(COUNTA(#REF!)>0,(COUNTIF(#REF!,\"=0\")*0+COUNTIF(#REF!,\"=1\")*100+COUNTIF(#REF!,\"=2\")*80+COUNTIF(#REF!,\"=3\")*50+COUNTIF(#REF!,\"=8\")*20+COUNTIF(#REF!,\"=9\")*0)/COUNTA(#REF!)/100,\"N/A\")","v":{"$error":"#REF!"}},{"$f":"IF(AND(COUNTA(B104:X104)<>0,#REF!<>\"\"),AVERAGE(Y104:AE104),\"N/A\")","v":{"$error":"#REF!"}},1,1,1,1,1,{"$error":"#REF!"},{"$error":"#REF!"},{"$error":"#REF!"}]
[{"$nulls":24},{"$f":"IF(COUNTA(B105:G105)>0,(COUNTIF(B105:G105,\"=0\")*0+COUNTIF(B105:G105,\"=1\")*100+COUNTIF(B105:G105,\"=2\")*80+COUNTIF(B105:G105,\"=3\")*50+COUNTIF(B105:G105,\"=8\")*20+COUNTIF(B105:G105,\"=9\")*0)/COUNTA(B105:G105)/100,\"N/A\")","v":"N/A"},{"$f":"IF(COUNTA(K105:P105)>0,(COUNTIF(K105:P105,\"=0\")*0+COUNTIF(K105:P105,\"=1\")*100+COUNTIF(K105:P105,\"=2\")*80+COUNTIF(K105:P105,\"=3\")*50+COUNTIF(K105:P105,\"=8\")*20+COUNTIF(K105:P105,\"=9\")*0)/COUNTA(K105:P105)/100,\"N/A\")","v":"N/A"},{"$f":"IF(COUNTA(Q105)>0,(COUNTIF(Q105,\"=0\")*0+COUNTIF(Q105,\"=1\")*100+COUNTIF(Q105,\"=2\")*80+COUNTIF(Q105,\"=3\")*50+COUNTIF(Q105,\"=8\")*20+COUNTIF(Q105,\"=9\")*0)/COUNTA(Q105)/100,\"N/A\")","v":"N/A"},{"$f":"IF(COUNTA(S105:W105)<>0,(COUNTIF(S105:W105,\"=0\")*0+COUNTIF(S105:W105,\"=1\")*100+COUNTIF(S105:W105,\"=2\")*80+COUNTIF(S105:W105,\"=3\")*50+COUNTIF(S105:W105,\"=8\")*20+COUNTIF(S105:W105,\"=9\")*0)/COUNTA(S105:W105)/100,\"N/A\")","v":"N/A"},"N/A",{"$f":"IF(COUNTA(#REF!)>0,(COUNTIF(#REF!,\"=0\")*0+COUNTIF(#REF!,\"=1\")*100+COUNTIF(#REF!,\"=2\")*80+COUNTIF(#REF!,\"=3\")*50+COUNTIF(#REF!,\"=8\")*20+COUNTIF(#REF!,\"=9\")*0)/COUNTA(#REF!)/100,\"N/A\")","v":{"$error":"#REF!"}},{"$f":"IF(COUNTA(#REF!)>0,(COUNTIF(#REF!,\"=0\")*0+COUNTIF(#REF!,\"=1\")*100+COUNTIF(#REF!,\"=2\")*80+COUNTIF(#REF!,\"=3\")*50+COUNTIF(#REF!,\"=8\")*20+COUNTIF(#REF!,\"=9\")*0)/COUNTA(#REF!)/100,\"N/A\")","v":{"$error":"#REF!"}},{"$f":"IF(AND(COUNTA(B105:X105)<>0,#REF!<>\"\"),AVERAGE(Y105:AE105),\"N/A\")","v":{"$error":"#REF!"}},1,1,1,1,1,{"$error":"#REF!"},{"$error":"#REF!"},{"$error":"#REF!"}]
[{"$nulls":24},{"$f":"IF(COUNTA(B106:G106)>0,(COUNTIF(B106:G106,\"=0\")*0+COUNTIF(B106:G106,\"=1\")*100+COUNTIF(B106:G106,\"=2\")*80+COUNTIF(B106:G106,\"=3\")*50+COUNTIF(B106:G106,\"=8\")*20+COUNTIF(B106:G106,\"=9\")*0)/COUNTA(B106:G106)/100,\"N/A\")","v":"N/A"},{"$f":"IF(COUNTA(K106:P106)>0,(COUNTIF(K106:P106,\"=0\")*0+COUNTIF(K106:P106,\"=1\")*100+COUNTIF(K106:P106,\"=2\")*80+COUNTIF(K106:P106,\"=3\")*50+COUNTIF(K106:P106,\"=8\")*20+COUNTIF(K106:P106,\"=9\")*0)/COUNTA(K106:P106)/100,\"N/A\")","v":"N/A"},{"$f":"IF(COUNTA(Q106)>0,(COUNTIF(Q106,\"=0\")*0+COUNTIF(Q106,\"=1\")*100+COUNTIF(Q106,\"=2\")*80+COUNTIF(Q106,\"=3\")*50+COUNTIF(Q106,\"=8\")*20+COUNTIF(Q106,\"=9\")*0)/COUNTA(Q106)/100,\"N/A\")","v":"N/A"},{"$f":"IF(COUNTA(S106:W106)<>0,(COUNTIF(S106:W106,\"=0\")*0+COUNTIF(S106:W106,\"=1\")*100+COUNTIF(S106:W106,\"=2\")*80+COUNTIF(S106:W106,\"=3\")*50+COUNTIF(S106:W106,\"=8\")*20+COUNTIF(S106:W106,\"=9\")*0)/COUNTA(S106:W106)/100,\"N/A\")","v":"N/A"},"N/A",{"$f":"IF(COUNTA(#REF!)>0,(COUNTIF(#REF!,\"=0\")*0+COUNTIF(#REF!,\"=1\")*100+COUNTIF(#REF!,\"=2\")*80+COUNTIF(#REF!,\"=3\")*50+COUNTIF(#REF!,\"=8\")*20+COUNTIF(#REF!,\"=9\")*0)/COUNTA(#REF!)/100,\"N/A\")","v":{"$error":"#REF!"}},{"$f":"IF(COUNTA(#REF!)>0,(COUNTIF(#REF!,\"=0\")*0+COUNTIF(#REF!,\"=1\")*100+COUNTIF(#REF!,\"=2\")*80+COUNTIF(#REF!,\"=3\")*50+COUNTIF(#REF!,\"=8\")*20+COUNTIF(#REF!,\"=9\")*0)/COUNTA(#REF!)/100,\"N/A\")","v":{"$error":"#REF!"}},{"$f":"IF(AND(COUNTA(B106:X106)<>0,#REF!<>\"\"),AVERAGE(Y106:AE106),\"N/A\")","v":{"$error":"#REF!"}},1,1,1,1,1,{"$error":"#REF!"},{"$error":"#REF!"},{"$error":"#REF!"}]
[{"$nulls":24},{"$f":"IF(COUNTA(B107:G107)>0,(COUNTIF(B107:G107,\"=0\")*0+COUNTIF(B107:G107,\"=1\")*100+COUNTIF(B107:G107,\"=2\")*80+COUNTIF(B107:G107,\"=3\")*50+COUNTIF(B107:G107,\"=8\")*20+COUNTIF(B107:G107,\"=9\")*0)/COUNTA(B107:G107)/100,\"N/A\")","v":"N/A"},{"$f":"IF(COUNTA(K107:P107)>0,(COUNTIF(K107:P107,\"=0\")*0+COUNTIF(K107:P107,\"=1\")*100+COUNTIF(K107:P107,\"=2\")*80+COUNTIF(K107:P107,\"=3\")*50+COUNTIF(K107:P107,\"=8\")*20+COUNTIF(K107:P107,\"=9\")*0)/COUNTA(K107:P107)/100,\"N/A\")","v":"N/A"},{"$f":"IF(COUNTA(Q107)>0,(COUNTIF(Q107,\"=0\")*0+COUNTIF(Q107,\"=1\")*100+COUNTIF(Q107,\"=2\")*80+COUNTIF(Q107,\"=3\")*50+COUNTIF(Q107,\"=8\")*20+COUNTIF(Q107,\"=9\")*0)/COUNTA(Q107)/100,\"N/A\")","v":"N/A"},{"$f":"IF(COUNTA(S107:W107)<>0,(COUNTIF(S107:W107,\"=0\")*0+COUNTIF(S107:W107,\"=1\")*100+COUNTIF(S107:W107,\"=2\")*80+COUNTIF(S107:W107,\"=3\")*50+COUNTIF(S107:W107,\"=8\")*20+COUNTIF(S107:W107,\"=9\")*0)/COUNTA(S107:W107)/100,\"N/A\")","v":"N/A"},"N/A",{"$f":"IF(COUNTA(#REF!)>0,(COUNTIF(#REF!,\"=0\")*0+COUNTIF(#REF!,\"=1\")*100+COUNTIF(#REF!,\"=2\")*80+COUNTIF(#REF!,\"=3\")*50+COUNTIF(#REF!,\"=8\")*20+COUNTIF(#REF!,\"=9\")*0)/COUNTA(#REF!)/100,\"N/A\")","v":{"$error":"#REF!"}},{"$f":"IF(COUNTA(#REF!)>0,(COUNTIF(#REF!,\"=0\")*0+COUNTIF(#REF!,\"=1\")*100+COUNTIF(#REF!,\"=2\")*80+COUNTIF(#REF!,\"=3\")*50+COUNTIF(#REF!,\"=8\")*20+COUNTIF(#REF!,\"=9\")*0)/COUNTA(#REF!)/100,\"N/A\")","v":{"$error":"#REF!"}},{"$f":"IF(AND(COUNTA(B107:X107)<>0,#REF!<>\"\"),AVERAGE(Y107:AE107),\"N/A\")","v":{"$error":"#REF!"}},1,1,1,1,1,{"$error":"#REF!"},{"$error":"#REF!"},{"$error":"#REF!"}]
[{"$nulls":24},{"$f":"IF(COUNTA(B108:G108)>0,(COUNTIF(B108:G108,\"=0\")*0+COUNTIF(B108:G108,\"=1\")*100+COUNTIF(B108:G108,\"=2\")*80+COUNTIF(B108:G108,\"=3\")*50+COUNTIF(B108:G108,\"=8\")*20+COUNTIF(B108:G108,\"=9\")*0)/COUNTA(B108:G108)/100,\"N/A\")","v":"N/A"},{"$f":"IF(COUNTA(K108:P108)>0,(COUNTIF(K108:P108,\"=0\")*0+COUNTIF(K108:P108,\"=1\")*100+COUNTIF(K108:P108,\"=2\")*80+COUNTIF(K108:P108,\"=3\")*50+COUNTIF(K108:P108,\"=8\")*20+COUNTIF(K108:P108,\"=9\")*0)/COUNTA(K108:P108)/100,\"N/A\")","v":"N/A"},{"$f":"IF(COUNTA(Q108)>0,(COUNTIF(Q108,\"=0\")*0+COUNTIF(Q108,\"=1\")*100+COUNTIF(Q108,\"=2\")*80+COUNTIF(Q108,\"=3\")*50+COUNTIF(Q108,\"=8\")*20+COUNTIF(Q108,\"=9\")*0)/COUNTA(Q108)/100,\"N/A\")","v":"N/A"},{"$f":"IF(COUNTA(S108:W108)<>0,(COUNTIF(S108:W108,\"=0\")*0+COUNTIF(S108:W108,\"=1\")*100+COUNTIF(S108:W108,\"=2\")*80+COUNTIF(S108:W108,\"=3\")*50+COUNTIF(S108:W108,\"=8\")*20+COUNTIF(S108:W108,\"=9\")*0)/COUNTA(S108:W108)/100,\"N/A\")","v":"N/A"},"N/A",{"$f":"IF(COUNTA(#REF!)>0,(COUNTIF(#REF!,\"=0\")*0+COUNTIF(#REF!,\"=1\")*100+COUNTIF(#REF!,\"=2\")*80+COUNTIF(#REF!,\"=3\")*50+COUNTIF(#REF!,\"=8\")*20+COUNTIF(#REF!,\"=9\")*0)/COUNTA(#REF!)/100,\"N/A\")","v":{"$error":"#REF!"}},{"$f":"IF(COUNTA(#REF!)>0,(COUNTIF(#REF!,\"=0\")*0+COUNTIF(#REF!,\"=1\")*100+COUNTIF(#REF!,\"=2\")*80+COUNTIF(#REF!,\"=3\")*50+COUNTIF(#REF!,\"=8\")*20+COUNTIF(#REF!,\"=9\")*0)/COUNTA(#REF!)/100,\"N/A\")","v":{"$error":"#REF!"}},{"$f":"IF(AND(COUNTA(B108:X108)<>0,#REF!<>\"\"),AVERAGE(Y108:AE108),\"N/A\")","v":{"$error":"#REF!"}},1,1,1,1,1,{"$error":"#REF!"},{"$error":"#REF!"},{"$error":"#REF!"}]
[{"$nulls":24},{"$f":"IF(COUNTA(B109:G109)>0,(COUNTIF(B109:G109,\"=0\")*0+COUNTIF(B109:G109,\"=1\")*100+COUNTIF(B109:G109,\"=2\")*80+COUNTIF(B109:G109,\"=3\")*50+COUNTIF(B109:G109,\"=8\")*20+COUNTIF(B109:G109,\"=9\")*0)/COUNTA(B109:G109)/100,\"N/A\")","v":"N/A"},{"$f":"IF(COUNTA(K109:P109)>0,(COUNTIF(K109:P109,\"=0\")*0+COUNTIF(K109:P109,\"=1\")*100+COUNTIF(K109:P109,\"=2\")*80+COUNTIF(K109:P109,\"=3\")*50+COUNTIF(K109:P109,\"=8\")*20+COUNTIF(K109:P109,\"=9\")*0)/COUNTA(K109:P109)/100,\"N/A\")","v":"N/A"},{"$f":"IF(COUNTA(Q109)>0,(COUNTIF(Q109,\"=0\")*0+COUNTIF(Q109,\"=1\")*100+COUNTIF(Q109,\"=2\")*80+COUNTIF(Q109,\"=3\")*50+COUNTIF(Q109,\"=8\")*20+COUNTIF(Q109,\"=9\")*0)/COUNTA(Q109)/100,\"N/A\")","v":"N/A"},{"$f":"IF(COUNTA(S109:W109)<>0,(COUNTIF(S109:W109,\"=0\")*0+COUNTIF(S109:W109,\"=1\")*100+COUNTIF(S109:W109,\"=2\")*80+COUNTIF(S109:W109,\"=3\")*50+COUNTIF(S109:W109,\"=8\")*20+COUNTIF(S109:W109,\"=9\")*0)/COUNTA(S109:W109)/100,\"N/A\")","v":"N/A"},"N/A",{"$f":"IF(COUNTA(#REF!)>0,(COUNTIF(#REF!,\"=0\")*0+COUNTIF(#REF!,\"=1\")*100+COUNTIF(#REF!,\"=2\")*80+COUNTIF(#REF!,\"=3\")*50+COUNTIF(#REF!,\"=8\")*20+COUNTIF(#REF!,\"=9\")*0)/COUNTA(#REF!)/100,\"N/A\")","v":{"$error":"#REF!"}},{"$f":"IF(COUNTA(#REF!)>0,(COUNTIF(#REF!,\"=0\")*0+COUNTIF(#REF!,\"=1\")*100+COUNTIF(#REF!,\"=2\")*80+COUNTIF(#REF!,\"=3\")*50+COUNTIF(#REF!,\"=8\")*20+COUNTIF(#REF!,\"=9\")*0)/COUNTA(#REF!)/100,\"N/A\")","v":{"$error":"#REF!"}},{"$f":"IF(AND(COUNTA(B109:X109)<>0,#REF!<>\"\"),AVERAGE(Y109:AE109),\"N/A\")","v":{"$error":"#REF!"}},1,1,1,1,1,{"$error":"#REF!"},{"$error":"#REF!"},{"$error":"#REF!"}]
[{"$nulls":24},{"$f":"IF(COUNTA(B110:G110)>0,(COUNTIF(B110:G110,\"=0\")*0+COUNTIF(B110:G110,\"=1\")*100+COUNTIF(B110:G110,\"=2\")*80+COUNTIF(B110:G110,\"=3\")*50+COUNTIF(B110:G110,\"=8\")*20+COUNTIF(B110:G110,\"=9\")*0)/COUNTA(B110:G110)/100,\"N/A\")","v":"N/A"},{"$f":"IF(COUNTA(K110:P110)>0,(COUNTIF(K110:P110,\"=0\")*0+COUNTIF(K110:P110,\"=1\")*100+COUNTIF(K110:P110,\"=2\")*80+COUNTIF(K110:P110,\"=3\")*50+COUNTIF(K110:P110,\"=8\")*20+COUNTIF(K110:P110,\"=9\")*0)/COUNTA(K110:P110)/100,\"N/A\")","v":"N/A"},{"$f":"IF(COUNTA(Q110)>0,(COUNTIF(Q110,\"=0\")*0+COUNTIF(Q110,\"=1\")*100+COUNTIF(Q110,\"=2\")*80+COUNTIF(Q110,\"=3\")*50+COUNTIF(Q110,\"=8\")*20+COUNTIF(Q110,\"=9\")*0)/COUNTA(Q110)/100,\"N/A\")","v":"N/A"},{"$f":"IF(COUNTA(S110:W110)<>0,(COUNTIF(S110:W110,\"=0\")*0+COUNTIF(S110:W110,\"=1\")*100+COUNTIF(S110:W110,\"=2\")*80+COUNTIF(S110:W110,\"=3\")*50+COUNTIF(S110:W110,\"=8\")*20+COUNTIF(S110:W110,\"=9\")*0)/COUNTA(S110:W110)/100,\"N/A\")","v":"N/A"},"N/A",{"$f":"IF(COUNTA(#REF!)>0,(COUNTIF(#REF!,\"=0\")*0+COUNTIF(#REF!,\"=1\")*100+COUNTIF(#REF!,\"=2\")*80+COUNTIF(#REF!,\"=3\")*50+COUNTIF(#REF!,\"=8\")*20+COUNTIF(#REF!,\"=9\")*0)/COUNTA(#REF!)/100,\"N/A\")","v":{"$error":"#REF!"}},{"$f":"IF(COUNTA(#REF!)>0,(COUNTIF(#REF!,\"=0\")*0+COUNTIF(#REF!,\"=1\")*100+COUNTIF(#REF!,\"=2\")*80+COUNTIF(#REF!,\"=3\")*50+COUNTIF(#REF!,\"=8\")*20+COUNTIF(#REF!,\"=9\")*0)/COUNTA(#REF!)/100,\"N/A\")","v":{"$error":"#REF!"}},{"$f":"IF(AND(COUNTA(B110:X110)<>0,#REF!<>\"\"),AVERAGE(Y110:AE110),\"N/A\")","v":{"$error":"#REF!"}},1,1,1,1,1,{"$error":"#REF!"},{"$error":"#REF!"},{"$error":"#REF!"}]
[{"$nulls":24},{"$f":"IF(COUNTA(B111:G111)>0,(COUNTIF(B111:G111,\"=0\")*0+COUNTIF(B111:G111,\"=1\")*100+COUNTIF(B111:G111,\"=2\")*80+COUNTIF(B111:G111,\"=3\")*50+COUNTIF(B111:G111,\"=8\")*20+COUNTIF(B111:G111,\"=9\")*0)/COUNTA(B111:G111)/100,\"N/A\")","v":"N/A"},{"$f":"IF(COUNTA(K111:P111)>0,(COUNTIF(K111:P111,\"=0\")*0+COUNTIF(K111:P111,\"=1\")*100+COUNTIF(K111:P111,\"=2\")*80+COUNTIF(K111:P111,\"=3\")*50+COUNTIF(K111:P111,\"=8\")*20+COUNTIF(K111:P111,\"=9\")*0)/COUNTA(K111:P111)/100,\"N/A\")","v":"N/A"},{"$f":"IF(COUNTA(Q111)>0,(COUNTIF(Q111,\"=0\")*0+COUNTIF(Q111,\"=1\")*100+COUNTIF(Q111,\"=2\")*80+COUNTIF(Q111,\"=3\")*50+COUNTIF(Q111,\"=8\")*20+COUNTIF(Q111,\"=9\")*0)/COUNTA(Q111)/100,\"N/A\")","v":"N/A"},{"$f":"IF(COUNTA(S111:W111)<>0,(COUNTIF(S111:W111,\"=0\")*0+COUNTIF(S111:W111,\"=1\")*100+COUNTIF(S111:W111,\"=2\")*80+COUNTIF(S111:W111,\"=3\")*50+COUNTIF(S111:W111,\"=8\")*20+COUNTIF(S111:W111,\"=9\")*0)/COUNTA(S111:W111)/100,\"N/A\")","v":"N/A"},"N/A",{"$f":"IF(COUNTA(#REF!)>0,(COUNTIF(#REF!,\"=0\")*0+COUNTIF(#REF!,\"=1\")*100+COUNTIF(#REF!,\"=2\")*80+COUNTIF(#REF!,\"=3\")*50+COUNTIF(#REF!,\"=8\")*20+COUNTIF(#REF!,\"=9\")*0)/COUNTA(#REF!)/100,\"N/A\")","v":{"$error":"#REF!"}},{"$f":"IF(COUNTA(#REF!)>0,(COUNTIF(#REF!,\"=0\")*0+COUNTIF(#REF!,\"=1\")*100+COUNTIF(#REF!,\"=2\")*80+COUNTIF(#REF!,\"=3\")*50+COUNTIF(#REF!,\"=8\")*20+COUNTIF(#REF!,\"=9\")*0)/COUNTA(#REF!)/100,\"N/A\")","v":{"$error":"#REF!"}},{"$f":"IF(AND(COUNTA(B111:X111)<>0,#REF!<>\"\"),AVERAGE(Y111:AE111),\"N/A\")","v":{"$error":"#REF!"}},1,1,1,1,1,{"$error":"#REF!"},{"$error":"#REF!"},{"$error":"#REF!"}]
[{"$nulls":24},{"$f":"IF(COUNTA(B112:G112)>0,(COUNTIF(B112:G112,\"=0\")*0+COUNTIF(B112:G112,\"=1\")*100+COUNTIF(B112:G112,\"=2\")*80+COUNTIF(B112:G112,\"=3\")*50+COUNTIF(B112:G112,\"=8\")*20+COUNTIF(B112:G112,\"=9\")*0)/COUNTA(B112:G112)/100,\"N/A\")","v":"N/A"},{"$f":"IF(COUNTA(K112:P112)>0,(COUNTIF(K112:P112,\"=0\")*0+COUNTIF(K112:P112,\"=1\")*100+COUNTIF(K112:P112,\"=2\")*80+COUNTIF(K112:P112,\"=3\")*50+COUNTIF(K112:P112,\"=8\")*20+COUNTIF(K112:P112,\"=9\")*0)/COUNTA(K112:P112)/100,\"N/A\")","v":"N/A"},{"$f":"IF(COUNTA(Q112)>0,(COUNTIF(Q112,\"=0\")*0+COUNTIF(Q112,\"=1\")*100+COUNTIF(Q112,\"=2\")*80+COUNTIF(Q112,\"=3\")*50+COUNTIF(Q112,\"=8\")*20+COUNTIF(Q112,\"=9\")*0)/COUNTA(Q112)/100,\"N/A\")","v":"N/A"},{"$f":"IF(COUNTA(S112:W112)<>0,(COUNTIF(S112:W112,\"=0\")*0+COUNTIF(S112:W112,\"=1\")*100+COUNTIF(S112:W112,\"=2\")*80+COUNTIF(S112:W112,\"=3\")*50+COUNTIF(S112:W112,\"=8\")*20+COUNTIF(S112:W112,\"=9\")*0)/COUNTA(S112:W112)/100,\"N/A\")","v":"N/A"},"N/A",{"$f":"IF(COUNTA(#REF!)>0,(COUNTIF(#REF!,\"=0\")*0+COUNTIF(#REF!,\"=1\")*100+COUNTIF(#REF!,\"=2\")*80+COUNTIF(#REF!,\"=3\")*50+COUNTIF(#REF!,\"=8\")*20+COUNTIF(#REF!,\"=9\")*0)/COUNTA(#REF!)/100,\"N/A\")","v":{"$error":"#REF!"}},{"$f":"IF(COUNTA(#REF!)>0,(COUNTIF(#REF!,\"=0\")*0+COUNTIF(#REF!,\"=1\")*100+COUNTIF(#REF!,\"=2\")*80+COUNTIF(#REF!,\"=3\")*50+COUNTIF(#REF!,\"=8\")*20+COUNTIF(#REF!,\"=9\")*0)/COUNTA(#REF!)/100,\"N/A\")","v":{"$error":"#REF!"}},{"$f":"IF(AND(COUNTA(B112:X112)<>0,#REF!<>\"\"),AVERAGE(Y112:AE112),\"N/A\")","v":{"$error":"#REF!"}},1,1,1,1,1,{"$error":"#REF!"},{"$error":"#REF!"},{"$error":"#REF!"}]
[{"$nulls":24},{"$f":"IF(COUNTA(B113:G113)>0,(COUNTIF(B113:G113,\"=0\")*0+COUNTIF(B113:G113,\"=1\")*100+COUNTIF(B113:G113,\"=2\")*80+COUNTIF(B113:G113,\"=3\")*50+COUNTIF(B113:G113,\"=8\")*20+COUNTIF(B113:G113,\"=9\")*0)/COUNTA(B113:G113)/100,\"N/A\")","v":"N/A"},{"$f":"IF(COUNTA(K113:P113)>0,(COUNTIF(K113:P113,\"=0\")*0+COUNTIF(K113:P113,\"=1\")*100+COUNTIF(K113:P113,\"=2\")*80+COUNTIF(K113:P113,\"=3\")*50+COUNTIF(K113:P113,\"=8\")*20+COUNTIF(K113:P113,\"=9\")*0)/COUNTA(K113:P113)/100,\"N/A\")","v":"N/A"},{"$f":"IF(COUNTA(Q113)>0,(COUNTIF(Q113,\"=0\")*0+COUNTIF(Q113,\"=1\")*100+COUNTIF(Q113,\"=2\")*80+COUNTIF(Q113,\"=3\")*50+COUNTIF(Q113,\"=8\")*20+COUNTIF(Q113,\"=9\")*0)/COUNTA(Q113)/100,\"N/A\")","v":"N/A"},{"$f":"IF(COUNTA(S113:W113)<>0,(COUNTIF(S113:W113,\"=0\")*0+COUNTIF(S113:W113,\"=1\")*100+COUNTIF(S113:W113,\"=2\")*80+COUNTIF(S113:W113,\"=3\")*50+COUNTIF(S113:W113,\"=8\")*20+COUNTIF(S113:W113,\"=9\")*0)/COUNTA(S113:W113)/100,\"N/A\")","v":"N/A"},"N/A",{"$f":"IF(COUNTA(#REF!)>0,(COUNTIF(#REF!,\"=0\")*0+COUNTIF(#REF!,\"=1\")*100+COUNTIF(#REF!,\"=2\")*80+COUNTIF(#REF!,\"=3\")*50+COUNTIF(#REF!,\"=8\")*20+COUNTIF(#REF!,\"=9\")*0)/COUNTA(#REF!)/100,\"N/A\")","v":{"$error":"#REF!"}},{"$f":"IF(COUNTA(#REF!)>0,(COUNTIF(#REF!,\"=0\")*0+COUNTIF(#REF!,\"=1\")*100+COUNTIF(#REF!,\"=2\")*80+COUNTIF(#REF!,\"=3\")*50+COUNTIF(#REF!,\"=8\")*20+COUNTIF(#REF!,\"=9\")*0)/COUNTA(#REF!)/100,\"N/A\")","v":{"$error":"#REF!"}},{"$f":"IF(AND(COUNTA(B113:X113)<>0,#REF!<>\"\"),AVERAGE(Y113:AE113),\"N/A\")","v":{"$error":"#REF!"}},1,1,1,1,1,{"$error":"#REF!"},{"$error":"#REF!"},{"$error":"#REF!"}]
[{"$nulls":24},{"$f":"IF(COUNTA(B114:G114)>0,(COUNTIF(B114:G114,\"=0\")*0+COUNTIF(B114:G114,\"=1\")*100+COUNTIF(B114:G114,\"=2\")*80+COUNTIF(B114:G114,\"=3\")*50+COUNTIF(B114:G114,\"=8\")*20+COUNTIF(B114:G114,\"=9\")*0)/COUNTA(B114:G114)/100,\"N/A\")","v":"N/A"},{"$f":"IF(COUNTA(K114:P114)>0,(COUNTIF(K114:P114,\"=0\")*0+COUNTIF(K114:P114,\"=1\")*100+COUNTIF(K114:P114,\"=2\")*80+COUNTIF(K114:P114,\"=3\")*50+COUNTIF(K114:P114,\"=8\")*20+COUNTIF(K114:P114,\"=9\")*0)/COUNTA(K114:P114)/100,\"N/A\")","v":"N/A"},{"$f":"IF(COUNTA(Q114)>0,(COUNTIF(Q114,\"=0\")*0+COUNTIF(Q114,\"=1\")*100+COUNTIF(Q114,\"=2\")*80+COUNTIF(Q114,\"=3\")*50+COUNTIF(Q114,\"=8\")*20+COUNTIF(Q114,\"=9\")*0)/COUNTA(Q114)/100,\"N/A\")","v":"N/A"},{"$f":"IF(COUNTA(S114:W114)<>0,(COUNTIF(S114:W114,\"=0\")*0+COUNTIF(S114:W114,\"=1\")*100+COUNTIF(S114:W114,\"=2\")*80+COUNTIF(S114:W114,\"=3\")*50+COUNTIF(S114:W114,\"=8\")*20+COUNTIF(S114:W114,\"=9\")*0)/COUNTA(S114:W114)/100,\"N/A\")","v":"N/A"},"N/A",{"$f":"IF(COUNTA(#REF!)>0,(COUNTIF(#REF!,\"=0\")*0+COUNTIF(#REF!,\"=1\")*100+COUNTIF(#REF!,\"=2\")*80+COUNTIF(#REF!,\"=3\")*50+COUNTIF(#REF!,\"=8\")*20+COUNTIF(#REF!,\"=9\")*0)/COUNTA(#REF!)/100,\"N/A\")","v":{"$error":"#REF!"}},{"$f":"IF(COUNTA(#REF!)>0,(COUNTIF(#REF!,\"=0\")*0+COUNTIF(#REF!,\"=1\")*100+COUNTIF(#REF!,\"=2\")*80+COUNTIF(#REF!,\"=3\")*50+COUNTIF(#REF!,\"=8\")*20+COUNTIF(#REF!,\"=9\")*0)/COUNTA(#REF!)/100,\"N/A\")","v":{"$error":"#REF!"}},{"$f":"IF(AND(COUNTA(B114:X114)<>0,#REF!<>\"\"),AVERAGE(Y114:AE114),\"N/A\")","v":{"$error":"#REF!"}},{"$f":"IF(Y114=\"N/A\",1,\"\")","v":1},1,1,1,1,{"$error":"#REF!"},{"$error":"#REF!"},{"$error":"#REF!"}]
[{"$nulls":24},{"$f":"IF(COUNTA(B115:G115)>0,(COUNTIF(B115:G115,\"=0\")*0+COUNTIF(B115:G115,\"=1\")*100+COUNTIF(B115:G115,\"=2\")*80+COUNTIF(B115:G115,\"=3\")*50+COUNTIF(B115:G115,\"=8\")*20+COUNTIF(B115:G115,\"=9\")*0)/COUNTA(B115:G115)/100,\"N/A\")","v":"N/A"},{"$f":"IF(COUNTA(K115:P115)>0,(COUNTIF(K115:P115,\"=0\")*0+COUNTIF(K115:P115,\"=1\")*100+COUNTIF(K115:P115,\"=2\")*80+COUNTIF(K115:P115,\"=3\")*50+COUNTIF(K115:P115,\"=8\")*20+COUNTIF(K115:P115,\"=9\")*0)/COUNTA(K115:P115)/100,\"N/A\")","v":"N/A"},{"$f":"IF(COUNTA(Q115)>0,(COUNTIF(Q115,\"=0\")*0+COUNTIF(Q115,\"=1\")*100+COUNTIF(Q115,\"=2\")*80+COUNTIF(Q115,\"=3\")*50+COUNTIF(Q115,\"=8\")*20+COUNTIF(Q115,\"=9\")*0)/COUNTA(Q115)/100,\"N/A\")","v":"N/A"},{"$f":"IF(COUNTA(S115:W115)<>0,(COUNTIF(S115:W115,\"=0\")*0+COUNTIF(S115:W115,\"=1\")*100+COUNTIF(S115:W115,\"=2\")*80+COUNTIF(S115:W115,\"=3\")*50+COUNTIF(S115:W115,\"=8\")*20+COUNTIF(S115:W115,\"=9\")*0)/COUNTA(S115:W115)/100,\"N/A\")","v":"N/A"},"N/A",{"$f":"IF(COUNTA(#REF!)>0,(COUNTIF(#REF!,\"=0\")*0+COUNTIF(#REF!,\"=1\")*100+COUNTIF(#REF!,\"=2\")*80+COUNTIF(#REF!,\"=3\")*50+COUNTIF(#REF!,\"=8\")*20+COUNTIF(#REF!,\"=9\")*0)/COUNTA(#REF!)/100,\"N/A\")","v":{"$error":"#REF!"}},{"$f":"IF(COUNTA(#REF!)>0,(COUNTIF(#REF!,\"=0\")*0+COUNTIF(#REF!,\"=1\")*100+COUNTIF(#REF!,\"=2\")*80+COUNTIF(#REF!,\"=3\")*50+COUNTIF(#REF!,\"=8\")*20+COUNTIF(#REF!,\"=9\")*0)/COUNTA(#REF!)/100,\"N/A\")","v":{"$error":"#REF!"}},{"$f":"IF(AND(COUNTA(B115:X115)<>0,#REF!<>\"\"),AVERAGE(Y115:AE115),\"N/A\")","v":{"$error":"#REF!"}},1,1,1,1,1,{"$error":"#REF!"},{"$error":"#REF!"},{"$error":"#REF!"}]
[{"$nulls":24},{"$f":"IF(COUNTA(B116:G116)>0,(COUNTIF(B116:G116,\"=0\")*0+COUNTIF(B116:G116,\"=1\")*100+COUNTIF(B116:G116,\"=2\")*80+COUNTIF(B116:G116,\"=3\")*50+COUNTIF(B116:G116,\"=8\")*20+COUNTIF(B116:G116,\"=9\")*0)/COUNTA(B116:G116)/100,\"N/A\")","v":"N/A"},{"$f":"IF(COUNTA(K116:P116)>0,(COUNTIF(K116:P116,\"=0\")*0+COUNTIF(K116:P116,\"=1\")*100+COUNTIF(K116:P116,\"=2\")*80+COUNTIF(K116:P116,\"=3\")*50+COUNTIF(K116:P116,\"=8\")*20+COUNTIF(K116:P116,\"=9\")*0)/COUNTA(K116:P116)/100,\"N/A\")","v":"N/A"},{"$f":"IF(COUNTA(Q116)>0,(COUNTIF(Q116,\"=0\")*0+COUNTIF(Q116,\"=1\")*100+COUNTIF(Q116,\"=2\")*80+COUNTIF(Q116,\"=3\")*50+COUNTIF(Q116,\"=8\")*20+COUNTIF(Q116,\"=9\")*0)/COUNTA(Q116)/100,\"N/A\")","v":"N/A"},{"$f":"IF(COUNTA(S116:W116)<>0,(COUNTIF(S116:W116,\"=0\")*0+COUNTIF(S116:W116,\"=1\")*100+COUNTIF(S116:W116,\"=2\")*80+COUNTIF(S116:W116,\"=3\")*50+COUNTIF(S116:W116,\"=8\")*20+COUNTIF(S116:W116,\"=9\")*0)/COUNTA(S116:W116)/100,\"N/A\")","v":"N/A"},"N/A",{"$f":"IF(COUNTA(#REF!)>0,(COUNTIF(#REF!,\"=0\")*0+COUNTIF(#REF!,\"=1\")*100+COUNTIF(#REF!,\"=2\")*80+COUNTIF(#REF!,\"=3\")*50+COUNTIF(#REF!,\"=8\")*20+COUNTIF(#REF!,\"=9\")*0)/COUNTA(#REF!)/100,\"N/A\")","v":{"$error":"#REF!"}},{"$f":"IF(COUNTA(#REF!)>0,(COUNTIF(#REF!,\"=0\")*0+COUNTIF(#REF!,\"=1\")*100+COUNTIF(#REF!,\"=2\")*80+COUNTIF(#REF!,\"=3\")*50+COUNTIF(#REF!,\"=8\")*20+COUNTIF(#REF!,\"=9\")*0)/COUNTA(#REF!)/100,\"N/A\")","v":{"$error":"#REF!"}},{"$f":"IF(AND(COUNTA(B116:X116)<>0,#REF!<>\"\"),AVERAGE(Y116:AE116),\"N/A\")","v":{"$error":"#REF!"}},1,1,1,1,1,{"$error":"#REF!"},{"$error":"#REF!"},{"$error":"#REF!"}]
[{"$nulls":24},{"$f":"IF(COUNTA(B117:G117)>0,(COUNTIF(B117:G117,\"=0\")*0+COUNTIF(B117:G117,\"=1\")*100+COUNTIF(B117:G117,\"=2\")*80+COUNTIF(B117:G117,\"=3\")*50+COUNTIF(B117:G117,\"=8\")*20+COUNTIF(B117:G117,\"=9\")*0)/COUNTA(B117:G117)/100,\"N/A\")","v":"N/A"},{"$f":"IF(COUNTA(K117:P117)>0,(COUNTIF(K117:P117,\"=0\")*0+COUNTIF(K117:P117,\"=1\")*100+COUNTIF(K117:P117,\"=2\")*80+COUNTIF(K117:P117,\"=3\")*50+COUNTIF(K117:P117,\"=8\")*20+COUNTIF(K117:P117,\"=9\")*0)/COUNTA(K117:P117)/100,\"N/A\")","v":"N/A"},{"$f":"IF(COUNTA(Q117)>0,(COUNTIF(Q117,\"=0\")*0+COUNTIF(Q117,\"=1\")*100+COUNTIF(Q117,\"=2\")*80+COUNTIF(Q117,\"=3\")*50+COUNTIF(Q117,\"=8\")*20+COUNTIF(Q117,\"=9\")*0)/COUNTA(Q117)/100,\"N/A\")","v":"N/A"},{"$f":"IF(COUNTA(S117:W117)<>0,(COUNTIF(S117:W117,\"=0\")*0+COUNTIF(S117:W117,\"=1\")*100+COUNTIF(S117:W117,\"=2\")*80+COUNTIF(S117:W117,\"=3\")*50+COUNTIF(S117:W117,\"=8\")*20+COUNTIF(S117:W117,\"=9\")*0)/COUNTA(S117:W117)/100,\"N/A\")","v":"N/A"},"N/A",{"$f":"IF(COUNTA(#REF!)>0,(COUNTIF(#REF!,\"=0\")*0+COUNTIF(#REF!,\"=1\")*100+COUNTIF(#REF!,\"=2\")*80+COUNTIF(#REF!,\"=3\")*50+COUNTIF(#REF!,\"=8\")*20+COUNTIF(#REF!,\"=9\")*0)/COUNTA(#REF!)/100,\"N/A\")","v":{"$error":"#REF!"}},{"$f":"IF(COUNTA(#REF!)>0,(COUNTIF(#REF!,\"=0\")*0+COUNTIF(#REF!,\"=1\")*100+COUNTIF(#REF!,\"=2\")*80+COUNTIF(#REF!,\"=3\")*50+COUNTIF(#REF!,\"=8\")*20+COUNTIF(#REF!,\"=9\")*0)/COUNTA(#REF!)/100,\"N/A\")","v":{"$error":"#REF!"}},{"$f":"IF(AND(COUNTA(B117:X117)<>0,#REF!<>\"\"),AVERAGE(Y117:AE117),\"N/A\")","v":{"$error":"#REF!"}},1,1,1,1,1,{"$error":"#REF!"},{"$error":"#REF!"},{"$error":"#REF!"}]
[{"$nulls":24},{"$f":"IF(COUNTA(B118:G118)>0,(COUNTIF(B118:G118,\"=0\")*0+COUNTIF(B118:G118,\"=1\")*100+COUNTIF(B118:G118,\"=2\")*80+COUNTIF(B118:G118,\"=3\")*50+COUNTIF(B118:G118,\"=8\")*20+COUNTIF(B118:G118,\"=9\")*0)/COUNTA(B118:G118)/100,\"N/A\")","v":"N/A"},{"$f":"IF(COUNTA(K118:P118)>0,(COUNTIF(K118:P118,\"=0\")*0+COUNTIF(K118:P118,\"=1\")*100+COUNTIF(K118:P118,\"=2\")*80+COUNTIF(K118:P118,\"=3\")*50+COUNTIF(K118:P118,\"=8\")*20+COUNTIF(K118:P118,\"=9\")*0)/COUNTA(K118:P118)/100,\"N/A\")","v":"N/A"},{"$f":"IF(COUNTA(Q118)>0,(COUNTIF(Q118,\"=0\")*0+COUNTIF(Q118,\"=1\")*100+COUNTIF(Q118,\"=2\")*80+COUNTIF(Q118,\"=3\")*50+COUNTIF(Q118,\"=8\")*20+COUNTIF(Q118,\"=9\")*0)/COUNTA(Q118)/100,\"N/A\")","v":"N/A"},{"$f":"IF(COUNTA(S118:W118)<>0,(COUNTIF(S118:W118,\"=0\")*0+COUNTIF(S118:W118,\"=1\")*100+COUNTIF(S118:W118,\"=2\")*80+COUNTIF(S118:W118,\"=3\")*50+COUNTIF(S118:W118,\"=8\")*20+COUNTIF(S118:W118,\"=9\")*0)/COUNTA(S118:W118)/100,\"N/A\")","v":"N/A"},"N/A",{"$f":"IF(COUNTA(#REF!)>0,(COUNTIF(#REF!,\"=0\")*0+COUNTIF(#REF!,\"=1\")*100+COUNTIF(#REF!,\"=2\")*80+COUNTIF(#REF!,\"=3\")*50+COUNTIF(#REF!,\"=8\")*20+COUNTIF(#REF!,\"=9\")*0)/COUNTA(#REF!)/100,\"N/A\")","v":{"$error":"#REF!"}},{"$f":"IF(COUNTA(#REF!)>0,(COUNTIF(#REF!,\"=0\")*0+COUNTIF(#REF!,\"=1\")*100+COUNTIF(#REF!,\"=2\")*80+COUNTIF(#REF!,\"=3\")*50+COUNTIF(#REF!,\"=8\")*20+COUNTIF(#REF!,\"=9\")*0)/COUNTA(#REF!)/100,\"N/A\")","v":{"$error":"#REF!"}},{"$f":"IF(AND(COUNTA(B118:X118)<>0,#REF!<>\"\"),AVERAGE(Y118:AE118),\"N/A\")","v":{"$error":"#REF!"}},1,1,1,1,1,{"$error":"#REF!"},{"$error":"#REF!"},{"$error":"#REF!"}]
[{"$nulls":24},{"$f":"IF(COUNTA(B119:G119)>0,(COUNTIF(B119:G119,\"=0\")*0+COUNTIF(B119:G119,\"=1\")*100+COUNTIF(B119:G119,\"=2\")*80+COUNTIF(B119:G119,\"=3\")*50+COUNTIF(B119:G119,\"=8\")*20+COUNTIF(B119:G119,\"=9\")*0)/COUNTA(B119:G119)/100,\"N/A\")","v":"N/A"},{"$f":"IF(COUNTA(K119:P119)>0,(COUNTIF(K119:P119,\"=0\")*0+COUNTIF(K119:P119,\"=1\")*100+COUNTIF(K119:P119,\"=2\")*80+COUNTIF(K119:P119,\"=3\")*50+COUNTIF(K119:P119,\"=8\")*20+COUNTIF(K119:P119,\"=9\")*0)/COUNTA(K119:P119)/100,\"N/A\")","v":"N/A"},{"$f":"IF(COUNTA(Q119)>0,(COUNTIF(Q119,\"=0\")*0+COUNTIF(Q119,\"=1\")*100+COUNTIF(Q119,\"=2\")*80+COUNTIF(Q119,\"=3\")*50+COUNTIF(Q119,\"=8\")*20+COUNTIF(Q119,\"=9\")*0)/COUNTA(Q119)/100,\"N/A\")","v":"N/A"},{"$f":"IF(COUNTA(S119:W119)<>0,(COUNTIF(S119:W119,\"=0\")*0+COUNTIF(S119:W119,\"=1\")*100+COUNTIF(S119:W119,\"=2\")*80+COUNTIF(S119:W119,\"=3\")*50+COUNTIF(S119:W119,\"=8\")*20+COUNTIF(S119:W119,\"=9\")*0)/COUNTA(S119:W119)/100,\"N/A\")","v":"N/A"},"N/A",{"$f":"IF(COUNTA(#REF!)>0,(COUNTIF(#REF!,\"=0\")*0+COUNTIF(#REF!,\"=1\")*100+COUNTIF(#REF!,\"=2\")*80+COUNTIF(#REF!,\"=3\")*50+COUNTIF(#REF!,\"=8\")*20+COUNTIF(#REF!,\"=9\")*0)/COUNTA(#REF!)/100,\"N/A\")","v":{"$error":"#REF!"}},{"$f":"IF(COUNTA(#REF!)>0,(COUNTIF(#REF!,\"=0\")*0+COUNTIF(#REF!,\"=1\")*100+COUNTIF(#REF!,\"=2\")*80+COUNTIF(#REF!,\"=3\")*50+COUNTIF(#REF!,\"=8\")*20+COUNTIF(#REF!,\"=9\")*0)/COUNTA(#REF!)/100,\"N/A\")","v":{"$error":"#REF!"}},{"$f":"IF(AND(COUNTA(B119:X119)<>0,#REF!<>\"\"),AVERAGE(Y119:AE119),\"N/A\")","v":{"$error":"#REF!"}},1,1,1,1,1,{"$error":"#REF!"},{"$error":"#REF!"},{"$error":"#REF!"}]
[{"$nulls":24},{"$f":"IF(COUNTA(B120:G120)>0,(COUNTIF(B120:G120,\"=0\")*0+COUNTIF(B120:G120,\"=1\")*100+COUNTIF(B120:G120,\"=2\")*80+COUNTIF(B120:G120,\"=3\")*50+COUNTIF(B120:G120,\"=8\")*20+COUNTIF(B120:G120,\"=9\")*0)/COUNTA(B120:G120)/100,\"N/A\")","v":"N/A"},{"$f":"IF(COUNTA(K120:P120)>0,(COUNTIF(K120:P120,\"=0\")*0+COUNTIF(K120:P120,\"=1\")*100+COUNTIF(K120:P120,\"=2\")*80+COUNTIF(K120:P120,\"=3\")*50+COUNTIF(K120:P120,\"=8\")*20+COUNTIF(K120:P120,\"=9\")*0)/COUNTA(K120:P120)/100,\"N/A\")","v":"N/A"},{"$f":"IF(COUNTA(Q120)>0,(COUNTIF(Q120,\"=0\")*0+COUNTIF(Q120,\"=1\")*100+COUNTIF(Q120,\"=2\")*80+COUNTIF(Q120,\"=3\")*50+COUNTIF(Q120,\"=8\")*20+COUNTIF(Q120,\"=9\")*0)/COUNTA(Q120)/100,\"N/A\")","v":"N/A"},{"$f":"IF(COUNTA(S120:W120)<>0,(COUNTIF(S120:W120,\"=0\")*0+COUNTIF(S120:W120,\"=1\")*100+COUNTIF(S120:W120,\"=2\")*80+COUNTIF(S120:W120,\"=3\")*50+COUNTIF(S120:W120,\"=8\")*20+COUNTIF(S120:W120,\"=9\")*0)/COUNTA(S120:W120)/100,\"N/A\")","v":"N/A"},"N/A",{"$f":"IF(COUNTA(#REF!)>0,(COUNTIF(#REF!,\"=0\")*0+COUNTIF(#REF!,\"=1\")*100+COUNTIF(#REF!,\"=2\")*80+COUNTIF(#REF!,\"=3\")*50+COUNTIF(#REF!,\"=8\")*20+COUNTIF(#REF!,\"=9\")*0)/COUNTA(#REF!)/100,\"N/A\")","v":{"$error":"#REF!"}},{"$f":"IF(COUNTA(#REF!)>0,(COUNTIF(#REF!,\"=0\")*0+COUNTIF(#REF!,\"=1\")*100+COUNTIF(#REF!,\"=2\")*80+COUNTIF(#REF!,\"=3\")*50+COUNTIF(#REF!,\"=8\")*20+COUNTIF(#REF!,\"=9\")*0)/COUNTA(#REF!)/100,\"N/A\")","v":{"$error":"#REF!"}},{"$f":"IF(AND(COUNTA(B120:X120)<>0,#REF!<>\"\"),AVERAGE(Y120:AE120),\"N/A\")","v":{"$error":"#REF!"}},1,1,1,1,1,{"$error":"#REF!"},{"$error":"#REF!"},{"$error":"#REF!"}]
[{"$nulls":24},{"$f":"IF(COUNTA(B121:G121)>0,(COUNTIF(B121:G121,\"=0\")*0+COUNTIF(B121:G121,\"=1\")*100+COUNTIF(B121:G121,\"=2\")*80+COUNTIF(B121:G121,\"=3\")*50+COUNTIF(B121:G121,\"=8\")*20+COUNTIF(B121:G121,\"=9\")*0)/COUNTA(B121:G121)/100,\"N/A\")","v":"N/A"},{"$f":"IF(COUNTA(K121:P121)>0,(COUNTIF(K121:P121,\"=0\")*0+COUNTIF(K121:P121,\"=1\")*100+COUNTIF(K121:P121,\"=2\")*80+COUNTIF(K121:P121,\"=3\")*50+COUNTIF(K121:P121,\"=8\")*20+COUNTIF(K121:P121,\"=9\")*0)/COUNTA(K121:P121)/100,\"N/A\")","v":"N/A"},{"$f":"IF(COUNTA(Q121)>0,(COUNTIF(Q121,\"=0\")*0+COUNTIF(Q121,\"=1\")*100+COUNTIF(Q121,\"=2\")*80+COUNTIF(Q121,\"=3\")*50+COUNTIF(Q121,\"=8\")*20+COUNTIF(Q121,\"=9\")*0)/COUNTA(Q121)/100,\"N/A\")","v":"N/A"},{"$f":"IF(COUNTA(S121:W121)<>0,(COUNTIF(S121:W121,\"=0\")*0+COUNTIF(S121:W121,\"=1\")*100+COUNTIF(S121:W121,\"=2\")*80+COUNTIF(S121:W121,\"=3\")*50+COUNTIF(S121:W121,\"=8\")*20+COUNTIF(S121:W121,\"=9\")*0)/COUNTA(S121:W121)/100,\"N/A\")","v":"N/A"},"N/A",{"$f":"IF(COUNTA(#REF!)>0,(COUNTIF(#REF!,\"=0\")*0+COUNTIF(#REF!,\"=1\")*100+COUNTIF(#REF!,\"=2\")*80+COUNTIF(#REF!,\"=3\")*50+COUNTIF(#REF!,\"=8\")*20+COUNTIF(#REF!,\"=9\")*0)/COUNTA(#REF!)/100,\"N/A\")","v":{"$error":"#REF!"}},{"$f":"IF(COUNTA(#REF!)>0,(COUNTIF(#REF!,\"=0\")*0+COUNTIF(#REF!,\"=1\")*100+COUNTIF(#REF!,\"=2\")*80+COUNTIF(#REF!,\"=3\")*50+COUNTIF(#REF!,\"=8\")*20+COUNTIF(#REF!,\"=9\")*0)/COUNTA(#REF!)/100,\"N/A\")","v":{"$error":"#REF!"}},{"$f":"IF(AND(COUNTA(B121:X121)<>0,#REF!<>\"\"),AVERAGE(Y121:AE121),\"N/A\")","v":{"$error":"#REF!"}},1,1,1,1,1,{"$error":"#REF!"},{"$error":"#REF!"},{"$error":"#REF!"}]
[{"$nulls":24},{"$f":"IF(COUNTA(B122:G122)>0,(COUNTIF(B122:G122,\"=0\")*0+COUNTIF(B122:G122,\"=1\")*100+COUNTIF(B122:G122,\"=2\")*80+COUNTIF(B122:G122,\"=3\")*50+COUNTIF(B122:G122,\"=8\")*20+COUNTIF(B122:G122,\"=9\")*0)/COUNTA(B122:G122)/100,\"N/A\")","v":"N/A"},{"$f":"IF(COUNTA(K122:P122)>0,(COUNTIF(K122:P122,\"=0\")*0+COUNTIF(K122:P122,\"=1\")*100+COUNTIF(K122:P122,\"=2\")*80+COUNTIF(K122:P122,\"=3\")*50+COUNTIF(K122:P122,\"=8\")*20+COUNTIF(K122:P122,\"=9\")*0)/COUNTA(K122:P122)/100,\"N/A\")","v":"N/A"},{"$f":"IF(COUNTA(Q122)>0,(COUNTIF(Q122,\"=0\")*0+COUNTIF(Q122,\"=1\")*100+COUNTIF(Q122,\"=2\")*80+COUNTIF(Q122,\"=3\")*50+COUNTIF(Q122,\"=8\")*20+COUNTIF(Q122,\"=9\")*0)/COUNTA(Q122)/100,\"N/A\")","v":"N/A"},{"$f":"IF(COUNTA(S122:W122)<>0,(COUNTIF(S122:W122,\"=0\")*0+COUNTIF(S122:W122,\"=1\")*100+COUNTIF(S122:W122,\"=2\")*80+COUNTIF(S122:W122,\"=3\")*50+COUNTIF(S122:W122,\"=8\")*20+COUNTIF(S122:W122,\"=9\")*0)/COUNTA(S122:W122)/100,\"N/A\")","v":"N/A"},"N/A",{"$f":"IF(COUNTA(#REF!)>0,(COUNTIF(#REF!,\"=0\")*0+COUNTIF(#REF!,\"=1\")*100+COUNTIF(#REF!,\"=2\")*80+COUNTIF(#REF!,\"=3\")*50+COUNTIF(#REF!,\"=8\")*20+COUNTIF(#REF!,\"=9\")*0)/COUNTA(#REF!)/100,\"N/A\")","v":{"$error":"#REF!"}},{"$f":"IF(COUNTA(#REF!)>0,(COUNTIF(#REF!,\"=0\")*0+COUNTIF(#REF!,\"=1\")*100+COUNTIF(#REF!,\"=2\")*80+COUNTIF(#REF!,\"=3\")*50+COUNTIF(#REF!,\"=8\")*20+COUNTIF(#REF!,\"=9\")*0)/COUNTA(#REF!)/100,\"N/A\")","v":{"$error":"#REF!"}},{"$f":"IF(AND(COUNTA(B122:X122)<>0,#REF!<>\"\"),AVERAGE(Y122:AE122),\"N/A\")","v":{"$error":"#REF!"}},1,1,1,1,1,{"$error":"#REF!"},{"$error":"#REF!"},{"$error":"#REF!"}]
[{"$nulls":24},{"$f":"IF(COUNTA(B123:G123)>0,(COUNTIF(B123:G123,\"=0\")*0+COUNTIF(B123:G123,\"=1\")*100+COUNTIF(B123:G123,\"=2\")*80+COUNTIF(B123:G123,\"=3\")*50+COUNTIF(B123:G123,\"=8\")*20+COUNTIF(B123:G123,\"=9\")*0)/COUNTA(B123:G123)/100,\"N/A\")","v":"N/A"},{"$f":"IF(COUNTA(K123:P123)>0,(COUNTIF(K123:P123,\"=0\")*0+COUNTIF(K123:P123,\"=1\")*100+COUNTIF(K123:P123,\"=2\")*80+COUNTIF(K123:P123,\"=3\")*50+COUNTIF(K123:P123,\"=8\")*20+COUNTIF(K123:P123,\"=9\")*0)/COUNTA(K123:P123)/100,\"N/A\")","v":"N/A"},{"$f":"IF(COUNTA(Q123)>0,(COUNTIF(Q123,\"=0\")*0+COUNTIF(Q123,\"=1\")*100+COUNTIF(Q123,\"=2\")*80+COUNTIF(Q123,\"=3\")*50+COUNTIF(Q123,\"=8\")*20+COUNTIF(Q123,\"=9\")*0)/COUNTA(Q123)/100,\"N/A\")","v":"N/A"},{"$f":"IF(COUNTA(S123:W123)<>0,(COUNTIF(S123:W123,\"=0\")*0+COUNTIF(S123:W123,\"=1\")*100+COUNTIF(S123:W123,\"=2\")*80+COUNTIF(S123:W123,\"=3\")*50+COUNTIF(S123:W123,\"=8\")*20+COUNTIF(S123:W123,\"=9\")*0)/COUNTA(S123:W123)/100,\"N/A\")","v":"N/A"},"N/A",{"$f":"IF(COUNTA(#REF!)>0,(COUNTIF(#REF!,\"=0\")*0+COUNTIF(#REF!,\"=1\")*100+COUNTIF(#REF!,\"=2\")*80+COUNTIF(#REF!,\"=3\")*50+COUNTIF(#REF!,\"=8\")*20+COUNTIF(#REF!,\"=9\")*0)/COUNTA(#REF!)/100,\"N/A\")","v":{"$error":"#REF!"}},{"$f":"IF(COUNTA(#REF!)>0,(COUNTIF(#REF!,\"=0\")*0+COUNTIF(#REF!,\"=1\")*100+COUNTIF(#REF!,\"=2\")*80+COUNTIF(#REF!,\"=3\")*50+COUNTIF(#REF!,\"=8\")*20+COUNTIF(#REF!,\"=9\")*0)/COUNTA(#REF!)/100,\"N/A\")","v":{"$error":"#REF!"}},{"$f":"IF(AND(COUNTA(B123:X123)<>0,#REF!<>\"\"),AVERAGE(Y123:AE123),\"N/A\")","v":{"$error":"#REF!"}},1,1,1,1,1,{"$error":"#REF!"},{"$error":"#REF!"},{"$error":"#REF!"}]
[{"$nulls":24},{"$f":"IF(COUNTA(B124:G124)>0,(COUNTIF(B124:G124,\"=0\")*0+COUNTIF(B124:G124,\"=1\")*100+COUNTIF(B124:G124,\"=2\")*80+COUNTIF(B124:G124,\"=3\")*50+COUNTIF(B124:G124,\"=8\")*20+COUNTIF(B124:G124,\"=9\")*0)/COUNTA(B124:G124)/100,\"N/A\")","v":"N/A"},{"$f":"IF(COUNTA(K124:P124)>0,(COUNTIF(K124:P124,\"=0\")*0+COUNTIF(K124:P124,\"=1\")*100+COUNTIF(K124:P124,\"=2\")*80+COUNTIF(K124:P124,\"=3\")*50+COUNTIF(K124:P124,\"=8\")*20+COUNTIF(K124:P124,\"=9\")*0)/COUNTA(K124:P124)/100,\"N/A\")","v":"N/A"},{"$f":"IF(COUNTA(Q124)>0,(COUNTIF(Q124,\"=0\")*0+COUNTIF(Q124,\"=1\")*100+COUNTIF(Q124,\"=2\")*80+COUNTIF(Q124,\"=3\")*50+COUNTIF(Q124,\"=8\")*20+COUNTIF(Q124,\"=9\")*0)/COUNTA(Q124)/100,\"N/A\")","v":"N/A"},{"$f":"IF(COUNTA(S124:W124)<>0,(COUNTIF(S124:W124,\"=0\")*0+COUNTIF(S124:W124,\"=1\")*100+COUNTIF(S124:W124,\"=2\")*80+COUNTIF(S124:W124,\"=3\")*50+COUNTIF(S124:W124,\"=8\")*20+COUNTIF(S124:W124,\"=9\")*0)/COUNTA(S124:W124)/100,\"N/A\")","v":"N/A"},"N/A",{"$f":"IF(COUNTA(#REF!)>0,(COUNTIF(#REF!,\"=0\")*0+COUNTIF(#REF!,\"=1\")*100+COUNTIF(#REF!,\"=2\")*80+COUNTIF(#REF!,\"=3\")*50+COUNTIF(#REF!,\"=8\")*20+COUNTIF(#REF!,\"=9\")*0)/COUNTA(#REF!)/100,\"N/A\")","v":{"$error":"#REF!"}},{"$f":"IF(COUNTA(#REF!)>0,(COUNTIF(#REF!,\"=0\")*0+COUNTIF(#REF!,\"=1\")*100+COUNTIF(#REF!,\"=2\")*80+COUNTIF(#REF!,\"=3\")*50+COUNTIF(#REF!,\"=8\")*20+COUNTIF(#REF!,\"=9\")*0)/COUNTA(#REF!)/100,\"N/A\")","v":{"$error":"#REF!"}},{"$f":"IF(AND(COUNTA(B124:X124)<>0,#REF!<>\"\"),AVERAGE(Y124:AE124),\"N/A\")","v":{"$error":"#REF!"}},1,1,1,1,1,{"$error":"#REF!"},{"$error":"#REF!"},{"$error":"#REF!"}]
[{"$nulls":24},{"$f":"IF(COUNTA(B125:G125)>0,(COUNTIF(B125:G125,\"=0\")*0+COUNTIF(B125:G125,\"=1\")*100+COUNTIF(B125:G125,\"=2\")*80+COUNTIF(B125:G125,\"=3\")*50+COUNTIF(B125:G125,\"=8\")*20+COUNTIF(B125:G125,\"=9\")*0)/COUNTA(B125:G125)/100,\"N/A\")","v":"N/A"},{"$f":"IF(COUNTA(K125:P125)>0,(COUNTIF(K125:P125,\"=0\")*0+COUNTIF(K125:P125,\"=1\")*100+COUNTIF(K125:P125,\"=2\")*80+COUNTIF(K125:P125,\"=3\")*50+COUNTIF(K125:P125,\"=8\")*20+COUNTIF(K125:P125,\"=9\")*0)/COUNTA(K125:P125)/100,\"N/A\")","v":"N/A"},{"$f":"IF(COUNTA(Q125)>0,(COUNTIF(Q125,\"=0\")*0+COUNTIF(Q125,\"=1\")*100+COUNTIF(Q125,\"=2\")*80+COUNTIF(Q125,\"=3\")*50+COUNTIF(Q125,\"=8\")*20+COUNTIF(Q125,\"=9\")*0)/COUNTA(Q125)/100,\"N/A\")","v":"N/A"},{"$f":"IF(COUNTA(S125:W125)<>0,(COUNTIF(S125:W125,\"=0\")*0+COUNTIF(S125:W125,\"=1\")*100+COUNTIF(S125:W125,\"=2\")*80+COUNTIF(S125:W125,\"=3\")*50+COUNTIF(S125:W125,\"=8\")*20+COUNTIF(S125:W125,\"=9\")*0)/COUNTA(S125:W125)/100,\"N/A\")","v":"N/A"},"N/A",{"$f":"IF(COUNTA(#REF!)>0,(COUNTIF(#REF!,\"=0\")*0+COUNTIF(#REF!,\"=1\")*100+COUNTIF(#REF!,\"=2\")*80+COUNTIF(#REF!,\"=3\")*50+COUNTIF(#REF!,\"=8\")*20+COUNTIF(#REF!,\"=9\")*0)/COUNTA(#REF!)/100,\"N/A\")","v":{"$error":"#REF!"}},{"$f":"IF(COUNTA(#REF!)>0,(COUNTIF(#REF!,\"=0\")*0+COUNTIF(#REF!,\"=1\")*100+COUNTIF(#REF!,\"=2\")*80+COUNTIF(#REF!,\"=3\")*50+COUNTIF(#REF!,\"=8\")*20+COUNTIF(#REF!,\"=9\")*0)/COUNTA(#REF!)/100,\"N/A\")","v":{"$error":"#REF!"}},{"$f":"IF(AND(COUNTA(B125:X125)<>0,#REF!<>\"\"),AVERAGE(Y125:AE125),\"N/A\")","v":{"$error":"#REF!"}},1,1,1,1,1,{"$error":"#REF!"},{"$error":"#REF!"},{"$error":"#REF!"}]
[{"$nulls":24},{"$f":"IF(COUNTA(B126:G126)>0,(COUNTIF(B126:G126,\"=0\")*0+COUNTIF(B126:G126,\"=1\")*100+COUNTIF(B126:G126,\"=2\")*80+COUNTIF(B126:G126,\"=3\")*50+COUNTIF(B126:G126,\"=8\")*20+COUNTIF(B126:G126,\"=9\")*0)/COUNTA(B126:G126)/100,\"N/A\")","v":"N/A"},{"$f":"IF(COUNTA(K126:P126)>0,(COUNTIF(K126:P126,\"=0\")*0+COUNTIF(K126:P126,\"=1\")*100+COUNTIF(K126:P126,\"=2\")*80+COUNTIF(K126:P126,\"=3\")*50+COUNTIF(K126:P126,\"=8\")*20+COUNTIF(K126:P126,\"=9\")*0)/COUNTA(K126:P126)/100,\"N/A\")","v":"N/A"},{"$f":"IF(COUNTA(Q126)>0,(COUNTIF(Q126,\"=0\")*0+COUNTIF(Q126,\"=1\")*100+COUNTIF(Q126,\"=2\")*80+COUNTIF(Q126,\"=3\")*50+COUNTIF(Q126,\"=8\")*20+COUNTIF(Q126,\"=9\")*0)/COUNTA(Q126)/100,\"N/A\")","v":"N/A"},{"$f":"IF(COUNTA(S126:W126)<>0,(COUNTIF(S126:W126,\"=0\")*0+COUNTIF(S126:W126,\"=1\")*100+COUNTIF(S126:W126,\"=2\")*80+COUNTIF(S126:W126,\"=3\")*50+COUNTIF(S126:W126,\"=8\")*20+COUNTIF(S126:W126,\"=9\")*0)/COUNTA(S126:W126)/100,\"N/A\")","v":"N/A"},"N/A",{"$f":"IF(COUNTA(#REF!)>0,(COUNTIF(#REF!,\"=0\")*0+COUNTIF(#REF!,\"=1\")*100+COUNTIF(#REF!,\"=2\")*80+COUNTIF(#REF!,\"=3\")*50+COUNTIF(#REF!,\"=8\")*20+COUNTIF(#REF!,\"=9\")*0)/COUNTA(#REF!)/100,\"N/A\")","v":{"$error":"#REF!"}},{"$f":"IF(COUNTA(#REF!)>0,(COUNTIF(#REF!,\"=0\")*0+COUNTIF(#REF!,\"=1\")*100+COUNTIF(#REF!,\"=2\")*80+COUNTIF(#REF!,\"=3\")*50+COUNTIF(#REF!,\"=8\")*20+COUNTIF(#REF!,\"=9\")*0)/COUNTA(#REF!)/100,\"N/A\")","v":{"$error":"#REF!"}},{"$f":"IF(AND(COUNTA(B126:X126)<>0,#REF!<>\"\"),AVERAGE(Y126:AE126),\"N/A\")","v":{"$error":"#REF!"}},1,1,1,1,1,{"$error":"#REF!"},{"$error":"#REF!"},{"$error":"#REF!"}]
[{"$nulls":24},{"$f":"IF(COUNTA(B127:G127)>0,(COUNTIF(B127:G127,\"=0\")*0+COUNTIF(B127:G127,\"=1\")*100+COUNTIF(B127:G127,\"=2\")*80+COUNTIF(B127:G127,\"=3\")*50+COUNTIF(B127:G127,\"=8\")*20+COUNTIF(B127:G127,\"=9\")*0)/COUNTA(B127:G127)/100,\"N/A\")","v":"N/A"},{"$f":"IF(COUNTA(K127:P127)>0,(COUNTIF(K127:P127,\"=0\")*0+COUNTIF(K127:P127,\"=1\")*100+COUNTIF(K127:P127,\"=2\")*80+COUNTIF(K127:P127,\"=3\")*50+COUNTIF(K127:P127,\"=8\")*20+COUNTIF(K127:P127,\"=9\")*0)/COUNTA(K127:P127)/100,\"N/A\")","v":"N/A"},{"$f":"IF(COUNTA(Q127)>0,(COUNTIF(Q127,\"=0\")*0+COUNTIF(Q127,\"=1\")*100+COUNTIF(Q127,\"=2\")*80+COUNTIF(Q127,\"=3\")*50+COUNTIF(Q127,\"=8\")*20+COUNTIF(Q127,\"=9\")*0)/COUNTA(Q127)/100,\"N/A\")","v":"N/A"},{"$f":"IF(COUNTA(S127:W127)<>0,(COUNTIF(S127:W127,\"=0\")*0+COUNTIF(S127:W127,\"=1\")*100+COUNTIF(S127:W127,\"=2\")*80+COUNTIF(S127:W127,\"=3\")*50+COUNTIF(S127:W127,\"=8\")*20+COUNTIF(S127:W127,\"=9\")*0)/COUNTA(S127:W127)/100,\"N/A\")","v":"N/A"},"N/A",{"$f":"IF(COUNTA(#REF!)>0,(COUNTIF(#REF!,\"=0\")*0+COUNTIF(#REF!,\"=1\")*100+COUNTIF(#REF!,\"=2\")*80+COUNTIF(#REF!,\"=3\")*50+COUNTIF(#REF!,\"=8\")*20+COUNTIF(#REF!,\"=9\")*0)/COUNTA(#REF!)/100,\"N/A\")","v":{"$error":"#REF!"}},{"$f":"IF(COUNTA(#REF!)>0,(COUNTIF(#REF!,\"=0\")*0+COUNTIF(#REF!,\"=1\")*100+COUNTIF(#REF!,\"=2\")*80+COUNTIF(#REF!,\"=3\")*50+COUNTIF(#REF!,\"=8\")*20+COUNTIF(#REF!,\"=9\")*0)/COUNTA(#REF!)/100,\"N/A\")","v":{"$error":"#REF!"}},{"$f":"IF(AND(COUNTA(B127:X127)<>0,#REF!<>\"\"),AVERAGE(Y127:AE127),\"N/A\")","v":{"$error":"#REF!"}},1,1,1,1,1,{"$error":"#REF!"},{"$error":"#REF!"},{"$error":"#REF!"}]
[{"$nulls":24},{"$f":"IF(COUNTA(B128:G128)>0,(COUNTIF(B128:G128,\"=0\")*0+COUNTIF(B128:G128,\"=1\")*100+COUNTIF(B128:G128,\"=2\")*80+COUNTIF(B128:G128,\"=3\")*50+COUNTIF(B128:G128,\"=8\")*20+COUNTIF(B128:G128,\"=9\")*0)/COUNTA(B128:G128)/100,\"N/A\")","v":"N/A"},{"$f":"IF(COUNTA(K128:P128)>0,(COUNTIF(K128:P128,\"=0\")*0+COUNTIF(K128:P128,\"=1\")*100+COUNTIF(K128:P128,\"=2\")*80+COUNTIF(K128:P128,\"=3\")*50+COUNTIF(K128:P128,\"=8\")*20+COUNTIF(K128:P128,\"=9\")*0)/COUNTA(K128:P128)/100,\"N/A\")","v":"N/A"},{"$f":"IF(COUNTA(Q128)>0,(COUNTIF(Q128,\"=0\")*0+COUNTIF(Q128,\"=1\")*100+COUNTIF(Q128,\"=2\")*80+COUNTIF(Q128,\"=3\")*50+COUNTIF(Q128,\"=8\")*20+COUNTIF(Q128,\"=9\")*0)/COUNTA(Q128)/100,\"N/A\")","v":"N/A"},{"$f":"IF(COUNTA(S128:W128)<>0,(COUNTIF(S128:W128,\"=0\")*0+COUNTIF(S128:W128,\"=1\")*100+COUNTIF(S128:W128,\"=2\")*80+COUNTIF(S128:W128,\"=3\")*50+COUNTIF(S128:W128,\"=8\")*20+COUNTIF(S128:W128,\"=9\")*0)/COUNTA(S128:W128)/100,\"N/A\")","v":"N/A"},"N/A",{"$f":"IF(COUNTA(#REF!)>0,(COUNTIF(#REF!,\"=0\")*0+COUNTIF(#REF!,\"=1\")*100+COUNTIF(#REF!,\"=2\")*80+COUNTIF(#REF!,\"=3\")*50+COUNTIF(#REF!,\"=8\")*20+COUNTIF(#REF!,\"=9\")*0)/COUNTA(#REF!)/100,\"N/A\")","v":{"$error":"#REF!"}},{"$f":"IF(COUNTA(#REF!)>0,(COUNTIF(#REF!,\"=0\")*0+COUNTIF(#REF!,\"=1\")*100+COUNTIF(#REF!,\"=2\")*80+COUNTIF(#REF!,\"=3\")*50+COUNTIF(#REF!,\"=8\")*20+COUNTIF(#REF!,\"=9\")*0)/COUNTA(#REF!)/100,\"N/A\")","v":{"$error":"#REF!"}},{"$f":"IF(AND(COUNTA(B128:X128)<>0,#REF!<>\"\"),AVERAGE(Y128:AE128),\"N/A\")","v":{"$error":"#REF!"}},1,1,1,1,1,{"$error":"#REF!"},{"$error":"#REF!"},{"$error":"#REF!"}]
[{"$nulls":24},{"$f":"IF(COUNTA(B129:G129)>0,(COUNTIF(B129:G129,\"=0\")*0+COUNTIF(B129:G129,\"=1\")*100+COUNTIF(B129:G129,\"=2\")*80+COUNTIF(B129:G129,\"=3\")*50+COUNTIF(B129:G129,\"=8\")*20+COUNTIF(B129:G129,\"=9\")*0)/COUNTA(B129:G129)/100,\"N/A\")","v":"N/A"},{"$f":"IF(COUNTA(K129:P129)>0,(COUNTIF(K129:P129,\"=0\")*0+COUNTIF(K129:P129,\"=1\")*100+COUNTIF(K129:P129,\"=2\")*80+COUNTIF(K129:P129,\"=3\")*50+COUNTIF(K129:P129,\"=8\")*20+COUNTIF(K129:P129,\"=9\")*0)/COUNTA(K129:P129)/100,\"N/A\")","v":"N/A"},{"$f":"IF(COUNTA(Q129)>0,(COUNTIF(Q129,\"=0\")*0+COUNTIF(Q129,\"=1\")*100+COUNTIF(Q129,\"=2\")*80+COUNTIF(Q129,\"=3\")*50+COUNTIF(Q129,\"=8\")*20+COUNTIF(Q129,\"=9\")*0)/COUNTA(Q129)/100,\"N/A\")","v":"N/A"},{"$f":"IF(COUNTA(S129:W129)<>0,(COUNTIF(S129:W129,\"=0\")*0+COUNTIF(S129:W129,\"=1\")*100+COUNTIF(S129:W129,\"=2\")*80+COUNTIF(S129:W129,\"=3\")*50+COUNTIF(S129:W129,\"=8\")*20+COUNTIF(S129:W129,\"=9\")*0)/COUNTA(S129:W129)/100,\"N/A\")","v":"N/A"},"N/A",{"$f":"IF(COUNTA(#REF!)>0,(COUNTIF(#REF!,\"=0\")*0+COUNTIF(#REF!,\"=1\")*100+COUNTIF(#REF!,\"=2\")*80+COUNTIF(#REF!,\"=3\")*50+COUNTIF(#REF!,\"=8\")*20+COUNTIF(#REF!,\"=9\")*0)/COUNTA(#REF!)/100,\"N/A\")","v":{"$error":"#REF!"}},{"$f":"IF(COUNTA(#REF!)>0,(COUNTIF(#REF!,\"=0\")*0+COUNTIF(#REF!,\"=1\")*100+COUNTIF(#REF!,\"=2\")*80+COUNTIF(#REF!,\"=3\")*50+COUNTIF(#REF!,\"=8\")*20+COUNTIF(#REF!,\"=9\")*0)/COUNTA(#REF!)/100,\"N/A\")","v":{"$error":"#REF!"}},{"$f":"IF(AND(COUNTA(B129:X129)<>0,#REF!<>\"\"),AVERAGE(Y129:AE129),\"N/A\")","v":{"$error":"#REF!"}},1,1,1,1,1,{"$error":"#REF!"},{"$error":"#REF!"},{"$error":"#REF!"}]
[{"$nulls":24},{"$f":"IF(COUNTA(B130:G130)>0,(COUNTIF(B130:G130,\"=0\")*0+COUNTIF(B130:G130,\"=1\")*100+COUNTIF(B130:G130,\"=2\")*80+COUNTIF(B130:G130,\"=3\")*50+COUNTIF(B130:G130,\"=8\")*20+COUNTIF(B130:G130,\"=9\")*0)/COUNTA(B130:G130)/100,\"N/A\")","v":"N/A"},{"$f":"IF(COUNTA(K130:P130)>0,(COUNTIF(K130:P130,\"=0\")*0+COUNTIF(K130:P130,\"=1\")*100+COUNTIF(K130:P130,\"=2\")*80+COUNTIF(K130:P130,\"=3\")*50+COUNTIF(K130:P130,\"=8\")*20+COUNTIF(K130:P130,\"=9\")*0)/COUNTA(K130:P130)/100,\"N/A\")","v":"N/A"},{"$f":"IF(COUNTA(Q130)>0,(COUNTIF(Q130,\"=0\")*0+COUNTIF(Q130,\"=1\")*100+COUNTIF(Q130,\"=2\")*80+COUNTIF(Q130,\"=3\")*50+COUNTIF(Q130,\"=8\")*20+COUNTIF(Q130,\"=9\")*0)/COUNTA(Q130)/100,\"N/A\")","v":"N/A"},{"$f":"IF(COUNTA(S130:W130)<>0,(COUNTIF(S130:W130,\"=0\")*0+COUNTIF(S130:W130,\"=1\")*100+COUNTIF(S130:W130,\"=2\")*80+COUNTIF(S130:W130,\"=3\")*50+COUNTIF(S130:W130,\"=8\")*20+COUNTIF(S130:W130,\"=9\")*0)/COUNTA(S130:W130)/100,\"N/A\")","v":"N/A"},"N/A",{"$f":"IF(COUNTA(#REF!)>0,(COUNTIF(#REF!,\"=0\")*0+COUNTIF(#REF!,\"=1\")*100+COUNTIF(#REF!,\"=2\")*80+COUNTIF(#REF!,\"=3\")*50+COUNTIF(#REF!,\"=8\")*20+COUNTIF(#REF!,\"=9\")*0)/COUNTA(#REF!)/100,\"N/A\")","v":{"$error":"#REF!"}},{"$f":"IF(COUNTA(#REF!)>0,(COUNTIF(#REF!,\"=0\")*0+COUNTIF(#REF!,\"=1\")*100+COUNTIF(#REF!,\"=2\")*80+COUNTIF(#REF!,\"=3\")*50+COUNTIF(#REF!,\"=8\")*20+COUNTIF(#REF!,\"=9\")*0)/COUNTA(#REF!)/100,\"N/A\")","v":{"$error":"#REF!"}},{"$f":"IF(AND(COUNTA(B130:X130)<>0,#REF!<>\"\"),AVERAGE(Y130:AE130),\"N/A\")","v":{"$error":"#REF!"}},1,1,1,1,1,{"$error":"#REF!"},{"$error":"#REF!"},{"$error":"#REF!"}]
[{"$nulls":24},{"$f":"IF(COUNTA(B131:G131)>0,(COUNTIF(B131:G131,\"=0\")*0+COUNTIF(B131:G131,\"=1\")*100+COUNTIF(B131:G131,\"=2\")*80+COUNTIF(B131:G131,\"=3\")*50+COUNTIF(B131:G131,\"=8\")*20+COUNTIF(B131:G131,\"=9\")*0)/COUNTA(B131:G131)/100,\"N/A\")","v":"N/A"},{"$f":"IF(COUNTA(K131:P131)>0,(COUNTIF(K131:P131,\"=0\")*0+COUNTIF(K131:P131,\"=1\")*100+COUNTIF(K131:P131,\"=2\")*80+COUNTIF(K131:P131,\"=3\")*50+COUNTIF(K131:P131,\"=8\")*20+COUNTIF(K131:P131,\"=9\")*0)/COUNTA(K131:P131)/100,\"N/A\")","v":"N/A"},{"$f":"IF(COUNTA(Q131)>0,(COUNTIF(Q131,\"=0\")*0+COUNTIF(Q131,\"=1\")*100+COUNTIF(Q131,\"=2\")*80+COUNTIF(Q131,\"=3\")*50+COUNTIF(Q131,\"=8\")*20+COUNTIF(Q131,\"=9\")*0)/COUNTA(Q131)/100,\"N/A\")","v":"N/A"},{"$f":"IF(COUNTA(S131:W131)<>0,(COUNTIF(S131:W131,\"=0\")*0+COUNTIF(S131:W131,\"=1\")*100+COUNTIF(S131:W131,\"=2\")*80+COUNTIF(S131:W131,\"=3\")*50+COUNTIF(S131:W131,\"=8\")*20+COUNTIF(S131:W131,\"=9\")*0)/COUNTA(S131:W131)/100,\"N/A\")","v":"N/A"},"N/A",{"$f":"IF(COUNTA(#REF!)>0,(COUNTIF(#REF!,\"=0\")*0+COUNTIF(#REF!,\"=1\")*100+COUNTIF(#REF!,\"=2\")*80+COUNTIF(#REF!,\"=3\")*50+COUNTIF(#REF!,\"=8\")*20+COUNTIF(#REF!,\"=9\")*0)/COUNTA(#REF!)/100,\"N/A\")","v":{"$error":"#REF!"}},{"$f":"IF(COUNTA(#REF!)>0,(COUNTIF(#REF!,\"=0\")*0+COUNTIF(#REF!,\"=1\")*100+COUNTIF(#REF!,\"=2\")*80+COUNTIF(#REF!,\"=3\")*50+COUNTIF(#REF!,\"=8\")*20+COUNTIF(#REF!,\"=9\")*0)/COUNTA(#REF!)/100,\"N/A\")","v":{"$error":"#REF!"}},{"$f":"IF(AND(COUNTA(B131:X131)<>0,#REF!<>\"\"),AVERAGE(Y131:AE131),\"N/A\")","v":{"$error":"#REF!"}},1,1,1,1,1,{"$error":"#REF!"},{"$error":"#REF!"},{"$error":"#REF!"}]
[{"$nulls":24},{"$f":"IF(COUNTA(B132:G132)>0,(COUNTIF(B132:G132,\"=0\")*0+COUNTIF(B132:G132,\"=1\")*100+COUNTIF(B132:G132,\"=2\")*80+COUNTIF(B132:G132,\"=3\")*50+COUNTIF(B132:G132,\"=8\")*20+COUNTIF(B132:G132,\"=9\")*0)/COUNTA(B132:G132)/100,\"N/A\")","v":"N/A"},{"$f":"IF(COUNTA(K132:P132)>0,(COUNTIF(K132:P132,\"=0\")*0+COUNTIF(K132:P132,\"=1\")*100+COUNTIF(K132:P132,\"=2\")*80+COUNTIF(K132:P132,\"=3\")*50+COUNTIF(K132:P132,\"=8\")*20+COUNTIF(K132:P132,\"=9\")*0)/COUNTA(K132:P132)/100,\"N/A\")","v":"N/A"},{"$f":"IF(COUNTA(Q132)>0,(COUNTIF(Q132,\"=0\")*0+COUNTIF(Q132,\"=1\")*100+COUNTIF(Q132,\"=2\")*80+COUNTIF(Q132,\"=3\")*50+COUNTIF(Q132,\"=8\")*20+COUNTIF(Q132,\"=9\")*0)/COUNTA(Q132)/100,\"N/A\")","v":"N/A"},{"$f":"IF(COUNTA(S132:W132)<>0,(COUNTIF(S132:W132,\"=0\")*0+COUNTIF(S132:W132,\"=1\")*100+COUNTIF(S132:W132,\"=2\")*80+COUNTIF(S132:W132,\"=3\")*50+COUNTIF(S132:W132,\"=8\")*20+COUNTIF(S132:W132,\"=9\")*0)/COUNTA(S132:W132)/100,\"N/A\")","v":"N/A"},"N/A",{"$f":"IF(COUNTA(#REF!)>0,(COUNTIF(#REF!,\"=0\")*0+COUNTIF(#REF!,\"=1\")*100+COUNTIF(#REF!,\"=2\")*80+COUNTIF(#REF!,\"=3\")*50+COUNTIF(#REF!,\"=8\")*20+COUNTIF(#REF!,\"=9\")*0)/COUNTA(#REF!)/100,\"N/A\")","v":{"$error":"#REF!"}},{"$f":"IF(COUNTA(#REF!)>0,(COUNTIF(#REF!,\"=0\")*0+COUNTIF(#REF!,\"=1\")*100+COUNTIF(#REF!,\"=2\")*80+COUNTIF(#REF!,\"=3\")*50+COUNTIF(#REF!,\"=8\")*20+COUNTIF(#REF!,\"=9\")*0)/COUNTA(#REF!)/100,\"N/A\")","v":{"$error":"#REF!"}},{"$f":"IF(AND(COUNTA(B132:X132)<>0,#REF!<>\"\"),AVERAGE(Y132:AE132),\"N/A\")","v":{"$error":"#REF!"}},1,1,1,1,1,{"$error":"#REF!"},{"$error":"#REF!"},{"$error":"#REF!"}]
[{"$nulls":24},{"$f":"IF(COUNTA(B133:G133)>0,(COUNTIF(B133:G133,\"=0\")*0+COUNTIF(B133:G133,\"=1\")*100+COUNTIF(B133:G133,\"=2\")*80+COUNTIF(B133:G133,\"=3\")*50+COUNTIF(B133:G133,\"=8\")*20+COUNTIF(B133:G133,\"=9\")*0)/COUNTA(B133:G133)/100,\"N/A\")","v":"N/A"},{"$f":"IF(COUNTA(K133:P133)>0,(COUNTIF(K133:P133,\"=0\")*0+COUNTIF(K133:P133,\"=1\")*100+COUNTIF(K133:P133,\"=2\")*80+COUNTIF(K133:P133,\"=3\")*50+COUNTIF(K133:P133,\"=8\")*20+COUNTIF(K133:P133,\"=9\")*0)/COUNTA(K133:P133)/100,\"N/A\")","v":"N/A"},{"$f":"IF(COUNTA(Q133)>0,(COUNTIF(Q133,\"=0\")*0+COUNTIF(Q133,\"=1\")*100+COUNTIF(Q133,\"=2\")*80+COUNTIF(Q133,\"=3\")*50+COUNTIF(Q133,\"=8\")*20+COUNTIF(Q133,\"=9\")*0)/COUNTA(Q133)/100,\"N/A\")","v":"N/A"},{"$f":"IF(COUNTA(S133:W133)<>0,(COUNTIF(S133:W133,\"=0\")*0+COUNTIF(S133:W133,\"=1\")*100+COUNTIF(S133:W133,\"=2\")*80+COUNTIF(S133:W133,\"=3\")*50+COUNTIF(S133:W133,\"=8\")*20+COUNTIF(S133:W133,\"=9\")*0)/COUNTA(S133:W133)/100,\"N/A\")","v":"N/A"},"N/A",{"$f":"IF(COUNTA(#REF!)>0,(COUNTIF(#REF!,\"=0\")*0+COUNTIF(#REF!,\"=1\")*100+COUNTIF(#REF!,\"=2\")*80+COUNTIF(#REF!,\"=3\")*50+COUNTIF(#REF!,\"=8\")*20+COUNTIF(#REF!,\"=9\")*0)/COUNTA(#REF!)/100,\"N/A\")","v":{"$error":"#REF!"}},{"$f":"IF(COUNTA(#REF!)>0,(COUNTIF(#REF!,\"=0\")*0+COUNTIF(#REF!,\"=1\")*100+COUNTIF(#REF!,\"=2\")*80+COUNTIF(#REF!,\"=3\")*50+COUNTIF(#REF!,\"=8\")*20+COUNTIF(#REF!,\"=9\")*0)/COUNTA(#REF!)/100,\"N/A\")","v":{"$error":"#REF!"}},{"$f":"IF(AND(COUNTA(B133:X133)<>0,#REF!<>\"\"),AVERAGE(Y133:AE133),\"N/A\")","v":{"$error":"#REF!"}},1,1,1,1,1,{"$error":"#REF!"},{"$error":"#REF!"},{"$error":"#REF!"}]
[{"$nulls":24},{"$f":"IF(COUNTA(B134:G134)>0,(COUNTIF(B134:G134,\"=0\")*0+COUNTIF(B134:G134,\"=1\")*100+COUNTIF(B134:G134,\"=2\")*80+COUNTIF(B134:G134,\"=3\")*50+COUNTIF(B134:G134,\"=8\")*20+COUNTIF(B134:G134,\"=9\")*0)/COUNTA(B134:G134)/100,\"N/A\")","v":"N/A"},{"$f":"IF(COUNTA(K134:P134)>0,(COUNTIF(K134:P134,\"=0\")*0+COUNTIF(K134:P134,\"=1\")*100+COUNTIF(K134:P134,\"=2\")*80+COUNTIF(K134:P134,\"=3\")*50+COUNTIF(K134:P134,\"=8\")*20+COUNTIF(K134:P134,\"=9\")*0)/COUNTA(K134:P134)/100,\"N/A\")","v":"N/A"},{"$f":"IF(COUNTA(Q134)>0,(COUNTIF(Q134,\"=0\")*0+COUNTIF(Q134,\"=1\")*100+COUNTIF(Q134,\"=2\")*80+COUNTIF(Q134,\"=3\")*50+COUNTIF(Q134,\"=8\")*20+COUNTIF(Q134,\"=9\")*0)/COUNTA(Q134)/100,\"N/A\")","v":"N/A"},{"$f":"IF(COUNTA(S134:W134)<>0,(COUNTIF(S134:W134,\"=0\")*0+COUNTIF(S134:W134,\"=1\")*100+COUNTIF(S134:W134,\"=2\")*80+COUNTIF(S134:W134,\"=3\")*50+COUNTIF(S134:W134,\"=8\")*20+COUNTIF(S134:W134,\"=9\")*0)/COUNTA(S134:W134)/100,\"N/A\")","v":"N/A"},"N/A",{"$f":"IF(COUNTA(#REF!)>0,(COUNTIF(#REF!,\"=0\")*0+COUNTIF(#REF!,\"=1\")*100+COUNTIF(#REF!,\"=2\")*80+COUNTIF(#REF!,\"=3\")*50+COUNTIF(#REF!,\"=8\")*20+COUNTIF(#REF!,\"=9\")*0)/COUNTA(#REF!)/100,\"N/A\")","v":{"$error":"#REF!"}},{"$f":"IF(COUNTA(#REF!)>0,(COUNTIF(#REF!,\"=0\")*0+COUNTIF(#REF!,\"=1\")*100+COUNTIF(#REF!,\"=2\")*80+COUNTIF(#REF!,\"=3\")*50+COUNTIF(#REF!,\"=8\")*20+COUNTIF(#REF!,\"=9\")*0)/COUNTA(#REF!)/100,\"N/A\")","v":{"$error":"#REF!"}},{"$f":"IF(AND(COUNTA(B134:X134)<>0,#REF!<>\"\"),AVERAGE(Y134:AE134),\"N/A\")","v":{"$error":"#REF!"}},1,1,1,1,1,{"$error":"#REF!"},{"$error":"#REF!"},{"$error":"#REF!"}]
[{"$nulls":24},{"$f":"IF(COUNTA(B135:G135)>0,(COUNTIF(B135:G135,\"=0\")*0+COUNTIF(B135:G135,\"=1\")*100+COUNTIF(B135:G135,\"=2\")*80+COUNTIF(B135:G135,\"=3\")*50+COUNTIF(B135:G135,\"=8\")*20+COUNTIF(B135:G135,\"=9\")*0)/COUNTA(B135:G135)/100,\"N/A\")","v":"N/A"},{"$f":"IF(COUNTA(K135:P135)>0,(COUNTIF(K135:P135,\"=0\")*0+COUNTIF(K135:P135,\"=1\")*100+COUNTIF(K135:P135,\"=2\")*80+COUNTIF(K135:P135,\"=3\")*50+COUNTIF(K135:P135,\"=8\")*20+COUNTIF(K135:P135,\"=9\")*0)/COUNTA(K135:P135)/100,\"N/A\")","v":"N/A"},{"$f":"IF(COUNTA(Q135)>0,(COUNTIF(Q135,\"=0\")*0+COUNTIF(Q135,\"=1\")*100+COUNTIF(Q135,\"=2\")*80+COUNTIF(Q135,\"=3\")*50+COUNTIF(Q135,\"=8\")*20+COUNTIF(Q135,\"=9\")*0)/COUNTA(Q135)/100,\"N/A\")","v":"N/A"},{"$f":"IF(COUNTA(S135:W135)<>0,(COUNTIF(S135:W135,\"=0\")*0+COUNTIF(S135:W135,\"=1\")*100+COUNTIF(S135:W135,\"=2\")*80+COUNTIF(S135:W135,\"=3\")*50+COUNTIF(S135:W135,\"=8\")*20+COUNTIF(S135:W135,\"=9\")*0)/COUNTA(S135:W135)/100,\"N/A\")","v":"N/A"},"N/A",{"$f":"IF(COUNTA(#REF!)>0,(COUNTIF(#REF!,\"=0\")*0+COUNTIF(#REF!,\"=1\")*100+COUNTIF(#REF!,\"=2\")*80+COUNTIF(#REF!,\"=3\")*50+COUNTIF(#REF!,\"=8\")*20+COUNTIF(#REF!,\"=9\")*0)/COUNTA(#REF!)/100,\"N/A\")","v":{"$error":"#REF!"}},{"$f":"IF(COUNTA(#REF!)>0,(COUNTIF(#REF!,\"=0\")*0+COUNTIF(#REF!,\"=1\")*100+COUNTIF(#REF!,\"=2\")*80+COUNTIF(#REF!,\"=3\")*50+COUNTIF(#REF!,\"=8\")*20+COUNTIF(#REF!,\"=9\")*0)/COUNTA(#REF!)/100,\"N/A\")","v":{"$error":"#REF!"}},{"$f":"IF(AND(COUNTA(B135:X135)<>0,#REF!<>\"\"),AVERAGE(Y135:AE135),\"N/A\")","v":{"$error":"#REF!"}},1,1,1,1,1,{"$error":"#REF!"},{"$error":"#REF!"},{"$error":"#REF!"}]
[{"$nulls":24},{"$f":"IF(COUNTA(B136:G136)>0,(COUNTIF(B136:G136,\"=0\")*0+COUNTIF(B136:G136,\"=1\")*100+COUNTIF(B136:G136,\"=2\")*80+COUNTIF(B136:G136,\"=3\")*50+COUNTIF(B136:G136,\"=8\")*20+COUNTIF(B136:G136,\"=9\")*0)/COUNTA(B136:G136)/100,\"N/A\")","v":"N/A"},{"$f":"IF(COUNTA(K136:P136)>0,(COUNTIF(K136:P136,\"=0\")*0+COUNTIF(K136:P136,\"=1\")*100+COUNTIF(K136:P136,\"=2\")*80+COUNTIF(K136:P136,\"=3\")*50+COUNTIF(K136:P136,\"=8\")*20+COUNTIF(K136:P136,\"=9\")*0)/COUNTA(K136:P136)/100,\"N/A\")","v":"N/A"},{"$f":"IF(COUNTA(Q136)>0,(COUNTIF(Q136,\"=0\")*0+COUNTIF(Q136,\"=1\")*100+COUNTIF(Q136,\"=2\")*80+COUNTIF(Q136,\"=3\")*50+COUNTIF(Q136,\"=8\")*20+COUNTIF(Q136,\"=9\")*0)/COUNTA(Q136)/100,\"N/A\")","v":"N/A"},{"$f":"IF(COUNTA(S136:W136)<>0,(COUNTIF(S136:W136,\"=0\")*0+COUNTIF(S136:W136,\"=1\")*100+COUNTIF(S136:W136,\"=2\")*80+COUNTIF(S136:W136,\"=3\")*50+COUNTIF(S136:W136,\"=8\")*20+COUNTIF(S136:W136,\"=9\")*0)/COUNTA(S136:W136)/100,\"N/A\")","v":"N/A"},"N/A",{"$f":"IF(COUNTA(#REF!)>0,(COUNTIF(#REF!,\"=0\")*0+COUNTIF(#REF!,\"=1\")*100+COUNTIF(#REF!,\"=2\")*80+COUNTIF(#REF!,\"=3\")*50+COUNTIF(#REF!,\"=8\")*20+COUNTIF(#REF!,\"=9\")*0)/COUNTA(#REF!)/100,\"N/A\")","v":{"$error":"#REF!"}},{"$f":"IF(COUNTA(#REF!)>0,(COUNTIF(#REF!,\"=0\")*0+COUNTIF(#REF!,\"=1\")*100+COUNTIF(#REF!,\"=2\")*80+COUNTIF(#REF!,\"=3\")*50+COUNTIF(#REF!,\"=8\")*20+COUNTIF(#REF!,\"=9\")*0)/COUNTA(#REF!)/100,\"N/A\")","v":{"$error":"#REF!"}},{"$f":"IF(AND(COUNTA(B136:X136)<>0,#REF!<>\"\"),AVERAGE(Y136:AE136),\"N/A\")","v":{"$error":"#REF!"}},1,1,1,1,1,{"$error":"#REF!"},{"$error":"#REF!"},{"$error":"#REF!"}]
[{"$nulls":24},{"$f":"IF(COUNTA(B137:G137)>0,(COUNTIF(B137:G137,\"=0\")*0+COUNTIF(B137:G137,\"=1\")*100+COUNTIF(B137:G137,\"=2\")*80+COUNTIF(B137:G137,\"=3\")*50+COUNTIF(B137:G137,\"=8\")*20+COUNTIF(B137:G137,\"=9\")*0)/COUNTA(B137:G137)/100,\"N/A\")","v":"N/A"},{"$f":"IF(COUNTA(K137:P137)>0,(COUNTIF(K137:P137,\"=0\")*0+COUNTIF(K137:P137,\"=1\")*100+COUNTIF(K137:P137,\"=2\")*80+COUNTIF(K137:P137,\"=3\")*50+COUNTIF(K137:P137,\"=8\")*20+COUNTIF(K137:P137,\"=9\")*0)/COUNTA(K137:P137)/100,\"N/A\")","v":"N/A"},{"$f":"IF(COUNTA(Q137)>0,(COUNTIF(Q137,\"=0\")*0+COUNTIF(Q137,\"=1\")*100+COUNTIF(Q137,\"=2\")*80+COUNTIF(Q137,\"=3\")*50+COUNTIF(Q137,\"=8\")*20+COUNTIF(Q137,\"=9\")*0)/COUNTA(Q137)/100,\"N/A\")","v":"N/A"},{"$f":"IF(COUNTA(S137:W137)<>0,(COUNTIF(S137:W137,\"=0\")*0+COUNTIF(S137:W137,\"=1\")*100+COUNTIF(S137:W137,\"=2\")*80+COUNTIF(S137:W137,\"=3\")*50+COUNTIF(S137:W137,\"=8\")*20+COUNTIF(S137:W137,\"=9\")*0)/COUNTA(S137:W137)/100,\"N/A\")","v":"N/A"},"N/A",{"$f":"IF(COUNTA(#REF!)>0,(COUNTIF(#REF!,\"=0\")*0+COUNTIF(#REF!,\"=1\")*100+COUNTIF(#REF!,\"=2\")*80+COUNTIF(#REF!,\"=3\")*50+COUNTIF(#REF!,\"=8\")*20+COUNTIF(#REF!,\"=9\")*0)/COUNTA(#REF!)/100,\"N/A\")","v":{"$error":"#REF!"}},{"$f":"IF(COUNTA(#REF!)>0,(COUNTIF(#REF!,\"=0\")*0+COUNTIF(#REF!,\"=1\")*100+COUNTIF(#REF!,\"=2\")*80+COUNTIF(#REF!,\"=3\")*50+COUNTIF(#REF!,\"=8\")*20+COUNTIF(#REF!,\"=9\")*0)/COUNTA(#REF!)/100,\"N/A\")","v":{"$error":"#REF!"}},{"$f":"IF(AND(COUNTA(B137:X137)<>0,#REF!<>\"\"),AVERAGE(Y137:AE137),\"N/A\")","v":{"$error":"#REF!"}},1,1,1,1,1,{"$error":"#REF!"},{"$error":"#REF!"},{"$error":"#REF!"}]
[{"$nulls":24},{"$f":"IF(COUNTA(B138:G138)>0,(COUNTIF(B138:G138,\"=0\")*0+COUNTIF(B138:G138,\"=1\")*100+COUNTIF(B138:G138,\"=2\")*80+COUNTIF(B138:G138,\"=3\")*50+COUNTIF(B138:G138,\"=8\")*20+COUNTIF(B138:G138,\"=9\")*0)/COUNTA(B138:G138)/100,\"N/A\")","v":"N/A"},{"$f":"IF(COUNTA(K138:P138)>0,(COUNTIF(K138:P138,\"=0\")*0+COUNTIF(K138:P138,\"=1\")*100+COUNTIF(K138:P138,\"=2\")*80+COUNTIF(K138:P138,\"=3\")*50+COUNTIF(K138:P138,\"=8\")*20+COUNTIF(K138:P138,\"=9\")*0)/COUNTA(K138:P138)/100,\"N/A\")","v":"N/A"},{"$f":"IF(COUNTA(Q138)>0,(COUNTIF(Q138,\"=0\")*0+COUNTIF(Q138,\"=1\")*100+COUNTIF(Q138,\"=2\")*80+COUNTIF(Q138,\"=3\")*50+COUNTIF(Q138,\"=8\")*20+COUNTIF(Q138,\"=9\")*0)/COUNTA(Q138)/100,\"N/A\")","v":"N/A"},{"$f":"IF(COUNTA(S138:W138)<>0,(COUNTIF(S138:W138,\"=0\")*0+COUNTIF(S138:W138,\"=1\")*100+COUNTIF(S138:W138,\"=2\")*80+COUNTIF(S138:W138,\"=3\")*50+COUNTIF(S138:W138,\"=8\")*20+COUNTIF(S138:W138,\"=9\")*0)/COUNTA(S138:W138)/100,\"N/A\")","v":"N/A"},"N/A",{"$f":"IF(COUNTA(#REF!)>0,(COUNTIF(#REF!,\"=0\")*0+COUNTIF(#REF!,\"=1\")*100+COUNTIF(#REF!,\"=2\")*80+COUNTIF(#REF!,\"=3\")*50+COUNTIF(#REF!,\"=8\")*20+COUNTIF(#REF!,\"=9\")*0)/COUNTA(#REF!)/100,\"N/A\")","v":{"$error":"#REF!"}},{"$f":"IF(COUNTA(#REF!)>0,(COUNTIF(#REF!,\"=0\")*0+COUNTIF(#REF!,\"=1\")*100+COUNTIF(#REF!,\"=2\")*80+COUNTIF(#REF!,\"=3\")*50+COUNTIF(#REF!,\"=8\")*20+COUNTIF(#REF!,\"=9\")*0)/COUNTA(#REF!)/100,\"N/A\")","v":{"$error":"#REF!"}},{"$f":"IF(AND(COUNTA(B138:X138)<>0,#REF!<>\"\"),AVERAGE(Y138:AE138),\"N/A\")","v":{"$error":"#REF!"}},1,1,1,1,1,{"$error":"#REF!"},{"$error":"#REF!"},{"$error":"#REF!"}]
[{"$nulls":24},{"$f":"IF(COUNTA(B139:G139)>0,(COUNTIF(B139:G139,\"=0\")*0+COUNTIF(B139:G139,\"=1\")*100+COUNTIF(B139:G139,\"=2\")*80+COUNTIF(B139:G139,\"=3\")*50+COUNTIF(B139:G139,\"=8\")*20+COUNTIF(B139:G139,\"=9\")*0)/COUNTA(B139:G139)/100,\"N/A\")","v":"N/A"},{"$f":"IF(COUNTA(K139:P139)>0,(COUNTIF(K139:P139,\"=0\")*0+COUNTIF(K139:P139,\"=1\")*100+COUNTIF(K139:P139,\"=2\")*80+COUNTIF(K139:P139,\"=3\")*50+COUNTIF(K139:P139,\"=8\")*20+COUNTIF(K139:P139,\"=9\")*0)/COUNTA(K139:P139)/100,\"N/A\")","v":"N/A"},{"$f":"IF(COUNTA(Q139)>0,(COUNTIF(Q139,\"=0\")*0+COUNTIF(Q139,\"=1\")*100+COUNTIF(Q139,\"=2\")*80+COUNTIF(Q139,\"=3\")*50+COUNTIF(Q139,\"=8\")*20+COUNTIF(Q139,\"=9\")*0)/COUNTA(Q139)/100,\"N/A\")","v":"N/A"},{"$f":"IF(COUNTA(S139:W139)<>0,(COUNTIF(S139:W139,\"=0\")*0+COUNTIF(S139:W139,\"=1\")*100+COUNTIF(S139:W139,\"=2\")*80+COUNTIF(S139:W139,\"=3\")*50+COUNTIF(S139:W139,\"=8\")*20+COUNTIF(S139:W139,\"=9\")*0)/COUNTA(S139:W139)/100,\"N/A\")","v":"N/A"},"N/A",{"$f":"IF(COUNTA(#REF!)>0,(COUNTIF(#REF!,\"=0\")*0+COUNTIF(#REF!,\"=1\")*100+COUNTIF(#REF!,\"=2\")*80+COUNTIF(#REF!,\"=3\")*50+COUNTIF(#REF!,\"=8\")*20+COUNTIF(#REF!,\"=9\")*0)/COUNTA(#REF!)/100,\"N/A\")","v":{"$error":"#REF!"}},{"$f":"IF(COUNTA(#REF!)>0,(COUNTIF(#REF!,\"=0\")*0+COUNTIF(#REF!,\"=1\")*100+COUNTIF(#REF!,\"=2\")*80+COUNTIF(#REF!,\"=3\")*50+COUNTIF(#REF!,\"=8\")*20+COUNTIF(#REF!,\"=9\")*0)/COUNTA(#REF!)/100,\"N/A\")","v":{"$error":"#REF!"}},{"$f":"IF(AND(COUNTA(B139:X139)<>0,#REF!<>\"\"),AVERAGE(Y139:AE139),\"N/A\")","v":{"$error":"#REF!"}},1,1,1,1,1,{"$error":"#REF!"},{"$error":"#REF!"},{"$error":"#REF!"}]
[{"$nulls":24},{"$f":"IF(COUNTA(B140:G140)>0,(COUNTIF(B140:G140,\"=0\")*0+COUNTIF(B140:G140,\"=1\")*100+COUNTIF(B140:G140,\"=2\")*80+COUNTIF(B140:G140,\"=3\")*50+COUNTIF(B140:G140,\"=8\")*20+COUNTIF(B140:G140,\"=9\")*0)/COUNTA(B140:G140)/100,\"N/A\")","v":"N/A"},{"$f":"IF(COUNTA(K140:P140)>0,(COUNTIF(K140:P140,\"=0\")*0+COUNTIF(K140:P140,\"=1\")*100+COUNTIF(K140:P140,\"=2\")*80+COUNTIF(K140:P140,\"=3\")*50+COUNTIF(K140:P140,\"=8\")*20+COUNTIF(K140:P140,\"=9\")*0)/COUNTA(K140:P140)/100,\"N/A\")","v":"N/A"},{"$f":"IF(COUNTA(Q140)>0,(COUNTIF(Q140,\"=0\")*0+COUNTIF(Q140,\"=1\")*100+COUNTIF(Q140,\"=2\")*80+COUNTIF(Q140,\"=3\")*50+COUNTIF(Q140,\"=8\")*20+COUNTIF(Q140,\"=9\")*0)/COUNTA(Q140)/100,\"N/A\")","v":"N/A"},{"$f":"IF(COUNTA(S140:W140)<>0,(COUNTIF(S140:W140,\"=0\")*0+COUNTIF(S140:W140,\"=1\")*100+COUNTIF(S140:W140,\"=2\")*80+COUNTIF(S140:W140,\"=3\")*50+COUNTIF(S140:W140,\"=8\")*20+COUNTIF(S140:W140,\"=9\")*0)/COUNTA(S140:W140)/100,\"N/A\")","v":"N/A"},"N/A",{"$f":"IF(COUNTA(#REF!)>0,(COUNTIF(#REF!,\"=0\")*0+COUNTIF(#REF!,\"=1\")*100+COUNTIF(#REF!,\"=2\")*80+COUNTIF(#REF!,\"=3\")*50+COUNTIF(#REF!,\"=8\")*20+COUNTIF(#REF!,\"=9\")*0)/COUNTA(#REF!)/100,\"N/A\")","v":{"$error":"#REF!"}},{"$f":"IF(COUNTA(#REF!)>0,(COUNTIF(#REF!,\"=0\")*0+COUNTIF(#REF!,\"=1\")*100+COUNTIF(#REF!,\"=2\")*80+COUNTIF(#REF!,\"=3\")*50+COUNTIF(#REF!,\"=8\")*20+COUNTIF(#REF!,\"=9\")*0)/COUNTA(#REF!)/100,\"N/A\")","v":{"$error":"#REF!"}},{"$f":"IF(AND(COUNTA(B140:X140)<>0,#REF!<>\"\"),AVERAGE(Y140:AE140),\"N/A\")","v":{"$error":"#REF!"}},1,1,1,1,1,{"$error":"#REF!"},{"$error":"#REF!"},{"$error":"#REF!"}]
[{"$nulls":24},{"$f":"IF(COUNTA(B141:G141)>0,(COUNTIF(B141:G141,\"=0\")*0+COUNTIF(B141:G141,\"=1\")*100+COUNTIF(B141:G141,\"=2\")*80+COUNTIF(B141:G141,\"=3\")*50+COUNTIF(B141:G141,\"=8\")*20+COUNTIF(B141:G141,\"=9\")*0)/COUNTA(B141:G141)/100,\"N/A\")","v":"N/A"},{"$f":"IF(COUNTA(K141:P141)>0,(COUNTIF(K141:P141,\"=0\")*0+COUNTIF(K141:P141,\"=1\")*100+COUNTIF(K141:P141,\"=2\")*80+COUNTIF(K141:P141,\"=3\")*50+COUNTIF(K141:P141,\"=8\")*20+COUNTIF(K141:P141,\"=9\")*0)/COUNTA(K141:P141)/100,\"N/A\")","v":"N/A"},{"$f":"IF(COUNTA(Q141)>0,(COUNTIF(Q141,\"=0\")*0+COUNTIF(Q141,\"=1\")*100+COUNTIF(Q141,\"=2\")*80+COUNTIF(Q141,\"=3\")*50+COUNTIF(Q141,\"=8\")*20+COUNTIF(Q141,\"=9\")*0)/COUNTA(Q141)/100,\"N/A\")","v":"N/A"},{"$f":"IF(COUNTA(S141:W141)<>0,(COUNTIF(S141:W141,\"=0\")*0+COUNTIF(S141:W141,\"=1\")*100+COUNTIF(S141:W141,\"=2\")*80+COUNTIF(S141:W141,\"=3\")*50+COUNTIF(S141:W141,\"=8\")*20+COUNTIF(S141:W141,\"=9\")*0)/COUNTA(S141:W141)/100,\"N/A\")","v":"N/A"},"N/A",{"$f":"IF(COUNTA(#REF!)>0,(COUNTIF(#REF!,\"=0\")*0+COUNTIF(#REF!,\"=1\")*100+COUNTIF(#REF!,\"=2\")*80+COUNTIF(#REF!,\"=3\")*50+COUNTIF(#REF!,\"=8\")*20+COUNTIF(#REF!,\"=9\")*0)/COUNTA(#REF!)/100,\"N/A\")","v":{"$error":"#REF!"}},{"$f":"IF(COUNTA(#REF!)>0,(COUNTIF(#REF!,\"=0\")*0+COUNTIF(#REF!,\"=1\")*100+COUNTIF(#REF!,\"=2\")*80+COUNTIF(#REF!,\"=3\")*50+COUNTIF(#REF!,\"=8\")*20+COUNTIF(#REF!,\"=9\")*0)/COUNTA(#REF!)/100,\"N/A\")","v":{"$error":"#REF!"}},{"$f":"IF(AND(COUNTA(B141:X141)<>0,#REF!<>\"\"),AVERAGE(Y141:AE141),\"N/A\")","v":{"$error":"#REF!"}},1,1,1,1,1,{"$error":"#REF!"},{"$error":"#REF!"},{"$error":"#REF!"}]
[{"$nulls":24},{"$f":"IF(COUNTA(B142:G142)>0,(COUNTIF(B142:G142,\"=0\")*0+COUNTIF(B142:G142,\"=1\")*100+COUNTIF(B142:G142,\"=2\")*80+COUNTIF(B142:G142,\"=3\")*50+COUNTIF(B142:G142,\"=8\")*20+COUNTIF(B142:G142,\"=9\")*0)/COUNTA(B142:G142)/100,\"N/A\")","v":"N/A"},{"$f":"IF(COUNTA(K142:P142)>0,(COUNTIF(K142:P142,\"=0\")*0+COUNTIF(K142:P142,\"=1\")*100+COUNTIF(K142:P142,\"=2\")*80+COUNTIF(K142:P142,\"=3\")*50+COUNTIF(K142:P142,\"=8\")*20+COUNTIF(K142:P142,\"=9\")*0)/COUNTA(K142:P142)/100,\"N/A\")","v":"N/A"},{"$f":"IF(COUNTA(Q142)>0,(COUNTIF(Q142,\"=0\")*0+COUNTIF(Q142,\"=1\")*100+COUNTIF(Q142,\"=2\")*80+COUNTIF(Q142,\"=3\")*50+COUNTIF(Q142,\"=8\")*20+COUNTIF(Q142,\"=9\")*0)/COUNTA(Q142)/100,\"N/A\")","v":"N/A"},{"$f":"IF(COUNTA(S142:W142)<>0,(COUNTIF(S142:W142,\"=0\")*0+COUNTIF(S142:W142,\"=1\")*100+COUNTIF(S142:W142,\"=2\")*80+COUNTIF(S142:W142,\"=3\")*50+COUNTIF(S142:W142,\"=8\")*20+COUNTIF(S142:W142,\"=9\")*0)/COUNTA(S142:W142)/100,\"N/A\")","v":"N/A"},"N/A",{"$f":"IF(COUNTA(#REF!)>0,(COUNTIF(#REF!,\"=0\")*0+COUNTIF(#REF!,\"=1\")*100+COUNTIF(#REF!,\"=2\")*80+COUNTIF(#REF!,\"=3\")*50+COUNTIF(#REF!,\"=8\")*20+COUNTIF(#REF!,\"=9\")*0)/COUNTA(#REF!)/100,\"N/A\")","v":{"$error":"#REF!"}},{"$f":"IF(COUNTA(#REF!)>0,(COUNTIF(#REF!,\"=0\")*0+COUNTIF(#REF!,\"=1\")*100+COUNTIF(#REF!,\"=2\")*80+COUNTIF(#REF!,\"=3\")*50+COUNTIF(#REF!,\"=8\")*20+COUNTIF(#REF!,\"=9\")*0)/COUNTA(#REF!)/100,\"N/A\")","v":{"$error":"#REF!"}},{"$f":"IF(AND(COUNTA(B142:X142)<>0,#REF!<>\"\"),AVERAGE(Y142:AE142),\"N/A\")","v":{"$error":"#REF!"}},1,1,1,1,1,{"$error":"#REF!"},{"$error":"#REF!"},{"$error":"#REF!"}]
[{"$nulls":24},{"$f":"IF(COUNTA(B143:G143)>0,(COUNTIF(B143:G143,\"=0\")*0+COUNTIF(B143:G143,\"=1\")*100+COUNTIF(B143:G143,\"=2\")*80+COUNTIF(B143:G143,\"=3\")*50+COUNTIF(B143:G143,\"=8\")*20+COUNTIF(B143:G143,\"=9\")*0)/COUNTA(B143:G143)/100,\"N/A\")","v":"N/A"},{"$f":"IF(COUNTA(K143:P143)>0,(COUNTIF(K143:P143,\"=0\")*0+COUNTIF(K143:P143,\"=1\")*100+COUNTIF(K143:P143,\"=2\")*80+COUNTIF(K143:P143,\"=3\")*50+COUNTIF(K143:P143,\"=8\")*20+COUNTIF(K143:P143,\"=9\")*0)/COUNTA(K143:P143)/100,\"N/A\")","v":"N/A"},{"$f":"IF(COUNTA(Q143)>0,(COUNTIF(Q143,\"=0\")*0+COUNTIF(Q143,\"=1\")*100+COUNTIF(Q143,\"=2\")*80+COUNTIF(Q143,\"=3\")*50+COUNTIF(Q143,\"=8\")*20+COUNTIF(Q143,\"=9\")*0)/COUNTA(Q143)/100,\"N/A\")","v":"N/A"},{"$f":"IF(COUNTA(S143:W143)<>0,(COUNTIF(S143:W143,\"=0\")*0+COUNTIF(S143:W143,\"=1\")*100+COUNTIF(S143:W143,\"=2\")*80+COUNTIF(S143:W143,\"=3\")*50+COUNTIF(S143:W143,\"=8\")*20+COUNTIF(S143:W143,\"=9\")*0)/COUNTA(S143:W143)/100,\"N/A\")","v":"N/A"},"N/A",{"$f":"IF(COUNTA(#REF!)>0,(COUNTIF(#REF!,\"=0\")*0+COUNTIF(#REF!,\"=1\")*100+COUNTIF(#REF!,\"=2\")*80+COUNTIF(#REF!,\"=3\")*50+COUNTIF(#REF!,\"=8\")*20+COUNTIF(#REF!,\"=9\")*0)/COUNTA(#REF!)/100,\"N/A\")","v":{"$error":"#REF!"}},{"$f":"IF(COUNTA(#REF!)>0,(COUNTIF(#REF!,\"=0\")*0+COUNTIF(#REF!,\"=1\")*100+COUNTIF(#REF!,\"=2\")*80+COUNTIF(#REF!,\"=3\")*50+COUNTIF(#REF!,\"=8\")*20+COUNTIF(#REF!,\"=9\")*0)/COUNTA(#REF!)/100,\"N/A\")","v":{"$error":"#REF!"}},{"$f":"IF(AND(COUNTA(B143:X143)<>0,#REF!<>\"\"),AVERAGE(Y143:AE143),\"N/A\")","v":{"$error":"#REF!"}},1,1,1,1,1,{"$error":"#REF!"},{"$error":"#REF!"},{"$error":"#REF!"}]
[{"$nulls":24},{"$f":"IF(COUNTA(B144:G144)>0,(COUNTIF(B144:G144,\"=0\")*0+COUNTIF(B144:G144,\"=1\")*100+COUNTIF(B144:G144,\"=2\")*80+COUNTIF(B144:G144,\"=3\")*50+COUNTIF(B144:G144,\"=8\")*20+COUNTIF(B144:G144,\"=9\")*0)/COUNTA(B144:G144)/100,\"N/A\")","v":"N/A"},{"$f":"IF(COUNTA(K144:P144)>0,(COUNTIF(K144:P144,\"=0\")*0+COUNTIF(K144:P144,\"=1\")*100+COUNTIF(K144:P144,\"=2\")*80+COUNTIF(K144:P144,\"=3\")*50+COUNTIF(K144:P144,\"=8\")*20+COUNTIF(K144:P144,\"=9\")*0)/COUNTA(K144:P144)/100,\"N/A\")","v":"N/A"},{"$f":"IF(COUNTA(Q144)>0,(COUNTIF(Q144,\"=0\")*0+COUNTIF(Q144,\"=1\")*100+COUNTIF(Q144,\"=2\")*80+COUNTIF(Q144,\"=3\")*50+COUNTIF(Q144,\"=8\")*20+COUNTIF(Q144,\"=9\")*0)/COUNTA(Q144)/100,\"N/A\")","v":"N/A"},{"$f":"IF(COUNTA(S144:W144)<>0,(COUNTIF(S144:W144,\"=0\")*0+COUNTIF(S144:W144,\"=1\")*100+COUNTIF(S144:W144,\"=2\")*80+COUNTIF(S144:W144,\"=3\")*50+COUNTIF(S144:W144,\"=8\")*20+COUNTIF(S144:W144,\"=9\")*0)/COUNTA(S144:W144)/100,\"N/A\")","v":"N/A"},"N/A",{"$f":"IF(COUNTA(#REF!)>0,(COUNTIF(#REF!,\"=0\")*0+COUNTIF(#REF!,\"=1\")*100+COUNTIF(#REF!,\"=2\")*80+COUNTIF(#REF!,\"=3\")*50+COUNTIF(#REF!,\"=8\")*20+COUNTIF(#REF!,\"=9\")*0)/COUNTA(#REF!)/100,\"N/A\")","v":{"$error":"#REF!"}},{"$f":"IF(COUNTA(#REF!)>0,(COUNTIF(#REF!,\"=0\")*0+COUNTIF(#REF!,\"=1\")*100+COUNTIF(#REF!,\"=2\")*80+COUNTIF(#REF!,\"=3\")*50+COUNTIF(#REF!,\"=8\")*20+COUNTIF(#REF!,\"=9\")*0)/COUNTA(#REF!)/100,\"N/A\")","v":{"$error":"#REF!"}},{"$f":"IF(AND(COUNTA(B144:X144)<>0,#REF!<>\"\"),AVERAGE(Y144:AE144),\"N/A\")","v":{"$error":"#REF!"}},1,1,1,1,1,{"$error":"#REF!"},{"$error":"#REF!"},{"$error":"#REF!"}]
[{"$nulls":24},{"$f":"IF(COUNTA(B145:G145)>0,(COUNTIF(B145:G145,\"=0\")*0+COUNTIF(B145:G145,\"=1\")*100+COUNTIF(B145:G145,\"=2\")*80+COUNTIF(B145:G145,\"=3\")*50+COUNTIF(B145:G145,\"=8\")*20+COUNTIF(B145:G145,\"=9\")*0)/COUNTA(B145:G145)/100,\"N/A\")","v":"N/A"},{"$f":"IF(COUNTA(K145:P145)>0,(COUNTIF(K145:P145,\"=0\")*0+COUNTIF(K145:P145,\"=1\")*100+COUNTIF(K145:P145,\"=2\")*80+COUNTIF(K145:P145,\"=3\")*50+COUNTIF(K145:P145,\"=8\")*20+COUNTIF(K145:P145,\"=9\")*0)/COUNTA(K145:P145)/100,\"N/A\")","v":"N/A"},{"$f":"IF(COUNTA(Q145)>0,(COUNTIF(Q145,\"=0\")*0+COUNTIF(Q145,\"=1\")*100+COUNTIF(Q145,\"=2\")*80+COUNTIF(Q145,\"=3\")*50+COUNTIF(Q145,\"=8\")*20+COUNTIF(Q145,\"=9\")*0)/COUNTA(Q145)/100,\"N/A\")","v":"N/A"},{"$f":"IF(COUNTA(S145:W145)<>0,(COUNTIF(S145:W145,\"=0\")*0+COUNTIF(S145:W145,\"=1\")*100+COUNTIF(S145:W145,\"=2\")*80+COUNTIF(S145:W145,\"=3\")*50+COUNTIF(S145:W145,\"=8\")*20+COUNTIF(S145:W145,\"=9\")*0)/COUNTA(S145:W145)/100,\"N/A\")","v":"N/A"},"N/A",{"$f":"IF(COUNTA(#REF!)>0,(COUNTIF(#REF!,\"=0\")*0+COUNTIF(#REF!,\"=1\")*100+COUNTIF(#REF!,\"=2\")*80+COUNTIF(#REF!,\"=3\")*50+COUNTIF(#REF!,\"=8\")*20+COUNTIF(#REF!,\"=9\")*0)/COUNTA(#REF!)/100,\"N/A\")","v":{"$error":"#REF!"}},{"$f":"IF(COUNTA(#REF!)>0,(COUNTIF(#REF!,\"=0\")*0+COUNTIF(#REF!,\"=1\")*100+COUNTIF(#REF!,\"=2\")*80+COUNTIF(#REF!,\"=3\")*50+COUNTIF(#REF!,\"=8\")*20+COUNTIF(#REF!,\"=9\")*0)/COUNTA(#REF!)/100,\"N/A\")","v":{"$error":"#REF!"}},{"$f":"IF(AND(COUNTA(B145:X145)<>0,#REF!<>\"\"),AVERAGE(Y145:AE145),\"N/A\")","v":{"$error":"#REF!"}},1,1,1,1,1,{"$error":"#REF!"},{"$error":"#REF!"},{"$f":"IF(AF145=\"N/A\",1,\"\")","v":{"$error":"#REF!"}}]
[{"$nulls":24},{"$f":"IF(COUNTA(B146:G146)>0,(COUNTIF(B146:G146,\"=0\")*0+COUNTIF(B146:G146,\"=1\")*100+COUNTIF(B146:G146,\"=2\")*80+COUNTIF(B146:G146,\"=3\")*50+COUNTIF(B146:G146,\"=8\")*20+COUNTIF(B146:G146,\"=9\")*0)/COUNTA(B146:G146)/100,\"N/A\")","v":"N/A"},{"$f":"IF(COUNTA(K146:P146)>0,(COUNTIF(K146:P146,\"=0\")*0+COUNTIF(K146:P146,\"=1\")*100+COUNTIF(K146:P146,\"=2\")*80+COUNTIF(K146:P146,\"=3\")*50+COUNTIF(K146:P146,\"=8\")*20+COUNTIF(K146:P146,\"=9\")*0)/COUNTA(K146:P146)/100,\"N/A\")","v":"N/A"},{"$f":"IF(COUNTA(Q146)>0,(COUNTIF(Q146,\"=0\")*0+COUNTIF(Q146,\"=1\")*100+COUNTIF(Q146,\"=2\")*80+COUNTIF(Q146,\"=3\")*50+COUNTIF(Q146,\"=8\")*20+COUNTIF(Q146,\"=9\")*0)/COUNTA(Q146)/100,\"N/A\")","v":"N/A"},{"$f":"IF(COUNTA(S146:W146)<>0,(COUNTIF(S146:W146,\"=0\")*0+COUNTIF(S146:W146,\"=1\")*100+COUNTIF(S146:W146,\"=2\")*80+COUNTIF(S146:W146,\"=3\")*50+COUNTIF(S146:W146,\"=8\")*20+COUNTIF(S146:W146,\"=9\")*0)/COUNTA(S146:W146)/100,\"N/A\")","v":"N/A"},"N/A",{"$f":"IF(COUNTA(#REF!)>0,(COUNTIF(#REF!,\"=0\")*0+COUNTIF(#REF!,\"=1\")*100+COUNTIF(#REF!,\"=2\")*80+COUNTIF(#REF!,\"=3\")*50+COUNTIF(#REF!,\"=8\")*20+COUNTIF(#REF!,\"=9\")*0)/COUNTA(#REF!)/100,\"N/A\")","v":{"$error":"#REF!"}},{"$f":"IF(COUNTA(#REF!)>0,(COUNTIF(#REF!,\"=0\")*0+COUNTIF(#REF!,\"=1\")*100+COUNTIF(#REF!,\"=2\")*80+COUNTIF(#REF!,\"=3\")*50+COUNTIF(#REF!,\"=8\")*20+COUNTIF(#REF!,\"=9\")*0)/COUNTA(#REF!)/100,\"N/A\")","v":{"$error":"#REF!"}},{"$f":"IF(AND(COUNTA(B146:X146)<>0,#REF!<>\"\"),AVERAGE(Y146:AE146),\"N/A\")","v":{"$error":"#REF!"}},{"$f":"IF(Y146=\"N/A\",1,\"\")","v":1},1,1,1,1,{"$error":"#REF!"},{"$error":"#REF!"},{"$error":"#REF!"}]
[{"$nulls":24},{"$f":"IF(COUNTA(B147:G147)>0,(COUNTIF(B147:G147,\"=0\")*0+COUNTIF(B147:G147,\"=1\")*100+COUNTIF(B147:G147,\"=2\")*80+COUNTIF(B147:G147,\"=3\")*50+COUNTIF(B147:G147,\"=8\")*20+COUNTIF(B147:G147,\"=9\")*0)/COUNTA(B147:G147)/100,\"N/A\")","v":"N/A"},{"$f":"IF(COUNTA(K147:P147)>0,(COUNTIF(K147:P147,\"=0\")*0+COUNTIF(K147:P147,\"=1\")*100+COUNTIF(K147:P147,\"=2\")*80+COUNTIF(K147:P147,\"=3\")*50+COUNTIF(K147:P147,\"=8\")*20+COUNTIF(K147:P147,\"=9\")*0)/COUNTA(K147:P147)/100,\"N/A\")","v":"N/A"},{"$f":"IF(COUNTA(Q147)>0,(COUNTIF(Q147,\"=0\")*0+COUNTIF(Q147,\"=1\")*100+COUNTIF(Q147,\"=2\")*80+COUNTIF(Q147,\"=3\")*50+COUNTIF(Q147,\"=8\")*20+COUNTIF(Q147,\"=9\")*0)/COUNTA(Q147)/100,\"N/A\")","v":"N/A"},{"$f":"IF(COUNTA(S147:W147)<>0,(COUNTIF(S147:W147,\"=0\")*0+COUNTIF(S147:W147,\"=1\")*100+COUNTIF(S147:W147,\"=2\")*80+COUNTIF(S147:W147,\"=3\")*50+COUNTIF(S147:W147,\"=8\")*20+COUNTIF(S147:W147,\"=9\")*0)/COUNTA(S147:W147)/100,\"N/A\")","v":"N/A"},"N/A",{"$f":"IF(COUNTA(#REF!)>0,(COUNTIF(#REF!,\"=0\")*0+COUNTIF(#REF!,\"=1\")*100+COUNTIF(#REF!,\"=2\")*80+COUNTIF(#REF!,\"=3\")*50+COUNTIF(#REF!,\"=8\")*20+COUNTIF(#REF!,\"=9\")*0)/COUNTA(#REF!)/100,\"N/A\")","v":{"$error":"#REF!"}},{"$f":"IF(COUNTA(#REF!)>0,(COUNTIF(#REF!,\"=0\")*0+COUNTIF(#REF!,\"=1\")*100+COUNTIF(#REF!,\"=2\")*80+COUNTIF(#REF!,\"=3\")*50+COUNTIF(#REF!,\"=8\")*20+COUNTIF(#REF!,\"=9\")*0)/COUNTA(#REF!)/100,\"N/A\")","v":{"$error":"#REF!"}},{"$f":"IF(AND(COUNTA(B147:X147)<>0,#REF!<>\"\"),AVERAGE(Y147:AE147),\"N/A\")","v":{"$error":"#REF!"}},1,1,1,1,1,{"$error":"#REF!"},{"$error":"#REF!"},{"$error":"#REF!"}]
[{"$nulls":24},{"$f":"IF(COUNTA(B148:G148)>0,(COUNTIF(B148:G148,\"=0\")*0+COUNTIF(B148:G148,\"=1\")*100+COUNTIF(B148:G148,\"=2\")*80+COUNTIF(B148:G148,\"=3\")*50+COUNTIF(B148:G148,\"=8\")*20+COUNTIF(B148:G148,\"=9\")*0)/COUNTA(B148:G148)/100,\"N/A\")","v":"N/A"},{"$f":"IF(COUNTA(K148:P148)>0,(COUNTIF(K148:P148,\"=0\")*0+COUNTIF(K148:P148,\"=1\")*100+COUNTIF(K148:P148,\"=2\")*80+COUNTIF(K148:P148,\"=3\")*50+COUNTIF(K148:P148,\"=8\")*20+COUNTIF(K148:P148,\"=9\")*0)/COUNTA(K148:P148)/100,\"N/A\")","v":"N/A"},{"$f":"IF(COUNTA(Q148)>0,(COUNTIF(Q148,\"=0\")*0+COUNTIF(Q148,\"=1\")*100+COUNTIF(Q148,\"=2\")*80+COUNTIF(Q148,\"=3\")*50+COUNTIF(Q148,\"=8\")*20+COUNTIF(Q148,\"=9\")*0)/COUNTA(Q148)/100,\"N/A\")","v":"N/A"},{"$f":"IF(COUNTA(S148:W148)<>0,(COUNTIF(S148:W148,\"=0\")*0+COUNTIF(S148:W148,\"=1\")*100+COUNTIF(S148:W148,\"=2\")*80+COUNTIF(S148:W148,\"=3\")*50+COUNTIF(S148:W148,\"=8\")*20+COUNTIF(S148:W148,\"=9\")*0)/COUNTA(S148:W148)/100,\"N/A\")","v":"N/A"},{"$f":"IF(COUNTA(X148:X148)>0,(COUNTIF(X148:X148,\"=0\")*0+COUNTIF(X148:X148,\"=1\")*100+COUNTIF(X148:X148,\"=2\")*80+COUNTIF(X148:X148,\"=3\")*50+COUNTIF(X148:X148,\"=8\")*20+COUNTIF(X148:X148,\"=9\")*0)/COUNTA(X148:X148)/100,\"N/A\")","v":"N/A"},{"$f":"IF(COUNTA(#REF!)>0,(COUNTIF(#REF!,\"=0\")*0+COUNTIF(#REF!,\"=1\")*100+COUNTIF(#REF!,\"=2\")*80+COUNTIF(#REF!,\"=3\")*50+COUNTIF(#REF!,\"=8\")*20+COUNTIF(#REF!,\"=9\")*0)/COUNTA(#REF!)/100,\"N/A\")","v":{"$error":"#REF!"}},{"$f":"IF(COUNTA(#REF!)>0,(COUNTIF(#REF!,\"=0\")*0+COUNTIF(#REF!,\"=1\")*100+COUNTIF(#REF!,\"=2\")*80+COUNTIF(#REF!,\"=3\")*50+COUNTIF(#REF!,\"=8\")*20+COUNTIF(#REF!,\"=9\")*0)/COUNTA(#REF!)/100,\"N/A\")","v":{"$error":"#REF!"}},{"$f":"IF(AND(COUNTA(B148:X148)<>0,#REF!<>\"\"),AVERAGE(Y148:AE148),\"N/A\")","v":{"$error":"#REF!"}},1,1,1,1,1,{"$error":"#REF!"},{"$error":"#REF!"},{"$error":"#REF!"}]
[{"$nulls":24},{"$f":"IF(COUNTA(B149:G149)>0,(COUNTIF(B149:G149,\"=0\")*0+COUNTIF(B149:G149,\"=1\")*100+COUNTIF(B149:G149,\"=2\")*80+COUNTIF(B149:G149,\"=3\")*50+COUNTIF(B149:G149,\"=8\")*20+COUNTIF(B149:G149,\"=9\")*0)/COUNTA(B149:G149)/100,\"N/A\")","v":"N/A"},{"$f":"IF(COUNTA(K149:P149)>0,(COUNTIF(K149:P149,\"=0\")*0+COUNTIF(K149:P149,\"=1\")*100+COUNTIF(K149:P149,\"=2\")*80+COUNTIF(K149:P149,\"=3\")*50+COUNTIF(K149:P149,\"=8\")*20+COUNTIF(K149:P149,\"=9\")*0)/COUNTA(K149:P149)/100,\"N/A\")","v":"N/A"},{"$f":"IF(COUNTA(Q149)>0,(COUNTIF(Q149,\"=0\")*0+COUNTIF(Q149,\"=1\")*100+COUNTIF(Q149,\"=2\")*80+COUNTIF(Q149,\"=3\")*50+COUNTIF(Q149,\"=8\")*20+COUNTIF(Q149,\"=9\")*0)/COUNTA(Q149)/100,\"N/A\")","v":"N/A"},{"$f":"IF(COUNTA(S149:W149)<>0,(COUNTIF(S149:W149,\"=0\")*0+COUNTIF(S149:W149,\"=1\")*100+COUNTIF(S149:W149,\"=2\")*80+COUNTIF(S149:W149,\"=3\")*50+COUNTIF(S149:W149,\"=8\")*20+COUNTIF(S149:W149,\"=9\")*0)/COUNTA(S149:W149)/100,\"N/A\")","v":"N/A"},"N/A",{"$f":"IF(COUNTA(#REF!)>0,(COUNTIF(#REF!,\"=0\")*0+COUNTIF(#REF!,\"=1\")*100+COUNTIF(#REF!,\"=2\")*80+COUNTIF(#REF!,\"=3\")*50+COUNTIF(#REF!,\"=8\")*20+COUNTIF(#REF!,\"=9\")*0)/COUNTA(#REF!)/100,\"N/A\")","v":{"$error":"#REF!"}},{"$f":"IF(COUNTA(#REF!)>0,(COUNTIF(#REF!,\"=0\")*0+COUNTIF(#REF!,\"=1\")*100+COUNTIF(#REF!,\"=2\")*80+COUNTIF(#REF!,\"=3\")*50+COUNTIF(#REF!,\"=8\")*20+COUNTIF(#REF!,\"=9\")*0)/COUNTA(#REF!)/100,\"N/A\")","v":{"$error":"#REF!"}},{"$f":"IF(AND(COUNTA(B149:X149)<>0,#REF!<>\"\"),AVERAGE(Y149:AE149),\"N/A\")","v":{"$error":"#REF!"}},1,1,1,1,1,{"$error":"#REF!"},{"$error":"#REF!"},{"$error":"#REF!"}]
[{"$nulls":24},{"$f":"IF(COUNTA(B150:G150)>0,(COUNTIF(B150:G150,\"=0\")*0+COUNTIF(B150:G150,\"=1\")*100+COUNTIF(B150:G150,\"=2\")*80+COUNTIF(B150:G150,\"=3\")*50+COUNTIF(B150:G150,\"=8\")*20+COUNTIF(B150:G150,\"=9\")*0)/COUNTA(B150:G150)/100,\"N/A\")","v":"N/A"},{"$f":"IF(COUNTA(K150:P150)>0,(COUNTIF(K150:P150,\"=0\")*0+COUNTIF(K150:P150,\"=1\")*100+COUNTIF(K150:P150,\"=2\")*80+COUNTIF(K150:P150,\"=3\")*50+COUNTIF(K150:P150,\"=8\")*20+COUNTIF(K150:P150,\"=9\")*0)/COUNTA(K150:P150)/100,\"N/A\")","v":"N/A"},{"$f":"IF(COUNTA(Q150)>0,(COUNTIF(Q150,\"=0\")*0+COUNTIF(Q150,\"=1\")*100+COUNTIF(Q150,\"=2\")*80+COUNTIF(Q150,\"=3\")*50+COUNTIF(Q150,\"=8\")*20+COUNTIF(Q150,\"=9\")*0)/COUNTA(Q150)/100,\"N/A\")","v":"N/A"},{"$f":"IF(COUNTA(S150:W150)<>0,(COUNTIF(S150:W150,\"=0\")*0+COUNTIF(S150:W150,\"=1\")*100+COUNTIF(S150:W150,\"=2\")*80+COUNTIF(S150:W150,\"=3\")*50+COUNTIF(S150:W150,\"=8\")*20+COUNTIF(S150:W150,\"=9\")*0)/COUNTA(S150:W150)/100,\"N/A\")","v":"N/A"},"N/A",{"$f":"IF(COUNTA(#REF!)>0,(COUNTIF(#REF!,\"=0\")*0+COUNTIF(#REF!,\"=1\")*100+COUNTIF(#REF!,\"=2\")*80+COUNTIF(#REF!,\"=3\")*50+COUNTIF(#REF!,\"=8\")*20+COUNTIF(#REF!,\"=9\")*0)/COUNTA(#REF!)/100,\"N/A\")","v":{"$error":"#REF!"}},{"$f":"IF(COUNTA(#REF!)>0,(COUNTIF(#REF!,\"=0\")*0+COUNTIF(#REF!,\"=1\")*100+COUNTIF(#REF!,\"=2\")*80+COUNTIF(#REF!,\"=3\")*50+COUNTIF(#REF!,\"=8\")*20+COUNTIF(#REF!,\"=9\")*0)/COUNTA(#REF!)/100,\"N/A\")","v":{"$error":"#REF!"}},{"$f":"IF(AND(COUNTA(B150:X150)<>0,#REF!<>\"\"),AVERAGE(Y150:AE150),\"N/A\")","v":{"$error":"#REF!"}},1,1,1,1,1,{"$error":"#REF!"},{"$error":"#REF!"},{"$error":"#REF!"}]
[{"$nulls":24},{"$f":"IF(COUNTA(B151:G151)>0,(COUNTIF(B151:G151,\"=0\")*0+COUNTIF(B151:G151,\"=1\")*100+COUNTIF(B151:G151,\"=2\")*80+COUNTIF(B151:G151,\"=3\")*50+COUNTIF(B151:G151,\"=8\")*20+COUNTIF(B151:G151,\"=9\")*0)/COUNTA(B151:G151)/100,\"N/A\")","v":"N/A"},{"$f":"IF(COUNTA(K151:P151)>0,(COUNTIF(K151:P151,\"=0\")*0+COUNTIF(K151:P151,\"=1\")*100+COUNTIF(K151:P151,\"=2\")*80+COUNTIF(K151:P151,\"=3\")*50+COUNTIF(K151:P151,\"=8\")*20+COUNTIF(K151:P151,\"=9\")*0)/COUNTA(K151:P151)/100,\"N/A\")","v":"N/A"},{"$f":"IF(COUNTA(Q151)>0,(COUNTIF(Q151,\"=0\")*0+COUNTIF(Q151,\"=1\")*100+COUNTIF(Q151,\"=2\")*80+COUNTIF(Q151,\"=3\")*50+COUNTIF(Q151,\"=8\")*20+COUNTIF(Q151,\"=9\")*0)/COUNTA(Q151)/100,\"N/A\")","v":"N/A"},{"$f":"IF(COUNTA(S151:W151)<>0,(COUNTIF(S151:W151,\"=0\")*0+COUNTIF(S151:W151,\"=1\")*100+COUNTIF(S151:W151,\"=2\")*80+COUNTIF(S151:W151,\"=3\")*50+COUNTIF(S151:W151,\"=8\")*20+COUNTIF(S151:W151,\"=9\")*0)/COUNTA(S151:W151)/100,\"N/A\")","v":"N/A"},"N/A",{"$f":"IF(COUNTA(#REF!)>0,(COUNTIF(#REF!,\"=0\")*0+COUNTIF(#REF!,\"=1\")*100+COUNTIF(#REF!,\"=2\")*80+COUNTIF(#REF!,\"=3\")*50+COUNTIF(#REF!,\"=8\")*20+COUNTIF(#REF!,\"=9\")*0)/COUNTA(#REF!)/100,\"N/A\")","v":{"$error":"#REF!"}},{"$f":"IF(COUNTA(#REF!)>0,(COUNTIF(#REF!,\"=0\")*0+COUNTIF(#REF!,\"=1\")*100+COUNTIF(#REF!,\"=2\")*80+COUNTIF(#REF!,\"=3\")*50+COUNTIF(#REF!,\"=8\")*20+COUNTIF(#REF!,\"=9\")*0)/COUNTA(#REF!)/100,\"N/A\")","v":{"$error":"#REF!"}},{"$f":"IF(AND(COUNTA(B151:X151)<>0,#REF!<>\"\"),AVERAGE(Y151:AE151),\"N/A\")","v":{"$error":"#REF!"}},1,1,1,1,1,{"$error":"#REF!"},{"$error":"#REF!"},{"$error":"#REF!"}]
[{"$nulls":24},{"$f":"IF(COUNTA(B152:G152)>0,(COUNTIF(B152:G152,\"=0\")*0+COUNTIF(B152:G152,\"=1\")*100+COUNTIF(B152:G152,\"=2\")*80+COUNTIF(B152:G152,\"=3\")*50+COUNTIF(B152:G152,\"=8\")*20+COUNTIF(B152:G152,\"=9\")*0)/COUNTA(B152:G152)/100,\"N/A\")","v":"N/A"},{"$f":"IF(COUNTA(K152:P152)>0,(COUNTIF(K152:P152,\"=0\")*0+COUNTIF(K152:P152,\"=1\")*100+COUNTIF(K152:P152,\"=2\")*80+COUNTIF(K152:P152,\"=3\")*50+COUNTIF(K152:P152,\"=8\")*20+COUNTIF(K152:P152,\"=9\")*0)/COUNTA(K152:P152)/100,\"N/A\")","v":"N/A"},{"$f":"IF(COUNTA(Q152)>0,(COUNTIF(Q152,\"=0\")*0+COUNTIF(Q152,\"=1\")*100+COUNTIF(Q152,\"=2\")*80+COUNTIF(Q152,\"=3\")*50+COUNTIF(Q152,\"=8\")*20+COUNTIF(Q152,\"=9\")*0)/COUNTA(Q152)/100,\"N/A\")","v":"N/A"},{"$f":"IF(COUNTA(S152:W152)<>0,(COUNTIF(S152:W152,\"=0\")*0+COUNTIF(S152:W152,\"=1\")*100+COUNTIF(S152:W152,\"=2\")*80+COUNTIF(S152:W152,\"=3\")*50+COUNTIF(S152:W152,\"=8\")*20+COUNTIF(S152:W152,\"=9\")*0)/COUNTA(S152:W152)/100,\"N/A\")","v":"N/A"},"N/A",{"$f":"IF(COUNTA(#REF!)>0,(COUNTIF(#REF!,\"=0\")*0+COUNTIF(#REF!,\"=1\")*100+COUNTIF(#REF!,\"=2\")*80+COUNTIF(#REF!,\"=3\")*50+COUNTIF(#REF!,\"=8\")*20+COUNTIF(#REF!,\"=9\")*0)/COUNTA(#REF!)/100,\"N/A\")","v":{"$error":"#REF!"}},{"$f":"IF(COUNTA(#REF!)>0,(COUNTIF(#REF!,\"=0\")*0+COUNTIF(#REF!,\"=1\")*100+COUNTIF(#REF!,\"=2\")*80+COUNTIF(#REF!,\"=3\")*50+COUNTIF(#REF!,\"=8\")*20+COUNTIF(#REF!,\"=9\")*0)/COUNTA(#REF!)/100,\"N/A\")","v":{"$error":"#REF!"}},{"$f":"IF(AND(COUNTA(B152:X152)<>0,#REF!<>\"\"),AVERAGE(Y152:AE152),\"N/A\")","v":{"$error":"#REF!"}},1,1,1,1,1,{"$error":"#REF!"},{"$error":"#REF!"},{"$error":"#REF!"}]
[{"$nulls":24},{"$f":"IF(COUNTA(B153:G153)>0,(COUNTIF(B153:G153,\"=0\")*0+COUNTIF(B153:G153,\"=1\")*100+COUNTIF(B153:G153,\"=2\")*80+COUNTIF(B153:G153,\"=3\")*50+COUNTIF(B153:G153,\"=8\")*20+COUNTIF(B153:G153,\"=9\")*0)/COUNTA(B153:G153)/100,\"N/A\")","v":"N/A"},{"$f":"IF(COUNTA(K153:P153)>0,(COUNTIF(K153:P153,\"=0\")*0+COUNTIF(K153:P153,\"=1\")*100+COUNTIF(K153:P153,\"=2\")*80+COUNTIF(K153:P153,\"=3\")*50+COUNTIF(K153:P153,\"=8\")*20+COUNTIF(K153:P153,\"=9\")*0)/COUNTA(K153:P153)/100,\"N/A\")","v":"N/A"},{"$f":"IF(COUNTA(Q153)>0,(COUNTIF(Q153,\"=0\")*0+COUNTIF(Q153,\"=1\")*100+COUNTIF(Q153,\"=2\")*80+COUNTIF(Q153,\"=3\")*50+COUNTIF(Q153,\"=8\")*20+COUNTIF(Q153,\"=9\")*0)/COUNTA(Q153)/100,\"N/A\")","v":"N/A"},{"$f":"IF(COUNTA(S153:W153)<>0,(COUNTIF(S153:W153,\"=0\")*0+COUNTIF(S153:W153,\"=1\")*100+COUNTIF(S153:W153,\"=2\")*80+COUNTIF(S153:W153,\"=3\")*50+COUNTIF(S153:W153,\"=8\")*20+COUNTIF(S153:W153,\"=9\")*0)/COUNTA(S153:W153)/100,\"N/A\")","v":"N/A"},"N/A",{"$f":"IF(COUNTA(#REF!)>0,(COUNTIF(#REF!,\"=0\")*0+COUNTIF(#REF!,\"=1\")*100+COUNTIF(#REF!,\"=2\")*80+COUNTIF(#REF!,\"=3\")*50+COUNTIF(#REF!,\"=8\")*20+COUNTIF(#REF!,\"=9\")*0)/COUNTA(#REF!)/100,\"N/A\")","v":{"$error":"#REF!"}},{"$f":"IF(COUNTA(#REF!)>0,(COUNTIF(#REF!,\"=0\")*0+COUNTIF(#REF!,\"=1\")*100+COUNTIF(#REF!,\"=2\")*80+COUNTIF(#REF!,\"=3\")*50+COUNTIF(#REF!,\"=8\")*20+COUNTIF(#REF!,\"=9\")*0)/COUNTA(#REF!)/100,\"N/A\")","v":{"$error":"#REF!"}},{"$f":"IF(AND(COUNTA(B153:X153)<>0,#REF!<>\"\"),AVERAGE(Y153:AE153),\"N/A\")","v":{"$error":"#REF!"}},1,1,1,1,1,{"$error":"#REF!"},{"$error":"#REF!"},{"$error":"#REF!"}]
[{"$nulls":24},{"$f":"IF(COUNTA(B154:G154)>0,(COUNTIF(B154:G154,\"=0\")*0+COUNTIF(B154:G154,\"=1\")*100+COUNTIF(B154:G154,\"=2\")*80+COUNTIF(B154:G154,\"=3\")*50+COUNTIF(B154:G154,\"=8\")*20+COUNTIF(B154:G154,\"=9\")*0)/COUNTA(B154:G154)/100,\"N/A\")","v":"N/A"},{"$f":"IF(COUNTA(K154:P154)>0,(COUNTIF(K154:P154,\"=0\")*0+COUNTIF(K154:P154,\"=1\")*100+COUNTIF(K154:P154,\"=2\")*80+COUNTIF(K154:P154,\"=3\")*50+COUNTIF(K154:P154,\"=8\")*20+COUNTIF(K154:P154,\"=9\")*0)/COUNTA(K154:P154)/100,\"N/A\")","v":"N/A"},{"$f":"IF(COUNTA(Q154)>0,(COUNTIF(Q154,\"=0\")*0+COUNTIF(Q154,\"=1\")*100+COUNTIF(Q154,\"=2\")*80+COUNTIF(Q154,\"=3\")*50+COUNTIF(Q154,\"=8\")*20+COUNTIF(Q154,\"=9\")*0)/COUNTA(Q154)/100,\"N/A\")","v":"N/A"},{"$f":"IF(COUNTA(S154:W154)<>0,(COUNTIF(S154:W154,\"=0\")*0+COUNTIF(S154:W154,\"=1\")*100+COUNTIF(S154:W154,\"=2\")*80+COUNTIF(S154:W154,\"=3\")*50+COUNTIF(S154:W154,\"=8\")*20+COUNTIF(S154:W154,\"=9\")*0)/COUNTA(S154:W154)/100,\"N/A\")","v":"N/A"},"N/A",{"$f":"IF(COUNTA(#REF!)>0,(COUNTIF(#REF!,\"=0\")*0+COUNTIF(#REF!,\"=1\")*100+COUNTIF(#REF!,\"=2\")*80+COUNTIF(#REF!,\"=3\")*50+COUNTIF(#REF!,\"=8\")*20+COUNTIF(#REF!,\"=9\")*0)/COUNTA(#REF!)/100,\"N/A\")","v":{"$error":"#REF!"}},{"$f":"IF(COUNTA(#REF!)>0,(COUNTIF(#REF!,\"=0\")*0+COUNTIF(#REF!,\"=1\")*100+COUNTIF(#REF!,\"=2\")*80+COUNTIF(#REF!,\"=3\")*50+COUNTIF(#REF!,\"=8\")*20+COUNTIF(#REF!,\"=9\")*0)/COUNTA(#REF!)/100,\"N/A\")","v":{"$error":"#REF!"}},{"$f":"IF(AND(COUNTA(B154:X154)<>0,#REF!<>\"\"),AVERAGE(Y154:AE154),\"N/A\")","v":{"$error":"#REF!"}},1,1,1,1,1,{"$error":"#REF!"},{"$error":"#REF!"},{"$error":"#REF!"}]
[{"$nulls":24},{"$f":"IF(COUNTA(B155:G155)>0,(COUNTIF(B155:G155,\"=0\")*0+COUNTIF(B155:G155,\"=1\")*100+COUNTIF(B155:G155,\"=2\")*80+COUNTIF(B155:G155,\"=3\")*50+COUNTIF(B155:G155,\"=8\")*20+COUNTIF(B155:G155,\"=9\")*0)/COUNTA(B155:G155)/100,\"N/A\")","v":"N/A"},{"$f":"IF(COUNTA(K155:P155)>0,(COUNTIF(K155:P155,\"=0\")*0+COUNTIF(K155:P155,\"=1\")*100+COUNTIF(K155:P155,\"=2\")*80+COUNTIF(K155:P155,\"=3\")*50+COUNTIF(K155:P155,\"=8\")*20+COUNTIF(K155:P155,\"=9\")*0)/COUNTA(K155:P155)/100,\"N/A\")","v":"N/A"},{"$f":"IF(COUNTA(Q155)>0,(COUNTIF(Q155,\"=0\")*0+COUNTIF(Q155,\"=1\")*100+COUNTIF(Q155,\"=2\")*80+COUNTIF(Q155,\"=3\")*50+COUNTIF(Q155,\"=8\")*20+COUNTIF(Q155,\"=9\")*0)/COUNTA(Q155)/100,\"N/A\")","v":"N/A"},{"$f":"IF(COUNTA(S155:W155)<>0,(COUNTIF(S155:W155,\"=0\")*0+COUNTIF(S155:W155,\"=1\")*100+COUNTIF(S155:W155,\"=2\")*80+COUNTIF(S155:W155,\"=3\")*50+COUNTIF(S155:W155,\"=8\")*20+COUNTIF(S155:W155,\"=9\")*0)/COUNTA(S155:W155)/100,\"N/A\")","v":"N/A"},"N/A",{"$f":"IF(COUNTA(#REF!)>0,(COUNTIF(#REF!,\"=0\")*0+COUNTIF(#REF!,\"=1\")*100+COUNTIF(#REF!,\"=2\")*80+COUNTIF(#REF!,\"=3\")*50+COUNTIF(#REF!,\"=8\")*20+COUNTIF(#REF!,\"=9\")*0)/COUNTA(#REF!)/100,\"N/A\")","v":{"$error":"#REF!"}},{"$f":"IF(COUNTA(#REF!)>0,(COUNTIF(#REF!,\"=0\")*0+COUNTIF(#REF!,\"=1\")*100+COUNTIF(#REF!,\"=2\")*80+COUNTIF(#REF!,\"=3\")*50+COUNTIF(#REF!,\"=8\")*20+COUNTIF(#REF!,\"=9\")*0)/COUNTA(#REF!)/100,\"N/A\")","v":{"$error":"#REF!"}},{"$f":"IF(AND(COUNTA(B155:X155)<>0,#REF!<>\"\"),AVERAGE(Y155:AE155),\"N/A\")","v":{"$error":"#REF!"}},1,1,1,1,1,{"$error":"#REF!"},{"$error":"#REF!"},{"$error":"#REF!"}]
[{"$nulls":24},{"$f":"IF(COUNTA(B156:G156)>0,(COUNTIF(B156:G156,\"=0\")*0+COUNTIF(B156:G156,\"=1\")*100+COUNTIF(B156:G156,\"=2\")*80+COUNTIF(B156:G156,\"=3\")*50+COUNTIF(B156:G156,\"=8\")*20+COUNTIF(B156:G156,\"=9\")*0)/COUNTA(B156:G156)/100,\"N/A\")","v":"N/A"},{"$f":"IF(COUNTA(K156:P156)>0,(COUNTIF(K156:P156,\"=0\")*0+COUNTIF(K156:P156,\"=1\")*100+COUNTIF(K156:P156,\"=2\")*80+COUNTIF(K156:P156,\"=3\")*50+COUNTIF(K156:P156,\"=8\")*20+COUNTIF(K156:P156,\"=9\")*0)/COUNTA(K156:P156)/100,\"N/A\")","v":"N/A"},{"$f":"IF(COUNTA(Q156)>0,(COUNTIF(Q156,\"=0\")*0+COUNTIF(Q156,\"=1\")*100+COUNTIF(Q156,\"=2\")*80+COUNTIF(Q156,\"=3\")*50+COUNTIF(Q156,\"=8\")*20+COUNTIF(Q156,\"=9\")*0)/COUNTA(Q156)/100,\"N/A\")","v":"N/A"},{"$f":"IF(COUNTA(S156:W156)<>0,(COUNTIF(S156:W156,\"=0\")*0+COUNTIF(S156:W156,\"=1\")*100+COUNTIF(S156:W156,\"=2\")*80+COUNTIF(S156:W156,\"=3\")*50+COUNTIF(S156:W156,\"=8\")*20+COUNTIF(S156:W156,\"=9\")*0)/COUNTA(S156:W156)/100,\"N/A\")","v":"N/A"},"N/A",{"$f":"IF(COUNTA(#REF!)>0,(COUNTIF(#REF!,\"=0\")*0+COUNTIF(#REF!,\"=1\")*100+COUNTIF(#REF!,\"=2\")*80+COUNTIF(#REF!,\"=3\")*50+COUNTIF(#REF!,\"=8\")*20+COUNTIF(#REF!,\"=9\")*0)/COUNTA(#REF!)/100,\"N/A\")","v":{"$error":"#REF!"}},{"$f":"IF(COUNTA(#REF!)>0,(COUNTIF(#REF!,\"=0\")*0+COUNTIF(#REF!,\"=1\")*100+COUNTIF(#REF!,\"=2\")*80+COUNTIF(#REF!,\"=3\")*50+COUNTIF(#REF!,\"=8\")*20+COUNTIF(#REF!,\"=9\")*0)/COUNTA(#REF!)/100,\"N/A\")","v":{"$error":"#REF!"}},{"$f":"IF(AND(COUNTA(B156:X156)<>0,#REF!<>\"\"),AVERAGE(Y156:AE156),\"N/A\")","v":{"$error":"#REF!"}},1,1,1,1,1,{"$error":"#REF!"},{"$error":"#REF!"},{"$error":"#REF!"}]
[{"$nulls":24},{"$f":"IF(COUNTA(B157:G157)>0,(COUNTIF(B157:G157,\"=0\")*0+COUNTIF(B157:G157,\"=1\")*100+COUNTIF(B157:G157,\"=2\")*80+COUNTIF(B157:G157,\"=3\")*50+COUNTIF(B157:G157,\"=8\")*20+COUNTIF(B157:G157,\"=9\")*0)/COUNTA(B157:G157)/100,\"N/A\")","v":"N/A"},{"$f":"IF(COUNTA(K157:P157)>0,(COUNTIF(K157:P157,\"=0\")*0+COUNTIF(K157:P157,\"=1\")*100+COUNTIF(K157:P157,\"=2\")*80+COUNTIF(K157:P157,\"=3\")*50+COUNTIF(K157:P157,\"=8\")*20+COUNTIF(K157:P157,\"=9\")*0)/COUNTA(K157:P157)/100,\"N/A\")","v":"N/A"},{"$f":"IF(COUNTA(Q157)>0,(COUNTIF(Q157,\"=0\")*0+COUNTIF(Q157,\"=1\")*100+COUNTIF(Q157,\"=2\")*80+COUNTIF(Q157,\"=3\")*50+COUNTIF(Q157,\"=8\")*20+COUNTIF(Q157,\"=9\")*0)/COUNTA(Q157)/100,\"N/A\")","v":"N/A"},{"$f":"IF(COUNTA(S157:W157)<>0,(COUNTIF(S157:W157,\"=0\")*0+COUNTIF(S157:W157,\"=1\")*100+COUNTIF(S157:W157,\"=2\")*80+COUNTIF(S157:W157,\"=3\")*50+COUNTIF(S157:W157,\"=8\")*20+COUNTIF(S157:W157,\"=9\")*0)/COUNTA(S157:W157)/100,\"N/A\")","v":"N/A"},"N/A",{"$f":"IF(COUNTA(#REF!)>0,(COUNTIF(#REF!,\"=0\")*0+COUNTIF(#REF!,\"=1\")*100+COUNTIF(#REF!,\"=2\")*80+COUNTIF(#REF!,\"=3\")*50+COUNTIF(#REF!,\"=8\")*20+COUNTIF(#REF!,\"=9\")*0)/COUNTA(#REF!)/100,\"N/A\")","v":{"$error":"#REF!"}},{"$f":"IF(COUNTA(#REF!)>0,(COUNTIF(#REF!,\"=0\")*0+COUNTIF(#REF!,\"=1\")*100+COUNTIF(#REF!,\"=2\")*80+COUNTIF(#REF!,\"=3\")*50+COUNTIF(#REF!,\"=8\")*20+COUNTIF(#REF!,\"=9\")*0)/COUNTA(#REF!)/100,\"N/A\")","v":{"$error":"#REF!"}},{"$f":"IF(AND(COUNTA(B157:X157)<>0,#REF!<>\"\"),AVERAGE(Y157:AE157),\"N/A\")","v":{"$error":"#REF!"}},1,1,1,1,1,{"$error":"#REF!"},{"$error":"#REF!"},{"$error":"#REF!"}]
[{"$nulls":24},{"$f":"IF(COUNTA(B158:G158)>0,(COUNTIF(B158:G158,\"=0\")*0+COUNTIF(B158:G158,\"=1\")*100+COUNTIF(B158:G158,\"=2\")*80+COUNTIF(B158:G158,\"=3\")*50+COUNTIF(B158:G158,\"=8\")*20+COUNTIF(B158:G158,\"=9\")*0)/COUNTA(B158:G158)/100,\"N/A\")","v":"N/A"},{"$f":"IF(COUNTA(K158:P158)>0,(COUNTIF(K158:P158,\"=0\")*0+COUNTIF(K158:P158,\"=1\")*100+COUNTIF(K158:P158,\"=2\")*80+COUNTIF(K158:P158,\"=3\")*50+COUNTIF(K158:P158,\"=8\")*20+COUNTIF(K158:P158,\"=9\")*0)/COUNTA(K158:P158)/100,\"N/A\")","v":"N/A"},{"$f":"IF(COUNTA(Q158)>0,(COUNTIF(Q158,\"=0\")*0+COUNTIF(Q158,\"=1\")*100+COUNTIF(Q158,\"=2\")*80+COUNTIF(Q158,\"=3\")*50+COUNTIF(Q158,\"=8\")*20+COUNTIF(Q158,\"=9\")*0)/COUNTA(Q158)/100,\"N/A\")","v":"N/A"},{"$f":"IF(COUNTA(S158:W158)<>0,(COUNTIF(S158:W158,\"=0\")*0+COUNTIF(S158:W158,\"=1\")*100+COUNTIF(S158:W158,\"=2\")*80+COUNTIF(S158:W158,\"=3\")*50+COUNTIF(S158:W158,\"=8\")*20+COUNTIF(S158:W158,\"=9\")*0)/COUNTA(S158:W158)/100,\"N/A\")","v":"N/A"},"N/A",{"$f":"IF(COUNTA(#REF!)>0,(COUNTIF(#REF!,\"=0\")*0+COUNTIF(#REF!,\"=1\")*100+COUNTIF(#REF!,\"=2\")*80+COUNTIF(#REF!,\"=3\")*50+COUNTIF(#REF!,\"=8\")*20+COUNTIF(#REF!,\"=9\")*0)/COUNTA(#REF!)/100,\"N/A\")","v":{"$error":"#REF!"}},{"$f":"IF(COUNTA(#REF!)>0,(COUNTIF(#REF!,\"=0\")*0+COUNTIF(#REF!,\"=1\")*100+COUNTIF(#REF!,\"=2\")*80+COUNTIF(#REF!,\"=3\")*50+COUNTIF(#REF!,\"=8\")*20+COUNTIF(#REF!,\"=9\")*0)/COUNTA(#REF!)/100,\"N/A\")","v":{"$error":"#REF!"}},{"$f":"IF(AND(COUNTA(B158:X158)<>0,#REF!<>\"\"),AVERAGE(Y158:AE158),\"N/A\")","v":{"$error":"#REF!"}},1,1,1,1,1,{"$error":"#REF!"},{"$error":"#REF!"},{"$error":"#REF!"}]
[{"$nulls":24},{"$f":"IF(COUNTA(B159:G159)>0,(COUNTIF(B159:G159,\"=0\")*0+COUNTIF(B159:G159,\"=1\")*100+COUNTIF(B159:G159,\"=2\")*80+COUNTIF(B159:G159,\"=3\")*50+COUNTIF(B159:G159,\"=8\")*20+COUNTIF(B159:G159,\"=9\")*0)/COUNTA(B159:G159)/100,\"N/A\")","v":"N/A"},{"$f":"IF(COUNTA(K159:P159)>0,(COUNTIF(K159:P159,\"=0\")*0+COUNTIF(K159:P159,\"=1\")*100+COUNTIF(K159:P159,\"=2\")*80+COUNTIF(K159:P159,\"=3\")*50+COUNTIF(K159:P159,\"=8\")*20+COUNTIF(K159:P159,\"=9\")*0)/COUNTA(K159:P159)/100,\"N/A\")","v":"N/A"},{"$f":"IF(COUNTA(Q159)>0,(COUNTIF(Q159,\"=0\")*0+COUNTIF(Q159,\"=1\")*100+COUNTIF(Q159,\"=2\")*80+COUNTIF(Q159,\"=3\")*50+COUNTIF(Q159,\"=8\")*20+COUNTIF(Q159,\"=9\")*0)/COUNTA(Q159)/100,\"N/A\")","v":"N/A"},{"$f":"IF(COUNTA(S159:W159)<>0,(COUNTIF(S159:W159,\"=0\")*0+COUNTIF(S159:W159,\"=1\")*100+COUNTIF(S159:W159,\"=2\")*80+COUNTIF(S159:W159,\"=3\")*50+COUNTIF(S159:W159,\"=8\")*20+COUNTIF(S159:W159,\"=9\")*0)/COUNTA(S159:W159)/100,\"N/A\")","v":"N/A"},"N/A",{"$f":"IF(COUNTA(#REF!)>0,(COUNTIF(#REF!,\"=0\")*0+COUNTIF(#REF!,\"=1\")*100+COUNTIF(#REF!,\"=2\")*80+COUNTIF(#REF!,\"=3\")*50+COUNTIF(#REF!,\"=8\")*20+COUNTIF(#REF!,\"=9\")*0)/COUNTA(#REF!)/100,\"N/A\")","v":{"$error":"#REF!"}},{"$f":"IF(COUNTA(#REF!)>0,(COUNTIF(#REF!,\"=0\")*0+COUNTIF(#REF!,\"=1\")*100+COUNTIF(#REF!,\"=2\")*80+COUNTIF(#REF!,\"=3\")*50+COUNTIF(#REF!,\"=8\")*20+COUNTIF(#REF!,\"=9\")*0)/COUNTA(#REF!)/100,\"N/A\")","v":{"$error":"#REF!"}},{"$f":"IF(AND(COUNTA(B159:X159)<>0,#REF!<>\"\"),AVERAGE(Y159:AE159),\"N/A\")","v":{"$error":"#REF!"}},1,1,1,1,1,{"$error":"#REF!"},{"$error":"#REF!"},{"$error":"#REF!"}]
[{"$nulls":24},{"$f":"IF(COUNTA(B160:G160)>0,(COUNTIF(B160:G160,\"=0\")*0+COUNTIF(B160:G160,\"=1\")*100+COUNTIF(B160:G160,\"=2\")*80+COUNTIF(B160:G160,\"=3\")*50+COUNTIF(B160:G160,\"=8\")*20+COUNTIF(B160:G160,\"=9\")*0)/COUNTA(B160:G160)/100,\"N/A\")","v":"N/A"},{"$f":"IF(COUNTA(K160:P160)>0,(COUNTIF(K160:P160,\"=0\")*0+COUNTIF(K160:P160,\"=1\")*100+COUNTIF(K160:P160,\"=2\")*80+COUNTIF(K160:P160,\"=3\")*50+COUNTIF(K160:P160,\"=8\")*20+COUNTIF(K160:P160,\"=9\")*0)/COUNTA(K160:P160)/100,\"N/A\")","v":"N/A"},{"$f":"IF(COUNTA(Q160)>0,(COUNTIF(Q160,\"=0\")*0+COUNTIF(Q160,\"=1\")*100+COUNTIF(Q160,\"=2\")*80+COUNTIF(Q160,\"=3\")*50+COUNTIF(Q160,\"=8\")*20+COUNTIF(Q160,\"=9\")*0)/COUNTA(Q160)/100,\"N/A\")","v":"N/A"},{"$f":"IF(COUNTA(S160:W160)<>0,(COUNTIF(S160:W160,\"=0\")*0+COUNTIF(S160:W160,\"=1\")*100+COUNTIF(S160:W160,\"=2\")*80+COUNTIF(S160:W160,\"=3\")*50+COUNTIF(S160:W160,\"=8\")*20+COUNTIF(S160:W160,\"=9\")*0)/COUNTA(S160:W160)/100,\"N/A\")","v":"N/A"},"N/A",{"$f":"IF(COUNTA(#REF!)>0,(COUNTIF(#REF!,\"=0\")*0+COUNTIF(#REF!,\"=1\")*100+COUNTIF(#REF!,\"=2\")*80+COUNTIF(#REF!,\"=3\")*50+COUNTIF(#REF!,\"=8\")*20+COUNTIF(#REF!,\"=9\")*0)/COUNTA(#REF!)/100,\"N/A\")","v":{"$error":"#REF!"}},{"$f":"IF(COUNTA(#REF!)>0,(COUNTIF(#REF!,\"=0\")*0+COUNTIF(#REF!,\"=1\")*100+COUNTIF(#REF!,\"=2\")*80+COUNTIF(#REF!,\"=3\")*50+COUNTIF(#REF!,\"=8\")*20+COUNTIF(#REF!,\"=9\")*0)/COUNTA(#REF!)/100,\"N/A\")","v":{"$error":"#REF!"}},{"$f":"IF(AND(COUNTA(B160:X160)<>0,#REF!<>\"\"),AVERAGE(Y160:AE160),\"N/A\")","v":{"$error":"#REF!"}},1,1,1,1,1,{"$error":"#REF!"},{"$error":"#REF!"},{"$error":"#REF!"}]
[{"$nulls":24},{"$f":"IF(COUNTA(B161:G161)>0,(COUNTIF(B161:G161,\"=0\")*0+COUNTIF(B161:G161,\"=1\")*100+COUNTIF(B161:G161,\"=2\")*80+COUNTIF(B161:G161,\"=3\")*50+COUNTIF(B161:G161,\"=8\")*20+COUNTIF(B161:G161,\"=9\")*0)/COUNTA(B161:G161)/100,\"N/A\")","v":"N/A"},{"$f":"IF(COUNTA(K161:P161)>0,(COUNTIF(K161:P161,\"=0\")*0+COUNTIF(K161:P161,\"=1\")*100+COUNTIF(K161:P161,\"=2\")*80+COUNTIF(K161:P161,\"=3\")*50+COUNTIF(K161:P161,\"=8\")*20+COUNTIF(K161:P161,\"=9\")*0)/COUNTA(K161:P161)/100,\"N/A\")","v":"N/A"},{"$f":"IF(COUNTA(Q161)>0,(COUNTIF(Q161,\"=0\")*0+COUNTIF(Q161,\"=1\")*100+COUNTIF(Q161,\"=2\")*80+COUNTIF(Q161,\"=3\")*50+COUNTIF(Q161,\"=8\")*20+COUNTIF(Q161,\"=9\")*0)/COUNTA(Q161)/100,\"N/A\")","v":"N/A"},{"$f":"IF(COUNTA(S161:W161)<>0,(COUNTIF(S161:W161,\"=0\")*0+COUNTIF(S161:W161,\"=1\")*100+COUNTIF(S161:W161,\"=2\")*80+COUNTIF(S161:W161,\"=3\")*50+COUNTIF(S161:W161,\"=8\")*20+COUNTIF(S161:W161,\"=9\")*0)/COUNTA(S161:W161)/100,\"N/A\")","v":"N/A"},"N/A",{"$f":"IF(COUNTA(#REF!)>0,(COUNTIF(#REF!,\"=0\")*0+COUNTIF(#REF!,\"=1\")*100+COUNTIF(#REF!,\"=2\")*80+COUNTIF(#REF!,\"=3\")*50+COUNTIF(#REF!,\"=8\")*20+COUNTIF(#REF!,\"=9\")*0)/COUNTA(#REF!)/100,\"N/A\")","v":{"$error":"#REF!"}},{"$f":"IF(COUNTA(#REF!)>0,(COUNTIF(#REF!,\"=0\")*0+COUNTIF(#REF!,\"=1\")*100+COUNTIF(#REF!,\"=2\")*80+COUNTIF(#REF!,\"=3\")*50+COUNTIF(#REF!,\"=8\")*20+COUNTIF(#REF!,\"=9\")*0)/COUNTA(#REF!)/100,\"N/A\")","v":{"$error":"#REF!"}},{"$f":"IF(AND(COUNTA(B161:X161)<>0,#REF!<>\"\"),AVERAGE(Y161:AE161),\"N/A\")","v":{"$error":"#REF!"}},1,1,1,1,1,{"$error":"#REF!"},{"$error":"#REF!"},{"$error":"#REF!"}]
[{"$nulls":24},{"$f":"IF(COUNTA(B162:G162)>0,(COUNTIF(B162:G162,\"=0\")*0+COUNTIF(B162:G162,\"=1\")*100+COUNTIF(B162:G162,\"=2\")*80+COUNTIF(B162:G162,\"=3\")*50+COUNTIF(B162:G162,\"=8\")*20+COUNTIF(B162:G162,\"=9\")*0)/COUNTA(B162:G162)/100,\"N/A\")","v":"N/A"},{"$f":"IF(COUNTA(K162:P162)>0,(COUNTIF(K162:P162,\"=0\")*0+COUNTIF(K162:P162,\"=1\")*100+COUNTIF(K162:P162,\"=2\")*80+COUNTIF(K162:P162,\"=3\")*50+COUNTIF(K162:P162,\"=8\")*20+COUNTIF(K162:P162,\"=9\")*0)/COUNTA(K162:P162)/100,\"N/A\")","v":"N/A"},{"$f":"IF(COUNTA(Q162)>0,(COUNTIF(Q162,\"=0\")*0+COUNTIF(Q162,\"=1\")*100+COUNTIF(Q162,\"=2\")*80+COUNTIF(Q162,\"=3\")*50+COUNTIF(Q162,\"=8\")*20+COUNTIF(Q162,\"=9\")*0)/COUNTA(Q162)/100,\"N/A\")","v":"N/A"},{"$f":"IF(COUNTA(S162:W162)<>0,(COUNTIF(S162:W162,\"=0\")*0+COUNTIF(S162:W162,\"=1\")*100+COUNTIF(S162:W162,\"=2\")*80+COUNTIF(S162:W162,\"=3\")*50+COUNTIF(S162:W162,\"=8\")*20+COUNTIF(S162:W162,\"=9\")*0)/COUNTA(S162:W162)/100,\"N/A\")","v":"N/A"},"N/A",{"$f":"IF(COUNTA(#REF!)>0,(COUNTIF(#REF!,\"=0\")*0+COUNTIF(#REF!,\"=1\")*100+COUNTIF(#REF!,\"=2\")*80+COUNTIF(#REF!,\"=3\")*50+COUNTIF(#REF!,\"=8\")*20+COUNTIF(#REF!,\"=9\")*0)/COUNTA(#REF!)/100,\"N/A\")","v":{"$error":"#REF!"}},{"$f":"IF(COUNTA(#REF!)>0,(COUNTIF(#REF!,\"=0\")*0+COUNTIF(#REF!,\"=1\")*100+COUNTIF(#REF!,\"=2\")*80+COUNTIF(#REF!,\"=3\")*50+COUNTIF(#REF!,\"=8\")*20+COUNTIF(#REF!,\"=9\")*0)/COUNTA(#REF!)/100,\"N/A\")","v":{"$error":"#REF!"}},{"$f":"IF(AND(COUNTA(B162:X162)<>0,#REF!<>\"\"),AVERAGE(Y162:AE162),\"N/A\")","v":{"$error":"#REF!"}},1,1,1,1,1,{"$error":"#REF!"},{"$error":"#REF!"},{"$error":"#REF!"}]
[{"$nulls":24},{"$f":"IF(COUNTA(B163:G163)>0,(COUNTIF(B163:G163,\"=0\")*0+COUNTIF(B163:G163,\"=1\")*100+COUNTIF(B163:G163,\"=2\")*80+COUNTIF(B163:G163,\"=3\")*50+COUNTIF(B163:G163,\"=8\")*20+COUNTIF(B163:G163,\"=9\")*0)/COUNTA(B163:G163)/100,\"N/A\")","v":"N/A"},{"$f":"IF(COUNTA(K163:P163)>0,(COUNTIF(K163:P163,\"=0\")*0+COUNTIF(K163:P163,\"=1\")*100+COUNTIF(K163:P163,\"=2\")*80+COUNTIF(K163:P163,\"=3\")*50+COUNTIF(K163:P163,\"=8\")*20+COUNTIF(K163:P163,\"=9\")*0)/COUNTA(K163:P163)/100,\"N/A\")","v":"N/A"},{"$f":"IF(COUNTA(Q163)>0,(COUNTIF(Q163,\"=0\")*0+COUNTIF(Q163,\"=1\")*100+COUNTIF(Q163,\"=2\")*80+COUNTIF(Q163,\"=3\")*50+COUNTIF(Q163,\"=8\")*20+COUNTIF(Q163,\"=9\")*0)/COUNTA(Q163)/100,\"N/A\")","v":"N/A"},{"$f":"IF(COUNTA(S163:W163)<>0,(COUNTIF(S163:W163,\"=0\")*0+COUNTIF(S163:W163,\"=1\")*100+COUNTIF(S163:W163,\"=2\")*80+COUNTIF(S163:W163,\"=3\")*50+COUNTIF(S163:W163,\"=8\")*20+COUNTIF(S163:W163,\"=9\")*0)/COUNTA(S163:W163)/100,\"N/A\")","v":"N/A"},"N/A",{"$f":"IF(COUNTA(#REF!)>0,(COUNTIF(#REF!,\"=0\")*0+COUNTIF(#REF!,\"=1\")*100+COUNTIF(#REF!,\"=2\")*80+COUNTIF(#REF!,\"=3\")*50+COUNTIF(#REF!,\"=8\")*20+COUNTIF(#REF!,\"=9\")*0)/COUNTA(#REF!)/100,\"N/A\")","v":{"$error":"#REF!"}},{"$f":"IF(COUNTA(#REF!)>0,(COUNTIF(#REF!,\"=0\")*0+COUNTIF(#REF!,\"=1\")*100+COUNTIF(#REF!,\"=2\")*80+COUNTIF(#REF!,\"=3\")*50+COUNTIF(#REF!,\"=8\")*20+COUNTIF(#REF!,\"=9\")*0)/COUNTA(#REF!)/100,\"N/A\")","v":{"$error":"#REF!"}},{"$f":"IF(AND(COUNTA(B163:X163)<>0,#REF!<>\"\"),AVERAGE(Y163:AE163),\"N/A\")","v":{"$error":"#REF!"}},1,1,1,1,1,{"$error":"#REF!"},{"$error":"#REF!"},{"$error":"#REF!"}]
[{"$nulls":24},{"$f":"IF(COUNTA(B164:G164)>0,(COUNTIF(B164:G164,\"=0\")*0+COUNTIF(B164:G164,\"=1\")*100+COUNTIF(B164:G164,\"=2\")*80+COUNTIF(B164:G164,\"=3\")*50+COUNTIF(B164:G164,\"=8\")*20+COUNTIF(B164:G164,\"=9\")*0)/COUNTA(B164:G164)/100,\"N/A\")","v":"N/A"},{"$f":"IF(COUNTA(K164:P164)>0,(COUNTIF(K164:P164,\"=0\")*0+COUNTIF(K164:P164,\"=1\")*100+COUNTIF(K164:P164,\"=2\")*80+COUNTIF(K164:P164,\"=3\")*50+COUNTIF(K164:P164,\"=8\")*20+COUNTIF(K164:P164,\"=9\")*0)/COUNTA(K164:P164)/100,\"N/A\")","v":"N/A"},{"$f":"IF(COUNTA(Q164)>0,(COUNTIF(Q164,\"=0\")*0+COUNTIF(Q164,\"=1\")*100+COUNTIF(Q164,\"=2\")*80+COUNTIF(Q164,\"=3\")*50+COUNTIF(Q164,\"=8\")*20+COUNTIF(Q164,\"=9\")*0)/COUNTA(Q164)/100,\"N/A\")","v":"N/A"},{"$f":"IF(COUNTA(S164:W164)<>0,(COUNTIF(S164:W164,\"=0\")*0+COUNTIF(S164:W164,\"=1\")*100+COUNTIF(S164:W164,\"=2\")*80+COUNTIF(S164:W164,\"=3\")*50+COUNTIF(S164:W164,\"=8\")*20+COUNTIF(S164:W164,\"=9\")*0)/COUNTA(S164:W164)/100,\"N/A\")","v":"N/A"},"N/A",{"$f":"IF(COUNTA(#REF!)>0,(COUNTIF(#REF!,\"=0\")*0+COUNTIF(#REF!,\"=1\")*100+COUNTIF(#REF!,\"=2\")*80+COUNTIF(#REF!,\"=3\")*50+COUNTIF(#REF!,\"=8\")*20+COUNTIF(#REF!,\"=9\")*0)/COUNTA(#REF!)/100,\"N/A\")","v":{"$error":"#REF!"}},{"$f":"IF(COUNTA(#REF!)>0,(COUNTIF(#REF!,\"=0\")*0+COUNTIF(#REF!,\"=1\")*100+COUNTIF(#REF!,\"=2\")*80+COUNTIF(#REF!,\"=3\")*50+COUNTIF(#REF!,\"=8\")*20+COUNTIF(#REF!,\"=9\")*0)/COUNTA(#REF!)/100,\"N/A\")","v":{"$error":"#REF!"}},{"$f":"IF(AND(COUNTA(B164:X164)<>0,#REF!<>\"\"),AVERAGE(Y164:AE164),\"N/A\")","v":{"$error":"#REF!"}},1,1,1,1,1,{"$error":"#REF!"},{"$error":"#REF!"},{"$error":"#REF!"}]
[{"$nulls":24},{"$f":"IF(COUNTA(B165:G165)>0,(COUNTIF(B165:G165,\"=0\")*0+COUNTIF(B165:G165,\"=1\")*100+COUNTIF(B165:G165,\"=2\")*80+COUNTIF(B165:G165,\"=3\")*50+COUNTIF(B165:G165,\"=8\")*20+COUNTIF(B165:G165,\"=9\")*0)/COUNTA(B165:G165)/100,\"N/A\")","v":"N/A"},{"$f":"IF(COUNTA(K165:P165)>0,(COUNTIF(K165:P165,\"=0\")*0+COUNTIF(K165:P165,\"=1\")*100+COUNTIF(K165:P165,\"=2\")*80+COUNTIF(K165:P165,\"=3\")*50+COUNTIF(K165:P165,\"=8\")*20+COUNTIF(K165:P165,\"=9\")*0)/COUNTA(K165:P165)/100,\"N/A\")","v":"N/A"},{"$f":"IF(COUNTA(Q165)>0,(COUNTIF(Q165,\"=0\")*0+COUNTIF(Q165,\"=1\")*100+COUNTIF(Q165,\"=2\")*80+COUNTIF(Q165,\"=3\")*50+COUNTIF(Q165,\"=8\")*20+COUNTIF(Q165,\"=9\")*0)/COUNTA(Q165)/100,\"N/A\")","v":"N/A"},{"$f":"IF(COUNTA(S165:W165)<>0,(COUNTIF(S165:W165,\"=0\")*0+COUNTIF(S165:W165,\"=1\")*100+COUNTIF(S165:W165,\"=2\")*80+COUNTIF(S165:W165,\"=3\")*50+COUNTIF(S165:W165,\"=8\")*20+COUNTIF(S165:W165,\"=9\")*0)/COUNTA(S165:W165)/100,\"N/A\")","v":"N/A"},"N/A",{"$f":"IF(COUNTA(#REF!)>0,(COUNTIF(#REF!,\"=0\")*0+COUNTIF(#REF!,\"=1\")*100+COUNTIF(#REF!,\"=2\")*80+COUNTIF(#REF!,\"=3\")*50+COUNTIF(#REF!,\"=8\")*20+COUNTIF(#REF!,\"=9\")*0)/COUNTA(#REF!)/100,\"N/A\")","v":{"$error":"#REF!"}},{"$f":"IF(COUNTA(#REF!)>0,(COUNTIF(#REF!,\"=0\")*0+COUNTIF(#REF!,\"=1\")*100+COUNTIF(#REF!,\"=2\")*80+COUNTIF(#REF!,\"=3\")*50+COUNTIF(#REF!,\"=8\")*20+COUNTIF(#REF!,\"=9\")*0)/COUNTA(#REF!)/100,\"N/A\")","v":{"$error":"#REF!"}},{"$f":"IF(AND(COUNTA(B165:X165)<>0,#REF!<>\"\"),AVERAGE(Y165:AE165),\"N/A\")","v":{"$error":"#REF!"}},1,1,1,1,1,{"$error":"#REF!"},{"$error":"#REF!"},{"$error":"#REF!"}]
[{"$nulls":24},{"$f":"IF(COUNTA(B166:G166)>0,(COUNTIF(B166:G166,\"=0\")*0+COUNTIF(B166:G166,\"=1\")*100+COUNTIF(B166:G166,\"=2\")*80+COUNTIF(B166:G166,\"=3\")*50+COUNTIF(B166:G166,\"=8\")*20+COUNTIF(B166:G166,\"=9\")*0)/COUNTA(B166:G166)/100,\"N/A\")","v":"N/A"},{"$f":"IF(COUNTA(K166:P166)>0,(COUNTIF(K166:P166,\"=0\")*0+COUNTIF(K166:P166,\"=1\")*100+COUNTIF(K166:P166,\"=2\")*80+COUNTIF(K166:P166,\"=3\")*50+COUNTIF(K166:P166,\"=8\")*20+COUNTIF(K166:P166,\"=9\")*0)/COUNTA(K166:P166)/100,\"N/A\")","v":"N/A"},{"$f":"IF(COUNTA(Q166)>0,(COUNTIF(Q166,\"=0\")*0+COUNTIF(Q166,\"=1\")*100+COUNTIF(Q166,\"=2\")*80+COUNTIF(Q166,\"=3\")*50+COUNTIF(Q166,\"=8\")*20+COUNTIF(Q166,\"=9\")*0)/COUNTA(Q166)/100,\"N/A\")","v":"N/A"},{"$f":"IF(COUNTA(S166:W166)<>0,(COUNTIF(S166:W166,\"=0\")*0+COUNTIF(S166:W166,\"=1\")*100+COUNTIF(S166:W166,\"=2\")*80+COUNTIF(S166:W166,\"=3\")*50+COUNTIF(S166:W166,\"=8\")*20+COUNTIF(S166:W166,\"=9\")*0)/COUNTA(S166:W166)/100,\"N/A\")","v":"N/A"},"N/A",{"$f":"IF(COUNTA(#REF!)>0,(COUNTIF(#REF!,\"=0\")*0+COUNTIF(#REF!,\"=1\")*100+COUNTIF(#REF!,\"=2\")*80+COUNTIF(#REF!,\"=3\")*50+COUNTIF(#REF!,\"=8\")*20+COUNTIF(#REF!,\"=9\")*0)/COUNTA(#REF!)/100,\"N/A\")","v":{"$error":"#REF!"}},{"$f":"IF(COUNTA(#REF!)>0,(COUNTIF(#REF!,\"=0\")*0+COUNTIF(#REF!,\"=1\")*100+COUNTIF(#REF!,\"=2\")*80+COUNTIF(#REF!,\"=3\")*50+COUNTIF(#REF!,\"=8\")*20+COUNTIF(#REF!,\"=9\")*0)/COUNTA(#REF!)/100,\"N/A\")","v":{"$error":"#REF!"}},{"$f":"IF(AND(COUNTA(B166:X166)<>0,#REF!<>\"\"),AVERAGE(Y166:AE166),\"N/A\")","v":{"$error":"#REF!"}},1,1,1,1,1,{"$error":"#REF!"},{"$error":"#REF!"},{"$error":"#REF!"}]
[{"$nulls":24},{"$f":"IF(COUNTA(B167:G167)>0,(COUNTIF(B167:G167,\"=0\")*0+COUNTIF(B167:G167,\"=1\")*100+COUNTIF(B167:G167,\"=2\")*80+COUNTIF(B167:G167,\"=3\")*50+COUNTIF(B167:G167,\"=8\")*20+COUNTIF(B167:G167,\"=9\")*0)/COUNTA(B167:G167)/100,\"N/A\")","v":"N/A"},{"$f":"IF(COUNTA(K167:P167)>0,(COUNTIF(K167:P167,\"=0\")*0+COUNTIF(K167:P167,\"=1\")*100+COUNTIF(K167:P167,\"=2\")*80+COUNTIF(K167:P167,\"=3\")*50+COUNTIF(K167:P167,\"=8\")*20+COUNTIF(K167:P167,\"=9\")*0)/COUNTA(K167:P167)/100,\"N/A\")","v":"N/A"},{"$f":"IF(COUNTA(Q167)>0,(COUNTIF(Q167,\"=0\")*0+COUNTIF(Q167,\"=1\")*100+COUNTIF(Q167,\"=2\")*80+COUNTIF(Q167,\"=3\")*50+COUNTIF(Q167,\"=8\")*20+COUNTIF(Q167,\"=9\")*0)/COUNTA(Q167)/100,\"N/A\")","v":"N/A"},{"$f":"IF(COUNTA(S167:W167)<>0,(COUNTIF(S167:W167,\"=0\")*0+COUNTIF(S167:W167,\"=1\")*100+COUNTIF(S167:W167,\"=2\")*80+COUNTIF(S167:W167,\"=3\")*50+COUNTIF(S167:W167,\"=8\")*20+COUNTIF(S167:W167,\"=9\")*0)/COUNTA(S167:W167)/100,\"N/A\")","v":"N/A"},"N/A",{"$f":"IF(COUNTA(#REF!)>0,(COUNTIF(#REF!,\"=0\")*0+COUNTIF(#REF!,\"=1\")*100+COUNTIF(#REF!,\"=2\")*80+COUNTIF(#REF!,\"=3\")*50+COUNTIF(#REF!,\"=8\")*20+COUNTIF(#REF!,\"=9\")*0)/COUNTA(#REF!)/100,\"N/A\")","v":{"$error":"#REF!"}},{"$f":"IF(COUNTA(#REF!)>0,(COUNTIF(#REF!,\"=0\")*0+COUNTIF(#REF!,\"=1\")*100+COUNTIF(#REF!,\"=2\")*80+COUNTIF(#REF!,\"=3\")*50+COUNTIF(#REF!,\"=8\")*20+COUNTIF(#REF!,\"=9\")*0)/COUNTA(#REF!)/100,\"N/A\")","v":{"$error":"#REF!"}},{"$f":"IF(AND(COUNTA(B167:X167)<>0,#REF!<>\"\"),AVERAGE(Y167:AE167),\"N/A\")","v":{"$error":"#REF!"}},1,1,1,1,1,{"$error":"#REF!"},{"$error":"#REF!"},{"$error":"#REF!"}]
[{"$nulls":24},{"$f":"IF(COUNTA(B168:G168)>0,(COUNTIF(B168:G168,\"=0\")*0+COUNTIF(B168:G168,\"=1\")*100+COUNTIF(B168:G168,\"=2\")*80+COUNTIF(B168:G168,\"=3\")*50+COUNTIF(B168:G168,\"=8\")*20+COUNTIF(B168:G168,\"=9\")*0)/COUNTA(B168:G168)/100,\"N/A\")","v":"N/A"},{"$f":"IF(COUNTA(K168:P168)>0,(COUNTIF(K168:P168,\"=0\")*0+COUNTIF(K168:P168,\"=1\")*100+COUNTIF(K168:P168,\"=2\")*80+COUNTIF(K168:P168,\"=3\")*50+COUNTIF(K168:P168,\"=8\")*20+COUNTIF(K168:P168,\"=9\")*0)/COUNTA(K168:P168)/100,\"N/A\")","v":"N/A"},{"$f":"IF(COUNTA(Q168)>0,(COUNTIF(Q168,\"=0\")*0+COUNTIF(Q168,\"=1\")*100+COUNTIF(Q168,\"=2\")*80+COUNTIF(Q168,\"=3\")*50+COUNTIF(Q168,\"=8\")*20+COUNTIF(Q168,\"=9\")*0)/COUNTA(Q168)/100,\"N/A\")","v":"N/A"},{"$f":"IF(COUNTA(S168:W168)<>0,(COUNTIF(S168:W168,\"=0\")*0+COUNTIF(S168:W168,\"=1\")*100+COUNTIF(S168:W168,\"=2\")*80+COUNTIF(S168:W168,\"=3\")*50+COUNTIF(S168:W168,\"=8\")*20+COUNTIF(S168:W168,\"=9\")*0)/COUNTA(S168:W168)/100,\"N/A\")","v":"N/A"},"N/A",{"$f":"IF(COUNTA(#REF!)>0,(COUNTIF(#REF!,\"=0\")*0+COUNTIF(#REF!,\"=1\")*100+COUNTIF(#REF!,\"=2\")*80+COUNTIF(#REF!,\"=3\")*50+COUNTIF(#REF!,\"=8\")*20+COUNTIF(#REF!,\"=9\")*0)/COUNTA(#REF!)/100,\"N/A\")","v":{"$error":"#REF!"}},{"$f":"IF(COUNTA(#REF!)>0,(COUNTIF(#REF!,\"=0\")*0+COUNTIF(#REF!,\"=1\")*100+COUNTIF(#REF!,\"=2\")*80+COUNTIF(#REF!,\"=3\")*50+COUNTIF(#REF!,\"=8\")*20+COUNTIF(#REF!,\"=9\")*0)/COUNTA(#REF!)/100,\"N/A\")","v":{"$error":"#REF!"}},{"$f":"IF(AND(COUNTA(B168:X168)<>0,#REF!<>\"\"),AVERAGE(Y168:AE168),\"N/A\")","v":{"$error":"#REF!"}},1,1,1,1,1,{"$error":"#REF!"},{"$error":"#REF!"},{"$error":"#REF!"}]
[{"$nulls":24},{"$f":"IF(COUNTA(B169:G169)>0,(COUNTIF(B169:G169,\"=0\")*0+COUNTIF(B169:G169,\"=1\")*100+COUNTIF(B169:G169,\"=2\")*80+COUNTIF(B169:G169,\"=3\")*50+COUNTIF(B169:G169,\"=8\")*20+COUNTIF(B169:G169,\"=9\")*0)/COUNTA(B169:G169)/100,\"N/A\")","v":"N/A"},{"$f":"IF(COUNTA(K169:P169)>0,(COUNTIF(K169:P169,\"=0\")*0+COUNTIF(K169:P169,\"=1\")*100+COUNTIF(K169:P169,\"=2\")*80+COUNTIF(K169:P169,\"=3\")*50+COUNTIF(K169:P169,\"=8\")*20+COUNTIF(K169:P169,\"=9\")*0)/COUNTA(K169:P169)/100,\"N/A\")","v":"N/A"},{"$f":"IF(COUNTA(Q169)>0,(COUNTIF(Q169,\"=0\")*0+COUNTIF(Q169,\"=1\")*100+COUNTIF(Q169,\"=2\")*80+COUNTIF(Q169,\"=3\")*50+COUNTIF(Q169,\"=8\")*20+COUNTIF(Q169,\"=9\")*0)/COUNTA(Q169)/100,\"N/A\")","v":"N/A"},{"$f":"IF(COUNTA(S169:W169)<>0,(COUNTIF(S169:W169,\"=0\")*0+COUNTIF(S169:W169,\"=1\")*100+COUNTIF(S169:W169,\"=2\")*80+COUNTIF(S169:W169,\"=3\")*50+COUNTIF(S169:W169,\"=8\")*20+COUNTIF(S169:W169,\"=9\")*0)/COUNTA(S169:W169)/100,\"N/A\")","v":"N/A"},"N/A",{"$f":"IF(COUNTA(#REF!)>0,(COUNTIF(#REF!,\"=0\")*0+COUNTIF(#REF!,\"=1\")*100+COUNTIF(#REF!,\"=2\")*80+COUNTIF(#REF!,\"=3\")*50+COUNTIF(#REF!,\"=8\")*20+COUNTIF(#REF!,\"=9\")*0)/COUNTA(#REF!)/100,\"N/A\")","v":{"$error":"#REF!"}},{"$f":"IF(COUNTA(#REF!)>0,(COUNTIF(#REF!,\"=0\")*0+COUNTIF(#REF!,\"=1\")*100+COUNTIF(#REF!,\"=2\")*80+COUNTIF(#REF!,\"=3\")*50+COUNTIF(#REF!,\"=8\")*20+COUNTIF(#REF!,\"=9\")*0)/COUNTA(#REF!)/100,\"N/A\")","v":{"$error":"#REF!"}},{"$f":"IF(AND(COUNTA(B169:X169)<>0,#REF!<>\"\"),AVERAGE(Y169:AE169),\"N/A\")","v":{"$error":"#REF!"}},1,1,1,1,1,{"$error":"#REF!"},{"$error":"#REF!"},{"$error":"#REF!"}]
[{"$nulls":24},{"$f":"IF(COUNTA(B170:G170)>0,(COUNTIF(B170:G170,\"=0\")*0+COUNTIF(B170:G170,\"=1\")*100+COUNTIF(B170:G170,\"=2\")*80+COUNTIF(B170:G170,\"=3\")*50+COUNTIF(B170:G170,\"=8\")*20+COUNTIF(B170:G170,\"=9\")*0)/COUNTA(B170:G170)/100,\"N/A\")","v":"N/A"},{"$f":"IF(COUNTA(K170:P170)>0,(COUNTIF(K170:P170,\"=0\")*0+COUNTIF(K170:P170,\"=1\")*100+COUNTIF(K170:P170,\"=2\")*80+COUNTIF(K170:P170,\"=3\")*50+COUNTIF(K170:P170,\"=8\")*20+COUNTIF(K170:P170,\"=9\")*0)/COUNTA(K170:P170)/100,\"N/A\")","v":"N/A"},{"$f":"IF(COUNTA(Q170)>0,(COUNTIF(Q170,\"=0\")*0+COUNTIF(Q170,\"=1\")*100+COUNTIF(Q170,\"=2\")*80+COUNTIF(Q170,\"=3\")*50+COUNTIF(Q170,\"=8\")*20+COUNTIF(Q170,\"=9\")*0)/COUNTA(Q170)/100,\"N/A\")","v":"N/A"},{"$f":"IF(COUNTA(S170:W170)<>0,(COUNTIF(S170:W170,\"=0\")*0+COUNTIF(S170:W170,\"=1\")*100+COUNTIF(S170:W170,\"=2\")*80+COUNTIF(S170:W170,\"=3\")*50+COUNTIF(S170:W170,\"=8\")*20+COUNTIF(S170:W170,\"=9\")*0)/COUNTA(S170:W170)/100,\"N/A\")","v":"N/A"},"N/A",{"$f":"IF(COUNTA(#REF!)>0,(COUNTIF(#REF!,\"=0\")*0+COUNTIF(#REF!,\"=1\")*100+COUNTIF(#REF!,\"=2\")*80+COUNTIF(#REF!,\"=3\")*50+COUNTIF(#REF!,\"=8\")*20+COUNTIF(#REF!,\"=9\")*0)/COUNTA(#REF!)/100,\"N/A\")","v":{"$error":"#REF!"}},{"$f":"IF(COUNTA(#REF!)>0,(COUNTIF(#REF!,\"=0\")*0+COUNTIF(#REF!,\"=1\")*100+COUNTIF(#REF!,\"=2\")*80+COUNTIF(#REF!,\"=3\")*50+COUNTIF(#REF!,\"=8\")*20+COUNTIF(#REF!,\"=9\")*0)/COUNTA(#REF!)/100,\"N/A\")","v":{"$error":"#REF!"}},{"$f":"IF(AND(COUNTA(B170:X170)<>0,#REF!<>\"\"),AVERAGE(Y170:AE170),\"N/A\")","v":{"$error":"#REF!"}},1,1,1,1,1,{"$error":"#REF!"},{"$error":"#REF!"},{"$error":"#REF!"}]
[{"$nulls":24},{"$f":"IF(COUNTA(B171:G171)>0,(COUNTIF(B171:G171,\"=0\")*0+COUNTIF(B171:G171,\"=1\")*100+COUNTIF(B171:G171,\"=2\")*80+COUNTIF(B171:G171,\"=3\")*50+COUNTIF(B171:G171,\"=8\")*20+COUNTIF(B171:G171,\"=9\")*0)/COUNTA(B171:G171)/100,\"N/A\")","v":"N/A"},{"$f":"IF(COUNTA(K171:P171)>0,(COUNTIF(K171:P171,\"=0\")*0+COUNTIF(K171:P171,\"=1\")*100+COUNTIF(K171:P171,\"=2\")*80+COUNTIF(K171:P171,\"=3\")*50+COUNTIF(K171:P171,\"=8\")*20+COUNTIF(K171:P171,\"=9\")*0)/COUNTA(K171:P171)/100,\"N/A\")","v":"N/A"},{"$f":"IF(COUNTA(Q171)>0,(COUNTIF(Q171,\"=0\")*0+COUNTIF(Q171,\"=1\")*100+COUNTIF(Q171,\"=2\")*80+COUNTIF(Q171,\"=3\")*50+COUNTIF(Q171,\"=8\")*20+COUNTIF(Q171,\"=9\")*0)/COUNTA(Q171)/100,\"N/A\")","v":"N/A"},{"$f":"IF(COUNTA(S171:W171)<>0,(COUNTIF(S171:W171,\"=0\")*0+COUNTIF(S171:W171,\"=1\")*100+COUNTIF(S171:W171,\"=2\")*80+COUNTIF(S171:W171,\"=3\")*50+COUNTIF(S171:W171,\"=8\")*20+COUNTIF(S171:W171,\"=9\")*0)/COUNTA(S171:W171)/100,\"N/A\")","v":"N/A"},"N/A",{"$f":"IF(COUNTA(#REF!)>0,(COUNTIF(#REF!,\"=0\")*0+COUNTIF(#REF!,\"=1\")*100+COUNTIF(#REF!,\"=2\")*80+COUNTIF(#REF!,\"=3\")*50+COUNTIF(#REF!,\"=8\")*20+COUNTIF(#REF!,\"=9\")*0)/COUNTA(#REF!)/100,\"N/A\")","v":{"$error":"#REF!"}},{"$f":"IF(COUNTA(#REF!)>0,(COUNTIF(#REF!,\"=0\")*0+COUNTIF(#REF!,\"=1\")*100+COUNTIF(#REF!,\"=2\")*80+COUNTIF(#REF!,\"=3\")*50+COUNTIF(#REF!,\"=8\")*20+COUNTIF(#REF!,\"=9\")*0)/COUNTA(#REF!)/100,\"N/A\")","v":{"$error":"#REF!"}},{"$f":"IF(AND(COUNTA(B171:X171)<>0,#REF!<>\"\"),AVERAGE(Y171:AE171),\"N/A\")","v":{"$error":"#REF!"}},1,1,1,1,1,{"$error":"#REF!"},{"$error":"#REF!"},{"$error":"#REF!"}]
[{"$nulls":24},{"$f":"IF(COUNTA(B172:G172)>0,(COUNTIF(B172:G172,\"=0\")*0+COUNTIF(B172:G172,\"=1\")*100+COUNTIF(B172:G172,\"=2\")*80+COUNTIF(B172:G172,\"=3\")*50+COUNTIF(B172:G172,\"=8\")*20+COUNTIF(B172:G172,\"=9\")*0)/COUNTA(B172:G172)/100,\"N/A\")","v":"N/A"},{"$f":"IF(COUNTA(K172:P172)>0,(COUNTIF(K172:P172,\"=0\")*0+COUNTIF(K172:P172,\"=1\")*100+COUNTIF(K172:P172,\"=2\")*80+COUNTIF(K172:P172,\"=3\")*50+COUNTIF(K172:P172,\"=8\")*20+COUNTIF(K172:P172,\"=9\")*0)/COUNTA(K172:P172)/100,\"N/A\")","v":"N/A"},{"$f":"IF(COUNTA(Q172)>0,(COUNTIF(Q172,\"=0\")*0+COUNTIF(Q172,\"=1\")*100+COUNTIF(Q172,\"=2\")*80+COUNTIF(Q172,\"=3\")*50+COUNTIF(Q172,\"=8\")*20+COUNTIF(Q172,\"=9\")*0)/COUNTA(Q172)/100,\"N/A\")","v":"N/A"},{"$f":"IF(COUNTA(S172:W172)<>0,(COUNTIF(S172:W172,\"=0\")*0+COUNTIF(S172:W172,\"=1\")*100+COUNTIF(S172:W172,\"=2\")*80+COUNTIF(S172:W172,\"=3\")*50+COUNTIF(S172:W172,\"=8\")*20+COUNTIF(S172:W172,\"=9\")*0)/COUNTA(S172:W172)/100,\"N/A\")","v":"N/A"},"N/A",{"$f":"IF(COUNTA(#REF!)>0,(COUNTIF(#REF!,\"=0\")*0+COUNTIF(#REF!,\"=1\")*100+COUNTIF(#REF!,\"=2\")*80+COUNTIF(#REF!,\"=3\")*50+COUNTIF(#REF!,\"=8\")*20+COUNTIF(#REF!,\"=9\")*0)/COUNTA(#REF!)/100,\"N/A\")","v":{"$error":"#REF!"}},{"$f":"IF(COUNTA(#REF!)>0,(COUNTIF(#REF!,\"=0\")*0+COUNTIF(#REF!,\"=1\")*100+COUNTIF(#REF!,\"=2\")*80+COUNTIF(#REF!,\"=3\")*50+COUNTIF(#REF!,\"=8\")*20+COUNTIF(#REF!,\"=9\")*0)/COUNTA(#REF!)/100,\"N/A\")","v":{"$error":"#REF!"}},{"$f":"IF(AND(COUNTA(B172:X172)<>0,#REF!<>\"\"),AVERAGE(Y172:AE172),\"N/A\")","v":{"$error":"#REF!"}},1,1,1,1,1,{"$error":"#REF!"},{"$error":"#REF!"},{"$error":"#REF!"}]
[{"$nulls":24},{"$f":"IF(COUNTA(B173:G173)>0,(COUNTIF(B173:G173,\"=0\")*0+COUNTIF(B173:G173,\"=1\")*100+COUNTIF(B173:G173,\"=2\")*80+COUNTIF(B173:G173,\"=3\")*50+COUNTIF(B173:G173,\"=8\")*20+COUNTIF(B173:G173,\"=9\")*0)/COUNTA(B173:G173)/100,\"N/A\")","v":"N/A"},{"$f":"IF(COUNTA(K173:P173)>0,(COUNTIF(K173:P173,\"=0\")*0+COUNTIF(K173:P173,\"=1\")*100+COUNTIF(K173:P173,\"=2\")*80+COUNTIF(K173:P173,\"=3\")*50+COUNTIF(K173:P173,\"=8\")*20+COUNTIF(K173:P173,\"=9\")*0)/COUNTA(K173:P173)/100,\"N/A\")","v":"N/A"},{"$f":"IF(COUNTA(Q173)>0,(COUNTIF(Q173,\"=0\")*0+COUNTIF(Q173,\"=1\")*100+COUNTIF(Q173,\"=2\")*80+COUNTIF(Q173,\"=3\")*50+COUNTIF(Q173,\"=8\")*20+COUNTIF(Q173,\"=9\")*0)/COUNTA(Q173)/100,\"N/A\")","v":"N/A"},{"$f":"IF(COUNTA(S173:W173)<>0,(COUNTIF(S173:W173,\"=0\")*0+COUNTIF(S173:W173,\"=1\")*100+COUNTIF(S173:W173,\"=2\")*80+COUNTIF(S173:W173,\"=3\")*50+COUNTIF(S173:W173,\"=8\")*20+COUNTIF(S173:W173,\"=9\")*0)/COUNTA(S173:W173)/100,\"N/A\")","v":"N/A"},"N/A",{"$f":"IF(COUNTA(#REF!)>0,(COUNTIF(#REF!,\"=0\")*0+COUNTIF(#REF!,\"=1\")*100+COUNTIF(#REF!,\"=2\")*80+COUNTIF(#REF!,\"=3\")*50+COUNTIF(#REF!,\"=8\")*20+COUNTIF(#REF!,\"=9\")*0)/COUNTA(#REF!)/100,\"N/A\")","v":{"$error":"#REF!"}},{"$f":"IF(COUNTA(#REF!)>0,(COUNTIF(#REF!,\"=0\")*0+COUNTIF(#REF!,\"=1\")*100+COUNTIF(#REF!,\"=2\")*80+COUNTIF(#REF!,\"=3\")*50+COUNTIF(#REF!,\"=8\")*20+COUNTIF(#REF!,\"=9\")*0)/COUNTA(#REF!)/100,\"N/A\")","v":{"$error":"#REF!"}},{"$f":"IF(AND(COUNTA(B173:X173)<>0,#REF!<>\"\"),AVERAGE(Y173:AE173),\"N/A\")","v":{"$error":"#REF!"}},1,1,1,1,1,{"$error":"#REF!"},{"$error":"#REF!"},{"$error":"#REF!"}]
[{"$nulls":24},{"$f":"IF(COUNTA(B174:G174)>0,(COUNTIF(B174:G174,\"=0\")*0+COUNTIF(B174:G174,\"=1\")*100+COUNTIF(B174:G174,\"=2\")*80+COUNTIF(B174:G174,\"=3\")*50+COUNTIF(B174:G174,\"=8\")*20+COUNTIF(B174:G174,\"=9\")*0)/COUNTA(B174:G174)/100,\"N/A\")","v":"N/A"},{"$f":"IF(COUNTA(K174:P174)>0,(COUNTIF(K174:P174,\"=0\")*0+COUNTIF(K174:P174,\"=1\")*100+COUNTIF(K174:P174,\"=2\")*80+COUNTIF(K174:P174,\"=3\")*50+COUNTIF(K174:P174,\"=8\")*20+COUNTIF(K174:P174,\"=9\")*0)/COUNTA(K174:P174)/100,\"N/A\")","v":"N/A"},{"$f":"IF(COUNTA(Q174)>0,(COUNTIF(Q174,\"=0\")*0+COUNTIF(Q174,\"=1\")*100+COUNTIF(Q174,\"=2\")*80+COUNTIF(Q174,\"=3\")*50+COUNTIF(Q174,\"=8\")*20+COUNTIF(Q174,\"=9\")*0)/COUNTA(Q174)/100,\"N/A\")","v":"N/A"},{"$f":"IF(COUNTA(S174:W174)<>0,(COUNTIF(S174:W174,\"=0\")*0+COUNTIF(S174:W174,\"=1\")*100+COUNTIF(S174:W174,\"=2\")*80+COUNTIF(S174:W174,\"=3\")*50+COUNTIF(S174:W174,\"=8\")*20+COUNTIF(S174:W174,\"=9\")*0)/COUNTA(S174:W174)/100,\"N/A\")","v":"N/A"},"N/A",{"$f":"IF(COUNTA(#REF!)>0,(COUNTIF(#REF!,\"=0\")*0+COUNTIF(#REF!,\"=1\")*100+COUNTIF(#REF!,\"=2\")*80+COUNTIF(#REF!,\"=3\")*50+COUNTIF(#REF!,\"=8\")*20+COUNTIF(#REF!,\"=9\")*0)/COUNTA(#REF!)/100,\"N/A\")","v":{"$error":"#REF!"}},{"$f":"IF(COUNTA(#REF!)>0,(COUNTIF(#REF!,\"=0\")*0+COUNTIF(#REF!,\"=1\")*100+COUNTIF(#REF!,\"=2\")*80+COUNTIF(#REF!,\"=3\")*50+COUNTIF(#REF!,\"=8\")*20+COUNTIF(#REF!,\"=9\")*0)/COUNTA(#REF!)/100,\"N/A\")","v":{"$error":"#REF!"}},{"$f":"IF(AND(COUNTA(B174:X174)<>0,#REF!<>\"\"),AVERAGE(Y174:AE174),\"N/A\")","v":{"$error":"#REF!"}},1,1,1,1,1,{"$error":"#REF!"},{"$error":"#REF!"},{"$error":"#REF!"}]
[{"$nulls":24},{"$f":"IF(COUNTA(B175:G175)>0,(COUNTIF(B175:G175,\"=0\")*0+COUNTIF(B175:G175,\"=1\")*100+COUNTIF(B175:G175,\"=2\")*80+COUNTIF(B175:G175,\"=3\")*50+COUNTIF(B175:G175,\"=8\")*20+COUNTIF(B175:G175,\"=9\")*0)/COUNTA(B175:G175)/100,\"N/A\")","v":"N/A"},{"$f":"IF(COUNTA(K175:P175)>0,(COUNTIF(K175:P175,\"=0\")*0+COUNTIF(K175:P175,\"=1\")*100+COUNTIF(K175:P175,\"=2\")*80+COUNTIF(K175:P175,\"=3\")*50+COUNTIF(K175:P175,\"=8\")*20+COUNTIF(K175:P175,\"=9\")*0)/COUNTA(K175:P175)/100,\"N/A\")","v":"N/A"},{"$f":"IF(COUNTA(Q175)>0,(COUNTIF(Q175,\"=0\")*0+COUNTIF(Q175,\"=1\")*100+COUNTIF(Q175,\"=2\")*80+COUNTIF(Q175,\"=3\")*50+COUNTIF(Q175,\"=8\")*20+COUNTIF(Q175,\"=9\")*0)/COUNTA(Q175)/100,\"N/A\")","v":"N/A"},{"$f":"IF(COUNTA(S175:W175)<>0,(COUNTIF(S175:W175,\"=0\")*0+COUNTIF(S175:W175,\"=1\")*100+COUNTIF(S175:W175,\"=2\")*80+COUNTIF(S175:W175,\"=3\")*50+COUNTIF(S175:W175,\"=8\")*20+COUNTIF(S175:W175,\"=9\")*0)/COUNTA(S175:W175)/100,\"N/A\")","v":"N/A"},"N/A",{"$f":"IF(COUNTA(#REF!)>0,(COUNTIF(#REF!,\"=0\")*0+COUNTIF(#REF!,\"=1\")*100+COUNTIF(#REF!,\"=2\")*80+COUNTIF(#REF!,\"=3\")*50+COUNTIF(#REF!,\"=8\")*20+COUNTIF(#REF!,\"=9\")*0)/COUNTA(#REF!)/100,\"N/A\")","v":{"$error":"#REF!"}},{"$f":"IF(COUNTA(#REF!)>0,(COUNTIF(#REF!,\"=0\")*0+COUNTIF(#REF!,\"=1\")*100+COUNTIF(#REF!,\"=2\")*80+COUNTIF(#REF!,\"=3\")*50+COUNTIF(#REF!,\"=8\")*20+COUNTIF(#REF!,\"=9\")*0)/COUNTA(#REF!)/100,\"N/A\")","v":{"$error":"#REF!"}},{"$f":"IF(AND(COUNTA(B175:X175)<>0,#REF!<>\"\"),AVERAGE(Y175:AE175),\"N/A\")","v":{"$error":"#REF!"}},1,1,1,1,1,{"$error":"#REF!"},{"$error":"#REF!"},{"$error":"#REF!"}]
[{"$nulls":24},{"$f":"IF(COUNTA(B176:G176)>0,(COUNTIF(B176:G176,\"=0\")*0+COUNTIF(B176:G176,\"=1\")*100+COUNTIF(B176:G176,\"=2\")*80+COUNTIF(B176:G176,\"=3\")*50+COUNTIF(B176:G176,\"=8\")*20+COUNTIF(B176:G176,\"=9\")*0)/COUNTA(B176:G176)/100,\"N/A\")","v":"N/A"},{"$f":"IF(COUNTA(K176:P176)>0,(COUNTIF(K176:P176,\"=0\")*0+COUNTIF(K176:P176,\"=1\")*100+COUNTIF(K176:P176,\"=2\")*80+COUNTIF(K176:P176,\"=3\")*50+COUNTIF(K176:P176,\"=8\")*20+COUNTIF(K176:P176,\"=9\")*0)/COUNTA(K176:P176)/100,\"N/A\")","v":"N/A"},{"$f":"IF(COUNTA(Q176)>0,(COUNTIF(Q176,\"=0\")*0+COUNTIF(Q176,\"=1\")*100+COUNTIF(Q176,\"=2\")*80+COUNTIF(Q176,\"=3\")*50+COUNTIF(Q176,\"=8\")*20+COUNTIF(Q176,\"=9\")*0)/COUNTA(Q176)/100,\"N/A\")","v":"N/A"},{"$f":"IF(COUNTA(S176:W176)<>0,(COUNTIF(S176:W176,\"=0\")*0+COUNTIF(S176:W176,\"=1\")*100+COUNTIF(S176:W176,\"=2\")*80+COUNTIF(S176:W176,\"=3\")*50+COUNTIF(S176:W176,\"=8\")*20+COUNTIF(S176:W176,\"=9\")*0)/COUNTA(S176:W176)/100,\"N/A\")","v":"N/A"},"N/A",{"$f":"IF(COUNTA(#REF!)>0,(COUNTIF(#REF!,\"=0\")*0+COUNTIF(#REF!,\"=1\")*100+COUNTIF(#REF!,\"=2\")*80+COUNTIF(#REF!,\"=3\")*50+COUNTIF(#REF!,\"=8\")*20+COUNTIF(#REF!,\"=9\")*0)/COUNTA(#REF!)/100,\"N/A\")","v":{"$error":"#REF!"}},{"$f":"IF(COUNTA(#REF!)>0,(COUNTIF(#REF!,\"=0\")*0+COUNTIF(#REF!,\"=1\")*100+COUNTIF(#REF!,\"=2\")*80+COUNTIF(#REF!,\"=3\")*50+COUNTIF(#REF!,\"=8\")*20+COUNTIF(#REF!,\"=9\")*0)/COUNTA(#REF!)/100,\"N/A\")","v":{"$error":"#REF!"}},{"$f":"IF(AND(COUNTA(B176:X176)<>0,#REF!<>\"\"),AVERAGE(Y176:AE176),\"N/A\")","v":{"$error":"#REF!"}},1,1,1,1,1,{"$error":"#REF!"},{"$error":"#REF!"},{"$error":"#REF!"}]
[{"$nulls":24},{"$f":"IF(COUNTA(B177:G177)>0,(COUNTIF(B177:G177,\"=0\")*0+COUNTIF(B177:G177,\"=1\")*100+COUNTIF(B177:G177,\"=2\")*80+COUNTIF(B177:G177,\"=3\")*50+COUNTIF(B177:G177,\"=8\")*20+COUNTIF(B177:G177,\"=9\")*0)/COUNTA(B177:G177)/100,\"N/A\")","v":"N/A"},{"$f":"IF(COUNTA(K177:P177)>0,(COUNTIF(K177:P177,\"=0\")*0+COUNTIF(K177:P177,\"=1\")*100+COUNTIF(K177:P177,\"=2\")*80+COUNTIF(K177:P177,\"=3\")*50+COUNTIF(K177:P177,\"=8\")*20+COUNTIF(K177:P177,\"=9\")*0)/COUNTA(K177:P177)/100,\"N/A\")","v":"N/A"},{"$f":"IF(COUNTA(Q177)>0,(COUNTIF(Q177,\"=0\")*0+COUNTIF(Q177,\"=1\")*100+COUNTIF(Q177,\"=2\")*80+COUNTIF(Q177,\"=3\")*50+COUNTIF(Q177,\"=8\")*20+COUNTIF(Q177,\"=9\")*0)/COUNTA(Q177)/100,\"N/A\")","v":"N/A"},{"$f":"IF(COUNTA(S177:W177)<>0,(COUNTIF(S177:W177,\"=0\")*0+COUNTIF(S177:W177,\"=1\")*100+COUNTIF(S177:W177,\"=2\")*80+COUNTIF(S177:W177,\"=3\")*50+COUNTIF(S177:W177,\"=8\")*20+COUNTIF(S177:W177,\"=9\")*0)/COUNTA(S177:W177)/100,\"N/A\")","v":"N/A"},"N/A",{"$f":"IF(COUNTA(#REF!)>0,(COUNTIF(#REF!,\"=0\")*0+COUNTIF(#REF!,\"=1\")*100+COUNTIF(#REF!,\"=2\")*80+COUNTIF(#REF!,\"=3\")*50+COUNTIF(#REF!,\"=8\")*20+COUNTIF(#REF!,\"=9\")*0)/COUNTA(#REF!)/100,\"N/A\")","v":{"$error":"#REF!"}},{"$f":"IF(COUNTA(#REF!)>0,(COUNTIF(#REF!,\"=0\")*0+COUNTIF(#REF!,\"=1\")*100+COUNTIF(#REF!,\"=2\")*80+COUNTIF(#REF!,\"=3\")*50+COUNTIF(#REF!,\"=8\")*20+COUNTIF(#REF!,\"=9\")*0)/COUNTA(#REF!)/100,\"N/A\")","v":{"$error":"#REF!"}},{"$f":"IF(AND(COUNTA(B177:X177)<>0,#REF!<>\"\"),AVERAGE(Y177:AE177),\"N/A\")","v":{"$error":"#REF!"}},1,1,1,1,1,{"$error":"#REF!"},{"$error":"#REF!"},{"$error":"#REF!"}]
[{"$nulls":24},{"$f":"IF(COUNTA(B178:G178)>0,(COUNTIF(B178:G178,\"=0\")*0+COUNTIF(B178:G178,\"=1\")*100+COUNTIF(B178:G178,\"=2\")*80+COUNTIF(B178:G178,\"=3\")*50+COUNTIF(B178:G178,\"=8\")*20+COUNTIF(B178:G178,\"=9\")*0)/COUNTA(B178:G178)/100,\"N/A\")","v":"N/A"},{"$f":"IF(COUNTA(K178:P178)>0,(COUNTIF(K178:P178,\"=0\")*0+COUNTIF(K178:P178,\"=1\")*100+COUNTIF(K178:P178,\"=2\")*80+COUNTIF(K178:P178,\"=3\")*50+COUNTIF(K178:P178,\"=8\")*20+COUNTIF(K178:P178,\"=9\")*0)/COUNTA(K178:P178)/100,\"N/A\")","v":"N/A"},{"$f":"IF(COUNTA(Q178)>0,(COUNTIF(Q178,\"=0\")*0+COUNTIF(Q178,\"=1\")*100+COUNTIF(Q178,\"=2\")*80+COUNTIF(Q178,\"=3\")*50+COUNTIF(Q178,\"=8\")*20+COUNTIF(Q178,\"=9\")*0)/COUNTA(Q178)/100,\"N/A\")","v":"N/A"},{"$f":"IF(COUNTA(S178:W178)<>0,(COUNTIF(S178:W178,\"=0\")*0+COUNTIF(S178:W178,\"=1\")*100+COUNTIF(S178:W178,\"=2\")*80+COUNTIF(S178:W178,\"=3\")*50+COUNTIF(S178:W178,\"=8\")*20+COUNTIF(S178:W178,\"=9\")*0)/COUNTA(S178:W178)/100,\"N/A\")","v":"N/A"},"N/A",{"$f":"IF(COUNTA(#REF!)>0,(COUNTIF(#REF!,\"=0\")*0+COUNTIF(#REF!,\"=1\")*100+COUNTIF(#REF!,\"=2\")*80+COUNTIF(#REF!,\"=3\")*50+COUNTIF(#REF!,\"=8\")*20+COUNTIF(#REF!,\"=9\")*0)/COUNTA(#REF!)/100,\"N/A\")","v":{"$error":"#REF!"}},{"$f":"IF(COUNTA(#REF!)>0,(COUNTIF(#REF!,\"=0\")*0+COUNTIF(#REF!,\"=1\")*100+COUNTIF(#REF!,\"=2\")*80+COUNTIF(#REF!,\"=3\")*50+COUNTIF(#REF!,\"=8\")*20+COUNTIF(#REF!,\"=9\")*0)/COUNTA(#REF!)/100,\"N/A\")","v":{"$error":"#REF!"}},{"$f":"IF(AND(COUNTA(B178:X178)<>0,#REF!<>\"\"),AVERAGE(Y178:AE178),\"N/A\")","v":{"$error":"#REF!"}},1,1,1,1,1,{"$error":"#REF!"},{"$error":"#REF!"},{"$error":"#REF!"}]
[{"$nulls":24},{"$f":"IF(COUNTA(B179:G179)>0,(COUNTIF(B179:G179,\"=0\")*0+COUNTIF(B179:G179,\"=1\")*100+COUNTIF(B179:G179,\"=2\")*80+COUNTIF(B179:G179,\"=3\")*50+COUNTIF(B179:G179,\"=8\")*20+COUNTIF(B179:G179,\"=9\")*0)/COUNTA(B179:G179)/100,\"N/A\")","v":"N/A"},{"$f":"IF(COUNTA(K179:P179)>0,(COUNTIF(K179:P179,\"=0\")*0+COUNTIF(K179:P179,\"=1\")*100+COUNTIF(K179:P179,\"=2\")*80+COUNTIF(K179:P179,\"=3\")*50+COUNTIF(K179:P179,\"=8\")*20+COUNTIF(K179:P179,\"=9\")*0)/COUNTA(K179:P179)/100,\"N/A\")","v":"N/A"},{"$f":"IF(COUNTA(Q179)>0,(COUNTIF(Q179,\"=0\")*0+COUNTIF(Q179,\"=1\")*100+COUNTIF(Q179,\"=2\")*80+COUNTIF(Q179,\"=3\")*50+COUNTIF(Q179,\"=8\")*20+COUNTIF(Q179,\"=9\")*0)/COUNTA(Q179)/100,\"N/A\")","v":"N/A"},{"$f":"IF(COUNTA(S179:W179)<>0,(COUNTIF(S179:W179,\"=0\")*0+COUNTIF(S179:W179,\"=1\")*100+COUNTIF(S179:W179,\"=2\")*80+COUNTIF(S179:W179,\"=3\")*50+COUNTIF(S179:W179,\"=8\")*20+COUNTIF(S179:W179,\"=9\")*0)/COUNTA(S179:W179)/100,\"N/A\")","v":"N/A"},"N/A",{"$f":"IF(COUNTA(#REF!)>0,(COUNTIF(#REF!,\"=0\")*0+COUNTIF(#REF!,\"=1\")*100+COUNTIF(#REF!,\"=2\")*80+COUNTIF(#REF!,\"=3\")*50+COUNTIF(#REF!,\"=8\")*20+COUNTIF(#REF!,\"=9\")*0)/COUNTA(#REF!)/100,\"N/A\")","v":{"$error":"#REF!"}},{"$f":"IF(COUNTA(#REF!)>0,(COUNTIF(#REF!,\"=0\")*0+COUNTIF(#REF!,\"=1\")*100+COUNTIF(#REF!,\"=2\")*80+COUNTIF(#REF!,\"=3\")*50+COUNTIF(#REF!,\"=8\")*20+COUNTIF(#REF!,\"=9\")*0)/COUNTA(#REF!)/100,\"N/A\")","v":{"$error":"#REF!"}},{"$f":"IF(AND(COUNTA(B179:X179)<>0,#REF!<>\"\"),AVERAGE(Y179:AE179),\"N/A\")","v":{"$error":"#REF!"}},1,1,1,1,1,{"$error":"#REF!"},{"$error":"#REF!"},{"$error":"#REF!"}]
[{"$nulls":24},{"$f":"IF(COUNTA(B180:G180)>0,(COUNTIF(B180:G180,\"=0\")*0+COUNTIF(B180:G180,\"=1\")*100+COUNTIF(B180:G180,\"=2\")*80+COUNTIF(B180:G180,\"=3\")*50+COUNTIF(B180:G180,\"=8\")*20+COUNTIF(B180:G180,\"=9\")*0)/COUNTA(B180:G180)/100,\"N/A\")","v":"N/A"},{"$f":"IF(COUNTA(K180:P180)>0,(COUNTIF(K180:P180,\"=0\")*0+COUNTIF(K180:P180,\"=1\")*100+COUNTIF(K180:P180,\"=2\")*80+COUNTIF(K180:P180,\"=3\")*50+COUNTIF(K180:P180,\"=8\")*20+COUNTIF(K180:P180,\"=9\")*0)/COUNTA(K180:P180)/100,\"N/A\")","v":"N/A"},{"$f":"IF(COUNTA(Q180)>0,(COUNTIF(Q180,\"=0\")*0+COUNTIF(Q180,\"=1\")*100+COUNTIF(Q180,\"=2\")*80+COUNTIF(Q180,\"=3\")*50+COUNTIF(Q180,\"=8\")*20+COUNTIF(Q180,\"=9\")*0)/COUNTA(Q180)/100,\"N/A\")","v":"N/A"},{"$f":"IF(COUNTA(S180:W180)<>0,(COUNTIF(S180:W180,\"=0\")*0+COUNTIF(S180:W180,\"=1\")*100+COUNTIF(S180:W180,\"=2\")*80+COUNTIF(S180:W180,\"=3\")*50+COUNTIF(S180:W180,\"=8\")*20+COUNTIF(S180:W180,\"=9\")*0)/COUNTA(S180:W180)/100,\"N/A\")","v":"N/A"},"N/A",{"$f":"IF(COUNTA(#REF!)>0,(COUNTIF(#REF!,\"=0\")*0+COUNTIF(#REF!,\"=1\")*100+COUNTIF(#REF!,\"=2\")*80+COUNTIF(#REF!,\"=3\")*50+COUNTIF(#REF!,\"=8\")*20+COUNTIF(#REF!,\"=9\")*0)/COUNTA(#REF!)/100,\"N/A\")","v":{"$error":"#REF!"}},{"$f":"IF(COUNTA(#REF!)>0,(COUNTIF(#REF!,\"=0\")*0+COUNTIF(#REF!,\"=1\")*100+COUNTIF(#REF!,\"=2\")*80+COUNTIF(#REF!,\"=3\")*50+COUNTIF(#REF!,\"=8\")*20+COUNTIF(#REF!,\"=9\")*0)/COUNTA(#REF!)/100,\"N/A\")","v":{"$error":"#REF!"}},{"$f":"IF(AND(COUNTA(B180:X180)<>0,#REF!<>\"\"),AVERAGE(Y180:AE180),\"N/A\")","v":{"$error":"#REF!"}},1,1,1,1,1,{"$error":"#REF!"},{"$error":"#REF!"},{"$error":"#REF!"}]
[{"$nulls":24},{"$f":"IF(COUNTA(B181:G181)>0,(COUNTIF(B181:G181,\"=0\")*0+COUNTIF(B181:G181,\"=1\")*100+COUNTIF(B181:G181,\"=2\")*80+COUNTIF(B181:G181,\"=3\")*50+COUNTIF(B181:G181,\"=8\")*20+COUNTIF(B181:G181,\"=9\")*0)/COUNTA(B181:G181)/100,\"N/A\")","v":"N/A"},{"$f":"IF(COUNTA(K181:P181)>0,(COUNTIF(K181:P181,\"=0\")*0+COUNTIF(K181:P181,\"=1\")*100+COUNTIF(K181:P181,\"=2\")*80+COUNTIF(K181:P181,\"=3\")*50+COUNTIF(K181:P181,\"=8\")*20+COUNTIF(K181:P181,\"=9\")*0)/COUNTA(K181:P181)/100,\"N/A\")","v":"N/A"},{"$f":"IF(COUNTA(Q181)>0,(COUNTIF(Q181,\"=0\")*0+COUNTIF(Q181,\"=1\")*100+COUNTIF(Q181,\"=2\")*80+COUNTIF(Q181,\"=3\")*50+COUNTIF(Q181,\"=8\")*20+COUNTIF(Q181,\"=9\")*0)/COUNTA(Q181)/100,\"N/A\")","v":"N/A"},{"$f":"IF(COUNTA(S181:W181)<>0,(COUNTIF(S181:W181,\"=0\")*0+COUNTIF(S181:W181,\"=1\")*100+COUNTIF(S181:W181,\"=2\")*80+COUNTIF(S181:W181,\"=3\")*50+COUNTIF(S181:W181,\"=8\")*20+COUNTIF(S181:W181,\"=9\")*0)/COUNTA(S181:W181)/100,\"N/A\")","v":"N/A"},"N/A",{"$f":"IF(COUNTA(#REF!)>0,(COUNTIF(#REF!,\"=0\")*0+COUNTIF(#REF!,\"=1\")*100+COUNTIF(#REF!,\"=2\")*80+COUNTIF(#REF!,\"=3\")*50+COUNTIF(#REF!,\"=8\")*20+COUNTIF(#REF!,\"=9\")*0)/COUNTA(#REF!)/100,\"N/A\")","v":{"$error":"#REF!"}},{"$f":"IF(COUNTA(#REF!)>0,(COUNTIF(#REF!,\"=0\")*0+COUNTIF(#REF!,\"=1\")*100+COUNTIF(#REF!,\"=2\")*80+COUNTIF(#REF!,\"=3\")*50+COUNTIF(#REF!,\"=8\")*20+COUNTIF(#REF!,\"=9\")*0)/COUNTA(#REF!)/100,\"N/A\")","v":{"$error":"#REF!"}},{"$f":"IF(AND(COUNTA(B181:X181)<>0,#REF!<>\"\"),AVERAGE(Y181:AE181),\"N/A\")","v":{"$error":"#REF!"}},1,1,1,1,1,{"$error":"#REF!"},{"$error":"#REF!"},{"$error":"#REF!"}]
[{"$nulls":24},{"$f":"IF(COUNTA(B182:G182)>0,(COUNTIF(B182:G182,\"=0\")*0+COUNTIF(B182:G182,\"=1\")*100+COUNTIF(B182:G182,\"=2\")*80+COUNTIF(B182:G182,\"=3\")*50+COUNTIF(B182:G182,\"=8\")*20+COUNTIF(B182:G182,\"=9\")*0)/COUNTA(B182:G182)/100,\"N/A\")","v":"N/A"},{"$f":"IF(COUNTA(K182:P182)>0,(COUNTIF(K182:P182,\"=0\")*0+COUNTIF(K182:P182,\"=1\")*100+COUNTIF(K182:P182,\"=2\")*80+COUNTIF(K182:P182,\"=3\")*50+COUNTIF(K182:P182,\"=8\")*20+COUNTIF(K182:P182,\"=9\")*0)/COUNTA(K182:P182)/100,\"N/A\")","v":"N/A"},{"$f":"IF(COUNTA(Q182)>0,(COUNTIF(Q182,\"=0\")*0+COUNTIF(Q182,\"=1\")*100+COUNTIF(Q182,\"=2\")*80+COUNTIF(Q182,\"=3\")*50+COUNTIF(Q182,\"=8\")*20+COUNTIF(Q182,\"=9\")*0)/COUNTA(Q182)/100,\"N/A\")","v":"N/A"},{"$f":"IF(COUNTA(S182:W182)<>0,(COUNTIF(S182:W182,\"=0\")*0+COUNTIF(S182:W182,\"=1\")*100+COUNTIF(S182:W182,\"=2\")*80+COUNTIF(S182:W182,\"=3\")*50+COUNTIF(S182:W182,\"=8\")*20+COUNTIF(S182:W182,\"=9\")*0)/COUNTA(S182:W182)/100,\"N/A\")","v":"N/A"},"N/A",{"$f":"IF(COUNTA(#REF!)>0,(COUNTIF(#REF!,\"=0\")*0+COUNTIF(#REF!,\"=1\")*100+COUNTIF(#REF!,\"=2\")*80+COUNTIF(#REF!,\"=3\")*50+COUNTIF(#REF!,\"=8\")*20+COUNTIF(#REF!,\"=9\")*0)/COUNTA(#REF!)/100,\"N/A\")","v":{"$error":"#REF!"}},{"$f":"IF(COUNTA(#REF!)>0,(COUNTIF(#REF!,\"=0\")*0+COUNTIF(#REF!,\"=1\")*100+COUNTIF(#REF!,\"=2\")*80+COUNTIF(#REF!,\"=3\")*50+COUNTIF(#REF!,\"=8\")*20+COUNTIF(#REF!,\"=9\")*0)/COUNTA(#REF!)/100,\"N/A\")","v":{"$error":"#REF!"}},{"$f":"IF(AND(COUNTA(B182:X182)<>0,#REF!<>\"\"),AVERAGE(Y182:AE182),\"N/A\")","v":{"$error":"#REF!"}},1,1,1,1,1,{"$error":"#REF!"},{"$error":"#REF!"},{"$error":"#REF!"}]
[{"$nulls":24},{"$f":"IF(COUNTA(B183:G183)>0,(COUNTIF(B183:G183,\"=0\")*0+COUNTIF(B183:G183,\"=1\")*100+COUNTIF(B183:G183,\"=2\")*80+COUNTIF(B183:G183,\"=3\")*50+COUNTIF(B183:G183,\"=8\")*20+COUNTIF(B183:G183,\"=9\")*0)/COUNTA(B183:G183)/100,\"N/A\")","v":"N/A"},{"$f":"IF(COUNTA(K183:P183)>0,(COUNTIF(K183:P183,\"=0\")*0+COUNTIF(K183:P183,\"=1\")*100+COUNTIF(K183:P183,\"=2\")*80+COUNTIF(K183:P183,\"=3\")*50+COUNTIF(K183:P183,\"=8\")*20+COUNTIF(K183:P183,\"=9\")*0)/COUNTA(K183:P183)/100,\"N/A\")","v":"N/A"},{"$f":"IF(COUNTA(Q183)>0,(COUNTIF(Q183,\"=0\")*0+COUNTIF(Q183,\"=1\")*100+COUNTIF(Q183,\"=2\")*80+COUNTIF(Q183,\"=3\")*50+COUNTIF(Q183,\"=8\")*20+COUNTIF(Q183,\"=9\")*0)/COUNTA(Q183)/100,\"N/A\")","v":"N/A"},{"$f":"IF(COUNTA(S183:W183)<>0,(COUNTIF(S183:W183,\"=0\")*0+COUNTIF(S183:W183,\"=1\")*100+COUNTIF(S183:W183,\"=2\")*80+COUNTIF(S183:W183,\"=3\")*50+COUNTIF(S183:W183,\"=8\")*20+COUNTIF(S183:W183,\"=9\")*0)/COUNTA(S183:W183)/100,\"N/A\")","v":"N/A"},"N/A",{"$f":"IF(COUNTA(#REF!)>0,(COUNTIF(#REF!,\"=0\")*0+COUNTIF(#REF!,\"=1\")*100+COUNTIF(#REF!,\"=2\")*80+COUNTIF(#REF!,\"=3\")*50+COUNTIF(#REF!,\"=8\")*20+COUNTIF(#REF!,\"=9\")*0)/COUNTA(#REF!)/100,\"N/A\")","v":{"$error":"#REF!"}},{"$f":"IF(COUNTA(#REF!)>0,(COUNTIF(#REF!,\"=0\")*0+COUNTIF(#REF!,\"=1\")*100+COUNTIF(#REF!,\"=2\")*80+COUNTIF(#REF!,\"=3\")*50+COUNTIF(#REF!,\"=8\")*20+COUNTIF(#REF!,\"=9\")*0)/COUNTA(#REF!)/100,\"N/A\")","v":{"$error":"#REF!"}},{"$f":"IF(AND(COUNTA(B183:X183)<>0,#REF!<>\"\"),AVERAGE(Y183:AE183),\"N/A\")","v":{"$error":"#REF!"}},1,1,1,1,1,{"$error":"#REF!"},{"$error":"#REF!"},{"$error":"#REF!"}]
[{"$nulls":24},{"$f":"IF(COUNTA(B184:G184)>0,(COUNTIF(B184:G184,\"=0\")*0+COUNTIF(B184:G184,\"=1\")*100+COUNTIF(B184:G184,\"=2\")*80+COUNTIF(B184:G184,\"=3\")*50+COUNTIF(B184:G184,\"=8\")*20+COUNTIF(B184:G184,\"=9\")*0)/COUNTA(B184:G184)/100,\"N/A\")","v":"N/A"},{"$f":"IF(COUNTA(K184:P184)>0,(COUNTIF(K184:P184,\"=0\")*0+COUNTIF(K184:P184,\"=1\")*100+COUNTIF(K184:P184,\"=2\")*80+COUNTIF(K184:P184,\"=3\")*50+COUNTIF(K184:P184,\"=8\")*20+COUNTIF(K184:P184,\"=9\")*0)/COUNTA(K184:P184)/100,\"N/A\")","v":"N/A"},{"$f":"IF(COUNTA(Q184)>0,(COUNTIF(Q184,\"=0\")*0+COUNTIF(Q184,\"=1\")*100+COUNTIF(Q184,\"=2\")*80+COUNTIF(Q184,\"=3\")*50+COUNTIF(Q184,\"=8\")*20+COUNTIF(Q184,\"=9\")*0)/COUNTA(Q184)/100,\"N/A\")","v":"N/A"},{"$f":"IF(COUNTA(S184:W184)<>0,(COUNTIF(S184:W184,\"=0\")*0+COUNTIF(S184:W184,\"=1\")*100+COUNTIF(S184:W184,\"=2\")*80+COUNTIF(S184:W184,\"=3\")*50+COUNTIF(S184:W184,\"=8\")*20+COUNTIF(S184:W184,\"=9\")*0)/COUNTA(S184:W184)/100,\"N/A\")","v":"N/A"},"N/A",{"$f":"IF(COUNTA(#REF!)>0,(COUNTIF(#REF!,\"=0\")*0+COUNTIF(#REF!,\"=1\")*100+COUNTIF(#REF!,\"=2\")*80+COUNTIF(#REF!,\"=3\")*50+COUNTIF(#REF!,\"=8\")*20+COUNTIF(#REF!,\"=9\")*0)/COUNTA(#REF!)/100,\"N/A\")","v":{"$error":"#REF!"}},{"$f":"IF(COUNTA(#REF!)>0,(COUNTIF(#REF!,\"=0\")*0+COUNTIF(#REF!,\"=1\")*100+COUNTIF(#REF!,\"=2\")*80+COUNTIF(#REF!,\"=3\")*50+COUNTIF(#REF!,\"=8\")*20+COUNTIF(#REF!,\"=9\")*0)/COUNTA(#REF!)/100,\"N/A\")","v":{"$error":"#REF!"}},{"$f":"IF(AND(COUNTA(B184:X184)<>0,#REF!<>\"\"),AVERAGE(Y184:AE184),\"N/A\")","v":{"$error":"#REF!"}},1,1,1,1,1,{"$error":"#REF!"},{"$error":"#REF!"},{"$error":"#REF!"}]
[{"$nulls":24},{"$f":"IF(COUNTA(B185:G185)>0,(COUNTIF(B185:G185,\"=0\")*0+COUNTIF(B185:G185,\"=1\")*100+COUNTIF(B185:G185,\"=2\")*80+COUNTIF(B185:G185,\"=3\")*50+COUNTIF(B185:G185,\"=8\")*20+COUNTIF(B185:G185,\"=9\")*0)/COUNTA(B185:G185)/100,\"N/A\")","v":"N/A"},{"$f":"IF(COUNTA(K185:P185)>0,(COUNTIF(K185:P185,\"=0\")*0+COUNTIF(K185:P185,\"=1\")*100+COUNTIF(K185:P185,\"=2\")*80+COUNTIF(K185:P185,\"=3\")*50+COUNTIF(K185:P185,\"=8\")*20+COUNTIF(K185:P185,\"=9\")*0)/COUNTA(K185:P185)/100,\"N/A\")","v":"N/A"},{"$f":"IF(COUNTA(Q185)>0,(COUNTIF(Q185,\"=0\")*0+COUNTIF(Q185,\"=1\")*100+COUNTIF(Q185,\"=2\")*80+COUNTIF(Q185,\"=3\")*50+COUNTIF(Q185,\"=8\")*20+COUNTIF(Q185,\"=9\")*0)/COUNTA(Q185)/100,\"N/A\")","v":"N/A"},{"$f":"IF(COUNTA(S185:W185)<>0,(COUNTIF(S185:W185,\"=0\")*0+COUNTIF(S185:W185,\"=1\")*100+COUNTIF(S185:W185,\"=2\")*80+COUNTIF(S185:W185,\"=3\")*50+COUNTIF(S185:W185,\"=8\")*20+COUNTIF(S185:W185,\"=9\")*0)/COUNTA(S185:W185)/100,\"N/A\")","v":"N/A"},"N/A",{"$f":"IF(COUNTA(#REF!)>0,(COUNTIF(#REF!,\"=0\")*0+COUNTIF(#REF!,\"=1\")*100+COUNTIF(#REF!,\"=2\")*80+COUNTIF(#REF!,\"=3\")*50+COUNTIF(#REF!,\"=8\")*20+COUNTIF(#REF!,\"=9\")*0)/COUNTA(#REF!)/100,\"N/A\")","v":{"$error":"#REF!"}},{"$f":"IF(COUNTA(#REF!)>0,(COUNTIF(#REF!,\"=0\")*0+COUNTIF(#REF!,\"=1\")*100+COUNTIF(#REF!,\"=2\")*80+COUNTIF(#REF!,\"=3\")*50+COUNTIF(#REF!,\"=8\")*20+COUNTIF(#REF!,\"=9\")*0)/COUNTA(#REF!)/100,\"N/A\")","v":{"$error":"#REF!"}},{"$f":"IF(AND(COUNTA(B185:X185)<>0,#REF!<>\"\"),AVERAGE(Y185:AE185),\"N/A\")","v":{"$error":"#REF!"}},1,1,1,1,1,{"$error":"#REF!"},{"$f":"IF(AE185=\"N/A\",1,\"\")","v":{"$error":"#REF!"}},{"$error":"#REF!"}]
[{"$nulls":24},{"$f":"IF(COUNTA(B186:G186)>0,(COUNTIF(B186:G186,\"=0\")*0+COUNTIF(B186:G186,\"=1\")*100+COUNTIF(B186:G186,\"=2\")*80+COUNTIF(B186:G186,\"=3\")*50+COUNTIF(B186:G186,\"=8\")*20+COUNTIF(B186:G186,\"=9\")*0)/COUNTA(B186:G186)/100,\"N/A\")","v":"N/A"},{"$f":"IF(COUNTA(K186:P186)>0,(COUNTIF(K186:P186,\"=0\")*0+COUNTIF(K186:P186,\"=1\")*100+COUNTIF(K186:P186,\"=2\")*80+COUNTIF(K186:P186,\"=3\")*50+COUNTIF(K186:P186,\"=8\")*20+COUNTIF(K186:P186,\"=9\")*0)/COUNTA(K186:P186)/100,\"N/A\")","v":"N/A"},{"$f":"IF(COUNTA(Q186)>0,(COUNTIF(Q186,\"=0\")*0+COUNTIF(Q186,\"=1\")*100+COUNTIF(Q186,\"=2\")*80+COUNTIF(Q186,\"=3\")*50+COUNTIF(Q186,\"=8\")*20+COUNTIF(Q186,\"=9\")*0)/COUNTA(Q186)/100,\"N/A\")","v":"N/A"},{"$f":"IF(COUNTA(S186:W186)<>0,(COUNTIF(S186:W186,\"=0\")*0+COUNTIF(S186:W186,\"=1\")*100+COUNTIF(S186:W186,\"=2\")*80+COUNTIF(S186:W186,\"=3\")*50+COUNTIF(S186:W186,\"=8\")*20+COUNTIF(S186:W186,\"=9\")*0)/COUNTA(S186:W186)/100,\"N/A\")","v":"N/A"},"N/A",{"$f":"IF(COUNTA(#REF!)>0,(COUNTIF(#REF!,\"=0\")*0+COUNTIF(#REF!,\"=1\")*100+COUNTIF(#REF!,\"=2\")*80+COUNTIF(#REF!,\"=3\")*50+COUNTIF(#REF!,\"=8\")*20+COUNTIF(#REF!,\"=9\")*0)/COUNTA(#REF!)/100,\"N/A\")","v":{"$error":"#REF!"}},{"$f":"IF(COUNTA(#REF!)>0,(COUNTIF(#REF!,\"=0\")*0+COUNTIF(#REF!,\"=1\")*100+COUNTIF(#REF!,\"=2\")*80+COUNTIF(#REF!,\"=3\")*50+COUNTIF(#REF!,\"=8\")*20+COUNTIF(#REF!,\"=9\")*0)/COUNTA(#REF!)/100,\"N/A\")","v":{"$error":"#REF!"}},{"$f":"IF(AND(COUNTA(B186:X186)<>0,#REF!<>\"\"),AVERAGE(Y186:AE186),\"N/A\")","v":{"$error":"#REF!"}},1,1,1,1,1,{"$error":"#REF!"},{"$error":"#REF!"},{"$error":"#REF!"}]
[{"$nulls":24},{"$f":"IF(COUNTA(B187:G187)>0,(COUNTIF(B187:G187,\"=0\")*0+COUNTIF(B187:G187,\"=1\")*100+COUNTIF(B187:G187,\"=2\")*80+COUNTIF(B187:G187,\"=3\")*50+COUNTIF(B187:G187,\"=8\")*20+COUNTIF(B187:G187,\"=9\")*0)/COUNTA(B187:G187)/100,\"N/A\")","v":"N/A"},{"$f":"IF(COUNTA(K187:P187)>0,(COUNTIF(K187:P187,\"=0\")*0+COUNTIF(K187:P187,\"=1\")*100+COUNTIF(K187:P187,\"=2\")*80+COUNTIF(K187:P187,\"=3\")*50+COUNTIF(K187:P187,\"=8\")*20+COUNTIF(K187:P187,\"=9\")*0)/COUNTA(K187:P187)/100,\"N/A\")","v":"N/A"},{"$f":"IF(COUNTA(Q187)>0,(COUNTIF(Q187,\"=0\")*0+COUNTIF(Q187,\"=1\")*100+COUNTIF(Q187,\"=2\")*80+COUNTIF(Q187,\"=3\")*50+COUNTIF(Q187,\"=8\")*20+COUNTIF(Q187,\"=9\")*0)/COUNTA(Q187)/100,\"N/A\")","v":"N/A"},{"$f":"IF(COUNTA(S187:W187)<>0,(COUNTIF(S187:W187,\"=0\")*0+COUNTIF(S187:W187,\"=1\")*100+COUNTIF(S187:W187,\"=2\")*80+COUNTIF(S187:W187,\"=3\")*50+COUNTIF(S187:W187,\"=8\")*20+COUNTIF(S187:W187,\"=9\")*0)/COUNTA(S187:W187)/100,\"N/A\")","v":"N/A"},"N/A",{"$f":"IF(COUNTA(#REF!)>0,(COUNTIF(#REF!,\"=0\")*0+COUNTIF(#REF!,\"=1\")*100+COUNTIF(#REF!,\"=2\")*80+COUNTIF(#REF!,\"=3\")*50+COUNTIF(#REF!,\"=8\")*20+COUNTIF(#REF!,\"=9\")*0)/COUNTA(#REF!)/100,\"N/A\")","v":{"$error":"#REF!"}},{"$f":"IF(COUNTA(#REF!)>0,(COUNTIF(#REF!,\"=0\")*0+COUNTIF(#REF!,\"=1\")*100+COUNTIF(#REF!,\"=2\")*80+COUNTIF(#REF!,\"=3\")*50+COUNTIF(#REF!,\"=8\")*20+COUNTIF(#REF!,\"=9\")*0)/COUNTA(#REF!)/100,\"N/A\")","v":{"$error":"#REF!"}},{"$f":"IF(AND(COUNTA(B187:X187)<>0,#REF!<>\"\"),AVERAGE(Y187:AE187),\"N/A\")","v":{"$error":"#REF!"}},1,1,1,1,1,{"$error":"#REF!"},{"$error":"#REF!"},{"$error":"#REF!"}]
[{"$nulls":24},{"$f":"IF(COUNTA(B188:G188)>0,(COUNTIF(B188:G188,\"=0\")*0+COUNTIF(B188:G188,\"=1\")*100+COUNTIF(B188:G188,\"=2\")*80+COUNTIF(B188:G188,\"=3\")*50+COUNTIF(B188:G188,\"=8\")*20+COUNTIF(B188:G188,\"=9\")*0)/COUNTA(B188:G188)/100,\"N/A\")","v":"N/A"},{"$f":"IF(COUNTA(K188:P188)>0,(COUNTIF(K188:P188,\"=0\")*0+COUNTIF(K188:P188,\"=1\")*100+COUNTIF(K188:P188,\"=2\")*80+COUNTIF(K188:P188,\"=3\")*50+COUNTIF(K188:P188,\"=8\")*20+COUNTIF(K188:P188,\"=9\")*0)/COUNTA(K188:P188)/100,\"N/A\")","v":"N/A"},{"$f":"IF(COUNTA(Q188)>0,(COUNTIF(Q188,\"=0\")*0+COUNTIF(Q188,\"=1\")*100+COUNTIF(Q188,\"=2\")*80+COUNTIF(Q188,\"=3\")*50+COUNTIF(Q188,\"=8\")*20+COUNTIF(Q188,\"=9\")*0)/COUNTA(Q188)/100,\"N/A\")","v":"N/A"},{"$f":"IF(COUNTA(S188:W188)<>0,(COUNTIF(S188:W188,\"=0\")*0+COUNTIF(S188:W188,\"=1\")*100+COUNTIF(S188:W188,\"=2\")*80+COUNTIF(S188:W188,\"=3\")*50+COUNTIF(S188:W188,\"=8\")*20+COUNTIF(S188:W188,\"=9\")*0)/COUNTA(S188:W188)/100,\"N/A\")","v":"N/A"},"N/A",{"$f":"IF(COUNTA(#REF!)>0,(COUNTIF(#REF!,\"=0\")*0+COUNTIF(#REF!,\"=1\")*100+COUNTIF(#REF!,\"=2\")*80+COUNTIF(#REF!,\"=3\")*50+COUNTIF(#REF!,\"=8\")*20+COUNTIF(#REF!,\"=9\")*0)/COUNTA(#REF!)/100,\"N/A\")","v":{"$error":"#REF!"}},{"$f":"IF(COUNTA(#REF!)>0,(COUNTIF(#REF!,\"=0\")*0+COUNTIF(#REF!,\"=1\")*100+COUNTIF(#REF!,\"=2\")*80+COUNTIF(#REF!,\"=3\")*50+COUNTIF(#REF!,\"=8\")*20+COUNTIF(#REF!,\"=9\")*0)/COUNTA(#REF!)/100,\"N/A\")","v":{"$error":"#REF!"}},{"$f":"IF(AND(COUNTA(B188:X188)<>0,#REF!<>\"\"),AVERAGE(Y188:AE188),\"N/A\")","v":{"$error":"#REF!"}},1,1,1,1,1,{"$error":"#REF!"},{"$error":"#REF!"},{"$error":"#REF!"}]
[{"$nulls":24},{"$f":"IF(COUNTA(B189:G189)>0,(COUNTIF(B189:G189,\"=0\")*0+COUNTIF(B189:G189,\"=1\")*100+COUNTIF(B189:G189,\"=2\")*80+COUNTIF(B189:G189,\"=3\")*50+COUNTIF(B189:G189,\"=8\")*20+COUNTIF(B189:G189,\"=9\")*0)/COUNTA(B189:G189)/100,\"N/A\")","v":"N/A"},{"$f":"IF(COUNTA(K189:P189)>0,(COUNTIF(K189:P189,\"=0\")*0+COUNTIF(K189:P189,\"=1\")*100+COUNTIF(K189:P189,\"=2\")*80+COUNTIF(K189:P189,\"=3\")*50+COUNTIF(K189:P189,\"=8\")*20+COUNTIF(K189:P189,\"=9\")*0)/COUNTA(K189:P189)/100,\"N/A\")","v":"N/A"},{"$f":"IF(COUNTA(Q189)>0,(COUNTIF(Q189,\"=0\")*0+COUNTIF(Q189,\"=1\")*100+COUNTIF(Q189,\"=2\")*80+COUNTIF(Q189,\"=3\")*50+COUNTIF(Q189,\"=8\")*20+COUNTIF(Q189,\"=9\")*0)/COUNTA(Q189)/100,\"N/A\")","v":"N/A"},{"$f":"IF(COUNTA(S189:W189)<>0,(COUNTIF(S189:W189,\"=0\")*0+COUNTIF(S189:W189,\"=1\")*100+COUNTIF(S189:W189,\"=2\")*80+COUNTIF(S189:W189,\"=3\")*50+COUNTIF(S189:W189,\"=8\")*20+COUNTIF(S189:W189,\"=9\")*0)/COUNTA(S189:W189)/100,\"N/A\")","v":"N/A"},"N/A",{"$f":"IF(COUNTA(#REF!)>0,(COUNTIF(#REF!,\"=0\")*0+COUNTIF(#REF!,\"=1\")*100+COUNTIF(#REF!,\"=2\")*80+COUNTIF(#REF!,\"=3\")*50+COUNTIF(#REF!,\"=8\")*20+COUNTIF(#REF!,\"=9\")*0)/COUNTA(#REF!)/100,\"N/A\")","v":{"$error":"#REF!"}},{"$f":"IF(COUNTA(#REF!)>0,(COUNTIF(#REF!,\"=0\")*0+COUNTIF(#REF!,\"=1\")*100+COUNTIF(#REF!,\"=2\")*80+COUNTIF(#REF!,\"=3\")*50+COUNTIF(#REF!,\"=8\")*20+COUNTIF(#REF!,\"=9\")*0)/COUNTA(#REF!)/100,\"N/A\")","v":{"$error":"#REF!"}},{"$f":"IF(AND(COUNTA(B189:X189)<>0,#REF!<>\"\"),AVERAGE(Y189:AE189),\"N/A\")","v":{"$error":"#REF!"}},1,1,1,1,1,{"$error":"#REF!"},{"$error":"#REF!"},{"$error":"#REF!"}]
[{"$nulls":24},{"$f":"IF(COUNTA(B190:G190)>0,(COUNTIF(B190:G190,\"=0\")*0+COUNTIF(B190:G190,\"=1\")*100+COUNTIF(B190:G190,\"=2\")*80+COUNTIF(B190:G190,\"=3\")*50+COUNTIF(B190:G190,\"=8\")*20+COUNTIF(B190:G190,\"=9\")*0)/COUNTA(B190:G190)/100,\"N/A\")","v":"N/A"},{"$f":"IF(COUNTA(K190:P190)>0,(COUNTIF(K190:P190,\"=0\")*0+COUNTIF(K190:P190,\"=1\")*100+COUNTIF(K190:P190,\"=2\")*80+COUNTIF(K190:P190,\"=3\")*50+COUNTIF(K190:P190,\"=8\")*20+COUNTIF(K190:P190,\"=9\")*0)/COUNTA(K190:P190)/100,\"N/A\")","v":"N/A"},{"$f":"IF(COUNTA(Q190)>0,(COUNTIF(Q190,\"=0\")*0+COUNTIF(Q190,\"=1\")*100+COUNTIF(Q190,\"=2\")*80+COUNTIF(Q190,\"=3\")*50+COUNTIF(Q190,\"=8\")*20+COUNTIF(Q190,\"=9\")*0)/COUNTA(Q190)/100,\"N/A\")","v":"N/A"},{"$f":"IF(COUNTA(S190:W190)<>0,(COUNTIF(S190:W190,\"=0\")*0+COUNTIF(S190:W190,\"=1\")*100+COUNTIF(S190:W190,\"=2\")*80+COUNTIF(S190:W190,\"=3\")*50+COUNTIF(S190:W190,\"=8\")*20+COUNTIF(S190:W190,\"=9\")*0)/COUNTA(S190:W190)/100,\"N/A\")","v":"N/A"},"N/A",{"$f":"IF(COUNTA(#REF!)>0,(COUNTIF(#REF!,\"=0\")*0+COUNTIF(#REF!,\"=1\")*100+COUNTIF(#REF!,\"=2\")*80+COUNTIF(#REF!,\"=3\")*50+COUNTIF(#REF!,\"=8\")*20+COUNTIF(#REF!,\"=9\")*0)/COUNTA(#REF!)/100,\"N/A\")","v":{"$error":"#REF!"}},{"$f":"IF(COUNTA(#REF!)>0,(COUNTIF(#REF!,\"=0\")*0+COUNTIF(#REF!,\"=1\")*100+COUNTIF(#REF!,\"=2\")*80+COUNTIF(#REF!,\"=3\")*50+COUNTIF(#REF!,\"=8\")*20+COUNTIF(#REF!,\"=9\")*0)/COUNTA(#REF!)/100,\"N/A\")","v":{"$error":"#REF!"}},{"$f":"IF(AND(COUNTA(B190:X190)<>0,#REF!<>\"\"),AVERAGE(Y190:AE190),\"N/A\")","v":{"$error":"#REF!"}},1,1,1,1,1,{"$error":"#REF!"},{"$error":"#REF!"},{"$error":"#REF!"}]
[{"$nulls":24},{"$f":"IF(COUNTA(B191:G191)>0,(COUNTIF(B191:G191,\"=0\")*0+COUNTIF(B191:G191,\"=1\")*100+COUNTIF(B191:G191,\"=2\")*80+COUNTIF(B191:G191,\"=3\")*50+COUNTIF(B191:G191,\"=8\")*20+COUNTIF(B191:G191,\"=9\")*0)/COUNTA(B191:G191)/100,\"N/A\")","v":"N/A"},{"$f":"IF(COUNTA(K191:P191)>0,(COUNTIF(K191:P191,\"=0\")*0+COUNTIF(K191:P191,\"=1\")*100+COUNTIF(K191:P191,\"=2\")*80+COUNTIF(K191:P191,\"=3\")*50+COUNTIF(K191:P191,\"=8\")*20+COUNTIF(K191:P191,\"=9\")*0)/COUNTA(K191:P191)/100,\"N/A\")","v":"N/A"},{"$f":"IF(COUNTA(Q191)>0,(COUNTIF(Q191,\"=0\")*0+COUNTIF(Q191,\"=1\")*100+COUNTIF(Q191,\"=2\")*80+COUNTIF(Q191,\"=3\")*50+COUNTIF(Q191,\"=8\")*20+COUNTIF(Q191,\"=9\")*0)/COUNTA(Q191)/100,\"N/A\")","v":"N/A"},{"$f":"IF(COUNTA(S191:W191)<>0,(COUNTIF(S191:W191,\"=0\")*0+COUNTIF(S191:W191,\"=1\")*100+COUNTIF(S191:W191,\"=2\")*80+COUNTIF(S191:W191,\"=3\")*50+COUNTIF(S191:W191,\"=8\")*20+COUNTIF(S191:W191,\"=9\")*0)/COUNTA(S191:W191)/100,\"N/A\")","v":"N/A"},"N/A",{"$f":"IF(COUNTA(#REF!)>0,(COUNTIF(#REF!,\"=0\")*0+COUNTIF(#REF!,\"=1\")*100+COUNTIF(#REF!,\"=2\")*80+COUNTIF(#REF!,\"=3\")*50+COUNTIF(#REF!,\"=8\")*20+COUNTIF(#REF!,\"=9\")*0)/COUNTA(#REF!)/100,\"N/A\")","v":{"$error":"#REF!"}},{"$f":"IF(COUNTA(#REF!)>0,(COUNTIF(#REF!,\"=0\")*0+COUNTIF(#REF!,\"=1\")*100+COUNTIF(#REF!,\"=2\")*80+COUNTIF(#REF!,\"=3\")*50+COUNTIF(#REF!,\"=8\")*20+COUNTIF(#REF!,\"=9\")*0)/COUNTA(#REF!)/100,\"N/A\")","v":{"$error":"#REF!"}},{"$f":"IF(AND(COUNTA(B191:X191)<>0,#REF!<>\"\"),AVERAGE(Y191:AE191),\"N/A\")","v":{"$error":"#REF!"}},1,1,1,1,1,{"$error":"#REF!"},{"$error":"#REF!"},{"$error":"#REF!"}]
[{"$nulls":24},{"$f":"IF(COUNTA(B192:G192)>0,(COUNTIF(B192:G192,\"=0\")*0+COUNTIF(B192:G192,\"=1\")*100+COUNTIF(B192:G192,\"=2\")*80+COUNTIF(B192:G192,\"=3\")*50+COUNTIF(B192:G192,\"=8\")*20+COUNTIF(B192:G192,\"=9\")*0)/COUNTA(B192:G192)/100,\"N/A\")","v":"N/A"},{"$f":"IF(COUNTA(K192:P192)>0,(COUNTIF(K192:P192,\"=0\")*0+COUNTIF(K192:P192,\"=1\")*100+COUNTIF(K192:P192,\"=2\")*80+COUNTIF(K192:P192,\"=3\")*50+COUNTIF(K192:P192,\"=8\")*20+COUNTIF(K192:P192,\"=9\")*0)/COUNTA(K192:P192)/100,\"N/A\")","v":"N/A"},{"$f":"IF(COUNTA(Q192)>0,(COUNTIF(Q192,\"=0\")*0+COUNTIF(Q192,\"=1\")*100+COUNTIF(Q192,\"=2\")*80+COUNTIF(Q192,\"=3\")*50+COUNTIF(Q192,\"=8\")*20+COUNTIF(Q192,\"=9\")*0)/COUNTA(Q192)/100,\"N/A\")","v":"N/A"},{"$f":"IF(COUNTA(S192:W192)<>0,(COUNTIF(S192:W192,\"=0\")*0+COUNTIF(S192:W192,\"=1\")*100+COUNTIF(S192:W192,\"=2\")*80+COUNTIF(S192:W192,\"=3\")*50+COUNTIF(S192:W192,\"=8\")*20+COUNTIF(S192:W192,\"=9\")*0)/COUNTA(S192:W192)/100,\"N/A\")","v":"N/A"},"N/A",{"$f":"IF(COUNTA(#REF!)>0,(COUNTIF(#REF!,\"=0\")*0+COUNTIF(#REF!,\"=1\")*100+COUNTIF(#REF!,\"=2\")*80+COUNTIF(#REF!,\"=3\")*50+COUNTIF(#REF!,\"=8\")*20+COUNTIF(#REF!,\"=9\")*0)/COUNTA(#REF!)/100,\"N/A\")","v":{"$error":"#REF!"}},{"$f":"IF(COUNTA(#REF!)>0,(COUNTIF(#REF!,\"=0\")*0+COUNTIF(#REF!,\"=1\")*100+COUNTIF(#REF!,\"=2\")*80+COUNTIF(#REF!,\"=3\")*50+COUNTIF(#REF!,\"=8\")*20+COUNTIF(#REF!,\"=9\")*0)/COUNTA(#REF!)/100,\"N/A\")","v":{"$error":"#REF!"}},{"$f":"IF(AND(COUNTA(B192:X192)<>0,#REF!<>\"\"),AVERAGE(Y192:AE192),\"N/A\")","v":{"$error":"#REF!"}},1,1,1,1,1,{"$error":"#REF!"},{"$error":"#REF!"},{"$error":"#REF!"}]
[{"$nulls":24},{"$f":"IF(COUNTA(B193:G193)>0,(COUNTIF(B193:G193,\"=0\")*0+COUNTIF(B193:G193,\"=1\")*100+COUNTIF(B193:G193,\"=2\")*80+COUNTIF(B193:G193,\"=3\")*50+COUNTIF(B193:G193,\"=8\")*20+COUNTIF(B193:G193,\"=9\")*0)/COUNTA(B193:G193)/100,\"N/A\")","v":"N/A"},{"$f":"IF(COUNTA(K193:P193)>0,(COUNTIF(K193:P193,\"=0\")*0+COUNTIF(K193:P193,\"=1\")*100+COUNTIF(K193:P193,\"=2\")*80+COUNTIF(K193:P193,\"=3\")*50+COUNTIF(K193:P193,\"=8\")*20+COUNTIF(K193:P193,\"=9\")*0)/COUNTA(K193:P193)/100,\"N/A\")","v":"N/A"},{"$f":"IF(COUNTA(Q193)>0,(COUNTIF(Q193,\"=0\")*0+COUNTIF(Q193,\"=1\")*100+COUNTIF(Q193,\"=2\")*80+COUNTIF(Q193,\"=3\")*50+COUNTIF(Q193,\"=8\")*20+COUNTIF(Q193,\"=9\")*0)/COUNTA(Q193)/100,\"N/A\")","v":"N/A"},{"$f":"IF(COUNTA(S193:W193)<>0,(COUNTIF(S193:W193,\"=0\")*0+COUNTIF(S193:W193,\"=1\")*100+COUNTIF(S193:W193,\"=2\")*80+COUNTIF(S193:W193,\"=3\")*50+COUNTIF(S193:W193,\"=8\")*20+COUNTIF(S193:W193,\"=9\")*0)/COUNTA(S193:W193)/100,\"N/A\")","v":"N/A"},"N/A",{"$f":"IF(COUNTA(#REF!)>0,(COUNTIF(#REF!,\"=0\")*0+COUNTIF(#REF!,\"=1\")*100+COUNTIF(#REF!,\"=2\")*80+COUNTIF(#REF!,\"=3\")*50+COUNTIF(#REF!,\"=8\")*20+COUNTIF(#REF!,\"=9\")*0)/COUNTA(#REF!)/100,\"N/A\")","v":{"$error":"#REF!"}},{"$f":"IF(COUNTA(#REF!)>0,(COUNTIF(#REF!,\"=0\")*0+COUNTIF(#REF!,\"=1\")*100+COUNTIF(#REF!,\"=2\")*80+COUNTIF(#REF!,\"=3\")*50+COUNTIF(#REF!,\"=8\")*20+COUNTIF(#REF!,\"=9\")*0)/COUNTA(#REF!)/100,\"N/A\")","v":{"$error":"#REF!"}},{"$f":"IF(AND(COUNTA(B193:X193)<>0,#REF!<>\"\"),AVERAGE(Y193:AE193),\"N/A\")","v":{"$error":"#REF!"}},1,1,1,1,1,{"$error":"#REF!"},{"$error":"#REF!"},{"$error":"#REF!"}]
[{"$nulls":24},{"$f":"IF(COUNTA(B194:G194)>0,(COUNTIF(B194:G194,\"=0\")*0+COUNTIF(B194:G194,\"=1\")*100+COUNTIF(B194:G194,\"=2\")*80+COUNTIF(B194:G194,\"=3\")*50+COUNTIF(B194:G194,\"=8\")*20+COUNTIF(B194:G194,\"=9\")*0)/COUNTA(B194:G194)/100,\"N/A\")","v":"N/A"},{"$f":"IF(COUNTA(K194:P194)>0,(COUNTIF(K194:P194,\"=0\")*0+COUNTIF(K194:P194,\"=1\")*100+COUNTIF(K194:P194,\"=2\")*80+COUNTIF(K194:P194,\"=3\")*50+COUNTIF(K194:P194,\"=8\")*20+COUNTIF(K194:P194,\"=9\")*0)/COUNTA(K194:P194)/100,\"N/A\")","v":"N/A"},{"$f":"IF(COUNTA(Q194)>0,(COUNTIF(Q194,\"=0\")*0+COUNTIF(Q194,\"=1\")*100+COUNTIF(Q194,\"=2\")*80+COUNTIF(Q194,\"=3\")*50+COUNTIF(Q194,\"=8\")*20+COUNTIF(Q194,\"=9\")*0)/COUNTA(Q194)/100,\"N/A\")","v":"N/A"},{"$f":"IF(COUNTA(S194:W194)<>0,(COUNTIF(S194:W194,\"=0\")*0+COUNTIF(S194:W194,\"=1\")*100+COUNTIF(S194:W194,\"=2\")*80+COUNTIF(S194:W194,\"=3\")*50+COUNTIF(S194:W194,\"=8\")*20+COUNTIF(S194:W194,\"=9\")*0)/COUNTA(S194:W194)/100,\"N/A\")","v":"N/A"},"N/A",{"$f":"IF(COUNTA(#REF!)>0,(COUNTIF(#REF!,\"=0\")*0+COUNTIF(#REF!,\"=1\")*100+COUNTIF(#REF!,\"=2\")*80+COUNTIF(#REF!,\"=3\")*50+COUNTIF(#REF!,\"=8\")*20+COUNTIF(#REF!,\"=9\")*0)/COUNTA(#REF!)/100,\"N/A\")","v":{"$error":"#REF!"}},{"$f":"IF(COUNTA(#REF!)>0,(COUNTIF(#REF!,\"=0\")*0+COUNTIF(#REF!,\"=1\")*100+COUNTIF(#REF!,\"=2\")*80+COUNTIF(#REF!,\"=3\")*50+COUNTIF(#REF!,\"=8\")*20+COUNTIF(#REF!,\"=9\")*0)/COUNTA(#REF!)/100,\"N/A\")","v":{"$error":"#REF!"}},{"$f":"IF(AND(COUNTA(B194:X194)<>0,#REF!<>\"\"),AVERAGE(Y194:AE194),\"N/A\")","v":{"$error":"#REF!"}},1,1,1,1,1,{"$error":"#REF!"},{"$error":"#REF!"},{"$error":"#REF!"}]
[{"$nulls":24},{"$f":"IF(COUNTA(B195:G195)>0,(COUNTIF(B195:G195,\"=0\")*0+COUNTIF(B195:G195,\"=1\")*100+COUNTIF(B195:G195,\"=2\")*80+COUNTIF(B195:G195,\"=3\")*50+COUNTIF(B195:G195,\"=8\")*20+COUNTIF(B195:G195,\"=9\")*0)/COUNTA(B195:G195)/100,\"N/A\")","v":"N/A"},{"$f":"IF(COUNTA(K195:P195)>0,(COUNTIF(K195:P195,\"=0\")*0+COUNTIF(K195:P195,\"=1\")*100+COUNTIF(K195:P195,\"=2\")*80+COUNTIF(K195:P195,\"=3\")*50+COUNTIF(K195:P195,\"=8\")*20+COUNTIF(K195:P195,\"=9\")*0)/COUNTA(K195:P195)/100,\"N/A\")","v":"N/A"},{"$f":"IF(COUNTA(Q195)>0,(COUNTIF(Q195,\"=0\")*0+COUNTIF(Q195,\"=1\")*100+COUNTIF(Q195,\"=2\")*80+COUNTIF(Q195,\"=3\")*50+COUNTIF(Q195,\"=8\")*20+COUNTIF(Q195,\"=9\")*0)/COUNTA(Q195)/100,\"N/A\")","v":"N/A"},{"$f":"IF(COUNTA(S195:W195)<>0,(COUNTIF(S195:W195,\"=0\")*0+COUNTIF(S195:W195,\"=1\")*100+COUNTIF(S195:W195,\"=2\")*80+COUNTIF(S195:W195,\"=3\")*50+COUNTIF(S195:W195,\"=8\")*20+COUNTIF(S195:W195,\"=9\")*0)/COUNTA(S195:W195)/100,\"N/A\")","v":"N/A"},"N/A",{"$f":"IF(COUNTA(#REF!)>0,(COUNTIF(#REF!,\"=0\")*0+COUNTIF(#REF!,\"=1\")*100+COUNTIF(#REF!,\"=2\")*80+COUNTIF(#REF!,\"=3\")*50+COUNTIF(#REF!,\"=8\")*20+COUNTIF(#REF!,\"=9\")*0)/COUNTA(#REF!)/100,\"N/A\")","v":{"$error":"#REF!"}},{"$f":"IF(COUNTA(#REF!)>0,(COUNTIF(#REF!,\"=0\")*0+COUNTIF(#REF!,\"=1\")*100+COUNTIF(#REF!,\"=2\")*80+COUNTIF(#REF!,\"=3\")*50+COUNTIF(#REF!,\"=8\")*20+COUNTIF(#REF!,\"=9\")*0)/COUNTA(#REF!)/100,\"N/A\")","v":{"$error":"#REF!"}},{"$f":"IF(AND(COUNTA(B195:X195)<>0,#REF!<>\"\"),AVERAGE(Y195:AE195),\"N/A\")","v":{"$error":"#REF!"}},1,1,1,1,1,{"$error":"#REF!"},{"$error":"#REF!"},{"$error":"#REF!"}]
[{"$nulls":24},{"$f":"IF(COUNTA(B196:G196)>0,(COUNTIF(B196:G196,\"=0\")*0+COUNTIF(B196:G196,\"=1\")*100+COUNTIF(B196:G196,\"=2\")*80+COUNTIF(B196:G196,\"=3\")*50+COUNTIF(B196:G196,\"=8\")*20+COUNTIF(B196:G196,\"=9\")*0)/COUNTA(B196:G196)/100,\"N/A\")","v":"N/A"},{"$f":"IF(COUNTA(K196:P196)>0,(COUNTIF(K196:P196,\"=0\")*0+COUNTIF(K196:P196,\"=1\")*100+COUNTIF(K196:P196,\"=2\")*80+COUNTIF(K196:P196,\"=3\")*50+COUNTIF(K196:P196,\"=8\")*20+COUNTIF(K196:P196,\"=9\")*0)/COUNTA(K196:P196)/100,\"N/A\")","v":"N/A"},{"$f":"IF(COUNTA(Q196)>0,(COUNTIF(Q196,\"=0\")*0+COUNTIF(Q196,\"=1\")*100+COUNTIF(Q196,\"=2\")*80+COUNTIF(Q196,\"=3\")*50+COUNTIF(Q196,\"=8\")*20+COUNTIF(Q196,\"=9\")*0)/COUNTA(Q196)/100,\"N/A\")","v":"N/A"},{"$f":"IF(COUNTA(S196:W196)<>0,(COUNTIF(S196:W196,\"=0\")*0+COUNTIF(S196:W196,\"=1\")*100+COUNTIF(S196:W196,\"=2\")*80+COUNTIF(S196:W196,\"=3\")*50+COUNTIF(S196:W196,\"=8\")*20+COUNTIF(S196:W196,\"=9\")*0)/COUNTA(S196:W196)/100,\"N/A\")","v":"N/A"},"N/A",{"$f":"IF(COUNTA(#REF!)>0,(COUNTIF(#REF!,\"=0\")*0+COUNTIF(#REF!,\"=1\")*100+COUNTIF(#REF!,\"=2\")*80+COUNTIF(#REF!,\"=3\")*50+COUNTIF(#REF!,\"=8\")*20+COUNTIF(#REF!,\"=9\")*0)/COUNTA(#REF!)/100,\"N/A\")","v":{"$error":"#REF!"}},{"$f":"IF(COUNTA(#REF!)>0,(COUNTIF(#REF!,\"=0\")*0+COUNTIF(#REF!,\"=1\")*100+COUNTIF(#REF!,\"=2\")*80+COUNTIF(#REF!,\"=3\")*50+COUNTIF(#REF!,\"=8\")*20+COUNTIF(#REF!,\"=9\")*0)/COUNTA(#REF!)/100,\"N/A\")","v":{"$error":"#REF!"}},{"$f":"IF(AND(COUNTA(B196:X196)<>0,#REF!<>\"\"),AVERAGE(Y196:AE196),\"N/A\")","v":{"$error":"#REF!"}},1,1,1,1,1,{"$error":"#REF!"},{"$error":"#REF!"},{"$error":"#REF!"}]
[{"$nulls":24},{"$f":"IF(COUNTA(B197:G197)>0,(COUNTIF(B197:G197,\"=0\")*0+COUNTIF(B197:G197,\"=1\")*100+COUNTIF(B197:G197,\"=2\")*80+COUNTIF(B197:G197,\"=3\")*50+COUNTIF(B197:G197,\"=8\")*20+COUNTIF(B197:G197,\"=9\")*0)/COUNTA(B197:G197)/100,\"N/A\")","v":"N/A"},{"$f":"IF(COUNTA(K197:P197)>0,(COUNTIF(K197:P197,\"=0\")*0+COUNTIF(K197:P197,\"=1\")*100+COUNTIF(K197:P197,\"=2\")*80+COUNTIF(K197:P197,\"=3\")*50+COUNTIF(K197:P197,\"=8\")*20+COUNTIF(K197:P197,\"=9\")*0)/COUNTA(K197:P197)/100,\"N/A\")","v":"N/A"},{"$f":"IF(COUNTA(Q197)>0,(COUNTIF(Q197,\"=0\")*0+COUNTIF(Q197,\"=1\")*100+COUNTIF(Q197,\"=2\")*80+COUNTIF(Q197,\"=3\")*50+COUNTIF(Q197,\"=8\")*20+COUNTIF(Q197,\"=9\")*0)/COUNTA(Q197)/100,\"N/A\")","v":"N/A"},{"$f":"IF(COUNTA(S197:W197)<>0,(COUNTIF(S197:W197,\"=0\")*0+COUNTIF(S197:W197,\"=1\")*100+COUNTIF(S197:W197,\"=2\")*80+COUNTIF(S197:W197,\"=3\")*50+COUNTIF(S197:W197,\"=8\")*20+COUNTIF(S197:W197,\"=9\")*0)/COUNTA(S197:W197)/100,\"N/A\")","v":"N/A"},"N/A",{"$f":"IF(COUNTA(#REF!)>0,(COUNTIF(#REF!,\"=0\")*0+COUNTIF(#REF!,\"=1\")*100+COUNTIF(#REF!,\"=2\")*80+COUNTIF(#REF!,\"=3\")*50+COUNTIF(#REF!,\"=8\")*20+COUNTIF(#REF!,\"=9\")*0)/COUNTA(#REF!)/100,\"N/A\")","v":{"$error":"#REF!"}},{"$f":"IF(COUNTA(#REF!)>0,(COUNTIF(#REF!,\"=0\")*0+COUNTIF(#REF!,\"=1\")*100+COUNTIF(#REF!,\"=2\")*80+COUNTIF(#REF!,\"=3\")*50+COUNTIF(#REF!,\"=8\")*20+COUNTIF(#REF!,\"=9\")*0)/COUNTA(#REF!)/100,\"N/A\")","v":{"$error":"#REF!"}},{"$f":"IF(AND(COUNTA(B197:X197)<>0,#REF!<>\"\"),AVERAGE(Y197:AE197),\"N/A\")","v":{"$error":"#REF!"}},1,1,1,1,1,{"$error":"#REF!"},{"$error":"#REF!"},{"$error":"#REF!"}]
[{"$nulls":24},{"$f":"IF(COUNTA(B198:G198)>0,(COUNTIF(B198:G198,\"=0\")*0+COUNTIF(B198:G198,\"=1\")*100+COUNTIF(B198:G198,\"=2\")*80+COUNTIF(B198:G198,\"=3\")*50+COUNTIF(B198:G198,\"=8\")*20+COUNTIF(B198:G198,\"=9\")*0)/COUNTA(B198:G198)/100,\"N/A\")","v":"N/A"},{"$f":"IF(COUNTA(K198:P198)>0,(COUNTIF(K198:P198,\"=0\")*0+COUNTIF(K198:P198,\"=1\")*100+COUNTIF(K198:P198,\"=2\")*80+COUNTIF(K198:P198,\"=3\")*50+COUNTIF(K198:P198,\"=8\")*20+COUNTIF(K198:P198,\"=9\")*0)/COUNTA(K198:P198)/100,\"N/A\")","v":"N/A"},{"$f":"IF(COUNTA(Q198)>0,(COUNTIF(Q198,\"=0\")*0+COUNTIF(Q198,\"=1\")*100+COUNTIF(Q198,\"=2\")*80+COUNTIF(Q198,\"=3\")*50+COUNTIF(Q198,\"=8\")*20+COUNTIF(Q198,\"=9\")*0)/COUNTA(Q198)/100,\"N/A\")","v":"N/A"},{"$f":"IF(COUNTA(S198:W198)<>0,(COUNTIF(S198:W198,\"=0\")*0+COUNTIF(S198:W198,\"=1\")*100+COUNTIF(S198:W198,\"=2\")*80+COUNTIF(S198:W198,\"=3\")*50+COUNTIF(S198:W198,\"=8\")*20+COUNTIF(S198:W198,\"=9\")*0)/COUNTA(S198:W198)/100,\"N/A\")","v":"N/A"},"N/A",{"$f":"IF(COUNTA(#REF!)>0,(COUNTIF(#REF!,\"=0\")*0+COUNTIF(#REF!,\"=1\")*100+COUNTIF(#REF!,\"=2\")*80+COUNTIF(#REF!,\"=3\")*50+COUNTIF(#REF!,\"=8\")*20+COUNTIF(#REF!,\"=9\")*0)/COUNTA(#REF!)/100,\"N/A\")","v":{"$error":"#REF!"}},{"$f":"IF(COUNTA(#REF!)>0,(COUNTIF(#REF!,\"=0\")*0+COUNTIF(#REF!,\"=1\")*100+COUNTIF(#REF!,\"=2\")*80+COUNTIF(#REF!,\"=3\")*50+COUNTIF(#REF!,\"=8\")*20+COUNTIF(#REF!,\"=9\")*0)/COUNTA(#REF!)/100,\"N/A\")","v":{"$error":"#REF!"}},{"$f":"IF(AND(COUNTA(B198:X198)<>0,#REF!<>\"\"),AVERAGE(Y198:AE198),\"N/A\")","v":{"$error":"#REF!"}},1,1,1,1,1,{"$error":"#REF!"},{"$error":"#REF!"},{"$error":"#REF!"}]
[{"$nulls":24},{"$f":"IF(COUNTA(B199:G199)>0,(COUNTIF(B199:G199,\"=0\")*0+COUNTIF(B199:G199,\"=1\")*100+COUNTIF(B199:G199,\"=2\")*80+COUNTIF(B199:G199,\"=3\")*50+COUNTIF(B199:G199,\"=8\")*20+COUNTIF(B199:G199,\"=9\")*0)/COUNTA(B199:G199)/100,\"N/A\")","v":"N/A"},{"$f":"IF(COUNTA(K199:P199)>0,(COUNTIF(K199:P199,\"=0\")*0+COUNTIF(K199:P199,\"=1\")*100+COUNTIF(K199:P199,\"=2\")*80+COUNTIF(K199:P199,\"=3\")*50+COUNTIF(K199:P199,\"=8\")*20+COUNTIF(K199:P199,\"=9\")*0)/COUNTA(K199:P199)/100,\"N/A\")","v":"N/A"},{"$f":"IF(COUNTA(Q199)>0,(COUNTIF(Q199,\"=0\")*0+COUNTIF(Q199,\"=1\")*100+COUNTIF(Q199,\"=2\")*80+COUNTIF(Q199,\"=3\")*50+COUNTIF(Q199,\"=8\")*20+COUNTIF(Q199,\"=9\")*0)/COUNTA(Q199)/100,\"N/A\")","v":"N/A"},{"$f":"IF(COUNTA(S199:W199)<>0,(COUNTIF(S199:W199,\"=0\")*0+COUNTIF(S199:W199,\"=1\")*100+COUNTIF(S199:W199,\"=2\")*80+COUNTIF(S199:W199,\"=3\")*50+COUNTIF(S199:W199,\"=8\")*20+COUNTIF(S199:W199,\"=9\")*0)/COUNTA(S199:W199)/100,\"N/A\")","v":"N/A"},"N/A",{"$f":"IF(COUNTA(#REF!)>0,(COUNTIF(#REF!,\"=0\")*0+COUNTIF(#REF!,\"=1\")*100+COUNTIF(#REF!,\"=2\")*80+COUNTIF(#REF!,\"=3\")*50+COUNTIF(#REF!,\"=8\")*20+COUNTIF(#REF!,\"=9\")*0)/COUNTA(#REF!)/100,\"N/A\")","v":{"$error":"#REF!"}},{"$f":"IF(COUNTA(#REF!)>0,(COUNTIF(#REF!,\"=0\")*0+COUNTIF(#REF!,\"=1\")*100+COUNTIF(#REF!,\"=2\")*80+COUNTIF(#REF!,\"=3\")*50+COUNTIF(#REF!,\"=8\")*20+COUNTIF(#REF!,\"=9\")*0)/COUNTA(#REF!)/100,\"N/A\")","v":{"$error":"#REF!"}},{"$f":"IF(AND(COUNTA(B199:X199)<>0,#REF!<>\"\"),AVERAGE(Y199:AE199),\"N/A\")","v":{"$error":"#REF!"}},1,1,1,1,1,{"$error":"#REF!"},{"$error":"#REF!"},{"$error":"#REF!"}]
[{"$nulls":24},{"$f":"IF(COUNTA(B200:G200)>0,(COUNTIF(B200:G200,\"=0\")*0+COUNTIF(B200:G200,\"=1\")*100+COUNTIF(B200:G200,\"=2\")*80+COUNTIF(B200:G200,\"=3\")*50+COUNTIF(B200:G200,\"=8\")*20+COUNTIF(B200:G200,\"=9\")*0)/COUNTA(B200:G200)/100,\"N/A\")","v":"N/A"},{"$f":"IF(COUNTA(K200:P200)>0,(COUNTIF(K200:P200,\"=0\")*0+COUNTIF(K200:P200,\"=1\")*100+COUNTIF(K200:P200,\"=2\")*80+COUNTIF(K200:P200,\"=3\")*50+COUNTIF(K200:P200,\"=8\")*20+COUNTIF(K200:P200,\"=9\")*0)/COUNTA(K200:P200)/100,\"N/A\")","v":"N/A"},{"$f":"IF(COUNTA(Q200)>0,(COUNTIF(Q200,\"=0\")*0+COUNTIF(Q200,\"=1\")*100+COUNTIF(Q200,\"=2\")*80+COUNTIF(Q200,\"=3\")*50+COUNTIF(Q200,\"=8\")*20+COUNTIF(Q200,\"=9\")*0)/COUNTA(Q200)/100,\"N/A\")","v":"N/A"},{"$f":"IF(COUNTA(S200:W200)<>0,(COUNTIF(S200:W200,\"=0\")*0+COUNTIF(S200:W200,\"=1\")*100+COUNTIF(S200:W200,\"=2\")*80+COUNTIF(S200:W200,\"=3\")*50+COUNTIF(S200:W200,\"=8\")*20+COUNTIF(S200:W200,\"=9\")*0)/COUNTA(S200:W200)/100,\"N/A\")","v":"N/A"},"N/A",{"$f":"IF(COUNTA(#REF!)>0,(COUNTIF(#REF!,\"=0\")*0+COUNTIF(#REF!,\"=1\")*100+COUNTIF(#REF!,\"=2\")*80+COUNTIF(#REF!,\"=3\")*50+COUNTIF(#REF!,\"=8\")*20+COUNTIF(#REF!,\"=9\")*0)/COUNTA(#REF!)/100,\"N/A\")","v":{"$error":"#REF!"}},{"$f":"IF(COUNTA(#REF!)>0,(COUNTIF(#REF!,\"=0\")*0+COUNTIF(#REF!,\"=1\")*100+COUNTIF(#REF!,\"=2\")*80+COUNTIF(#REF!,\"=3\")*50+COUNTIF(#REF!,\"=8\")*20+COUNTIF(#REF!,\"=9\")*0)/COUNTA(#REF!)/100,\"N/A\")","v":{"$error":"#REF!"}},{"$f":"IF(AND(COUNTA(B200:X200)<>0,#REF!<>\"\"),AVERAGE(Y200:AE200),\"N/A\")","v":{"$error":"#REF!"}},1,1,1,1,1,{"$error":"#REF!"},{"$error":"#REF!"},{"$error":"#REF!"}]
[{"$nulls":24},{"$f":"IF(COUNTA(B201:G201)>0,(COUNTIF(B201:G201,\"=0\")*0+COUNTIF(B201:G201,\"=1\")*100+COUNTIF(B201:G201,\"=2\")*80+COUNTIF(B201:G201,\"=3\")*50+COUNTIF(B201:G201,\"=8\")*20+COUNTIF(B201:G201,\"=9\")*0)/COUNTA(B201:G201)/100,\"N/A\")","v":"N/A"},{"$f":"IF(COUNTA(K201:P201)>0,(COUNTIF(K201:P201,\"=0\")*0+COUNTIF(K201:P201,\"=1\")*100+COUNTIF(K201:P201,\"=2\")*80+COUNTIF(K201:P201,\"=3\")*50+COUNTIF(K201:P201,\"=8\")*20+COUNTIF(K201:P201,\"=9\")*0)/COUNTA(K201:P201)/100,\"N/A\")","v":"N/A"},{"$f":"IF(COUNTA(Q201)>0,(COUNTIF(Q201,\"=0\")*0+COUNTIF(Q201,\"=1\")*100+COUNTIF(Q201,\"=2\")*80+COUNTIF(Q201,\"=3\")*50+COUNTIF(Q201,\"=8\")*20+COUNTIF(Q201,\"=9\")*0)/COUNTA(Q201)/100,\"N/A\")","v":"N/A"},{"$f":"IF(COUNTA(S201:W201)<>0,(COUNTIF(S201:W201,\"=0\")*0+COUNTIF(S201:W201,\"=1\")*100+COUNTIF(S201:W201,\"=2\")*80+COUNTIF(S201:W201,\"=3\")*50+COUNTIF(S201:W201,\"=8\")*20+COUNTIF(S201:W201,\"=9\")*0)/COUNTA(S201:W201)/100,\"N/A\")","v":"N/A"},"N/A",{"$f":"IF(COUNTA(#REF!)>0,(COUNTIF(#REF!,\"=0\")*0+COUNTIF(#REF!,\"=1\")*100+COUNTIF(#REF!,\"=2\")*80+COUNTIF(#REF!,\"=3\")*50+COUNTIF(#REF!,\"=8\")*20+COUNTIF(#REF!,\"=9\")*0)/COUNTA(#REF!)/100,\"N/A\")","v":{"$error":"#REF!"}},{"$f":"IF(COUNTA(#REF!)>0,(COUNTIF(#REF!,\"=0\")*0+COUNTIF(#REF!,\"=1\")*100+COUNTIF(#REF!,\"=2\")*80+COUNTIF(#REF!,\"=3\")*50+COUNTIF(#REF!,\"=8\")*20+COUNTIF(#REF!,\"=9\")*0)/COUNTA(#REF!)/100,\"N/A\")","v":{"$error":"#REF!"}},{"$f":"IF(AND(COUNTA(B201:X201)<>0,#REF!<>\"\"),AVERAGE(Y201:AE201),\"N/A\")","v":{"$error":"#REF!"}},1,1,1,1,1,{"$error":"#REF!"},{"$error":"#REF!"},{"$error":"#REF!"}]
[{"$nulls":24},{"$f":"IF(COUNTA(B202:G202)>0,(COUNTIF(B202:G202,\"=0\")*0+COUNTIF(B202:G202,\"=1\")*100+COUNTIF(B202:G202,\"=2\")*80+COUNTIF(B202:G202,\"=3\")*50+COUNTIF(B202:G202,\"=8\")*20+COUNTIF(B202:G202,\"=9\")*0)/COUNTA(B202:G202)/100,\"N/A\")","v":"N/A"},{"$f":"IF(COUNTA(K202:P202)>0,(COUNTIF(K202:P202,\"=0\")*0+COUNTIF(K202:P202,\"=1\")*100+COUNTIF(K202:P202,\"=2\")*80+COUNTIF(K202:P202,\"=3\")*50+COUNTIF(K202:P202,\"=8\")*20+COUNTIF(K202:P202,\"=9\")*0)/COUNTA(K202:P202)/100,\"N/A\")","v":"N/A"},{"$f":"IF(COUNTA(Q202)>0,(COUNTIF(Q202,\"=0\")*0+COUNTIF(Q202,\"=1\")*100+COUNTIF(Q202,\"=2\")*80+COUNTIF(Q202,\"=3\")*50+COUNTIF(Q202,\"=8\")*20+COUNTIF(Q202,\"=9\")*0)/COUNTA(Q202)/100,\"N/A\")","v":"N/A"},{"$f":"IF(COUNTA(S202:W202)<>0,(COUNTIF(S202:W202,\"=0\")*0+COUNTIF(S202:W202,\"=1\")*100+COUNTIF(S202:W202,\"=2\")*80+COUNTIF(S202:W202,\"=3\")*50+COUNTIF(S202:W202,\"=8\")*20+COUNTIF(S202:W202,\"=9\")*0)/COUNTA(S202:W202)/100,\"N/A\")","v":"N/A"},"N/A",{"$f":"IF(COUNTA(#REF!)>0,(COUNTIF(#REF!,\"=0\")*0+COUNTIF(#REF!,\"=1\")*100+COUNTIF(#REF!,\"=2\")*80+COUNTIF(#REF!,\"=3\")*50+COUNTIF(#REF!,\"=8\")*20+COUNTIF(#REF!,\"=9\")*0)/COUNTA(#REF!)/100,\"N/A\")","v":{"$error":"#REF!"}},{"$f":"IF(COUNTA(#REF!)>0,(COUNTIF(#REF!,\"=0\")*0+COUNTIF(#REF!,\"=1\")*100+COUNTIF(#REF!,\"=2\")*80+COUNTIF(#REF!,\"=3\")*50+COUNTIF(#REF!,\"=8\")*20+COUNTIF(#REF!,\"=9\")*0)/COUNTA(#REF!)/100,\"N/A\")","v":{"$error":"#REF!"}},{"$f":"IF(AND(COUNTA(B202:X202)<>0,#REF!<>\"\"),AVERAGE(Y202:AE202),\"N/A\")","v":{"$error":"#REF!"}},1,1,1,1,1,{"$error":"#REF!"},{"$error":"#REF!"},{"$error":"#REF!"}]
[{"$nulls":24},{"$f":"IF(COUNTA(B203:G203)>0,(COUNTIF(B203:G203,\"=0\")*0+COUNTIF(B203:G203,\"=1\")*100+COUNTIF(B203:G203,\"=2\")*80+COUNTIF(B203:G203,\"=3\")*50+COUNTIF(B203:G203,\"=8\")*20+COUNTIF(B203:G203,\"=9\")*0)/COUNTA(B203:G203)/100,\"N/A\")","v":"N/A"},{"$f":"IF(COUNTA(K203:P203)>0,(COUNTIF(K203:P203,\"=0\")*0+COUNTIF(K203:P203,\"=1\")*100+COUNTIF(K203:P203,\"=2\")*80+COUNTIF(K203:P203,\"=3\")*50+COUNTIF(K203:P203,\"=8\")*20+COUNTIF(K203:P203,\"=9\")*0)/COUNTA(K203:P203)/100,\"N/A\")","v":"N/A"},{"$f":"IF(COUNTA(Q203)>0,(COUNTIF(Q203,\"=0\")*0+COUNTIF(Q203,\"=1\")*100+COUNTIF(Q203,\"=2\")*80+COUNTIF(Q203,\"=3\")*50+COUNTIF(Q203,\"=8\")*20+COUNTIF(Q203,\"=9\")*0)/COUNTA(Q203)/100,\"N/A\")","v":"N/A"},{"$f":"IF(COUNTA(S203:W203)<>0,(COUNTIF(S203:W203,\"=0\")*0+COUNTIF(S203:W203,\"=1\")*100+COUNTIF(S203:W203,\"=2\")*80+COUNTIF(S203:W203,\"=3\")*50+COUNTIF(S203:W203,\"=8\")*20+COUNTIF(S203:W203,\"=9\")*0)/COUNTA(S203:W203)/100,\"N/A\")","v":"N/A"},"N/A",{"$f":"IF(COUNTA(#REF!)>0,(COUNTIF(#REF!,\"=0\")*0+COUNTIF(#REF!,\"=1\")*100+COUNTIF(#REF!,\"=2\")*80+COUNTIF(#REF!,\"=3\")*50+COUNTIF(#REF!,\"=8\")*20+COUNTIF(#REF!,\"=9\")*0)/COUNTA(#REF!)/100,\"N/A\")","v":{"$error":"#REF!"}},{"$f":"IF(COUNTA(#REF!)>0,(COUNTIF(#REF!,\"=0\")*0+COUNTIF(#REF!,\"=1\")*100+COUNTIF(#REF!,\"=2\")*80+COUNTIF(#REF!,\"=3\")*50+COUNTIF(#REF!,\"=8\")*20+COUNTIF(#REF!,\"=9\")*0)/COUNTA(#REF!)/100,\"N/A\")","v":{"$error":"#REF!"}},{"$f":"IF(AND(COUNTA(B203:X203)<>0,#REF!<>\"\"),AVERAGE(Y203:AE203),\"N/A\")","v":{"$error":"#REF!"}},1,1,1,1,1,{"$error":"#REF!"},{"$error":"#REF!"},{"$error":"#REF!"}]
[{"$nulls":24},{"$f":"IF(COUNTA(B204:G204)>0,(COUNTIF(B204:G204,\"=0\")*0+COUNTIF(B204:G204,\"=1\")*100+COUNTIF(B204:G204,\"=2\")*80+COUNTIF(B204:G204,\"=3\")*50+COUNTIF(B204:G204,\"=8\")*20+COUNTIF(B204:G204,\"=9\")*0)/COUNTA(B204:G204)/100,\"N/A\")","v":"N/A"},{"$f":"IF(COUNTA(K204:P204)>0,(COUNTIF(K204:P204,\"=0\")*0+COUNTIF(K204:P204,\"=1\")*100+COUNTIF(K204:P204,\"=2\")*80+COUNTIF(K204:P204,\"=3\")*50+COUNTIF(K204:P204,\"=8\")*20+COUNTIF(K204:P204,\"=9\")*0)/COUNTA(K204:P204)/100,\"N/A\")","v":"N/A"},{"$f":"IF(COUNTA(Q204)>0,(COUNTIF(Q204,\"=0\")*0+COUNTIF(Q204,\"=1\")*100+COUNTIF(Q204,\"=2\")*80+COUNTIF(Q204,\"=3\")*50+COUNTIF(Q204,\"=8\")*20+COUNTIF(Q204,\"=9\")*0)/COUNTA(Q204)/100,\"N/A\")","v":"N/A"},{"$f":"IF(COUNTA(S204:W204)<>0,(COUNTIF(S204:W204,\"=0\")*0+COUNTIF(S204:W204,\"=1\")*100+COUNTIF(S204:W204,\"=2\")*80+COUNTIF(S204:W204,\"=3\")*50+COUNTIF(S204:W204,\"=8\")*20+COUNTIF(S204:W204,\"=9\")*0)/COUNTA(S204:W204)/100,\"N/A\")","v":"N/A"},"N/A",{"$f":"IF(COUNTA(#REF!)>0,(COUNTIF(#REF!,\"=0\")*0+COUNTIF(#REF!,\"=1\")*100+COUNTIF(#REF!,\"=2\")*80+COUNTIF(#REF!,\"=3\")*50+COUNTIF(#REF!,\"=8\")*20+COUNTIF(#REF!,\"=9\")*0)/COUNTA(#REF!)/100,\"N/A\")","v":{"$error":"#REF!"}},{"$f":"IF(COUNTA(#REF!)>0,(COUNTIF(#REF!,\"=0\")*0+COUNTIF(#REF!,\"=1\")*100+COUNTIF(#REF!,\"=2\")*80+COUNTIF(#REF!,\"=3\")*50+COUNTIF(#REF!,\"=8\")*20+COUNTIF(#REF!,\"=9\")*0)/COUNTA(#REF!)/100,\"N/A\")","v":{"$error":"#REF!"}},{"$f":"IF(AND(COUNTA(B204:X204)<>0,#REF!<>\"\"),AVERAGE(Y204:AE204),\"N/A\")","v":{"$error":"#REF!"}},1,1,1,1,1,{"$error":"#REF!"},{"$error":"#REF!"},{"$error":"#REF!"}]
[{"$nulls":24},{"$f":"IF(COUNTA(B205:G205)>0,(COUNTIF(B205:G205,\"=0\")*0+COUNTIF(B205:G205,\"=1\")*100+COUNTIF(B205:G205,\"=2\")*80+COUNTIF(B205:G205,\"=3\")*50+COUNTIF(B205:G205,\"=8\")*20+COUNTIF(B205:G205,\"=9\")*0)/COUNTA(B205:G205)/100,\"N/A\")","v":"N/A"},{"$f":"IF(COUNTA(K205:P205)>0,(COUNTIF(K205:P205,\"=0\")*0+COUNTIF(K205:P205,\"=1\")*100+COUNTIF(K205:P205,\"=2\")*80+COUNTIF(K205:P205,\"=3\")*50+COUNTIF(K205:P205,\"=8\")*20+COUNTIF(K205:P205,\"=9\")*0)/COUNTA(K205:P205)/100,\"N/A\")","v":"N/A"},{"$f":"IF(COUNTA(Q205)>0,(COUNTIF(Q205,\"=0\")*0+COUNTIF(Q205,\"=1\")*100+COUNTIF(Q205,\"=2\")*80+COUNTIF(Q205,\"=3\")*50+COUNTIF(Q205,\"=8\")*20+COUNTIF(Q205,\"=9\")*0)/COUNTA(Q205)/100,\"N/A\")","v":"N/A"},{"$f":"IF(COUNTA(S205:W205)<>0,(COUNTIF(S205:W205,\"=0\")*0+COUNTIF(S205:W205,\"=1\")*100+COUNTIF(S205:W205,\"=2\")*80+COUNTIF(S205:W205,\"=3\")*50+COUNTIF(S205:W205,\"=8\")*20+COUNTIF(S205:W205,\"=9\")*0)/COUNTA(S205:W205)/100,\"N/A\")","v":"N/A"},"N/A",{"$f":"IF(COUNTA(#REF!)>0,(COUNTIF(#REF!,\"=0\")*0+COUNTIF(#REF!,\"=1\")*100+COUNTIF(#REF!,\"=2\")*80+COUNTIF(#REF!,\"=3\")*50+COUNTIF(#REF!,\"=8\")*20+COUNTIF(#REF!,\"=9\")*0)/COUNTA(#REF!)/100,\"N/A\")","v":{"$error":"#REF!"}},{"$f":"IF(COUNTA(#REF!)>0,(COUNTIF(#REF!,\"=0\")*0+COUNTIF(#REF!,\"=1\")*100+COUNTIF(#REF!,\"=2\")*80+COUNTIF(#REF!,\"=3\")*50+COUNTIF(#REF!,\"=8\")*20+COUNTIF(#REF!,\"=9\")*0)/COUNTA(#REF!)/100,\"N/A\")","v":{"$error":"#REF!"}},{"$f":"IF(AND(COUNTA(B205:X205)<>0,#REF!<>\"\"),AVERAGE(Y205:AE205),\"N/A\")","v":{"$error":"#REF!"}},1,1,1,1,1,{"$error":"#REF!"},{"$error":"#REF!"},{"$error":"#REF!"}]
[{"$nulls":24},{"$f":"IF(COUNTA(B206:G206)>0,(COUNTIF(B206:G206,\"=0\")*0+COUNTIF(B206:G206,\"=1\")*100+COUNTIF(B206:G206,\"=2\")*80+COUNTIF(B206:G206,\"=3\")*50+COUNTIF(B206:G206,\"=8\")*20+COUNTIF(B206:G206,\"=9\")*0)/COUNTA(B206:G206)/100,\"N/A\")","v":"N/A"},{"$f":"IF(COUNTA(K206:P206)>0,(COUNTIF(K206:P206,\"=0\")*0+COUNTIF(K206:P206,\"=1\")*100+COUNTIF(K206:P206,\"=2\")*80+COUNTIF(K206:P206,\"=3\")*50+COUNTIF(K206:P206,\"=8\")*20+COUNTIF(K206:P206,\"=9\")*0)/COUNTA(K206:P206)/100,\"N/A\")","v":"N/A"},{"$f":"IF(COUNTA(Q206)>0,(COUNTIF(Q206,\"=0\")*0+COUNTIF(Q206,\"=1\")*100+COUNTIF(Q206,\"=2\")*80+COUNTIF(Q206,\"=3\")*50+COUNTIF(Q206,\"=8\")*20+COUNTIF(Q206,\"=9\")*0)/COUNTA(Q206)/100,\"N/A\")","v":"N/A"},{"$f":"IF(COUNTA(S206:W206)<>0,(COUNTIF(S206:W206,\"=0\")*0+COUNTIF(S206:W206,\"=1\")*100+COUNTIF(S206:W206,\"=2\")*80+COUNTIF(S206:W206,\"=3\")*50+COUNTIF(S206:W206,\"=8\")*20+COUNTIF(S206:W206,\"=9\")*0)/COUNTA(S206:W206)/100,\"N/A\")","v":"N/A"},"N/A",{"$f":"IF(COUNTA(#REF!)>0,(COUNTIF(#REF!,\"=0\")*0+COUNTIF(#REF!,\"=1\")*100+COUNTIF(#REF!,\"=2\")*80+COUNTIF(#REF!,\"=3\")*50+COUNTIF(#REF!,\"=8\")*20+COUNTIF(#REF!,\"=9\")*0)/COUNTA(#REF!)/100,\"N/A\")","v":{"$error":"#REF!"}},{"$f":"IF(COUNTA(#REF!)>0,(COUNTIF(#REF!,\"=0\")*0+COUNTIF(#REF!,\"=1\")*100+COUNTIF(#REF!,\"=2\")*80+COUNTIF(#REF!,\"=3\")*50+COUNTIF(#REF!,\"=8\")*20+COUNTIF(#REF!,\"=9\")*0)/COUNTA(#REF!)/100,\"N/A\")","v":{"$error":"#REF!"}},{"$f":"IF(AND(COUNTA(B206:X206)<>0,#REF!<>\"\"),AVERAGE(Y206:AE206),\"N/A\")","v":{"$error":"#REF!"}},1,1,1,1,1,{"$error":"#REF!"},{"$error":"#REF!"},{"$error":"#REF!"}]
[{"$nulls":24},{"$f":"IF(COUNTA(B207:G207)>0,(COUNTIF(B207:G207,\"=0\")*0+COUNTIF(B207:G207,\"=1\")*100+COUNTIF(B207:G207,\"=2\")*80+COUNTIF(B207:G207,\"=3\")*50+COUNTIF(B207:G207,\"=8\")*20+COUNTIF(B207:G207,\"=9\")*0)/COUNTA(B207:G207)/100,\"N/A\")","v":"N/A"},{"$f":"IF(COUNTA(K207:P207)>0,(COUNTIF(K207:P207,\"=0\")*0+COUNTIF(K207:P207,\"=1\")*100+COUNTIF(K207:P207,\"=2\")*80+COUNTIF(K207:P207,\"=3\")*50+COUNTIF(K207:P207,\"=8\")*20+COUNTIF(K207:P207,\"=9\")*0)/COUNTA(K207:P207)/100,\"N/A\")","v":"N/A"},{"$f":"IF(COUNTA(Q207)>0,(COUNTIF(Q207,\"=0\")*0+COUNTIF(Q207,\"=1\")*100+COUNTIF(Q207,\"=2\")*80+COUNTIF(Q207,\"=3\")*50+COUNTIF(Q207,\"=8\")*20+COUNTIF(Q207,\"=9\")*0)/COUNTA(Q207)/100,\"N/A\")","v":"N/A"},{"$f":"IF(COUNTA(S207:W207)<>0,(COUNTIF(S207:W207,\"=0\")*0+COUNTIF(S207:W207,\"=1\")*100+COUNTIF(S207:W207,\"=2\")*80+COUNTIF(S207:W207,\"=3\")*50+COUNTIF(S207:W207,\"=8\")*20+COUNTIF(S207:W207,\"=9\")*0)/COUNTA(S207:W207)/100,\"N/A\")","v":"N/A"},"N/A",{"$f":"IF(COUNTA(#REF!)>0,(COUNTIF(#REF!,\"=0\")*0+COUNTIF(#REF!,\"=1\")*100+COUNTIF(#REF!,\"=2\")*80+COUNTIF(#REF!,\"=3\")*50+COUNTIF(#REF!,\"=8\")*20+COUNTIF(#REF!,\"=9\")*0)/COUNTA(#REF!)/100,\"N/A\")","v":{"$error":"#REF!"}},{"$f":"IF(COUNTA(#REF!)>0,(COUNTIF(#REF!,\"=0\")*0+COUNTIF(#REF!,\"=1\")*100+COUNTIF(#REF!,\"=2\")*80+COUNTIF(#REF!,\"=3\")*50+COUNTIF(#REF!,\"=8\")*20+COUNTIF(#REF!,\"=9\")*0)/COUNTA(#REF!)/100,\"N/A\")","v":{"$error":"#REF!"}},{"$f":"IF(AND(COUNTA(B207:X207)<>0,#REF!<>\"\"),AVERAGE(Y207:AE207),\"N/A\")","v":{"$error":"#REF!"}},1,1,1,1,1,{"$error":"#REF!"},{"$error":"#REF!"},{"$error":"#REF!"}]
[{"$nulls":24},{"$f":"IF(COUNTA(B208:G208)>0,(COUNTIF(B208:G208,\"=0\")*0+COUNTIF(B208:G208,\"=1\")*100+COUNTIF(B208:G208,\"=2\")*80+COUNTIF(B208:G208,\"=3\")*50+COUNTIF(B208:G208,\"=8\")*20+COUNTIF(B208:G208,\"=9\")*0)/COUNTA(B208:G208)/100,\"N/A\")","v":"N/A"},{"$f":"IF(COUNTA(K208:P208)>0,(COUNTIF(K208:P208,\"=0\")*0+COUNTIF(K208:P208,\"=1\")*100+COUNTIF(K208:P208,\"=2\")*80+COUNTIF(K208:P208,\"=3\")*50+COUNTIF(K208:P208,\"=8\")*20+COUNTIF(K208:P208,\"=9\")*0)/COUNTA(K208:P208)/100,\"N/A\")","v":"N/A"},{"$f":"IF(COUNTA(Q208)>0,(COUNTIF(Q208,\"=0\")*0+COUNTIF(Q208,\"=1\")*100+COUNTIF(Q208,\"=2\")*80+COUNTIF(Q208,\"=3\")*50+COUNTIF(Q208,\"=8\")*20+COUNTIF(Q208,\"=9\")*0)/COUNTA(Q208)/100,\"N/A\")","v":"N/A"},{"$f":"IF(COUNTA(S208:W208)<>0,(COUNTIF(S208:W208,\"=0\")*0+COUNTIF(S208:W208,\"=1\")*100+COUNTIF(S208:W208,\"=2\")*80+COUNTIF(S208:W208,\"=3\")*50+COUNTIF(S208:W208,\"=8\")*20+COUNTIF(S208:W208,\"=9\")*0)/COUNTA(S208:W208)/100,\"N/A\")","v":"N/A"},"N/A",{"$f":"IF(COUNTA(#REF!)>0,(COUNTIF(#REF!,\"=0\")*0+COUNTIF(#REF!,\"=1\")*100+COUNTIF(#REF!,\"=2\")*80+COUNTIF(#REF!,\"=3\")*50+COUNTIF(#REF!,\"=8\")*20+COUNTIF(#REF!,\"=9\")*0)/COUNTA(#REF!)/100,\"N/A\")","v":{"$error":"#REF!"}},{"$f":"IF(COUNTA(#REF!)>0,(COUNTIF(#REF!,\"=0\")*0+COUNTIF(#REF!,\"=1\")*100+COUNTIF(#REF!,\"=2\")*80+COUNTIF(#REF!,\"=3\")*50+COUNTIF(#REF!,\"=8\")*20+COUNTIF(#REF!,\"=9\")*0)/COUNTA(#REF!)/100,\"N/A\")","v":{"$error":"#REF!"}},{"$f":"IF(AND(COUNTA(B208:X208)<>0,#REF!<>\"\"),AVERAGE(Y208:AE208),\"N/A\")","v":{"$error":"#REF!"}},1,1,1,1,1,{"$error":"#REF!"},{"$error":"#REF!"},{"$error":"#REF!"}]
[{"$nulls":24},{"$f":"IF(COUNTA(B209:G209)>0,(COUNTIF(B209:G209,\"=0\")*0+COUNTIF(B209:G209,\"=1\")*100+COUNTIF(B209:G209,\"=2\")*80+COUNTIF(B209:G209,\"=3\")*50+COUNTIF(B209:G209,\"=8\")*20+COUNTIF(B209:G209,\"=9\")*0)/COUNTA(B209:G209)/100,\"N/A\")","v":"N/A"},{"$f":"IF(COUNTA(K209:P209)>0,(COUNTIF(K209:P209,\"=0\")*0+COUNTIF(K209:P209,\"=1\")*100+COUNTIF(K209:P209,\"=2\")*80+COUNTIF(K209:P209,\"=3\")*50+COUNTIF(K209:P209,\"=8\")*20+COUNTIF(K209:P209,\"=9\")*0)/COUNTA(K209:P209)/100,\"N/A\")","v":"N/A"},{"$f":"IF(COUNTA(Q209)>0,(COUNTIF(Q209,\"=0\")*0+COUNTIF(Q209,\"=1\")*100+COUNTIF(Q209,\"=2\")*80+COUNTIF(Q209,\"=3\")*50+COUNTIF(Q209,\"=8\")*20+COUNTIF(Q209,\"=9\")*0)/COUNTA(Q209)/100,\"N/A\")","v":"N/A"},{"$f":"IF(COUNTA(S209:W209)<>0,(COUNTIF(S209:W209,\"=0\")*0+COUNTIF(S209:W209,\"=1\")*100+COUNTIF(S209:W209,\"=2\")*80+COUNTIF(S209:W209,\"=3\")*50+COUNTIF(S209:W209,\"=8\")*20+COUNTIF(S209:W209,\"=9\")*0)/COUNTA(S209:W209)/100,\"N/A\")","v":"N/A"},"N/A",{"$f":"IF(COUNTA(#REF!)>0,(COUNTIF(#REF!,\"=0\")*0+COUNTIF(#REF!,\"=1\")*100+COUNTIF(#REF!,\"=2\")*80+COUNTIF(#REF!,\"=3\")*50+COUNTIF(#REF!,\"=8\")*20+COUNTIF(#REF!,\"=9\")*0)/COUNTA(#REF!)/100,\"N/A\")","v":{"$error":"#REF!"}},{"$f":"IF(COUNTA(#REF!)>0,(COUNTIF(#REF!,\"=0\")*0+COUNTIF(#REF!,\"=1\")*100+COUNTIF(#REF!,\"=2\")*80+COUNTIF(#REF!,\"=3\")*50+COUNTIF(#REF!,\"=8\")*20+COUNTIF(#REF!,\"=9\")*0)/COUNTA(#REF!)/100,\"N/A\")","v":{"$error":"#REF!"}},{"$f":"IF(AND(COUNTA(B209:X209)<>0,#REF!<>\"\"),AVERAGE(Y209:AE209),\"N/A\")","v":{"$error":"#REF!"}},1,1,1,1,1,{"$error":"#REF!"},{"$error":"#REF!"},{"$error":"#REF!"}]
[{"$nulls":24},{"$f":"IF(COUNTA(B210:G210)>0,(COUNTIF(B210:G210,\"=0\")*0+COUNTIF(B210:G210,\"=1\")*100+COUNTIF(B210:G210,\"=2\")*80+COUNTIF(B210:G210,\"=3\")*50+COUNTIF(B210:G210,\"=8\")*20+COUNTIF(B210:G210,\"=9\")*0)/COUNTA(B210:G210)/100,\"N/A\")","v":"N/A"},{"$f":"IF(COUNTA(K210:P210)>0,(COUNTIF(K210:P210,\"=0\")*0+COUNTIF(K210:P210,\"=1\")*100+COUNTIF(K210:P210,\"=2\")*80+COUNTIF(K210:P210,\"=3\")*50+COUNTIF(K210:P210,\"=8\")*20+COUNTIF(K210:P210,\"=9\")*0)/COUNTA(K210:P210)/100,\"N/A\")","v":"N/A"},{"$f":"IF(COUNTA(Q210)>0,(COUNTIF(Q210,\"=0\")*0+COUNTIF(Q210,\"=1\")*100+COUNTIF(Q210,\"=2\")*80+COUNTIF(Q210,\"=3\")*50+COUNTIF(Q210,\"=8\")*20+COUNTIF(Q210,\"=9\")*0)/COUNTA(Q210)/100,\"N/A\")","v":"N/A"},{"$f":"IF(COUNTA(S210:W210)<>0,(COUNTIF(S210:W210,\"=0\")*0+COUNTIF(S210:W210,\"=1\")*100+COUNTIF(S210:W210,\"=2\")*80+COUNTIF(S210:W210,\"=3\")*50+COUNTIF(S210:W210,\"=8\")*20+COUNTIF(S210:W210,\"=9\")*0)/COUNTA(S210:W210)/100,\"N/A\")","v":"N/A"},"N/A",{"$f":"IF(COUNTA(#REF!)>0,(COUNTIF(#REF!,\"=0\")*0+COUNTIF(#REF!,\"=1\")*100+COUNTIF(#REF!,\"=2\")*80+COUNTIF(#REF!,\"=3\")*50+COUNTIF(#REF!,\"=8\")*20+COUNTIF(#REF!,\"=9\")*0)/COUNTA(#REF!)/100,\"N/A\")","v":{"$error":"#REF!"}},{"$f":"IF(COUNTA(#REF!)>0,(COUNTIF(#REF!,\"=0\")*0+COUNTIF(#REF!,\"=1\")*100+COUNTIF(#REF!,\"=2\")*80+COUNTIF(#REF!,\"=3\")*50+COUNTIF(#REF!,\"=8\")*20+COUNTIF(#REF!,\"=9\")*0)/COUNTA(#REF!)/100,\"N/A\")","v":{"$error":"#REF!"}},{"$f":"IF(AND(COUNTA(B210:X210)<>0,#REF!<>\"\"),AVERAGE(Y210:AE210),\"N/A\")","v":{"$error":"#REF!"}},1,1,1,1,1,{"$error":"#REF!"},{"$error":"#REF!"},{"$error":"#REF!"}]
[{"$nulls":24},{"$f":"IF(COUNTA(B211:G211)>0,(COUNTIF(B211:G211,\"=0\")*0+COUNTIF(B211:G211,\"=1\")*100+COUNTIF(B211:G211,\"=2\")*80+COUNTIF(B211:G211,\"=3\")*50+COUNTIF(B211:G211,\"=8\")*20+COUNTIF(B211:G211,\"=9\")*0)/COUNTA(B211:G211)/100,\"N/A\")","v":"N/A"},{"$f":"IF(COUNTA(K211:P211)>0,(COUNTIF(K211:P211,\"=0\")*0+COUNTIF(K211:P211,\"=1\")*100+COUNTIF(K211:P211,\"=2\")*80+COUNTIF(K211:P211,\"=3\")*50+COUNTIF(K211:P211,\"=8\")*20+COUNTIF(K211:P211,\"=9\")*0)/COUNTA(K211:P211)/100,\"N/A\")","v":"N/A"},{"$f":"IF(COUNTA(Q211)>0,(COUNTIF(Q211,\"=0\")*0+COUNTIF(Q211,\"=1\")*100+COUNTIF(Q211,\"=2\")*80+COUNTIF(Q211,\"=3\")*50+COUNTIF(Q211,\"=8\")*20+COUNTIF(Q211,\"=9\")*0)/COUNTA(Q211)/100,\"N/A\")","v":"N/A"},{"$f":"IF(COUNTA(S211:W211)<>0,(COUNTIF(S211:W211,\"=0\")*0+COUNTIF(S211:W211,\"=1\")*100+COUNTIF(S211:W211,\"=2\")*80+COUNTIF(S211:W211,\"=3\")*50+COUNTIF(S211:W211,\"=8\")*20+COUNTIF(S211:W211,\"=9\")*0)/COUNTA(S211:W211)/100,\"N/A\")","v":"N/A"},"N/A",{"$f":"IF(COUNTA(#REF!)>0,(COUNTIF(#REF!,\"=0\")*0+COUNTIF(#REF!,\"=1\")*100+COUNTIF(#REF!,\"=2\")*80+COUNTIF(#REF!,\"=3\")*50+COUNTIF(#REF!,\"=8\")*20+COUNTIF(#REF!,\"=9\")*0)/COUNTA(#REF!)/100,\"N/A\")","v":{"$error":"#REF!"}},{"$f":"IF(COUNTA(#REF!)>0,(COUNTIF(#REF!,\"=0\")*0+COUNTIF(#REF!,\"=1\")*100+COUNTIF(#REF!,\"=2\")*80+COUNTIF(#REF!,\"=3\")*50+COUNTIF(#REF!,\"=8\")*20+COUNTIF(#REF!,\"=9\")*0)/COUNTA(#REF!)/100,\"N/A\")","v":{"$error":"#REF!"}},{"$f":"IF(AND(COUNTA(B211:X211)<>0,#REF!<>\"\"),AVERAGE(Y211:AE211),\"N/A\")","v":{"$error":"#REF!"}},1,1,1,1,1,{"$error":"#REF!"},{"$error":"#REF!"},{"$error":"#REF!"}]
[{"$nulls":24},{"$f":"IF(COUNTA(B212:G212)>0,(COUNTIF(B212:G212,\"=0\")*0+COUNTIF(B212:G212,\"=1\")*100+COUNTIF(B212:G212,\"=2\")*80+COUNTIF(B212:G212,\"=3\")*50+COUNTIF(B212:G212,\"=8\")*20+COUNTIF(B212:G212,\"=9\")*0)/COUNTA(B212:G212)/100,\"N/A\")","v":"N/A"},{"$f":"IF(COUNTA(K212:P212)>0,(COUNTIF(K212:P212,\"=0\")*0+COUNTIF(K212:P212,\"=1\")*100+COUNTIF(K212:P212,\"=2\")*80+COUNTIF(K212:P212,\"=3\")*50+COUNTIF(K212:P212,\"=8\")*20+COUNTIF(K212:P212,\"=9\")*0)/COUNTA(K212:P212)/100,\"N/A\")","v":"N/A"},{"$f":"IF(COUNTA(Q212)>0,(COUNTIF(Q212,\"=0\")*0+COUNTIF(Q212,\"=1\")*100+COUNTIF(Q212,\"=2\")*80+COUNTIF(Q212,\"=3\")*50+COUNTIF(Q212,\"=8\")*20+COUNTIF(Q212,\"=9\")*0)/COUNTA(Q212)/100,\"N/A\")","v":"N/A"},{"$f":"IF(COUNTA(S212:W212)<>0,(COUNTIF(S212:W212,\"=0\")*0+COUNTIF(S212:W212,\"=1\")*100+COUNTIF(S212:W212,\"=2\")*80+COUNTIF(S212:W212,\"=3\")*50+COUNTIF(S212:W212,\"=8\")*20+COUNTIF(S212:W212,\"=9\")*0)/COUNTA(S212:W212)/100,\"N/A\")","v":"N/A"},{"$f":"IF(COUNTA(X212:X212)>0,(COUNTIF(X212:X212,\"=0\")*0+COUNTIF(X212:X212,\"=1\")*100+COUNTIF(X212:X212,\"=2\")*80+COUNTIF(X212:X212,\"=3\")*50+COUNTIF(X212:X212,\"=8\")*20+COUNTIF(X212:X212,\"=9\")*0)/COUNTA(X212:X212)/100,\"N/A\")","v":"N/A"},{"$f":"IF(COUNTA(#REF!)>0,(COUNTIF(#REF!,\"=0\")*0+COUNTIF(#REF!,\"=1\")*100+COUNTIF(#REF!,\"=2\")*80+COUNTIF(#REF!,\"=3\")*50+COUNTIF(#REF!,\"=8\")*20+COUNTIF(#REF!,\"=9\")*0)/COUNTA(#REF!)/100,\"N/A\")","v":{"$error":"#REF!"}},{"$f":"IF(COUNTA(#REF!)>0,(COUNTIF(#REF!,\"=0\")*0+COUNTIF(#REF!,\"=1\")*100+COUNTIF(#REF!,\"=2\")*80+COUNTIF(#REF!,\"=3\")*50+COUNTIF(#REF!,\"=8\")*20+COUNTIF(#REF!,\"=9\")*0)/COUNTA(#REF!)/100,\"N/A\")","v":{"$error":"#REF!"}},{"$f":"IF(AND(COUNTA(B212:X212)<>0,#REF!<>\"\"),AVERAGE(Y212:AE212),\"N/A\")","v":{"$error":"#REF!"}},1,1,1,1,1,{"$error":"#REF!"},{"$error":"#REF!"},{"$error":"#REF!"}]
[{"$nulls":24},{"$f":"IF(COUNTA(B213:G213)>0,(COUNTIF(B213:G213,\"=0\")*0+COUNTIF(B213:G213,\"=1\")*100+COUNTIF(B213:G213,\"=2\")*80+COUNTIF(B213:G213,\"=3\")*50+COUNTIF(B213:G213,\"=8\")*20+COUNTIF(B213:G213,\"=9\")*0)/COUNTA(B213:G213)/100,\"N/A\")","v":"N/A"},{"$f":"IF(COUNTA(K213:P213)>0,(COUNTIF(K213:P213,\"=0\")*0+COUNTIF(K213:P213,\"=1\")*100+COUNTIF(K213:P213,\"=2\")*80+COUNTIF(K213:P213,\"=3\")*50+COUNTIF(K213:P213,\"=8\")*20+COUNTIF(K213:P213,\"=9\")*0)/COUNTA(K213:P213)/100,\"N/A\")","v":"N/A"},{"$f":"IF(COUNTA(Q213)>0,(COUNTIF(Q213,\"=0\")*0+COUNTIF(Q213,\"=1\")*100+COUNTIF(Q213,\"=2\")*80+COUNTIF(Q213,\"=3\")*50+COUNTIF(Q213,\"=8\")*20+COUNTIF(Q213,\"=9\")*0)/COUNTA(Q213)/100,\"N/A\")","v":"N/A"},{"$f":"IF(COUNTA(S213:W213)<>0,(COUNTIF(S213:W213,\"=0\")*0+COUNTIF(S213:W213,\"=1\")*100+COUNTIF(S213:W213,\"=2\")*80+COUNTIF(S213:W213,\"=3\")*50+COUNTIF(S213:W213,\"=8\")*20+COUNTIF(S213:W213,\"=9\")*0)/COUNTA(S213:W213)/100,\"N/A\")","v":"N/A"},"N/A",{"$f":"IF(COUNTA(#REF!)>0,(COUNTIF(#REF!,\"=0\")*0+COUNTIF(#REF!,\"=1\")*100+COUNTIF(#REF!,\"=2\")*80+COUNTIF(#REF!,\"=3\")*50+COUNTIF(#REF!,\"=8\")*20+COUNTIF(#REF!,\"=9\")*0)/COUNTA(#REF!)/100,\"N/A\")","v":{"$error":"#REF!"}},{"$f":"IF(COUNTA(#REF!)>0,(COUNTIF(#REF!,\"=0\")*0+COUNTIF(#REF!,\"=1\")*100+COUNTIF(#REF!,\"=2\")*80+COUNTIF(#REF!,\"=3\")*50+COUNTIF(#REF!,\"=8\")*20+COUNTIF(#REF!,\"=9\")*0)/COUNTA(#REF!)/100,\"N/A\")","v":{"$error":"#REF!"}},{"$f":"IF(AND(COUNTA(B213:X213)<>0,#REF!<>\"\"),AVERAGE(Y213:AE213),\"N/A\")","v":{"$error":"#REF!"}},1,1,1,1,1,{"$error":"#REF!"},{"$error":"#REF!"},{"$error":"#REF!"}]
[{"$nulls":24},{"$f":"IF(COUNTA(B214:G214)>0,(COUNTIF(B214:G214,\"=0\")*0+COUNTIF(B214:G214,\"=1\")*100+COUNTIF(B214:G214,\"=2\")*80+COUNTIF(B214:G214,\"=3\")*50+COUNTIF(B214:G214,\"=8\")*20+COUNTIF(B214:G214,\"=9\")*0)/COUNTA(B214:G214)/100,\"N/A\")","v":"N/A"},{"$f":"IF(COUNTA(K214:P214)>0,(COUNTIF(K214:P214,\"=0\")*0+COUNTIF(K214:P214,\"=1\")*100+COUNTIF(K214:P214,\"=2\")*80+COUNTIF(K214:P214,\"=3\")*50+COUNTIF(K214:P214,\"=8\")*20+COUNTIF(K214:P214,\"=9\")*0)/COUNTA(K214:P214)/100,\"N/A\")","v":"N/A"},{"$f":"IF(COUNTA(Q214)>0,(COUNTIF(Q214,\"=0\")*0+COUNTIF(Q214,\"=1\")*100+COUNTIF(Q214,\"=2\")*80+COUNTIF(Q214,\"=3\")*50+COUNTIF(Q214,\"=8\")*20+COUNTIF(Q214,\"=9\")*0)/COUNTA(Q214)/100,\"N/A\")","v":"N/A"},{"$f":"IF(COUNTA(S214:W214)<>0,(COUNTIF(S214:W214,\"=0\")*0+COUNTIF(S214:W214,\"=1\")*100+COUNTIF(S214:W214,\"=2\")*80+COUNTIF(S214:W214,\"=3\")*50+COUNTIF(S214:W214,\"=8\")*20+COUNTIF(S214:W214,\"=9\")*0)/COUNTA(S214:W214)/100,\"N/A\")","v":"N/A"},"N/A",{"$f":"IF(COUNTA(#REF!)>0,(COUNTIF(#REF!,\"=0\")*0+COUNTIF(#REF!,\"=1\")*100+COUNTIF(#REF!,\"=2\")*80+COUNTIF(#REF!,\"=3\")*50+COUNTIF(#REF!,\"=8\")*20+COUNTIF(#REF!,\"=9\")*0)/COUNTA(#REF!)/100,\"N/A\")","v":{"$error":"#REF!"}},{"$f":"IF(COUNTA(#REF!)>0,(COUNTIF(#REF!,\"=0\")*0+COUNTIF(#REF!,\"=1\")*100+COUNTIF(#REF!,\"=2\")*80+COUNTIF(#REF!,\"=3\")*50+COUNTIF(#REF!,\"=8\")*20+COUNTIF(#REF!,\"=9\")*0)/COUNTA(#REF!)/100,\"N/A\")","v":{"$error":"#REF!"}},{"$f":"IF(AND(COUNTA(B214:X214)<>0,#REF!<>\"\"),AVERAGE(Y214:AE214),\"N/A\")","v":{"$error":"#REF!"}},1,1,1,1,1,{"$error":"#REF!"},{"$error":"#REF!"},{"$error":"#REF!"}]
[{"$nulls":24},{"$f":"IF(COUNTA(B215:G215)>0,(COUNTIF(B215:G215,\"=0\")*0+COUNTIF(B215:G215,\"=1\")*100+COUNTIF(B215:G215,\"=2\")*80+COUNTIF(B215:G215,\"=3\")*50+COUNTIF(B215:G215,\"=8\")*20+COUNTIF(B215:G215,\"=9\")*0)/COUNTA(B215:G215)/100,\"N/A\")","v":"N/A"},{"$f":"IF(COUNTA(K215:P215)>0,(COUNTIF(K215:P215,\"=0\")*0+COUNTIF(K215:P215,\"=1\")*100+COUNTIF(K215:P215,\"=2\")*80+COUNTIF(K215:P215,\"=3\")*50+COUNTIF(K215:P215,\"=8\")*20+COUNTIF(K215:P215,\"=9\")*0)/COUNTA(K215:P215)/100,\"N/A\")","v":"N/A"},{"$f":"IF(COUNTA(Q215)>0,(COUNTIF(Q215,\"=0\")*0+COUNTIF(Q215,\"=1\")*100+COUNTIF(Q215,\"=2\")*80+COUNTIF(Q215,\"=3\")*50+COUNTIF(Q215,\"=8\")*20+COUNTIF(Q215,\"=9\")*0)/COUNTA(Q215)/100,\"N/A\")","v":"N/A"},{"$f":"IF(COUNTA(S215:W215)<>0,(COUNTIF(S215:W215,\"=0\")*0+COUNTIF(S215:W215,\"=1\")*100+COUNTIF(S215:W215,\"=2\")*80+COUNTIF(S215:W215,\"=3\")*50+COUNTIF(S215:W215,\"=8\")*20+COUNTIF(S215:W215,\"=9\")*0)/COUNTA(S215:W215)/100,\"N/A\")","v":"N/A"},"N/A",{"$f":"IF(COUNTA(#REF!)>0,(COUNTIF(#REF!,\"=0\")*0+COUNTIF(#REF!,\"=1\")*100+COUNTIF(#REF!,\"=2\")*80+COUNTIF(#REF!,\"=3\")*50+COUNTIF(#REF!,\"=8\")*20+COUNTIF(#REF!,\"=9\")*0)/COUNTA(#REF!)/100,\"N/A\")","v":{"$error":"#REF!"}},{"$f":"IF(COUNTA(#REF!)>0,(COUNTIF(#REF!,\"=0\")*0+COUNTIF(#REF!,\"=1\")*100+COUNTIF(#REF!,\"=2\")*80+COUNTIF(#REF!,\"=3\")*50+COUNTIF(#REF!,\"=8\")*20+COUNTIF(#REF!,\"=9\")*0)/COUNTA(#REF!)/100,\"N/A\")","v":{"$error":"#REF!"}},{"$f":"IF(AND(COUNTA(B215:X215)<>0,#REF!<>\"\"),AVERAGE(Y215:AE215),\"N/A\")","v":{"$error":"#REF!"}},1,1,1,1,1,{"$error":"#REF!"},{"$error":"#REF!"},{"$error":"#REF!"}]
[{"$nulls":24},{"$f":"IF(COUNTA(B216:G216)>0,(COUNTIF(B216:G216,\"=0\")*0+COUNTIF(B216:G216,\"=1\")*100+COUNTIF(B216:G216,\"=2\")*80+COUNTIF(B216:G216,\"=3\")*50+COUNTIF(B216:G216,\"=8\")*20+COUNTIF(B216:G216,\"=9\")*0)/COUNTA(B216:G216)/100,\"N/A\")","v":"N/A"},{"$f":"IF(COUNTA(K216:P216)>0,(COUNTIF(K216:P216,\"=0\")*0+COUNTIF(K216:P216,\"=1\")*100+COUNTIF(K216:P216,\"=2\")*80+COUNTIF(K216:P216,\"=3\")*50+COUNTIF(K216:P216,\"=8\")*20+COUNTIF(K216:P216,\"=9\")*0)/COUNTA(K216:P216)/100,\"N/A\")","v":"N/A"},{"$f":"IF(COUNTA(Q216)>0,(COUNTIF(Q216,\"=0\")*0+COUNTIF(Q216,\"=1\")*100+COUNTIF(Q216,\"=2\")*80+COUNTIF(Q216,\"=3\")*50+COUNTIF(Q216,\"=8\")*20+COUNTIF(Q216,\"=9\")*0)/COUNTA(Q216)/100,\"N/A\")","v":"N/A"},{"$f":"IF(COUNTA(S216:W216)<>0,(COUNTIF(S216:W216,\"=0\")*0+COUNTIF(S216:W216,\"=1\")*100+COUNTIF(S216:W216,\"=2\")*80+COUNTIF(S216:W216,\"=3\")*50+COUNTIF(S216:W216,\"=8\")*20+COUNTIF(S216:W216,\"=9\")*0)/COUNTA(S216:W216)/100,\"N/A\")","v":"N/A"},"N/A",{"$f":"IF(COUNTA(#REF!)>0,(COUNTIF(#REF!,\"=0\")*0+COUNTIF(#REF!,\"=1\")*100+COUNTIF(#REF!,\"=2\")*80+COUNTIF(#REF!,\"=3\")*50+COUNTIF(#REF!,\"=8\")*20+COUNTIF(#REF!,\"=9\")*0)/COUNTA(#REF!)/100,\"N/A\")","v":{"$error":"#REF!"}},{"$f":"IF(COUNTA(#REF!)>0,(COUNTIF(#REF!,\"=0\")*0+COUNTIF(#REF!,\"=1\")*100+COUNTIF(#REF!,\"=2\")*80+COUNTIF(#REF!,\"=3\")*50+COUNTIF(#REF!,\"=8\")*20+COUNTIF(#REF!,\"=9\")*0)/COUNTA(#REF!)/100,\"N/A\")","v":{"$error":"#REF!"}},{"$f":"IF(AND(COUNTA(B216:X216)<>0,#REF!<>\"\"),AVERAGE(Y216:AE216),\"N/A\")","v":{"$error":"#REF!"}},1,1,1,1,1,{"$error":"#REF!"},{"$error":"#REF!"},{"$error":"#REF!"}]
[{"$nulls":24},{"$f":"IF(COUNTA(B217:G217)>0,(COUNTIF(B217:G217,\"=0\")*0+COUNTIF(B217:G217,\"=1\")*100+COUNTIF(B217:G217,\"=2\")*80+COUNTIF(B217:G217,\"=3\")*50+COUNTIF(B217:G217,\"=8\")*20+COUNTIF(B217:G217,\"=9\")*0)/COUNTA(B217:G217)/100,\"N/A\")","v":"N/A"},{"$f":"IF(COUNTA(K217:P217)>0,(COUNTIF(K217:P217,\"=0\")*0+COUNTIF(K217:P217,\"=1\")*100+COUNTIF(K217:P217,\"=2\")*80+COUNTIF(K217:P217,\"=3\")*50+COUNTIF(K217:P217,\"=8\")*20+COUNTIF(K217:P217,\"=9\")*0)/COUNTA(K217:P217)/100,\"N/A\")","v":"N/A"},{"$f":"IF(COUNTA(Q217)>0,(COUNTIF(Q217,\"=0\")*0+COUNTIF(Q217,\"=1\")*100+COUNTIF(Q217,\"=2\")*80+COUNTIF(Q217,\"=3\")*50+COUNTIF(Q217,\"=8\")*20+COUNTIF(Q217,\"=9\")*0)/COUNTA(Q217)/100,\"N/A\")","v":"N/A"},{"$f":"IF(COUNTA(S217:W217)<>0,(COUNTIF(S217:W217,\"=0\")*0+COUNTIF(S217:W217,\"=1\")*100+COUNTIF(S217:W217,\"=2\")*80+COUNTIF(S217:W217,\"=3\")*50+COUNTIF(S217:W217,\"=8\")*20+COUNTIF(S217:W217,\"=9\")*0)/COUNTA(S217:W217)/100,\"N/A\")","v":"N/A"},"N/A",{"$f":"IF(COUNTA(#REF!)>0,(COUNTIF(#REF!,\"=0\")*0+COUNTIF(#REF!,\"=1\")*100+COUNTIF(#REF!,\"=2\")*80+COUNTIF(#REF!,\"=3\")*50+COUNTIF(#REF!,\"=8\")*20+COUNTIF(#REF!,\"=9\")*0)/COUNTA(#REF!)/100,\"N/A\")","v":{"$error":"#REF!"}},{"$f":"IF(COUNTA(#REF!)>0,(COUNTIF(#REF!,\"=0\")*0+COUNTIF(#REF!,\"=1\")*100+COUNTIF(#REF!,\"=2\")*80+COUNTIF(#REF!,\"=3\")*50+COUNTIF(#REF!,\"=8\")*20+COUNTIF(#REF!,\"=9\")*0)/COUNTA(#REF!)/100,\"N/A\")","v":{"$error":"#REF!"}},{"$f":"IF(AND(COUNTA(B217:X217)<>0,#REF!<>\"\"),AVERAGE(Y217:AE217),\"N/A\")","v":{"$error":"#REF!"}},1,1,1,1,1,{"$f":"IF(AD217=\"N/A\",1,\"\")","v":{"$error":"#REF!"}},{"$error":"#REF!"},{"$error":"#REF!"}]
[{"$nulls":24},{"$f":"IF(COUNTA(B218:G218)>0,(COUNTIF(B218:G218,\"=0\")*0+COUNTIF(B218:G218,\"=1\")*100+COUNTIF(B218:G218,\"=2\")*80+COUNTIF(B218:G218,\"=3\")*50+COUNTIF(B218:G218,\"=8\")*20+COUNTIF(B218:G218,\"=9\")*0)/COUNTA(B218:G218)/100,\"N/A\")","v":"N/A"},{"$f":"IF(COUNTA(K218:P218)>0,(COUNTIF(K218:P218,\"=0\")*0+COUNTIF(K218:P218,\"=1\")*100+COUNTIF(K218:P218,\"=2\")*80+COUNTIF(K218:P218,\"=3\")*50+COUNTIF(K218:P218,\"=8\")*20+COUNTIF(K218:P218,\"=9\")*0)/COUNTA(K218:P218)/100,\"N/A\")","v":"N/A"},{"$f":"IF(COUNTA(Q218)>0,(COUNTIF(Q218,\"=0\")*0+COUNTIF(Q218,\"=1\")*100+COUNTIF(Q218,\"=2\")*80+COUNTIF(Q218,\"=3\")*50+COUNTIF(Q218,\"=8\")*20+COUNTIF(Q218,\"=9\")*0)/COUNTA(Q218)/100,\"N/A\")","v":"N/A"},{"$f":"IF(COUNTA(S218:W218)<>0,(COUNTIF(S218:W218,\"=0\")*0+COUNTIF(S218:W218,\"=1\")*100+COUNTIF(S218:W218,\"=2\")*80+COUNTIF(S218:W218,\"=3\")*50+COUNTIF(S218:W218,\"=8\")*20+COUNTIF(S218:W218,\"=9\")*0)/COUNTA(S218:W218)/100,\"N/A\")","v":"N/A"},"N/A",{"$f":"IF(COUNTA(#REF!)>0,(COUNTIF(#REF!,\"=0\")*0+COUNTIF(#REF!,\"=1\")*100+COUNTIF(#REF!,\"=2\")*80+COUNTIF(#REF!,\"=3\")*50+COUNTIF(#REF!,\"=8\")*20+COUNTIF(#REF!,\"=9\")*0)/COUNTA(#REF!)/100,\"N/A\")","v":{"$error":"#REF!"}},{"$f":"IF(COUNTA(#REF!)>0,(COUNTIF(#REF!,\"=0\")*0+COUNTIF(#REF!,\"=1\")*100+COUNTIF(#REF!,\"=2\")*80+COUNTIF(#REF!,\"=3\")*50+COUNTIF(#REF!,\"=8\")*20+COUNTIF(#REF!,\"=9\")*0)/COUNTA(#REF!)/100,\"N/A\")","v":{"$error":"#REF!"}},{"$f":"IF(AND(COUNTA(B218:X218)<>0,#REF!<>\"\"),AVERAGE(Y218:AE218),\"N/A\")","v":{"$error":"#REF!"}},1,1,1,1,1,{"$error":"#REF!"},{"$error":"#REF!"},{"$error":"#REF!"}]
[{"$nulls":24},{"$f":"IF(COUNTA(B219:G219)>0,(COUNTIF(B219:G219,\"=0\")*0+COUNTIF(B219:G219,\"=1\")*100+COUNTIF(B219:G219,\"=2\")*80+COUNTIF(B219:G219,\"=3\")*50+COUNTIF(B219:G219,\"=8\")*20+COUNTIF(B219:G219,\"=9\")*0)/COUNTA(B219:G219)/100,\"N/A\")","v":"N/A"},{"$f":"IF(COUNTA(K219:P219)>0,(COUNTIF(K219:P219,\"=0\")*0+COUNTIF(K219:P219,\"=1\")*100+COUNTIF(K219:P219,\"=2\")*80+COUNTIF(K219:P219,\"=3\")*50+COUNTIF(K219:P219,\"=8\")*20+COUNTIF(K219:P219,\"=9\")*0)/COUNTA(K219:P219)/100,\"N/A\")","v":"N/A"},{"$f":"IF(COUNTA(Q219)>0,(COUNTIF(Q219,\"=0\")*0+COUNTIF(Q219,\"=1\")*100+COUNTIF(Q219,\"=2\")*80+COUNTIF(Q219,\"=3\")*50+COUNTIF(Q219,\"=8\")*20+COUNTIF(Q219,\"=9\")*0)/COUNTA(Q219)/100,\"N/A\")","v":"N/A"},{"$f":"IF(COUNTA(S219:W219)<>0,(COUNTIF(S219:W219,\"=0\")*0+COUNTIF(S219:W219,\"=1\")*100+COUNTIF(S219:W219,\"=2\")*80+COUNTIF(S219:W219,\"=3\")*50+COUNTIF(S219:W219,\"=8\")*20+COUNTIF(S219:W219,\"=9\")*0)/COUNTA(S219:W219)/100,\"N/A\")","v":"N/A"},"N/A",{"$f":"IF(COUNTA(#REF!)>0,(COUNTIF(#REF!,\"=0\")*0+COUNTIF(#REF!,\"=1\")*100+COUNTIF(#REF!,\"=2\")*80+COUNTIF(#REF!,\"=3\")*50+COUNTIF(#REF!,\"=8\")*20+COUNTIF(#REF!,\"=9\")*0)/COUNTA(#REF!)/100,\"N/A\")","v":{"$error":"#REF!"}},{"$f":"IF(COUNTA(#REF!)>0,(COUNTIF(#REF!,\"=0\")*0+COUNTIF(#REF!,\"=1\")*100+COUNTIF(#REF!,\"=2\")*80+COUNTIF(#REF!,\"=3\")*50+COUNTIF(#REF!,\"=8\")*20+COUNTIF(#REF!,\"=9\")*0)/COUNTA(#REF!)/100,\"N/A\")","v":{"$error":"#REF!"}},{"$f":"IF(AND(COUNTA(B219:X219)<>0,#REF!<>\"\"),AVERAGE(Y219:AE219),\"N/A\")","v":{"$error":"#REF!"}},1,1,1,1,1,{"$error":"#REF!"},{"$error":"#REF!"},{"$error":"#REF!"}]
[{"$nulls":24},{"$f":"IF(COUNTA(B220:G220)>0,(COUNTIF(B220:G220,\"=0\")*0+COUNTIF(B220:G220,\"=1\")*100+COUNTIF(B220:G220,\"=2\")*80+COUNTIF(B220:G220,\"=3\")*50+COUNTIF(B220:G220,\"=8\")*20+COUNTIF(B220:G220,\"=9\")*0)/COUNTA(B220:G220)/100,\"N/A\")","v":"N/A"},{"$f":"IF(COUNTA(K220:P220)>0,(COUNTIF(K220:P220,\"=0\")*0+COUNTIF(K220:P220,\"=1\")*100+COUNTIF(K220:P220,\"=2\")*80+COUNTIF(K220:P220,\"=3\")*50+COUNTIF(K220:P220,\"=8\")*20+COUNTIF(K220:P220,\"=9\")*0)/COUNTA(K220:P220)/100,\"N/A\")","v":"N/A"},{"$f":"IF(COUNTA(Q220)>0,(COUNTIF(Q220,\"=0\")*0+COUNTIF(Q220,\"=1\")*100+COUNTIF(Q220,\"=2\")*80+COUNTIF(Q220,\"=3\")*50+COUNTIF(Q220,\"=8\")*20+COUNTIF(Q220,\"=9\")*0)/COUNTA(Q220)/100,\"N/A\")","v":"N/A"},{"$f":"IF(COUNTA(S220:W220)<>0,(COUNTIF(S220:W220,\"=0\")*0+COUNTIF(S220:W220,\"=1\")*100+COUNTIF(S220:W220,\"=2\")*80+COUNTIF(S220:W220,\"=3\")*50+COUNTIF(S220:W220,\"=8\")*20+COUNTIF(S220:W220,\"=9\")*0)/COUNTA(S220:W220)/100,\"N/A\")","v":"N/A"},"N/A",{"$f":"IF(COUNTA(#REF!)>0,(COUNTIF(#REF!,\"=0\")*0+COUNTIF(#REF!,\"=1\")*100+COUNTIF(#REF!,\"=2\")*80+COUNTIF(#REF!,\"=3\")*50+COUNTIF(#REF!,\"=8\")*20+COUNTIF(#REF!,\"=9\")*0)/COUNTA(#REF!)/100,\"N/A\")","v":{"$error":"#REF!"}},{"$f":"IF(COUNTA(#REF!)>0,(COUNTIF(#REF!,\"=0\")*0+COUNTIF(#REF!,\"=1\")*100+COUNTIF(#REF!,\"=2\")*80+COUNTIF(#REF!,\"=3\")*50+COUNTIF(#REF!,\"=8\")*20+COUNTIF(#REF!,\"=9\")*0)/COUNTA(#REF!)/100,\"N/A\")","v":{"$error":"#REF!"}},{"$f":"IF(AND(COUNTA(B220:X220)<>0,#REF!<>\"\"),AVERAGE(Y220:AE220),\"N/A\")","v":{"$error":"#REF!"}},1,1,1,1,1,{"$error":"#REF!"},{"$error":"#REF!"},{"$error":"#REF!"}]
[{"$nulls":24},{"$f":"IF(COUNTA(B221:G221)>0,(COUNTIF(B221:G221,\"=0\")*0+COUNTIF(B221:G221,\"=1\")*100+COUNTIF(B221:G221,\"=2\")*80+COUNTIF(B221:G221,\"=3\")*50+COUNTIF(B221:G221,\"=8\")*20+COUNTIF(B221:G221,\"=9\")*0)/COUNTA(B221:G221)/100,\"N/A\")","v":"N/A"},{"$f":"IF(COUNTA(K221:P221)>0,(COUNTIF(K221:P221,\"=0\")*0+COUNTIF(K221:P221,\"=1\")*100+COUNTIF(K221:P221,\"=2\")*80+COUNTIF(K221:P221,\"=3\")*50+COUNTIF(K221:P221,\"=8\")*20+COUNTIF(K221:P221,\"=9\")*0)/COUNTA(K221:P221)/100,\"N/A\")","v":"N/A"},{"$f":"IF(COUNTA(Q221)>0,(COUNTIF(Q221,\"=0\")*0+COUNTIF(Q221,\"=1\")*100+COUNTIF(Q221,\"=2\")*80+COUNTIF(Q221,\"=3\")*50+COUNTIF(Q221,\"=8\")*20+COUNTIF(Q221,\"=9\")*0)/COUNTA(Q221)/100,\"N/A\")","v":"N/A"},{"$f":"IF(COUNTA(S221:W221)<>0,(COUNTIF(S221:W221,\"=0\")*0+COUNTIF(S221:W221,\"=1\")*100+COUNTIF(S221:W221,\"=2\")*80+COUNTIF(S221:W221,\"=3\")*50+COUNTIF(S221:W221,\"=8\")*20+COUNTIF(S221:W221,\"=9\")*0)/COUNTA(S221:W221)/100,\"N/A\")","v":"N/A"},"N/A",{"$f":"IF(COUNTA(#REF!)>0,(COUNTIF(#REF!,\"=0\")*0+COUNTIF(#REF!,\"=1\")*100+COUNTIF(#REF!,\"=2\")*80+COUNTIF(#REF!,\"=3\")*50+COUNTIF(#REF!,\"=8\")*20+COUNTIF(#REF!,\"=9\")*0)/COUNTA(#REF!)/100,\"N/A\")","v":{"$error":"#REF!"}},{"$f":"IF(COUNTA(#REF!)>0,(COUNTIF(#REF!,\"=0\")*0+COUNTIF(#REF!,\"=1\")*100+COUNTIF(#REF!,\"=2\")*80+COUNTIF(#REF!,\"=3\")*50+COUNTIF(#REF!,\"=8\")*20+COUNTIF(#REF!,\"=9\")*0)/COUNTA(#REF!)/100,\"N/A\")","v":{"$error":"#REF!"}},{"$f":"IF(AND(COUNTA(B221:X221)<>0,#REF!<>\"\"),AVERAGE(Y221:AE221),\"N/A\")","v":{"$error":"#REF!"}},1,1,1,1,1,{"$error":"#REF!"},{"$error":"#REF!"},{"$error":"#REF!"}]
[{"$nulls":24},{"$f":"IF(COUNTA(B222:G222)>0,(COUNTIF(B222:G222,\"=0\")*0+COUNTIF(B222:G222,\"=1\")*100+COUNTIF(B222:G222,\"=2\")*80+COUNTIF(B222:G222,\"=3\")*50+COUNTIF(B222:G222,\"=8\")*20+COUNTIF(B222:G222,\"=9\")*0)/COUNTA(B222:G222)/100,\"N/A\")","v":"N/A"},{"$f":"IF(COUNTA(K222:P222)>0,(COUNTIF(K222:P222,\"=0\")*0+COUNTIF(K222:P222,\"=1\")*100+COUNTIF(K222:P222,\"=2\")*80+COUNTIF(K222:P222,\"=3\")*50+COUNTIF(K222:P222,\"=8\")*20+COUNTIF(K222:P222,\"=9\")*0)/COUNTA(K222:P222)/100,\"N/A\")","v":"N/A"},{"$f":"IF(COUNTA(Q222)>0,(COUNTIF(Q222,\"=0\")*0+COUNTIF(Q222,\"=1\")*100+COUNTIF(Q222,\"=2\")*80+COUNTIF(Q222,\"=3\")*50+COUNTIF(Q222,\"=8\")*20+COUNTIF(Q222,\"=9\")*0)/COUNTA(Q222)/100,\"N/A\")","v":"N/A"},{"$f":"IF(COUNTA(S222:W222)<>0,(COUNTIF(S222:W222,\"=0\")*0+COUNTIF(S222:W222,\"=1\")*100+COUNTIF(S222:W222,\"=2\")*80+COUNTIF(S222:W222,\"=3\")*50+COUNTIF(S222:W222,\"=8\")*20+COUNTIF(S222:W222,\"=9\")*0)/COUNTA(S222:W222)/100,\"N/A\")","v":"N/A"},"N/A",{"$f":"IF(COUNTA(#REF!)>0,(COUNTIF(#REF!,\"=0\")*0+COUNTIF(#REF!,\"=1\")*100+COUNTIF(#REF!,\"=2\")*80+COUNTIF(#REF!,\"=3\")*50+COUNTIF(#REF!,\"=8\")*20+COUNTIF(#REF!,\"=9\")*0)/COUNTA(#REF!)/100,\"N/A\")","v":{"$error":"#REF!"}},{"$f":"IF(COUNTA(#REF!)>0,(COUNTIF(#REF!,\"=0\")*0+COUNTIF(#REF!,\"=1\")*100+COUNTIF(#REF!,\"=2\")*80+COUNTIF(#REF!,\"=3\")*50+COUNTIF(#REF!,\"=8\")*20+COUNTIF(#REF!,\"=9\")*0)/COUNTA(#REF!)/100,\"N/A\")","v":{"$error":"#REF!"}},{"$f":"IF(AND(COUNTA(B222:X222)<>0,#REF!<>\"\"),AVERAGE(Y222:AE222),\"N/A\")","v":{"$error":"#REF!"}},1,1,1,1,1,{"$error":"#REF!"},{"$error":"#REF!"},{"$error":"#REF!"}]
[{"$nulls":24},{"$f":"IF(COUNTA(B223:G223)>0,(COUNTIF(B223:G223,\"=0\")*0+COUNTIF(B223:G223,\"=1\")*100+COUNTIF(B223:G223,\"=2\")*80+COUNTIF(B223:G223,\"=3\")*50+COUNTIF(B223:G223,\"=8\")*20+COUNTIF(B223:G223,\"=9\")*0)/COUNTA(B223:G223)/100,\"N/A\")","v":"N/A"},{"$f":"IF(COUNTA(K223:P223)>0,(COUNTIF(K223:P223,\"=0\")*0+COUNTIF(K223:P223,\"=1\")*100+COUNTIF(K223:P223,\"=2\")*80+COUNTIF(K223:P223,\"=3\")*50+COUNTIF(K223:P223,\"=8\")*20+COUNTIF(K223:P223,\"=9\")*0)/COUNTA(K223:P223)/100,\"N/A\")","v":"N/A"},{"$f":"IF(COUNTA(Q223)>0,(COUNTIF(Q223,\"=0\")*0+COUNTIF(Q223,\"=1\")*100+COUNTIF(Q223,\"=2\")*80+COUNTIF(Q223,\"=3\")*50+COUNTIF(Q223,\"=8\")*20+COUNTIF(Q223,\"=9\")*0)/COUNTA(Q223)/100,\"N/A\")","v":"N/A"},{"$f":"IF(COUNTA(S223:W223)<>0,(COUNTIF(S223:W223,\"=0\")*0+COUNTIF(S223:W223,\"=1\")*100+COUNTIF(S223:W223,\"=2\")*80+COUNTIF(S223:W223,\"=3\")*50+COUNTIF(S223:W223,\"=8\")*20+COUNTIF(S223:W223,\"=9\")*0)/COUNTA(S223:W223)/100,\"N/A\")","v":"N/A"},"N/A",{"$f":"IF(COUNTA(#REF!)>0,(COUNTIF(#REF!,\"=0\")*0+COUNTIF(#REF!,\"=1\")*100+COUNTIF(#REF!,\"=2\")*80+COUNTIF(#REF!,\"=3\")*50+COUNTIF(#REF!,\"=8\")*20+COUNTIF(#REF!,\"=9\")*0)/COUNTA(#REF!)/100,\"N/A\")","v":{"$error":"#REF!"}},{"$f":"IF(COUNTA(#REF!)>0,(COUNTIF(#REF!,\"=0\")*0+COUNTIF(#REF!,\"=1\")*100+COUNTIF(#REF!,\"=2\")*80+COUNTIF(#REF!,\"=3\")*50+COUNTIF(#REF!,\"=8\")*20+COUNTIF(#REF!,\"=9\")*0)/COUNTA(#REF!)/100,\"N/A\")","v":{"$error":"#REF!"}},{"$f":"IF(AND(COUNTA(B223:X223)<>0,#REF!<>\"\"),AVERAGE(Y223:AE223),\"N/A\")","v":{"$error":"#REF!"}},1,1,1,1,1,{"$error":"#REF!"},{"$error":"#REF!"},{"$error":"#REF!"}]
[{"$nulls":24},{"$f":"IF(COUNTA(B224:G224)>0,(COUNTIF(B224:G224,\"=0\")*0+COUNTIF(B224:G224,\"=1\")*100+COUNTIF(B224:G224,\"=2\")*80+COUNTIF(B224:G224,\"=3\")*50+COUNTIF(B224:G224,\"=8\")*20+COUNTIF(B224:G224,\"=9\")*0)/COUNTA(B224:G224)/100,\"N/A\")","v":"N/A"},{"$f":"IF(COUNTA(K224:P224)>0,(COUNTIF(K224:P224,\"=0\")*0+COUNTIF(K224:P224,\"=1\")*100+COUNTIF(K224:P224,\"=2\")*80+COUNTIF(K224:P224,\"=3\")*50+COUNTIF(K224:P224,\"=8\")*20+COUNTIF(K224:P224,\"=9\")*0)/COUNTA(K224:P224)/100,\"N/A\")","v":"N/A"},{"$f":"IF(COUNTA(Q224)>0,(COUNTIF(Q224,\"=0\")*0+COUNTIF(Q224,\"=1\")*100+COUNTIF(Q224,\"=2\")*80+COUNTIF(Q224,\"=3\")*50+COUNTIF(Q224,\"=8\")*20+COUNTIF(Q224,\"=9\")*0)/COUNTA(Q224)/100,\"N/A\")","v":"N/A"},{"$f":"IF(COUNTA(S224:W224)<>0,(COUNTIF(S224:W224,\"=0\")*0+COUNTIF(S224:W224,\"=1\")*100+COUNTIF(S224:W224,\"=2\")*80+COUNTIF(S224:W224,\"=3\")*50+COUNTIF(S224:W224,\"=8\")*20+COUNTIF(S224:W224,\"=9\")*0)/COUNTA(S224:W224)/100,\"N/A\")","v":"N/A"},"N/A",{"$f":"IF(COUNTA(#REF!)>0,(COUNTIF(#REF!,\"=0\")*0+COUNTIF(#REF!,\"=1\")*100+COUNTIF(#REF!,\"=2\")*80+COUNTIF(#REF!,\"=3\")*50+COUNTIF(#REF!,\"=8\")*20+COUNTIF(#REF!,\"=9\")*0)/COUNTA(#REF!)/100,\"N/A\")","v":{"$error":"#REF!"}},{"$f":"IF(COUNTA(#REF!)>0,(COUNTIF(#REF!,\"=0\")*0+COUNTIF(#REF!,\"=1\")*100+COUNTIF(#REF!,\"=2\")*80+COUNTIF(#REF!,\"=3\")*50+COUNTIF(#REF!,\"=8\")*20+COUNTIF(#REF!,\"=9\")*0)/COUNTA(#REF!)/100,\"N/A\")","v":{"$error":"#REF!"}},{"$f":"IF(AND(COUNTA(B224:X224)<>0,#REF!<>\"\"),AVERAGE(Y224:AE224),\"N/A\")","v":{"$error":"#REF!"}},1,1,1,1,1,{"$error":"#REF!"},{"$error":"#REF!"},{"$error":"#REF!"}]
[{"$nulls":24},{"$f":"IF(COUNTA(B225:G225)>0,(COUNTIF(B225:G225,\"=0\")*0+COUNTIF(B225:G225,\"=1\")*100+COUNTIF(B225:G225,\"=2\")*80+COUNTIF(B225:G225,\"=3\")*50+COUNTIF(B225:G225,\"=8\")*20+COUNTIF(B225:G225,\"=9\")*0)/COUNTA(B225:G225)/100,\"N/A\")","v":"N/A"},{"$f":"IF(COUNTA(K225:P225)>0,(COUNTIF(K225:P225,\"=0\")*0+COUNTIF(K225:P225,\"=1\")*100+COUNTIF(K225:P225,\"=2\")*80+COUNTIF(K225:P225,\"=3\")*50+COUNTIF(K225:P225,\"=8\")*20+COUNTIF(K225:P225,\"=9\")*0)/COUNTA(K225:P225)/100,\"N/A\")","v":"N/A"},{"$f":"IF(COUNTA(Q225)>0,(COUNTIF(Q225,\"=0\")*0+COUNTIF(Q225,\"=1\")*100+COUNTIF(Q225,\"=2\")*80+COUNTIF(Q225,\"=3\")*50+COUNTIF(Q225,\"=8\")*20+COUNTIF(Q225,\"=9\")*0)/COUNTA(Q225)/100,\"N/A\")","v":"N/A"},{"$f":"IF(COUNTA(S225:W225)<>0,(COUNTIF(S225:W225,\"=0\")*0+COUNTIF(S225:W225,\"=1\")*100+COUNTIF(S225:W225,\"=2\")*80+COUNTIF(S225:W225,\"=3\")*50+COUNTIF(S225:W225,\"=8\")*20+COUNTIF(S225:W225,\"=9\")*0)/COUNTA(S225:W225)/100,\"N/A\")","v":"N/A"},"N/A",{"$f":"IF(COUNTA(#REF!)>0,(COUNTIF(#REF!,\"=0\")*0+COUNTIF(#REF!,\"=1\")*100+COUNTIF(#REF!,\"=2\")*80+COUNTIF(#REF!,\"=3\")*50+COUNTIF(#REF!,\"=8\")*20+COUNTIF(#REF!,\"=9\")*0)/COUNTA(#REF!)/100,\"N/A\")","v":{"$error":"#REF!"}},{"$f":"IF(COUNTA(#REF!)>0,(COUNTIF(#REF!,\"=0\")*0+COUNTIF(#REF!,\"=1\")*100+COUNTIF(#REF!,\"=2\")*80+COUNTIF(#REF!,\"=3\")*50+COUNTIF(#REF!,\"=8\")*20+COUNTIF(#REF!,\"=9\")*0)/COUNTA(#REF!)/100,\"N/A\")","v":{"$error":"#REF!"}},{"$f":"IF(AND(COUNTA(B225:X225)<>0,#REF!<>\"\"),AVERAGE(Y225:AE225),\"N/A\")","v":{"$error":"#REF!"}},1,1,1,1,1,{"$error":"#REF!"},{"$error":"#REF!"},{"$error":"#REF!"}]
[{"$nulls":24},{"$f":"IF(COUNTA(B226:G226)>0,(COUNTIF(B226:G226,\"=0\")*0+COUNTIF(B226:G226,\"=1\")*100+COUNTIF(B226:G226,\"=2\")*80+COUNTIF(B226:G226,\"=3\")*50+COUNTIF(B226:G226,\"=8\")*20+COUNTIF(B226:G226,\"=9\")*0)/COUNTA(B226:G226)/100,\"N/A\")","v":"N/A"},{"$f":"IF(COUNTA(K226:P226)>0,(COUNTIF(K226:P226,\"=0\")*0+COUNTIF(K226:P226,\"=1\")*100+COUNTIF(K226:P226,\"=2\")*80+COUNTIF(K226:P226,\"=3\")*50+COUNTIF(K226:P226,\"=8\")*20+COUNTIF(K226:P226,\"=9\")*0)/COUNTA(K226:P226)/100,\"N/A\")","v":"N/A"},{"$f":"IF(COUNTA(Q226)>0,(COUNTIF(Q226,\"=0\")*0+COUNTIF(Q226,\"=1\")*100+COUNTIF(Q226,\"=2\")*80+COUNTIF(Q226,\"=3\")*50+COUNTIF(Q226,\"=8\")*20+COUNTIF(Q226,\"=9\")*0)/COUNTA(Q226)/100,\"N/A\")","v":"N/A"},{"$f":"IF(COUNTA(S226:W226)<>0,(COUNTIF(S226:W226,\"=0\")*0+COUNTIF(S226:W226,\"=1\")*100+COUNTIF(S226:W226,\"=2\")*80+COUNTIF(S226:W226,\"=3\")*50+COUNTIF(S226:W226,\"=8\")*20+COUNTIF(S226:W226,\"=9\")*0)/COUNTA(S226:W226)/100,\"N/A\")","v":"N/A"},"N/A",{"$f":"IF(COUNTA(#REF!)>0,(COUNTIF(#REF!,\"=0\")*0+COUNTIF(#REF!,\"=1\")*100+COUNTIF(#REF!,\"=2\")*80+COUNTIF(#REF!,\"=3\")*50+COUNTIF(#REF!,\"=8\")*20+COUNTIF(#REF!,\"=9\")*0)/COUNTA(#REF!)/100,\"N/A\")","v":{"$error":"#REF!"}},{"$f":"IF(COUNTA(#REF!)>0,(COUNTIF(#REF!,\"=0\")*0+COUNTIF(#REF!,\"=1\")*100+COUNTIF(#REF!,\"=2\")*80+COUNTIF(#REF!,\"=3\")*50+COUNTIF(#REF!,\"=8\")*20+COUNTIF(#REF!,\"=9\")*0)/COUNTA(#REF!)/100,\"N/A\")","v":{"$error":"#REF!"}},{"$f":"IF(AND(COUNTA(B226:X226)<>0,#REF!<>\"\"),AVERAGE(Y226:AE226),\"N/A\")","v":{"$error":"#REF!"}},1,1,1,1,1,{"$error":"#REF!"},{"$error":"#REF!"},{"$error":"#REF!"}]
[{"$nulls":24},{"$f":"IF(COUNTA(B227:G227)>0,(COUNTIF(B227:G227,\"=0\")*0+COUNTIF(B227:G227,\"=1\")*100+COUNTIF(B227:G227,\"=2\")*80+COUNTIF(B227:G227,\"=3\")*50+COUNTIF(B227:G227,\"=8\")*20+COUNTIF(B227:G227,\"=9\")*0)/COUNTA(B227:G227)/100,\"N/A\")","v":"N/A"},{"$f":"IF(COUNTA(K227:P227)>0,(COUNTIF(K227:P227,\"=0\")*0+COUNTIF(K227:P227,\"=1\")*100+COUNTIF(K227:P227,\"=2\")*80+COUNTIF(K227:P227,\"=3\")*50+COUNTIF(K227:P227,\"=8\")*20+COUNTIF(K227:P227,\"=9\")*0)/COUNTA(K227:P227)/100,\"N/A\")","v":"N/A"},{"$f":"IF(COUNTA(Q227)>0,(COUNTIF(Q227,\"=0\")*0+COUNTIF(Q227,\"=1\")*100+COUNTIF(Q227,\"=2\")*80+COUNTIF(Q227,\"=3\")*50+COUNTIF(Q227,\"=8\")*20+COUNTIF(Q227,\"=9\")*0)/COUNTA(Q227)/100,\"N/A\")","v":"N/A"},{"$f":"IF(COUNTA(S227:W227)<>0,(COUNTIF(S227:W227,\"=0\")*0+COUNTIF(S227:W227,\"=1\")*100+COUNTIF(S227:W227,\"=2\")*80+COUNTIF(S227:W227,\"=3\")*50+COUNTIF(S227:W227,\"=8\")*20+COUNTIF(S227:W227,\"=9\")*0)/COUNTA(S227:W227)/100,\"N/A\")","v":"N/A"},"N/A",{"$f":"IF(COUNTA(#REF!)>0,(COUNTIF(#REF!,\"=0\")*0+COUNTIF(#REF!,\"=1\")*100+COUNTIF(#REF!,\"=2\")*80+COUNTIF(#REF!,\"=3\")*50+COUNTIF(#REF!,\"=8\")*20+COUNTIF(#REF!,\"=9\")*0)/COUNTA(#REF!)/100,\"N/A\")","v":{"$error":"#REF!"}},{"$f":"IF(COUNTA(#REF!)>0,(COUNTIF(#REF!,\"=0\")*0+COUNTIF(#REF!,\"=1\")*100+COUNTIF(#REF!,\"=2\")*80+COUNTIF(#REF!,\"=3\")*50+COUNTIF(#REF!,\"=8\")*20+COUNTIF(#REF!,\"=9\")*0)/COUNTA(#REF!)/100,\"N/A\")","v":{"$error":"#REF!"}},{"$f":"IF(AND(COUNTA(B227:X227)<>0,#REF!<>\"\"),AVERAGE(Y227:AE227),\"N/A\")","v":{"$error":"#REF!"}},1,1,1,1,1,{"$error":"#REF!"},{"$error":"#REF!"},{"$error":"#REF!"}]
[{"$nulls":24},{"$f":"IF(COUNTA(B228:G228)>0,(COUNTIF(B228:G228,\"=0\")*0+COUNTIF(B228:G228,\"=1\")*100+COUNTIF(B228:G228,\"=2\")*80+COUNTIF(B228:G228,\"=3\")*50+COUNTIF(B228:G228,\"=8\")*20+COUNTIF(B228:G228,\"=9\")*0)/COUNTA(B228:G228)/100,\"N/A\")","v":"N/A"},{"$f":"IF(COUNTA(K228:P228)>0,(COUNTIF(K228:P228,\"=0\")*0+COUNTIF(K228:P228,\"=1\")*100+COUNTIF(K228:P228,\"=2\")*80+COUNTIF(K228:P228,\"=3\")*50+COUNTIF(K228:P228,\"=8\")*20+COUNTIF(K228:P228,\"=9\")*0)/COUNTA(K228:P228)/100,\"N/A\")","v":"N/A"},{"$f":"IF(COUNTA(Q228)>0,(COUNTIF(Q228,\"=0\")*0+COUNTIF(Q228,\"=1\")*100+COUNTIF(Q228,\"=2\")*80+COUNTIF(Q228,\"=3\")*50+COUNTIF(Q228,\"=8\")*20+COUNTIF(Q228,\"=9\")*0)/COUNTA(Q228)/100,\"N/A\")","v":"N/A"},{"$f":"IF(COUNTA(S228:W228)<>0,(COUNTIF(S228:W228,\"=0\")*0+COUNTIF(S228:W228,\"=1\")*100+COUNTIF(S228:W228,\"=2\")*80+COUNTIF(S228:W228,\"=3\")*50+COUNTIF(S228:W228,\"=8\")*20+COUNTIF(S228:W228,\"=9\")*0)/COUNTA(S228:W228)/100,\"N/A\")","v":"N/A"},"N/A",{"$f":"IF(COUNTA(#REF!)>0,(COUNTIF(#REF!,\"=0\")*0+COUNTIF(#REF!,\"=1\")*100+COUNTIF(#REF!,\"=2\")*80+COUNTIF(#REF!,\"=3\")*50+COUNTIF(#REF!,\"=8\")*20+COUNTIF(#REF!,\"=9\")*0)/COUNTA(#REF!)/100,\"N/A\")","v":{"$error":"#REF!"}},{"$f":"IF(COUNTA(#REF!)>0,(COUNTIF(#REF!,\"=0\")*0+COUNTIF(#REF!,\"=1\")*100+COUNTIF(#REF!,\"=2\")*80+COUNTIF(#REF!,\"=3\")*50+COUNTIF(#REF!,\"=8\")*20+COUNTIF(#REF!,\"=9\")*0)/COUNTA(#REF!)/100,\"N/A\")","v":{"$error":"#REF!"}},{"$f":"IF(AND(COUNTA(B228:X228)<>0,#REF!<>\"\"),AVERAGE(Y228:AE228),\"N/A\")","v":{"$error":"#REF!"}},1,1,1,1,1,{"$error":"#REF!"},{"$error":"#REF!"},{"$error":"#REF!"}]
[{"$nulls":24},{"$f":"IF(COUNTA(B229:G229)>0,(COUNTIF(B229:G229,\"=0\")*0+COUNTIF(B229:G229,\"=1\")*100+COUNTIF(B229:G229,\"=2\")*80+COUNTIF(B229:G229,\"=3\")*50+COUNTIF(B229:G229,\"=8\")*20+COUNTIF(B229:G229,\"=9\")*0)/COUNTA(B229:G229)/100,\"N/A\")","v":"N/A"},{"$f":"IF(COUNTA(K229:P229)>0,(COUNTIF(K229:P229,\"=0\")*0+COUNTIF(K229:P229,\"=1\")*100+COUNTIF(K229:P229,\"=2\")*80+COUNTIF(K229:P229,\"=3\")*50+COUNTIF(K229:P229,\"=8\")*20+COUNTIF(K229:P229,\"=9\")*0)/COUNTA(K229:P229)/100,\"N/A\")","v":"N/A"},{"$f":"IF(COUNTA(Q229)>0,(COUNTIF(Q229,\"=0\")*0+COUNTIF(Q229,\"=1\")*100+COUNTIF(Q229,\"=2\")*80+COUNTIF(Q229,\"=3\")*50+COUNTIF(Q229,\"=8\")*20+COUNTIF(Q229,\"=9\")*0)/COUNTA(Q229)/100,\"N/A\")","v":"N/A"},{"$f":"IF(COUNTA(S229:W229)<>0,(COUNTIF(S229:W229,\"=0\")*0+COUNTIF(S229:W229,\"=1\")*100+COUNTIF(S229:W229,\"=2\")*80+COUNTIF(S229:W229,\"=3\")*50+COUNTIF(S229:W229,\"=8\")*20+COUNTIF(S229:W229,\"=9\")*0)/COUNTA(S229:W229)/100,\"N/A\")","v":"N/A"},"N/A",{"$f":"IF(COUNTA(#REF!)>0,(COUNTIF(#REF!,\"=0\")*0+COUNTIF(#REF!,\"=1\")*100+COUNTIF(#REF!,\"=2\")*80+COUNTIF(#REF!,\"=3\")*50+COUNTIF(#REF!,\"=8\")*20+COUNTIF(#REF!,\"=9\")*0)/COUNTA(#REF!)/100,\"N/A\")","v":{"$error":"#REF!"}},{"$f":"IF(COUNTA(#REF!)>0,(COUNTIF(#REF!,\"=0\")*0+COUNTIF(#REF!,\"=1\")*100+COUNTIF(#REF!,\"=2\")*80+COUNTIF(#REF!,\"=3\")*50+COUNTIF(#REF!,\"=8\")*20+COUNTIF(#REF!,\"=9\")*0)/COUNTA(#REF!)/100,\"N/A\")","v":{"$error":"#REF!"}},{"$f":"IF(AND(COUNTA(B229:X229)<>0,#REF!<>\"\"),AVERAGE(Y229:AE229),\"N/A\")","v":{"$error":"#REF!"}},1,1,1,1,1,{"$error":"#REF!"},{"$error":"#REF!"},{"$error":"#REF!"}]
[{"$nulls":24},{"$f":"IF(COUNTA(B230:G230)>0,(COUNTIF(B230:G230,\"=0\")*0+COUNTIF(B230:G230,\"=1\")*100+COUNTIF(B230:G230,\"=2\")*80+COUNTIF(B230:G230,\"=3\")*50+COUNTIF(B230:G230,\"=8\")*20+COUNTIF(B230:G230,\"=9\")*0)/COUNTA(B230:G230)/100,\"N/A\")","v":"N/A"},{"$f":"IF(COUNTA(K230:P230)>0,(COUNTIF(K230:P230,\"=0\")*0+COUNTIF(K230:P230,\"=1\")*100+COUNTIF(K230:P230,\"=2\")*80+COUNTIF(K230:P230,\"=3\")*50+COUNTIF(K230:P230,\"=8\")*20+COUNTIF(K230:P230,\"=9\")*0)/COUNTA(K230:P230)/100,\"N/A\")","v":"N/A"},{"$f":"IF(COUNTA(Q230)>0,(COUNTIF(Q230,\"=0\")*0+COUNTIF(Q230,\"=1\")*100+COUNTIF(Q230,\"=2\")*80+COUNTIF(Q230,\"=3\")*50+COUNTIF(Q230,\"=8\")*20+COUNTIF(Q230,\"=9\")*0)/COUNTA(Q230)/100,\"N/A\")","v":"N/A"},{"$f":"IF(COUNTA(S230:W230)<>0,(COUNTIF(S230:W230,\"=0\")*0+COUNTIF(S230:W230,\"=1\")*100+COUNTIF(S230:W230,\"=2\")*80+COUNTIF(S230:W230,\"=3\")*50+COUNTIF(S230:W230,\"=8\")*20+COUNTIF(S230:W230,\"=9\")*0)/COUNTA(S230:W230)/100,\"N/A\")","v":"N/A"},"N/A",{"$f":"IF(COUNTA(#REF!)>0,(COUNTIF(#REF!,\"=0\")*0+COUNTIF(#REF!,\"=1\")*100+COUNTIF(#REF!,\"=2\")*80+COUNTIF(#REF!,\"=3\")*50+COUNTIF(#REF!,\"=8\")*20+COUNTIF(#REF!,\"=9\")*0)/COUNTA(#REF!)/100,\"N/A\")","v":{"$error":"#REF!"}},{"$f":"IF(COUNTA(#REF!)>0,(COUNTIF(#REF!,\"=0\")*0+COUNTIF(#REF!,\"=1\")*100+COUNTIF(#REF!,\"=2\")*80+COUNTIF(#REF!,\"=3\")*50+COUNTIF(#REF!,\"=8\")*20+COUNTIF(#REF!,\"=9\")*0)/COUNTA(#REF!)/100,\"N/A\")","v":{"$error":"#REF!"}},{"$f":"IF(AND(COUNTA(B230:X230)<>0,#REF!<>\"\"),AVERAGE(Y230:AE230),\"N/A\")","v":{"$error":"#REF!"}},1,1,1,1,1,{"$error":"#REF!"},{"$error":"#REF!"},{"$error":"#REF!"}]
[{"$nulls":24},{"$f":"IF(COUNTA(B231:G231)>0,(COUNTIF(B231:G231,\"=0\")*0+COUNTIF(B231:G231,\"=1\")*100+COUNTIF(B231:G231,\"=2\")*80+COUNTIF(B231:G231,\"=3\")*50+COUNTIF(B231:G231,\"=8\")*20+COUNTIF(B231:G231,\"=9\")*0)/COUNTA(B231:G231)/100,\"N/A\")","v":"N/A"},{"$f":"IF(COUNTA(K231:P231)>0,(COUNTIF(K231:P231,\"=0\")*0+COUNTIF(K231:P231,\"=1\")*100+COUNTIF(K231:P231,\"=2\")*80+COUNTIF(K231:P231,\"=3\")*50+COUNTIF(K231:P231,\"=8\")*20+COUNTIF(K231:P231,\"=9\")*0)/COUNTA(K231:P231)/100,\"N/A\")","v":"N/A"},{"$f":"IF(COUNTA(Q231)>0,(COUNTIF(Q231,\"=0\")*0+COUNTIF(Q231,\"=1\")*100+COUNTIF(Q231,\"=2\")*80+COUNTIF(Q231,\"=3\")*50+COUNTIF(Q231,\"=8\")*20+COUNTIF(Q231,\"=9\")*0)/COUNTA(Q231)/100,\"N/A\")","v":"N/A"},{"$f":"IF(COUNTA(S231:W231)<>0,(COUNTIF(S231:W231,\"=0\")*0+COUNTIF(S231:W231,\"=1\")*100+COUNTIF(S231:W231,\"=2\")*80+COUNTIF(S231:W231,\"=3\")*50+COUNTIF(S231:W231,\"=8\")*20+COUNTIF(S231:W231,\"=9\")*0)/COUNTA(S231:W231)/100,\"N/A\")","v":"N/A"},"N/A",{"$f":"IF(COUNTA(#REF!)>0,(COUNTIF(#REF!,\"=0\")*0+COUNTIF(#REF!,\"=1\")*100+COUNTIF(#REF!,\"=2\")*80+COUNTIF(#REF!,\"=3\")*50+COUNTIF(#REF!,\"=8\")*20+COUNTIF(#REF!,\"=9\")*0)/COUNTA(#REF!)/100,\"N/A\")","v":{"$error":"#REF!"}},{"$f":"IF(COUNTA(#REF!)>0,(COUNTIF(#REF!,\"=0\")*0+COUNTIF(#REF!,\"=1\")*100+COUNTIF(#REF!,\"=2\")*80+COUNTIF(#REF!,\"=3\")*50+COUNTIF(#REF!,\"=8\")*20+COUNTIF(#REF!,\"=9\")*0)/COUNTA(#REF!)/100,\"N/A\")","v":{"$error":"#REF!"}},{"$f":"IF(AND(COUNTA(B231:X231)<>0,#REF!<>\"\"),AVERAGE(Y231:AE231),\"N/A\")","v":{"$error":"#REF!"}},1,1,1,1,1,{"$error":"#REF!"},{"$error":"#REF!"},{"$error":"#REF!"}]
[{"$nulls":24},{"$f":"IF(COUNTA(B232:G232)>0,(COUNTIF(B232:G232,\"=0\")*0+COUNTIF(B232:G232,\"=1\")*100+COUNTIF(B232:G232,\"=2\")*80+COUNTIF(B232:G232,\"=3\")*50+COUNTIF(B232:G232,\"=8\")*20+COUNTIF(B232:G232,\"=9\")*0)/COUNTA(B232:G232)/100,\"N/A\")","v":"N/A"},{"$f":"IF(COUNTA(K232:P232)>0,(COUNTIF(K232:P232,\"=0\")*0+COUNTIF(K232:P232,\"=1\")*100+COUNTIF(K232:P232,\"=2\")*80+COUNTIF(K232:P232,\"=3\")*50+COUNTIF(K232:P232,\"=8\")*20+COUNTIF(K232:P232,\"=9\")*0)/COUNTA(K232:P232)/100,\"N/A\")","v":"N/A"},{"$f":"IF(COUNTA(Q232)>0,(COUNTIF(Q232,\"=0\")*0+COUNTIF(Q232,\"=1\")*100+COUNTIF(Q232,\"=2\")*80+COUNTIF(Q232,\"=3\")*50+COUNTIF(Q232,\"=8\")*20+COUNTIF(Q232,\"=9\")*0)/COUNTA(Q232)/100,\"N/A\")","v":"N/A"},{"$f":"IF(COUNTA(S232:W232)<>0,(COUNTIF(S232:W232,\"=0\")*0+COUNTIF(S232:W232,\"=1\")*100+COUNTIF(S232:W232,\"=2\")*80+COUNTIF(S232:W232,\"=3\")*50+COUNTIF(S232:W232,\"=8\")*20+COUNTIF(S232:W232,\"=9\")*0)/COUNTA(S232:W232)/100,\"N/A\")","v":"N/A"},"N/A",{"$f":"IF(COUNTA(#REF!)>0,(COUNTIF(#REF!,\"=0\")*0+COUNTIF(#REF!,\"=1\")*100+COUNTIF(#REF!,\"=2\")*80+COUNTIF(#REF!,\"=3\")*50+COUNTIF(#REF!,\"=8\")*20+COUNTIF(#REF!,\"=9\")*0)/COUNTA(#REF!)/100,\"N/A\")","v":{"$error":"#REF!"}},{"$f":"IF(COUNTA(#REF!)>0,(COUNTIF(#REF!,\"=0\")*0+COUNTIF(#REF!,\"=1\")*100+COUNTIF(#REF!,\"=2\")*80+COUNTIF(#REF!,\"=3\")*50+COUNTIF(#REF!,\"=8\")*20+COUNTIF(#REF!,\"=9\")*0)/COUNTA(#REF!)/100,\"N/A\")","v":{"$error":"#REF!"}},{"$f":"IF(AND(COUNTA(B232:X232)<>0,#REF!<>\"\"),AVERAGE(Y232:AE232),\"N/A\")","v":{"$error":"#REF!"}},1,1,1,1,1,{"$error":"#REF!"},{"$error":"#REF!"},{"$error":"#REF!"}]
[{"$nulls":24},{"$f":"IF(COUNTA(B233:G233)>0,(COUNTIF(B233:G233,\"=0\")*0+COUNTIF(B233:G233,\"=1\")*100+COUNTIF(B233:G233,\"=2\")*80+COUNTIF(B233:G233,\"=3\")*50+COUNTIF(B233:G233,\"=8\")*20+COUNTIF(B233:G233,\"=9\")*0)/COUNTA(B233:G233)/100,\"N/A\")","v":"N/A"},{"$f":"IF(COUNTA(K233:P233)>0,(COUNTIF(K233:P233,\"=0\")*0+COUNTIF(K233:P233,\"=1\")*100+COUNTIF(K233:P233,\"=2\")*80+COUNTIF(K233:P233,\"=3\")*50+COUNTIF(K233:P233,\"=8\")*20+COUNTIF(K233:P233,\"=9\")*0)/COUNTA(K233:P233)/100,\"N/A\")","v":"N/A"},{"$f":"IF(COUNTA(Q233)>0,(COUNTIF(Q233,\"=0\")*0+COUNTIF(Q233,\"=1\")*100+COUNTIF(Q233,\"=2\")*80+COUNTIF(Q233,\"=3\")*50+COUNTIF(Q233,\"=8\")*20+COUNTIF(Q233,\"=9\")*0)/COUNTA(Q233)/100,\"N/A\")","v":"N/A"},{"$f":"IF(COUNTA(S233:W233)<>0,(COUNTIF(S233:W233,\"=0\")*0+COUNTIF(S233:W233,\"=1\")*100+COUNTIF(S233:W233,\"=2\")*80+COUNTIF(S233:W233,\"=3\")*50+COUNTIF(S233:W233,\"=8\")*20+COUNTIF(S233:W233,\"=9\")*0)/COUNTA(S233:W233)/100,\"N/A\")","v":"N/A"},"N/A",{"$f":"IF(COUNTA(#REF!)>0,(COUNTIF(#REF!,\"=0\")*0+COUNTIF(#REF!,\"=1\")*100+COUNTIF(#REF!,\"=2\")*80+COUNTIF(#REF!,\"=3\")*50+COUNTIF(#REF!,\"=8\")*20+COUNTIF(#REF!,\"=9\")*0)/COUNTA(#REF!)/100,\"N/A\")","v":{"$error":"#REF!"}},{"$f":"IF(COUNTA(#REF!)>0,(COUNTIF(#REF!,\"=0\")*0+COUNTIF(#REF!,\"=1\")*100+COUNTIF(#REF!,\"=2\")*80+COUNTIF(#REF!,\"=3\")*50+COUNTIF(#REF!,\"=8\")*20+COUNTIF(#REF!,\"=9\")*0)/COUNTA(#REF!)/100,\"N/A\")","v":{"$error":"#REF!"}},{"$f":"IF(AND(COUNTA(B233:X233)<>0,#REF!<>\"\"),AVERAGE(Y233:AE233),\"N/A\")","v":{"$error":"#REF!"}},1,1,1,1,1,{"$error":"#REF!"},{"$error":"#REF!"},{"$error":"#REF!"}]
[{"$nulls":24},{"$f":"IF(COUNTA(B234:G234)>0,(COUNTIF(B234:G234,\"=0\")*0+COUNTIF(B234:G234,\"=1\")*100+COUNTIF(B234:G234,\"=2\")*80+COUNTIF(B234:G234,\"=3\")*50+COUNTIF(B234:G234,\"=8\")*20+COUNTIF(B234:G234,\"=9\")*0)/COUNTA(B234:G234)/100,\"N/A\")","v":"N/A"},{"$f":"IF(COUNTA(K234:P234)>0,(COUNTIF(K234:P234,\"=0\")*0+COUNTIF(K234:P234,\"=1\")*100+COUNTIF(K234:P234,\"=2\")*80+COUNTIF(K234:P234,\"=3\")*50+COUNTIF(K234:P234,\"=8\")*20+COUNTIF(K234:P234,\"=9\")*0)/COUNTA(K234:P234)/100,\"N/A\")","v":"N/A"},{"$f":"IF(COUNTA(Q234)>0,(COUNTIF(Q234,\"=0\")*0+COUNTIF(Q234,\"=1\")*100+COUNTIF(Q234,\"=2\")*80+COUNTIF(Q234,\"=3\")*50+COUNTIF(Q234,\"=8\")*20+COUNTIF(Q234,\"=9\")*0)/COUNTA(Q234)/100,\"N/A\")","v":"N/A"},{"$f":"IF(COUNTA(S234:W234)<>0,(COUNTIF(S234:W234,\"=0\")*0+COUNTIF(S234:W234,\"=1\")*100+COUNTIF(S234:W234,\"=2\")*80+COUNTIF(S234:W234,\"=3\")*50+COUNTIF(S234:W234,\"=8\")*20+COUNTIF(S234:W234,\"=9\")*0)/COUNTA(S234:W234)/100,\"N/A\")","v":"N/A"},"N/A",{"$f":"IF(COUNTA(#REF!)>0,(COUNTIF(#REF!,\"=0\")*0+COUNTIF(#REF!,\"=1\")*100+COUNTIF(#REF!,\"=2\")*80+COUNTIF(#REF!,\"=3\")*50+COUNTIF(#REF!,\"=8\")*20+COUNTIF(#REF!,\"=9\")*0)/COUNTA(#REF!)/100,\"N/A\")","v":{"$error":"#REF!"}},{"$f":"IF(COUNTA(#REF!)>0,(COUNTIF(#REF!,\"=0\")*0+COUNTIF(#REF!,\"=1\")*100+COUNTIF(#REF!,\"=2\")*80+COUNTIF(#REF!,\"=3\")*50+COUNTIF(#REF!,\"=8\")*20+COUNTIF(#REF!,\"=9\")*0)/COUNTA(#REF!)/100,\"N/A\")","v":{"$error":"#REF!"}},{"$f":"IF(AND(COUNTA(B234:X234)<>0,#REF!<>\"\"),AVERAGE(Y234:AE234),\"N/A\")","v":{"$error":"#REF!"}},1,1,1,1,1,{"$error":"#REF!"},{"$error":"#REF!"},{"$error":"#REF!"}]
[{"$nulls":24},{"$f":"IF(COUNTA(B235:G235)>0,(COUNTIF(B235:G235,\"=0\")*0+COUNTIF(B235:G235,\"=1\")*100+COUNTIF(B235:G235,\"=2\")*80+COUNTIF(B235:G235,\"=3\")*50+COUNTIF(B235:G235,\"=8\")*20+COUNTIF(B235:G235,\"=9\")*0)/COUNTA(B235:G235)/100,\"N/A\")","v":"N/A"},{"$f":"IF(COUNTA(K235:P235)>0,(COUNTIF(K235:P235,\"=0\")*0+COUNTIF(K235:P235,\"=1\")*100+COUNTIF(K235:P235,\"=2\")*80+COUNTIF(K235:P235,\"=3\")*50+COUNTIF(K235:P235,\"=8\")*20+COUNTIF(K235:P235,\"=9\")*0)/COUNTA(K235:P235)/100,\"N/A\")","v":"N/A"},{"$f":"IF(COUNTA(Q235)>0,(COUNTIF(Q235,\"=0\")*0+COUNTIF(Q235,\"=1\")*100+COUNTIF(Q235,\"=2\")*80+COUNTIF(Q235,\"=3\")*50+COUNTIF(Q235,\"=8\")*20+COUNTIF(Q235,\"=9\")*0)/COUNTA(Q235)/100,\"N/A\")","v":"N/A"},{"$f":"IF(COUNTA(S235:W235)<>0,(COUNTIF(S235:W235,\"=0\")*0+COUNTIF(S235:W235,\"=1\")*100+COUNTIF(S235:W235,\"=2\")*80+COUNTIF(S235:W235,\"=3\")*50+COUNTIF(S235:W235,\"=8\")*20+COUNTIF(S235:W235,\"=9\")*0)/COUNTA(S235:W235)/100,\"N/A\")","v":"N/A"},"N/A",{"$f":"IF(COUNTA(#REF!)>0,(COUNTIF(#REF!,\"=0\")*0+COUNTIF(#REF!,\"=1\")*100+COUNTIF(#REF!,\"=2\")*80+COUNTIF(#REF!,\"=3\")*50+COUNTIF(#REF!,\"=8\")*20+COUNTIF(#REF!,\"=9\")*0)/COUNTA(#REF!)/100,\"N/A\")","v":{"$error":"#REF!"}},{"$f":"IF(COUNTA(#REF!)>0,(COUNTIF(#REF!,\"=0\")*0+COUNTIF(#REF!,\"=1\")*100+COUNTIF(#REF!,\"=2\")*80+COUNTIF(#REF!,\"=3\")*50+COUNTIF(#REF!,\"=8\")*20+COUNTIF(#REF!,\"=9\")*0)/COUNTA(#REF!)/100,\"N/A\")","v":{"$error":"#REF!"}},{"$f":"IF(AND(COUNTA(B235:X235)<>0,#REF!<>\"\"),AVERAGE(Y235:AE235),\"N/A\")","v":{"$error":"#REF!"}},1,1,1,1,1,{"$error":"#REF!"},{"$error":"#REF!"},{"$error":"#REF!"}]
[{"$nulls":24},{"$f":"IF(COUNTA(B236:G236)>0,(COUNTIF(B236:G236,\"=0\")*0+COUNTIF(B236:G236,\"=1\")*100+COUNTIF(B236:G236,\"=2\")*80+COUNTIF(B236:G236,\"=3\")*50+COUNTIF(B236:G236,\"=8\")*20+COUNTIF(B236:G236,\"=9\")*0)/COUNTA(B236:G236)/100,\"N/A\")","v":"N/A"},{"$f":"IF(COUNTA(K236:P236)>0,(COUNTIF(K236:P236,\"=0\")*0+COUNTIF(K236:P236,\"=1\")*100+COUNTIF(K236:P236,\"=2\")*80+COUNTIF(K236:P236,\"=3\")*50+COUNTIF(K236:P236,\"=8\")*20+COUNTIF(K236:P236,\"=9\")*0)/COUNTA(K236:P236)/100,\"N/A\")","v":"N/A"},{"$f":"IF(COUNTA(Q236)>0,(COUNTIF(Q236,\"=0\")*0+COUNTIF(Q236,\"=1\")*100+COUNTIF(Q236,\"=2\")*80+COUNTIF(Q236,\"=3\")*50+COUNTIF(Q236,\"=8\")*20+COUNTIF(Q236,\"=9\")*0)/COUNTA(Q236)/100,\"N/A\")","v":"N/A"},{"$f":"IF(COUNTA(S236:W236)<>0,(COUNTIF(S236:W236,\"=0\")*0+COUNTIF(S236:W236,\"=1\")*100+COUNTIF(S236:W236,\"=2\")*80+COUNTIF(S236:W236,\"=3\")*50+COUNTIF(S236:W236,\"=8\")*20+COUNTIF(S236:W236,\"=9\")*0)/COUNTA(S236:W236)/100,\"N/A\")","v":"N/A"},"N/A",{"$f":"IF(COUNTA(#REF!)>0,(COUNTIF(#REF!,\"=0\")*0+COUNTIF(#REF!,\"=1\")*100+COUNTIF(#REF!,\"=2\")*80+COUNTIF(#REF!,\"=3\")*50+COUNTIF(#REF!,\"=8\")*20+COUNTIF(#REF!,\"=9\")*0)/COUNTA(#REF!)/100,\"N/A\")","v":{"$error":"#REF!"}},{"$f":"IF(COUNTA(#REF!)>0,(COUNTIF(#REF!,\"=0\")*0+COUNTIF(#REF!,\"=1\")*100+COUNTIF(#REF!,\"=2\")*80+COUNTIF(#REF!,\"=3\")*50+COUNTIF(#REF!,\"=8\")*20+COUNTIF(#REF!,\"=9\")*0)/COUNTA(#REF!)/100,\"N/A\")","v":{"$error":"#REF!"}},{"$f":"IF(AND(COUNTA(B236:X236)<>0,#REF!<>\"\"),AVERAGE(Y236:AE236),\"N/A\")","v":{"$error":"#REF!"}},1,1,1,1,1,{"$error":"#REF!"},{"$error":"#REF!"},{"$error":"#REF!"}]
[{"$nulls":24},{"$f":"IF(COUNTA(B237:G237)>0,(COUNTIF(B237:G237,\"=0\")*0+COUNTIF(B237:G237,\"=1\")*100+COUNTIF(B237:G237,\"=2\")*80+COUNTIF(B237:G237,\"=3\")*50+COUNTIF(B237:G237,\"=8\")*20+COUNTIF(B237:G237,\"=9\")*0)/COUNTA(B237:G237)/100,\"N/A\")","v":"N/A"},{"$f":"IF(COUNTA(K237:P237)>0,(COUNTIF(K237:P237,\"=0\")*0+COUNTIF(K237:P237,\"=1\")*100+COUNTIF(K237:P237,\"=2\")*80+COUNTIF(K237:P237,\"=3\")*50+COUNTIF(K237:P237,\"=8\")*20+COUNTIF(K237:P237,\"=9\")*0)/COUNTA(K237:P237)/100,\"N/A\")","v":"N/A"},{"$f":"IF(COUNTA(Q237)>0,(COUNTIF(Q237,\"=0\")*0+COUNTIF(Q237,\"=1\")*100+COUNTIF(Q237,\"=2\")*80+COUNTIF(Q237,\"=3\")*50+COUNTIF(Q237,\"=8\")*20+COUNTIF(Q237,\"=9\")*0)/COUNTA(Q237)/100,\"N/A\")","v":"N/A"},{"$f":"IF(COUNTA(S237:W237)<>0,(COUNTIF(S237:W237,\"=0\")*0+COUNTIF(S237:W237,\"=1\")*100+COUNTIF(S237:W237,\"=2\")*80+COUNTIF(S237:W237,\"=3\")*50+COUNTIF(S237:W237,\"=8\")*20+COUNTIF(S237:W237,\"=9\")*0)/COUNTA(S237:W237)/100,\"N/A\")","v":"N/A"},"N/A",{"$f":"IF(COUNTA(#REF!)>0,(COUNTIF(#REF!,\"=0\")*0+COUNTIF(#REF!,\"=1\")*100+COUNTIF(#REF!,\"=2\")*80+COUNTIF(#REF!,\"=3\")*50+COUNTIF(#REF!,\"=8\")*20+COUNTIF(#REF!,\"=9\")*0)/COUNTA(#REF!)/100,\"N/A\")","v":{"$error":"#REF!"}},{"$f":"IF(COUNTA(#REF!)>0,(COUNTIF(#REF!,\"=0\")*0+COUNTIF(#REF!,\"=1\")*100+COUNTIF(#REF!,\"=2\")*80+COUNTIF(#REF!,\"=3\")*50+COUNTIF(#REF!,\"=8\")*20+COUNTIF(#REF!,\"=9\")*0)/COUNTA(#REF!)/100,\"N/A\")","v":{"$error":"#REF!"}},{"$f":"IF(AND(COUNTA(B237:X237)<>0,#REF!<>\"\"),AVERAGE(Y237:AE237),\"N/A\")","v":{"$error":"#REF!"}},1,1,1,1,1,{"$error":"#REF!"},{"$error":"#REF!"},{"$error":"#REF!"}]
[{"$nulls":24},{"$f":"IF(COUNTA(B238:G238)>0,(COUNTIF(B238:G238,\"=0\")*0+COUNTIF(B238:G238,\"=1\")*100+COUNTIF(B238:G238,\"=2\")*80+COUNTIF(B238:G238,\"=3\")*50+COUNTIF(B238:G238,\"=8\")*20+COUNTIF(B238:G238,\"=9\")*0)/COUNTA(B238:G238)/100,\"N/A\")","v":"N/A"},{"$f":"IF(COUNTA(K238:P238)>0,(COUNTIF(K238:P238,\"=0\")*0+COUNTIF(K238:P238,\"=1\")*100+COUNTIF(K238:P238,\"=2\")*80+COUNTIF(K238:P238,\"=3\")*50+COUNTIF(K238:P238,\"=8\")*20+COUNTIF(K238:P238,\"=9\")*0)/COUNTA(K238:P238)/100,\"N/A\")","v":"N/A"},{"$f":"IF(COUNTA(Q238)>0,(COUNTIF(Q238,\"=0\")*0+COUNTIF(Q238,\"=1\")*100+COUNTIF(Q238,\"=2\")*80+COUNTIF(Q238,\"=3\")*50+COUNTIF(Q238,\"=8\")*20+COUNTIF(Q238,\"=9\")*0)/COUNTA(Q238)/100,\"N/A\")","v":"N/A"},{"$f":"IF(COUNTA(S238:W238)<>0,(COUNTIF(S238:W238,\"=0\")*0+COUNTIF(S238:W238,\"=1\")*100+COUNTIF(S238:W238,\"=2\")*80+COUNTIF(S238:W238,\"=3\")*50+COUNTIF(S238:W238,\"=8\")*20+COUNTIF(S238:W238,\"=9\")*0)/COUNTA(S238:W238)/100,\"N/A\")","v":"N/A"},"N/A",{"$f":"IF(COUNTA(#REF!)>0,(COUNTIF(#REF!,\"=0\")*0+COUNTIF(#REF!,\"=1\")*100+COUNTIF(#REF!,\"=2\")*80+COUNTIF(#REF!,\"=3\")*50+COUNTIF(#REF!,\"=8\")*20+COUNTIF(#REF!,\"=9\")*0)/COUNTA(#REF!)/100,\"N/A\")","v":{"$error":"#REF!"}},{"$f":"IF(COUNTA(#REF!)>0,(COUNTIF(#REF!,\"=0\")*0+COUNTIF(#REF!,\"=1\")*100+COUNTIF(#REF!,\"=2\")*80+COUNTIF(#REF!,\"=3\")*50+COUNTIF(#REF!,\"=8\")*20+COUNTIF(#REF!,\"=9\")*0)/COUNTA(#REF!)/100,\"N/A\")","v":{"$error":"#REF!"}},{"$f":"IF(AND(COUNTA(B238:X238)<>0,#REF!<>\"\"),AVERAGE(Y238:AE238),\"N/A\")","v":{"$error":"#REF!"}},1,1,1,1,1,{"$error":"#REF!"},{"$error":"#REF!"},{"$error":"#REF!"}]
[{"$nulls":24},{"$f":"IF(COUNTA(B239:G239)>0,(COUNTIF(B239:G239,\"=0\")*0+COUNTIF(B239:G239,\"=1\")*100+COUNTIF(B239:G239,\"=2\")*80+COUNTIF(B239:G239,\"=3\")*50+COUNTIF(B239:G239,\"=8\")*20+COUNTIF(B239:G239,\"=9\")*0)/COUNTA(B239:G239)/100,\"N/A\")","v":"N/A"},{"$f":"IF(COUNTA(K239:P239)>0,(COUNTIF(K239:P239,\"=0\")*0+COUNTIF(K239:P239,\"=1\")*100+COUNTIF(K239:P239,\"=2\")*80+COUNTIF(K239:P239,\"=3\")*50+COUNTIF(K239:P239,\"=8\")*20+COUNTIF(K239:P239,\"=9\")*0)/COUNTA(K239:P239)/100,\"N/A\")","v":"N/A"},{"$f":"IF(COUNTA(Q239)>0,(COUNTIF(Q239,\"=0\")*0+COUNTIF(Q239,\"=1\")*100+COUNTIF(Q239,\"=2\")*80+COUNTIF(Q239,\"=3\")*50+COUNTIF(Q239,\"=8\")*20+COUNTIF(Q239,\"=9\")*0)/COUNTA(Q239)/100,\"N/A\")","v":"N/A"},{"$f":"IF(COUNTA(S239:W239)<>0,(COUNTIF(S239:W239,\"=0\")*0+COUNTIF(S239:W239,\"=1\")*100+COUNTIF(S239:W239,\"=2\")*80+COUNTIF(S239:W239,\"=3\")*50+COUNTIF(S239:W239,\"=8\")*20+COUNTIF(S239:W239,\"=9\")*0)/COUNTA(S239:W239)/100,\"N/A\")","v":"N/A"},"N/A",{"$f":"IF(COUNTA(#REF!)>0,(COUNTIF(#REF!,\"=0\")*0+COUNTIF(#REF!,\"=1\")*100+COUNTIF(#REF!,\"=2\")*80+COUNTIF(#REF!,\"=3\")*50+COUNTIF(#REF!,\"=8\")*20+COUNTIF(#REF!,\"=9\")*0)/COUNTA(#REF!)/100,\"N/A\")","v":{"$error":"#REF!"}},{"$f":"IF(COUNTA(#REF!)>0,(COUNTIF(#REF!,\"=0\")*0+COUNTIF(#REF!,\"=1\")*100+COUNTIF(#REF!,\"=2\")*80+COUNTIF(#REF!,\"=3\")*50+COUNTIF(#REF!,\"=8\")*20+COUNTIF(#REF!,\"=9\")*0)/COUNTA(#REF!)/100,\"N/A\")","v":{"$error":"#REF!"}},{"$f":"IF(AND(COUNTA(B239:X239)<>0,#REF!<>\"\"),AVERAGE(Y239:AE239),\"N/A\")","v":{"$error":"#REF!"}},1,1,1,1,1,{"$error":"#REF!"},{"$error":"#REF!"},{"$error":"#REF!"}]
[{"$nulls":24},{"$f":"IF(COUNTA(B240:G240)>0,(COUNTIF(B240:G240,\"=0\")*0+COUNTIF(B240:G240,\"=1\")*100+COUNTIF(B240:G240,\"=2\")*80+COUNTIF(B240:G240,\"=3\")*50+COUNTIF(B240:G240,\"=8\")*20+COUNTIF(B240:G240,\"=9\")*0)/COUNTA(B240:G240)/100,\"N/A\")","v":"N/A"},{"$f":"IF(COUNTA(K240:P240)>0,(COUNTIF(K240:P240,\"=0\")*0+COUNTIF(K240:P240,\"=1\")*100+COUNTIF(K240:P240,\"=2\")*80+COUNTIF(K240:P240,\"=3\")*50+COUNTIF(K240:P240,\"=8\")*20+COUNTIF(K240:P240,\"=9\")*0)/COUNTA(K240:P240)/100,\"N/A\")","v":"N/A"},{"$f":"IF(COUNTA(Q240)>0,(COUNTIF(Q240,\"=0\")*0+COUNTIF(Q240,\"=1\")*100+COUNTIF(Q240,\"=2\")*80+COUNTIF(Q240,\"=3\")*50+COUNTIF(Q240,\"=8\")*20+COUNTIF(Q240,\"=9\")*0)/COUNTA(Q240)/100,\"N/A\")","v":"N/A"},{"$f":"IF(COUNTA(S240:W240)<>0,(COUNTIF(S240:W240,\"=0\")*0+COUNTIF(S240:W240,\"=1\")*100+COUNTIF(S240:W240,\"=2\")*80+COUNTIF(S240:W240,\"=3\")*50+COUNTIF(S240:W240,\"=8\")*20+COUNTIF(S240:W240,\"=9\")*0)/COUNTA(S240:W240)/100,\"N/A\")","v":"N/A"},"N/A",{"$f":"IF(COUNTA(#REF!)>0,(COUNTIF(#REF!,\"=0\")*0+COUNTIF(#REF!,\"=1\")*100+COUNTIF(#REF!,\"=2\")*80+COUNTIF(#REF!,\"=3\")*50+COUNTIF(#REF!,\"=8\")*20+COUNTIF(#REF!,\"=9\")*0)/COUNTA(#REF!)/100,\"N/A\")","v":{"$error":"#REF!"}},{"$f":"IF(COUNTA(#REF!)>0,(COUNTIF(#REF!,\"=0\")*0+COUNTIF(#REF!,\"=1\")*100+COUNTIF(#REF!,\"=2\")*80+COUNTIF(#REF!,\"=3\")*50+COUNTIF(#REF!,\"=8\")*20+COUNTIF(#REF!,\"=9\")*0)/COUNTA(#REF!)/100,\"N/A\")","v":{"$error":"#REF!"}},{"$f":"IF(AND(COUNTA(B240:X240)<>0,#REF!<>\"\"),AVERAGE(Y240:AE240),\"N/A\")","v":{"$error":"#REF!"}},1,1,1,1,1,{"$error":"#REF!"},{"$error":"#REF!"},{"$error":"#REF!"}]
[{"$nulls":24},{"$f":"IF(COUNTA(B241:G241)>0,(COUNTIF(B241:G241,\"=0\")*0+COUNTIF(B241:G241,\"=1\")*100+COUNTIF(B241:G241,\"=2\")*80+COUNTIF(B241:G241,\"=3\")*50+COUNTIF(B241:G241,\"=8\")*20+COUNTIF(B241:G241,\"=9\")*0)/COUNTA(B241:G241)/100,\"N/A\")","v":"N/A"},{"$f":"IF(COUNTA(K241:P241)>0,(COUNTIF(K241:P241,\"=0\")*0+COUNTIF(K241:P241,\"=1\")*100+COUNTIF(K241:P241,\"=2\")*80+COUNTIF(K241:P241,\"=3\")*50+COUNTIF(K241:P241,\"=8\")*20+COUNTIF(K241:P241,\"=9\")*0)/COUNTA(K241:P241)/100,\"N/A\")","v":"N/A"},{"$f":"IF(COUNTA(Q241)>0,(COUNTIF(Q241,\"=0\")*0+COUNTIF(Q241,\"=1\")*100+COUNTIF(Q241,\"=2\")*80+COUNTIF(Q241,\"=3\")*50+COUNTIF(Q241,\"=8\")*20+COUNTIF(Q241,\"=9\")*0)/COUNTA(Q241)/100,\"N/A\")","v":"N/A"},{"$f":"IF(COUNTA(S241:W241)<>0,(COUNTIF(S241:W241,\"=0\")*0+COUNTIF(S241:W241,\"=1\")*100+COUNTIF(S241:W241,\"=2\")*80+COUNTIF(S241:W241,\"=3\")*50+COUNTIF(S241:W241,\"=8\")*20+COUNTIF(S241:W241,\"=9\")*0)/COUNTA(S241:W241)/100,\"N/A\")","v":"N/A"},"N/A",{"$f":"IF(COUNTA(#REF!)>0,(COUNTIF(#REF!,\"=0\")*0+COUNTIF(#REF!,\"=1\")*100+COUNTIF(#REF!,\"=2\")*80+COUNTIF(#REF!,\"=3\")*50+COUNTIF(#REF!,\"=8\")*20+COUNTIF(#REF!,\"=9\")*0)/COUNTA(#REF!)/100,\"N/A\")","v":{"$error":"#REF!"}},{"$f":"IF(COUNTA(#REF!)>0,(COUNTIF(#REF!,\"=0\")*0+COUNTIF(#REF!,\"=1\")*100+COUNTIF(#REF!,\"=2\")*80+COUNTIF(#REF!,\"=3\")*50+COUNTIF(#REF!,\"=8\")*20+COUNTIF(#REF!,\"=9\")*0)/COUNTA(#REF!)/100,\"N/A\")","v":{"$error":"#REF!"}},{"$f":"IF(AND(COUNTA(B241:X241)<>0,#REF!<>\"\"),AVERAGE(Y241:AE241),\"N/A\")","v":{"$error":"#REF!"}},1,1,1,1,1,{"$error":"#REF!"},{"$error":"#REF!"},{"$error":"#REF!"}]
[{"$nulls":24},{"$f":"IF(COUNTA(B242:G242)>0,(COUNTIF(B242:G242,\"=0\")*0+COUNTIF(B242:G242,\"=1\")*100+COUNTIF(B242:G242,\"=2\")*80+COUNTIF(B242:G242,\"=3\")*50+COUNTIF(B242:G242,\"=8\")*20+COUNTIF(B242:G242,\"=9\")*0)/COUNTA(B242:G242)/100,\"N/A\")","v":"N/A"},{"$f":"IF(COUNTA(K242:P242)>0,(COUNTIF(K242:P242,\"=0\")*0+COUNTIF(K242:P242,\"=1\")*100+COUNTIF(K242:P242,\"=2\")*80+COUNTIF(K242:P242,\"=3\")*50+COUNTIF(K242:P242,\"=8\")*20+COUNTIF(K242:P242,\"=9\")*0)/COUNTA(K242:P242)/100,\"N/A\")","v":"N/A"},{"$f":"IF(COUNTA(Q242)>0,(COUNTIF(Q242,\"=0\")*0+COUNTIF(Q242,\"=1\")*100+COUNTIF(Q242,\"=2\")*80+COUNTIF(Q242,\"=3\")*50+COUNTIF(Q242,\"=8\")*20+COUNTIF(Q242,\"=9\")*0)/COUNTA(Q242)/100,\"N/A\")","v":"N/A"},{"$f":"IF(COUNTA(S242:W242)<>0,(COUNTIF(S242:W242,\"=0\")*0+COUNTIF(S242:W242,\"=1\")*100+COUNTIF(S242:W242,\"=2\")*80+COUNTIF(S242:W242,\"=3\")*50+COUNTIF(S242:W242,\"=8\")*20+COUNTIF(S242:W242,\"=9\")*0)/COUNTA(S242:W242)/100,\"N/A\")","v":"N/A"},"N/A",{"$f":"IF(COUNTA(#REF!)>0,(COUNTIF(#REF!,\"=0\")*0+COUNTIF(#REF!,\"=1\")*100+COUNTIF(#REF!,\"=2\")*80+COUNTIF(#REF!,\"=3\")*50+COUNTIF(#REF!,\"=8\")*20+COUNTIF(#REF!,\"=9\")*0)/COUNTA(#REF!)/100,\"N/A\")","v":{"$error":"#REF!"}},{"$f":"IF(COUNTA(#REF!)>0,(COUNTIF(#REF!,\"=0\")*0+COUNTIF(#REF!,\"=1\")*100+COUNTIF(#REF!,\"=2\")*80+COUNTIF(#REF!,\"=3\")*50+COUNTIF(#REF!,\"=8\")*20+COUNTIF(#REF!,\"=9\")*0)/COUNTA(#REF!)/100,\"N/A\")","v":{"$error":"#REF!"}},{"$f":"IF(AND(COUNTA(B242:X242)<>0,#REF!<>\"\"),AVERAGE(Y242:AE242),\"N/A\")","v":{"$error":"#REF!"}},1,1,1,1,1,{"$error":"#REF!"},{"$error":"#REF!"},{"$error":"#REF!"}]
[{"$nulls":24},{"$f":"IF(COUNTA(B243:G243)>0,(COUNTIF(B243:G243,\"=0\")*0+COUNTIF(B243:G243,\"=1\")*100+COUNTIF(B243:G243,\"=2\")*80+COUNTIF(B243:G243,\"=3\")*50+COUNTIF(B243:G243,\"=8\")*20+COUNTIF(B243:G243,\"=9\")*0)/COUNTA(B243:G243)/100,\"N/A\")","v":"N/A"},{"$f":"IF(COUNTA(K243:P243)>0,(COUNTIF(K243:P243,\"=0\")*0+COUNTIF(K243:P243,\"=1\")*100+COUNTIF(K243:P243,\"=2\")*80+COUNTIF(K243:P243,\"=3\")*50+COUNTIF(K243:P243,\"=8\")*20+COUNTIF(K243:P243,\"=9\")*0)/COUNTA(K243:P243)/100,\"N/A\")","v":"N/A"},{"$f":"IF(COUNTA(Q243)>0,(COUNTIF(Q243,\"=0\")*0+COUNTIF(Q243,\"=1\")*100+COUNTIF(Q243,\"=2\")*80+COUNTIF(Q243,\"=3\")*50+COUNTIF(Q243,\"=8\")*20+COUNTIF(Q243,\"=9\")*0)/COUNTA(Q243)/100,\"N/A\")","v":"N/A"},{"$f":"IF(COUNTA(S243:W243)<>0,(COUNTIF(S243:W243,\"=0\")*0+COUNTIF(S243:W243,\"=1\")*100+COUNTIF(S243:W243,\"=2\")*80+COUNTIF(S243:W243,\"=3\")*50+COUNTIF(S243:W243,\"=8\")*20+COUNTIF(S243:W243,\"=9\")*0)/COUNTA(S243:W243)/100,\"N/A\")","v":"N/A"},"N/A",{"$f":"IF(COUNTA(#REF!)>0,(COUNTIF(#REF!,\"=0\")*0+COUNTIF(#REF!,\"=1\")*100+COUNTIF(#REF!,\"=2\")*80+COUNTIF(#REF!,\"=3\")*50+COUNTIF(#REF!,\"=8\")*20+COUNTIF(#REF!,\"=9\")*0)/COUNTA(#REF!)/100,\"N/A\")","v":{"$error":"#REF!"}},{"$f":"IF(COUNTA(#REF!)>0,(COUNTIF(#REF!,\"=0\")*0+COUNTIF(#REF!,\"=1\")*100+COUNTIF(#REF!,\"=2\")*80+COUNTIF(#REF!,\"=3\")*50+COUNTIF(#REF!,\"=8\")*20+COUNTIF(#REF!,\"=9\")*0)/COUNTA(#REF!)/100,\"N/A\")","v":{"$error":"#REF!"}},{"$f":"IF(AND(COUNTA(B243:X243)<>0,#REF!<>\"\"),AVERAGE(Y243:AE243),\"N/A\")","v":{"$error":"#REF!"}},1,1,1,1,1,{"$error":"#REF!"},{"$error":"#REF!"},{"$error":"#REF!"}]
[{"$nulls":24},{"$f":"IF(COUNTA(B244:G244)>0,(COUNTIF(B244:G244,\"=0\")*0+COUNTIF(B244:G244,\"=1\")*100+COUNTIF(B244:G244,\"=2\")*80+COUNTIF(B244:G244,\"=3\")*50+COUNTIF(B244:G244,\"=8\")*20+COUNTIF(B244:G244,\"=9\")*0)/COUNTA(B244:G244)/100,\"N/A\")","v":"N/A"},{"$f":"IF(COUNTA(K244:P244)>0,(COUNTIF(K244:P244,\"=0\")*0+COUNTIF(K244:P244,\"=1\")*100+COUNTIF(K244:P244,\"=2\")*80+COUNTIF(K244:P244,\"=3\")*50+COUNTIF(K244:P244,\"=8\")*20+COUNTIF(K244:P244,\"=9\")*0)/COUNTA(K244:P244)/100,\"N/A\")","v":"N/A"},{"$f":"IF(COUNTA(Q244)>0,(COUNTIF(Q244,\"=0\")*0+COUNTIF(Q244,\"=1\")*100+COUNTIF(Q244,\"=2\")*80+COUNTIF(Q244,\"=3\")*50+COUNTIF(Q244,\"=8\")*20+COUNTIF(Q244,\"=9\")*0)/COUNTA(Q244)/100,\"N/A\")","v":"N/A"},{"$f":"IF(COUNTA(S244:W244)<>0,(COUNTIF(S244:W244,\"=0\")*0+COUNTIF(S244:W244,\"=1\")*100+COUNTIF(S244:W244,\"=2\")*80+COUNTIF(S244:W244,\"=3\")*50+COUNTIF(S244:W244,\"=8\")*20+COUNTIF(S244:W244,\"=9\")*0)/COUNTA(S244:W244)/100,\"N/A\")","v":"N/A"},"N/A",{"$f":"IF(COUNTA(#REF!)>0,(COUNTIF(#REF!,\"=0\")*0+COUNTIF(#REF!,\"=1\")*100+COUNTIF(#REF!,\"=2\")*80+COUNTIF(#REF!,\"=3\")*50+COUNTIF(#REF!,\"=8\")*20+COUNTIF(#REF!,\"=9\")*0)/COUNTA(#REF!)/100,\"N/A\")","v":{"$error":"#REF!"}},{"$f":"IF(COUNTA(#REF!)>0,(COUNTIF(#REF!,\"=0\")*0+COUNTIF(#REF!,\"=1\")*100+COUNTIF(#REF!,\"=2\")*80+COUNTIF(#REF!,\"=3\")*50+COUNTIF(#REF!,\"=8\")*20+COUNTIF(#REF!,\"=9\")*0)/COUNTA(#REF!)/100,\"N/A\")","v":{"$error":"#REF!"}},{"$f":"IF(AND(COUNTA(B244:X244)<>0,#REF!<>\"\"),AVERAGE(Y244:AE244),\"N/A\")","v":{"$error":"#REF!"}},1,1,1,1,1,{"$error":"#REF!"},{"$error":"#REF!"},{"$error":"#REF!"}]
[{"$nulls":24},{"$f":"IF(COUNTA(B245:G245)>0,(COUNTIF(B245:G245,\"=0\")*0+COUNTIF(B245:G245,\"=1\")*100+COUNTIF(B245:G245,\"=2\")*80+COUNTIF(B245:G245,\"=3\")*50+COUNTIF(B245:G245,\"=8\")*20+COUNTIF(B245:G245,\"=9\")*0)/COUNTA(B245:G245)/100,\"N/A\")","v":"N/A"},{"$f":"IF(COUNTA(K245:P245)>0,(COUNTIF(K245:P245,\"=0\")*0+COUNTIF(K245:P245,\"=1\")*100+COUNTIF(K245:P245,\"=2\")*80+COUNTIF(K245:P245,\"=3\")*50+COUNTIF(K245:P245,\"=8\")*20+COUNTIF(K245:P245,\"=9\")*0)/COUNTA(K245:P245)/100,\"N/A\")","v":"N/A"},{"$f":"IF(COUNTA(Q245)>0,(COUNTIF(Q245,\"=0\")*0+COUNTIF(Q245,\"=1\")*100+COUNTIF(Q245,\"=2\")*80+COUNTIF(Q245,\"=3\")*50+COUNTIF(Q245,\"=8\")*20+COUNTIF(Q245,\"=9\")*0)/COUNTA(Q245)/100,\"N/A\")","v":"N/A"},{"$f":"IF(COUNTA(S245:W245)<>0,(COUNTIF(S245:W245,\"=0\")*0+COUNTIF(S245:W245,\"=1\")*100+COUNTIF(S245:W245,\"=2\")*80+COUNTIF(S245:W245,\"=3\")*50+COUNTIF(S245:W245,\"=8\")*20+COUNTIF(S245:W245,\"=9\")*0)/COUNTA(S245:W245)/100,\"N/A\")","v":"N/A"},"N/A",{"$f":"IF(COUNTA(#REF!)>0,(COUNTIF(#REF!,\"=0\")*0+COUNTIF(#REF!,\"=1\")*100+COUNTIF(#REF!,\"=2\")*80+COUNTIF(#REF!,\"=3\")*50+COUNTIF(#REF!,\"=8\")*20+COUNTIF(#REF!,\"=9\")*0)/COUNTA(#REF!)/100,\"N/A\")","v":{"$error":"#REF!"}},{"$f":"IF(COUNTA(#REF!)>0,(COUNTIF(#REF!,\"=0\")*0+COUNTIF(#REF!,\"=1\")*100+COUNTIF(#REF!,\"=2\")*80+COUNTIF(#REF!,\"=3\")*50+COUNTIF(#REF!,\"=8\")*20+COUNTIF(#REF!,\"=9\")*0)/COUNTA(#REF!)/100,\"N/A\")","v":{"$error":"#REF!"}},{"$f":"IF(AND(COUNTA(B245:X245)<>0,#REF!<>\"\"),AVERAGE(Y245:AE245),\"N/A\")","v":{"$error":"#REF!"}},1,1,1,1,1,{"$error":"#REF!"},{"$error":"#REF!"},{"$error":"#REF!"}]
[{"$nulls":24},{"$f":"IF(COUNTA(B246:G246)>0,(COUNTIF(B246:G246,\"=0\")*0+COUNTIF(B246:G246,\"=1\")*100+COUNTIF(B246:G246,\"=2\")*80+COUNTIF(B246:G246,\"=3\")*50+COUNTIF(B246:G246,\"=8\")*20+COUNTIF(B246:G246,\"=9\")*0)/COUNTA(B246:G246)/100,\"N/A\")","v":"N/A"},{"$f":"IF(COUNTA(K246:P246)>0,(COUNTIF(K246:P246,\"=0\")*0+COUNTIF(K246:P246,\"=1\")*100+COUNTIF(K246:P246,\"=2\")*80+COUNTIF(K246:P246,\"=3\")*50+COUNTIF(K246:P246,\"=8\")*20+COUNTIF(K246:P246,\"=9\")*0)/COUNTA(K246:P246)/100,\"N/A\")","v":"N/A"},{"$f":"IF(COUNTA(Q246)>0,(COUNTIF(Q246,\"=0\")*0+COUNTIF(Q246,\"=1\")*100+COUNTIF(Q246,\"=2\")*80+COUNTIF(Q246,\"=3\")*50+COUNTIF(Q246,\"=8\")*20+COUNTIF(Q246,\"=9\")*0)/COUNTA(Q246)/100,\"N/A\")","v":"N/A"},{"$f":"IF(COUNTA(S246:W246)<>0,(COUNTIF(S246:W246,\"=0\")*0+COUNTIF(S246:W246,\"=1\")*100+COUNTIF(S246:W246,\"=2\")*80+COUNTIF(S246:W246,\"=3\")*50+COUNTIF(S246:W246,\"=8\")*20+COUNTIF(S246:W246,\"=9\")*0)/COUNTA(S246:W246)/100,\"N/A\")","v":"N/A"},"N/A",{"$f":"IF(COUNTA(#REF!)>0,(COUNTIF(#REF!,\"=0\")*0+COUNTIF(#REF!,\"=1\")*100+COUNTIF(#REF!,\"=2\")*80+COUNTIF(#REF!,\"=3\")*50+COUNTIF(#REF!,\"=8\")*20+COUNTIF(#REF!,\"=9\")*0)/COUNTA(#REF!)/100,\"N/A\")","v":{"$error":"#REF!"}},{"$f":"IF(COUNTA(#REF!)>0,(COUNTIF(#REF!,\"=0\")*0+COUNTIF(#REF!,\"=1\")*100+COUNTIF(#REF!,\"=2\")*80+COUNTIF(#REF!,\"=3\")*50+COUNTIF(#REF!,\"=8\")*20+COUNTIF(#REF!,\"=9\")*0)/COUNTA(#REF!)/100,\"N/A\")","v":{"$error":"#REF!"}},{"$f":"IF(AND(COUNTA(B246:X246)<>0,#REF!<>\"\"),AVERAGE(Y246:AE246),\"N/A\")","v":{"$error":"#REF!"}},1,1,1,1,1,{"$error":"#REF!"},{"$error":"#REF!"},{"$error":"#REF!"}]
[{"$nulls":24},{"$f":"IF(COUNTA(B247:G247)>0,(COUNTIF(B247:G247,\"=0\")*0+COUNTIF(B247:G247,\"=1\")*100+COUNTIF(B247:G247,\"=2\")*80+COUNTIF(B247:G247,\"=3\")*50+COUNTIF(B247:G247,\"=8\")*20+COUNTIF(B247:G247,\"=9\")*0)/COUNTA(B247:G247)/100,\"N/A\")","v":"N/A"},{"$f":"IF(COUNTA(K247:P247)>0,(COUNTIF(K247:P247,\"=0\")*0+COUNTIF(K247:P247,\"=1\")*100+COUNTIF(K247:P247,\"=2\")*80+COUNTIF(K247:P247,\"=3\")*50+COUNTIF(K247:P247,\"=8\")*20+COUNTIF(K247:P247,\"=9\")*0)/COUNTA(K247:P247)/100,\"N/A\")","v":"N/A"},{"$f":"IF(COUNTA(Q247)>0,(COUNTIF(Q247,\"=0\")*0+COUNTIF(Q247,\"=1\")*100+COUNTIF(Q247,\"=2\")*80+COUNTIF(Q247,\"=3\")*50+COUNTIF(Q247,\"=8\")*20+COUNTIF(Q247,\"=9\")*0)/COUNTA(Q247)/100,\"N/A\")","v":"N/A"},{"$f":"IF(COUNTA(S247:W247)<>0,(COUNTIF(S247:W247,\"=0\")*0+COUNTIF(S247:W247,\"=1\")*100+COUNTIF(S247:W247,\"=2\")*80+COUNTIF(S247:W247,\"=3\")*50+COUNTIF(S247:W247,\"=8\")*20+COUNTIF(S247:W247,\"=9\")*0)/COUNTA(S247:W247)/100,\"N/A\")","v":"N/A"},"N/A",{"$f":"IF(COUNTA(#REF!)>0,(COUNTIF(#REF!,\"=0\")*0+COUNTIF(#REF!,\"=1\")*100+COUNTIF(#REF!,\"=2\")*80+COUNTIF(#REF!,\"=3\")*50+COUNTIF(#REF!,\"=8\")*20+COUNTIF(#REF!,\"=9\")*0)/COUNTA(#REF!)/100,\"N/A\")","v":{"$error":"#REF!"}},{"$f":"IF(COUNTA(#REF!)>0,(COUNTIF(#REF!,\"=0\")*0+COUNTIF(#REF!,\"=1\")*100+COUNTIF(#REF!,\"=2\")*80+COUNTIF(#REF!,\"=3\")*50+COUNTIF(#REF!,\"=8\")*20+COUNTIF(#REF!,\"=9\")*0)/COUNTA(#REF!)/100,\"N/A\")","v":{"$error":"#REF!"}},{"$f":"IF(AND(COUNTA(B247:X247)<>0,#REF!<>\"\"),AVERAGE(Y247:AE247),\"N/A\")","v":{"$error":"#REF!"}},1,1,1,1,1,{"$error":"#REF!"},{"$error":"#REF!"},{"$error":"#REF!"}]
[{"$nulls":24},{"$f":"IF(COUNTA(B248:G248)>0,(COUNTIF(B248:G248,\"=0\")*0+COUNTIF(B248:G248,\"=1\")*100+COUNTIF(B248:G248,\"=2\")*80+COUNTIF(B248:G248,\"=3\")*50+COUNTIF(B248:G248,\"=8\")*20+COUNTIF(B248:G248,\"=9\")*0)/COUNTA(B248:G248)/100,\"N/A\")","v":"N/A"},{"$f":"IF(COUNTA(K248:P248)>0,(COUNTIF(K248:P248,\"=0\")*0+COUNTIF(K248:P248,\"=1\")*100+COUNTIF(K248:P248,\"=2\")*80+COUNTIF(K248:P248,\"=3\")*50+COUNTIF(K248:P248,\"=8\")*20+COUNTIF(K248:P248,\"=9\")*0)/COUNTA(K248:P248)/100,\"N/A\")","v":"N/A"},{"$f":"IF(COUNTA(Q248)>0,(COUNTIF(Q248,\"=0\")*0+COUNTIF(Q248,\"=1\")*100+COUNTIF(Q248,\"=2\")*80+COUNTIF(Q248,\"=3\")*50+COUNTIF(Q248,\"=8\")*20+COUNTIF(Q248,\"=9\")*0)/COUNTA(Q248)/100,\"N/A\")","v":"N/A"},{"$f":"IF(COUNTA(S248:W248)<>0,(COUNTIF(S248:W248,\"=0\")*0+COUNTIF(S248:W248,\"=1\")*100+COUNTIF(S248:W248,\"=2\")*80+COUNTIF(S248:W248,\"=3\")*50+COUNTIF(S248:W248,\"=8\")*20+COUNTIF(S248:W248,\"=9\")*0)/COUNTA(S248:W248)/100,\"N/A\")","v":"N/A"},"N/A",{"$f":"IF(COUNTA(#REF!)>0,(COUNTIF(#REF!,\"=0\")*0+COUNTIF(#REF!,\"=1\")*100+COUNTIF(#REF!,\"=2\")*80+COUNTIF(#REF!,\"=3\")*50+COUNTIF(#REF!,\"=8\")*20+COUNTIF(#REF!,\"=9\")*0)/COUNTA(#REF!)/100,\"N/A\")","v":{"$error":"#REF!"}},{"$f":"IF(COUNTA(#REF!)>0,(COUNTIF(#REF!,\"=0\")*0+COUNTIF(#REF!,\"=1\")*100+COUNTIF(#REF!,\"=2\")*80+COUNTIF(#REF!,\"=3\")*50+COUNTIF(#REF!,\"=8\")*20+COUNTIF(#REF!,\"=9\")*0)/COUNTA(#REF!)/100,\"N/A\")","v":{"$error":"#REF!"}},{"$f":"IF(AND(COUNTA(B248:X248)<>0,#REF!<>\"\"),AVERAGE(Y248:AE248),\"N/A\")","v":{"$error":"#REF!"}},1,1,1,1,1,{"$error":"#REF!"},{"$error":"#REF!"},{"$error":"#REF!"}]
[{"$nulls":24},{"$f":"IF(COUNTA(B249:G249)>0,(COUNTIF(B249:G249,\"=0\")*0+COUNTIF(B249:G249,\"=1\")*100+COUNTIF(B249:G249,\"=2\")*80+COUNTIF(B249:G249,\"=3\")*50+COUNTIF(B249:G249,\"=8\")*20+COUNTIF(B249:G249,\"=9\")*0)/COUNTA(B249:G249)/100,\"N/A\")","v":"N/A"},{"$f":"IF(COUNTA(K249:P249)>0,(COUNTIF(K249:P249,\"=0\")*0+COUNTIF(K249:P249,\"=1\")*100+COUNTIF(K249:P249,\"=2\")*80+COUNTIF(K249:P249,\"=3\")*50+COUNTIF(K249:P249,\"=8\")*20+COUNTIF(K249:P249,\"=9\")*0)/COUNTA(K249:P249)/100,\"N/A\")","v":"N/A"},{"$f":"IF(COUNTA(Q249)>0,(COUNTIF(Q249,\"=0\")*0+COUNTIF(Q249,\"=1\")*100+COUNTIF(Q249,\"=2\")*80+COUNTIF(Q249,\"=3\")*50+COUNTIF(Q249,\"=8\")*20+COUNTIF(Q249,\"=9\")*0)/COUNTA(Q249)/100,\"N/A\")","v":"N/A"},{"$f":"IF(COUNTA(S249:W249)<>0,(COUNTIF(S249:W249,\"=0\")*0+COUNTIF(S249:W249,\"=1\")*100+COUNTIF(S249:W249,\"=2\")*80+COUNTIF(S249:W249,\"=3\")*50+COUNTIF(S249:W249,\"=8\")*20+COUNTIF(S249:W249,\"=9\")*0)/COUNTA(S249:W249)/100,\"N/A\")","v":"N/A"},"N/A",{"$f":"IF(COUNTA(#REF!)>0,(COUNTIF(#REF!,\"=0\")*0+COUNTIF(#REF!,\"=1\")*100+COUNTIF(#REF!,\"=2\")*80+COUNTIF(#REF!,\"=3\")*50+COUNTIF(#REF!,\"=8\")*20+COUNTIF(#REF!,\"=9\")*0)/COUNTA(#REF!)/100,\"N/A\")","v":{"$error":"#REF!"}},{"$f":"IF(COUNTA(#REF!)>0,(COUNTIF(#REF!,\"=0\")*0+COUNTIF(#REF!,\"=1\")*100+COUNTIF(#REF!,\"=2\")*80+COUNTIF(#REF!,\"=3\")*50+COUNTIF(#REF!,\"=8\")*20+COUNTIF(#REF!,\"=9\")*0)/COUNTA(#REF!)/100,\"N/A\")","v":{"$error":"#REF!"}},{"$f":"IF(AND(COUNTA(B249:X249)<>0,#REF!<>\"\"),AVERAGE(Y249:AE249),\"N/A\")","v":{"$error":"#REF!"}},1,1,1,1,{"$f":"IF(AC249=\"N/A\",1,\"\")","v":1},{"$error":"#REF!"},{"$error":"#REF!"},{"$error":"#REF!"}]
[{"$nulls":24},{"$f":"IF(COUNTA(B250:G250)>0,(COUNTIF(B250:G250,\"=0\")*0+COUNTIF(B250:G250,\"=1\")*100+COUNTIF(B250:G250,\"=2\")*80+COUNTIF(B250:G250,\"=3\")*50+COUNTIF(B250:G250,\"=8\")*20+COUNTIF(B250:G250,\"=9\")*0)/COUNTA(B250:G250)/100,\"N/A\")","v":"N/A"},{"$f":"IF(COUNTA(K250:P250)>0,(COUNTIF(K250:P250,\"=0\")*0+COUNTIF(K250:P250,\"=1\")*100+COUNTIF(K250:P250,\"=2\")*80+COUNTIF(K250:P250,\"=3\")*50+COUNTIF(K250:P250,\"=8\")*20+COUNTIF(K250:P250,\"=9\")*0)/COUNTA(K250:P250)/100,\"N/A\")","v":"N/A"},{"$f":"IF(COUNTA(Q250)>0,(COUNTIF(Q250,\"=0\")*0+COUNTIF(Q250,\"=1\")*100+COUNTIF(Q250,\"=2\")*80+COUNTIF(Q250,\"=3\")*50+COUNTIF(Q250,\"=8\")*20+COUNTIF(Q250,\"=9\")*0)/COUNTA(Q250)/100,\"N/A\")","v":"N/A"},{"$f":"IF(COUNTA(S250:W250)<>0,(COUNTIF(S250:W250,\"=0\")*0+COUNTIF(S250:W250,\"=1\")*100+COUNTIF(S250:W250,\"=2\")*80+COUNTIF(S250:W250,\"=3\")*50+COUNTIF(S250:W250,\"=8\")*20+COUNTIF(S250:W250,\"=9\")*0)/COUNTA(S250:W250)/100,\"N/A\")","v":"N/A"},"N/A",{"$f":"IF(COUNTA(#REF!)>0,(COUNTIF(#REF!,\"=0\")*0+COUNTIF(#REF!,\"=1\")*100+COUNTIF(#REF!,\"=2\")*80+COUNTIF(#REF!,\"=3\")*50+COUNTIF(#REF!,\"=8\")*20+COUNTIF(#REF!,\"=9\")*0)/COUNTA(#REF!)/100,\"N/A\")","v":{"$error":"#REF!"}},{"$f":"IF(COUNTA(#REF!)>0,(COUNTIF(#REF!,\"=0\")*0+COUNTIF(#REF!,\"=1\")*100+COUNTIF(#REF!,\"=2\")*80+COUNTIF(#REF!,\"=3\")*50+COUNTIF(#REF!,\"=8\")*20+COUNTIF(#REF!,\"=9\")*0)/COUNTA(#REF!)/100,\"N/A\")","v":{"$error":"#REF!"}},{"$f":"IF(AND(COUNTA(B250:X250)<>0,#REF!<>\"\"),AVERAGE(Y250:AE250),\"N/A\")","v":{"$error":"#REF!"}},{"$f":"IF(Y250=\"N/A\",1,\"\")","v":1},1,1,1,1,{"$error":"#REF!"},{"$error":"#REF!"},{"$error":"#REF!"}]
[{"$nulls":24},{"$f":"IF(COUNTA(B251:G251)>0,(COUNTIF(B251:G251,\"=0\")*0+COUNTIF(B251:G251,\"=1\")*100+COUNTIF(B251:G251,\"=2\")*80+COUNTIF(B251:G251,\"=3\")*50+COUNTIF(B251:G251,\"=8\")*20+COUNTIF(B251:G251,\"=9\")*0)/COUNTA(B251:G251)/100,\"N/A\")","v":"N/A"},{"$f":"IF(COUNTA(K251:P251)>0,(COUNTIF(K251:P251,\"=0\")*0+COUNTIF(K251:P251,\"=1\")*100+COUNTIF(K251:P251,\"=2\")*80+COUNTIF(K251:P251,\"=3\")*50+COUNTIF(K251:P251,\"=8\")*20+COUNTIF(K251:P251,\"=9\")*0)/COUNTA(K251:P251)/100,\"N/A\")","v":"N/A"},{"$f":"IF(COUNTA(Q251)>0,(COUNTIF(Q251,\"=0\")*0+COUNTIF(Q251,\"=1\")*100+COUNTIF(Q251,\"=2\")*80+COUNTIF(Q251,\"=3\")*50+COUNTIF(Q251,\"=8\")*20+COUNTIF(Q251,\"=9\")*0)/COUNTA(Q251)/100,\"N/A\")","v":"N/A"},{"$f":"IF(COUNTA(S251:W251)<>0,(COUNTIF(S251:W251,\"=0\")*0+COUNTIF(S251:W251,\"=1\")*100+COUNTIF(S251:W251,\"=2\")*80+COUNTIF(S251:W251,\"=3\")*50+COUNTIF(S251:W251,\"=8\")*20+COUNTIF(S251:W251,\"=9\")*0)/COUNTA(S251:W251)/100,\"N/A\")","v":"N/A"},"N/A",{"$f":"IF(COUNTA(#REF!)>0,(COUNTIF(#REF!,\"=0\")*0+COUNTIF(#REF!,\"=1\")*100+COUNTIF(#REF!,\"=2\")*80+COUNTIF(#REF!,\"=3\")*50+COUNTIF(#REF!,\"=8\")*20+COUNTIF(#REF!,\"=9\")*0)/COUNTA(#REF!)/100,\"N/A\")","v":{"$error":"#REF!"}},{"$f":"IF(COUNTA(#REF!)>0,(COUNTIF(#REF!,\"=0\")*0+COUNTIF(#REF!,\"=1\")*100+COUNTIF(#REF!,\"=2\")*80+COUNTIF(#REF!,\"=3\")*50+COUNTIF(#REF!,\"=8\")*20+COUNTIF(#REF!,\"=9\")*0)/COUNTA(#REF!)/100,\"N/A\")","v":{"$error":"#REF!"}},{"$f":"IF(AND(COUNTA(B251:X251)<>0,#REF!<>\"\"),AVERAGE(Y251:AE251),\"N/A\")","v":{"$error":"#REF!"}},1,1,1,1,1,{"$error":"#REF!"},{"$error":"#REF!"},{"$error":"#REF!"}]
[{"$nulls":24},{"$f":"IF(COUNTA(B252:G252)>0,(COUNTIF(B252:G252,\"=0\")*0+COUNTIF(B252:G252,\"=1\")*100+COUNTIF(B252:G252,\"=2\")*80+COUNTIF(B252:G252,\"=3\")*50+COUNTIF(B252:G252,\"=8\")*20+COUNTIF(B252:G252,\"=9\")*0)/COUNTA(B252:G252)/100,\"N/A\")","v":"N/A"},{"$f":"IF(COUNTA(K252:P252)>0,(COUNTIF(K252:P252,\"=0\")*0+COUNTIF(K252:P252,\"=1\")*100+COUNTIF(K252:P252,\"=2\")*80+COUNTIF(K252:P252,\"=3\")*50+COUNTIF(K252:P252,\"=8\")*20+COUNTIF(K252:P252,\"=9\")*0)/COUNTA(K252:P252)/100,\"N/A\")","v":"N/A"},{"$f":"IF(COUNTA(Q252)>0,(COUNTIF(Q252,\"=0\")*0+COUNTIF(Q252,\"=1\")*100+COUNTIF(Q252,\"=2\")*80+COUNTIF(Q252,\"=3\")*50+COUNTIF(Q252,\"=8\")*20+COUNTIF(Q252,\"=9\")*0)/COUNTA(Q252)/100,\"N/A\")","v":"N/A"},{"$f":"IF(COUNTA(S252:W252)<>0,(COUNTIF(S252:W252,\"=0\")*0+COUNTIF(S252:W252,\"=1\")*100+COUNTIF(S252:W252,\"=2\")*80+COUNTIF(S252:W252,\"=3\")*50+COUNTIF(S252:W252,\"=8\")*20+COUNTIF(S252:W252,\"=9\")*0)/COUNTA(S252:W252)/100,\"N/A\")","v":"N/A"},"N/A",{"$f":"IF(COUNTA(#REF!)>0,(COUNTIF(#REF!,\"=0\")*0+COUNTIF(#REF!,\"=1\")*100+COUNTIF(#REF!,\"=2\")*80+COUNTIF(#REF!,\"=3\")*50+COUNTIF(#REF!,\"=8\")*20+COUNTIF(#REF!,\"=9\")*0)/COUNTA(#REF!)/100,\"N/A\")","v":{"$error":"#REF!"}},{"$f":"IF(COUNTA(#REF!)>0,(COUNTIF(#REF!,\"=0\")*0+COUNTIF(#REF!,\"=1\")*100+COUNTIF(#REF!,\"=2\")*80+COUNTIF(#REF!,\"=3\")*50+COUNTIF(#REF!,\"=8\")*20+COUNTIF(#REF!,\"=9\")*0)/COUNTA(#REF!)/100,\"N/A\")","v":{"$error":"#REF!"}},{"$f":"IF(AND(COUNTA(B252:X252)<>0,#REF!<>\"\"),AVERAGE(Y252:AE252),\"N/A\")","v":{"$error":"#REF!"}},1,1,1,1,1,{"$error":"#REF!"},{"$error":"#REF!"},{"$error":"#REF!"}]
[{"$nulls":24},{"$f":"IF(COUNTA(B253:G253)>0,(COUNTIF(B253:G253,\"=0\")*0+COUNTIF(B253:G253,\"=1\")*100+COUNTIF(B253:G253,\"=2\")*80+COUNTIF(B253:G253,\"=3\")*50+COUNTIF(B253:G253,\"=8\")*20+COUNTIF(B253:G253,\"=9\")*0)/COUNTA(B253:G253)/100,\"N/A\")","v":"N/A"},{"$f":"IF(COUNTA(K253:P253)>0,(COUNTIF(K253:P253,\"=0\")*0+COUNTIF(K253:P253,\"=1\")*100+COUNTIF(K253:P253,\"=2\")*80+COUNTIF(K253:P253,\"=3\")*50+COUNTIF(K253:P253,\"=8\")*20+COUNTIF(K253:P253,\"=9\")*0)/COUNTA(K253:P253)/100,\"N/A\")","v":"N/A"},{"$f":"IF(COUNTA(Q253)>0,(COUNTIF(Q253,\"=0\")*0+COUNTIF(Q253,\"=1\")*100+COUNTIF(Q253,\"=2\")*80+COUNTIF(Q253,\"=3\")*50+COUNTIF(Q253,\"=8\")*20+COUNTIF(Q253,\"=9\")*0)/COUNTA(Q253)/100,\"N/A\")","v":"N/A"},{"$f":"IF(COUNTA(S253:W253)<>0,(COUNTIF(S253:W253,\"=0\")*0+COUNTIF(S253:W253,\"=1\")*100+COUNTIF(S253:W253,\"=2\")*80+COUNTIF(S253:W253,\"=3\")*50+COUNTIF(S253:W253,\"=8\")*20+COUNTIF(S253:W253,\"=9\")*0)/COUNTA(S253:W253)/100,\"N/A\")","v":"N/A"},"N/A",{"$f":"IF(COUNTA(#REF!)>0,(COUNTIF(#REF!,\"=0\")*0+COUNTIF(#REF!,\"=1\")*100+COUNTIF(#REF!,\"=2\")*80+COUNTIF(#REF!,\"=3\")*50+COUNTIF(#REF!,\"=8\")*20+COUNTIF(#REF!,\"=9\")*0)/COUNTA(#REF!)/100,\"N/A\")","v":{"$error":"#REF!"}},{"$f":"IF(COUNTA(#REF!)>0,(COUNTIF(#REF!,\"=0\")*0+COUNTIF(#REF!,\"=1\")*100+COUNTIF(#REF!,\"=2\")*80+COUNTIF(#REF!,\"=3\")*50+COUNTIF(#REF!,\"=8\")*20+COUNTIF(#REF!,\"=9\")*0)/COUNTA(#REF!)/100,\"N/A\")","v":{"$error":"#REF!"}},{"$f":"IF(AND(COUNTA(B253:X253)<>0,#REF!<>\"\"),AVERAGE(Y253:AE253),\"N/A\")","v":{"$error":"#REF!"}},1,1,1,1,1,{"$error":"#REF!"},{"$error":"#REF!"},{"$error":"#REF!"}]
[{"$nulls":24},{"$f":"IF(COUNTA(B254:G254)>0,(COUNTIF(B254:G254,\"=0\")*0+COUNTIF(B254:G254,\"=1\")*100+COUNTIF(B254:G254,\"=2\")*80+COUNTIF(B254:G254,\"=3\")*50+COUNTIF(B254:G254,\"=8\")*20+COUNTIF(B254:G254,\"=9\")*0)/COUNTA(B254:G254)/100,\"N/A\")","v":"N/A"},{"$f":"IF(COUNTA(K254:P254)>0,(COUNTIF(K254:P254,\"=0\")*0+COUNTIF(K254:P254,\"=1\")*100+COUNTIF(K254:P254,\"=2\")*80+COUNTIF(K254:P254,\"=3\")*50+COUNTIF(K254:P254,\"=8\")*20+COUNTIF(K254:P254,\"=9\")*0)/COUNTA(K254:P254)/100,\"N/A\")","v":"N/A"},{"$f":"IF(COUNTA(Q254)>0,(COUNTIF(Q254,\"=0\")*0+COUNTIF(Q254,\"=1\")*100+COUNTIF(Q254,\"=2\")*80+COUNTIF(Q254,\"=3\")*50+COUNTIF(Q254,\"=8\")*20+COUNTIF(Q254,\"=9\")*0)/COUNTA(Q254)/100,\"N/A\")","v":"N/A"},{"$f":"IF(COUNTA(S254:W254)<>0,(COUNTIF(S254:W254,\"=0\")*0+COUNTIF(S254:W254,\"=1\")*100+COUNTIF(S254:W254,\"=2\")*80+COUNTIF(S254:W254,\"=3\")*50+COUNTIF(S254:W254,\"=8\")*20+COUNTIF(S254:W254,\"=9\")*0)/COUNTA(S254:W254)/100,\"N/A\")","v":"N/A"},"N/A",{"$f":"IF(COUNTA(#REF!)>0,(COUNTIF(#REF!,\"=0\")*0+COUNTIF(#REF!,\"=1\")*100+COUNTIF(#REF!,\"=2\")*80+COUNTIF(#REF!,\"=3\")*50+COUNTIF(#REF!,\"=8\")*20+COUNTIF(#REF!,\"=9\")*0)/COUNTA(#REF!)/100,\"N/A\")","v":{"$error":"#REF!"}},{"$f":"IF(COUNTA(#REF!)>0,(COUNTIF(#REF!,\"=0\")*0+COUNTIF(#REF!,\"=1\")*100+COUNTIF(#REF!,\"=2\")*80+COUNTIF(#REF!,\"=3\")*50+COUNTIF(#REF!,\"=8\")*20+COUNTIF(#REF!,\"=9\")*0)/COUNTA(#REF!)/100,\"N/A\")","v":{"$error":"#REF!"}},{"$f":"IF(AND(COUNTA(B254:X254)<>0,#REF!<>\"\"),AVERAGE(Y254:AE254),\"N/A\")","v":{"$error":"#REF!"}},1,1,1,1,1,{"$error":"#REF!"},{"$error":"#REF!"},{"$error":"#REF!"}]
[{"$nulls":24},{"$f":"IF(COUNTA(B255:G255)>0,(COUNTIF(B255:G255,\"=0\")*0+COUNTIF(B255:G255,\"=1\")*100+COUNTIF(B255:G255,\"=2\")*80+COUNTIF(B255:G255,\"=3\")*50+COUNTIF(B255:G255,\"=8\")*20+COUNTIF(B255:G255,\"=9\")*0)/COUNTA(B255:G255)/100,\"N/A\")","v":"N/A"},{"$f":"IF(COUNTA(K255:P255)>0,(COUNTIF(K255:P255,\"=0\")*0+COUNTIF(K255:P255,\"=1\")*100+COUNTIF(K255:P255,\"=2\")*80+COUNTIF(K255:P255,\"=3\")*50+COUNTIF(K255:P255,\"=8\")*20+COUNTIF(K255:P255,\"=9\")*0)/COUNTA(K255:P255)/100,\"N/A\")","v":"N/A"},{"$f":"IF(COUNTA(Q255)>0,(COUNTIF(Q255,\"=0\")*0+COUNTIF(Q255,\"=1\")*100+COUNTIF(Q255,\"=2\")*80+COUNTIF(Q255,\"=3\")*50+COUNTIF(Q255,\"=8\")*20+COUNTIF(Q255,\"=9\")*0)/COUNTA(Q255)/100,\"N/A\")","v":"N/A"},{"$f":"IF(COUNTA(S255:W255)<>0,(COUNTIF(S255:W255,\"=0\")*0+COUNTIF(S255:W255,\"=1\")*100+COUNTIF(S255:W255,\"=2\")*80+COUNTIF(S255:W255,\"=3\")*50+COUNTIF(S255:W255,\"=8\")*20+COUNTIF(S255:W255,\"=9\")*0)/COUNTA(S255:W255)/100,\"N/A\")","v":"N/A"},"N/A",{"$f":"IF(COUNTA(#REF!)>0,(COUNTIF(#REF!,\"=0\")*0+COUNTIF(#REF!,\"=1\")*100+COUNTIF(#REF!,\"=2\")*80+COUNTIF(#REF!,\"=3\")*50+COUNTIF(#REF!,\"=8\")*20+COUNTIF(#REF!,\"=9\")*0)/COUNTA(#REF!)/100,\"N/A\")","v":{"$error":"#REF!"}},{"$f":"IF(COUNTA(#REF!)>0,(COUNTIF(#REF!,\"=0\")*0+COUNTIF(#REF!,\"=1\")*100+COUNTIF(#REF!,\"=2\")*80+COUNTIF(#REF!,\"=3\")*50+COUNTIF(#REF!,\"=8\")*20+COUNTIF(#REF!,\"=9\")*0)/COUNTA(#REF!)/100,\"N/A\")","v":{"$error":"#REF!"}},{"$f":"IF(AND(COUNTA(B255:X255)<>0,#REF!<>\"\"),AVERAGE(Y255:AE255),\"N/A\")","v":{"$error":"#REF!"}},1,1,1,1,1,{"$error":"#REF!"},{"$error":"#REF!"},{"$error":"#REF!"}]
[{"$nulls":24},{"$f":"IF(COUNTA(B256:G256)>0,(COUNTIF(B256:G256,\"=0\")*0+COUNTIF(B256:G256,\"=1\")*100+COUNTIF(B256:G256,\"=2\")*80+COUNTIF(B256:G256,\"=3\")*50+COUNTIF(B256:G256,\"=8\")*20+COUNTIF(B256:G256,\"=9\")*0)/COUNTA(B256:G256)/100,\"N/A\")","v":"N/A"},{"$f":"IF(COUNTA(K256:P256)>0,(COUNTIF(K256:P256,\"=0\")*0+COUNTIF(K256:P256,\"=1\")*100+COUNTIF(K256:P256,\"=2\")*80+COUNTIF(K256:P256,\"=3\")*50+COUNTIF(K256:P256,\"=8\")*20+COUNTIF(K256:P256,\"=9\")*0)/COUNTA(K256:P256)/100,\"N/A\")","v":"N/A"},{"$f":"IF(COUNTA(Q256)>0,(COUNTIF(Q256,\"=0\")*0+COUNTIF(Q256,\"=1\")*100+COUNTIF(Q256,\"=2\")*80+COUNTIF(Q256,\"=3\")*50+COUNTIF(Q256,\"=8\")*20+COUNTIF(Q256,\"=9\")*0)/COUNTA(Q256)/100,\"N/A\")","v":"N/A"},{"$f":"IF(COUNTA(S256:W256)<>0,(COUNTIF(S256:W256,\"=0\")*0+COUNTIF(S256:W256,\"=1\")*100+COUNTIF(S256:W256,\"=2\")*80+COUNTIF(S256:W256,\"=3\")*50+COUNTIF(S256:W256,\"=8\")*20+COUNTIF(S256:W256,\"=9\")*0)/COUNTA(S256:W256)/100,\"N/A\")","v":"N/A"},"N/A",{"$f":"IF(COUNTA(#REF!)>0,(COUNTIF(#REF!,\"=0\")*0+COUNTIF(#REF!,\"=1\")*100+COUNTIF(#REF!,\"=2\")*80+COUNTIF(#REF!,\"=3\")*50+COUNTIF(#REF!,\"=8\")*20+COUNTIF(#REF!,\"=9\")*0)/COUNTA(#REF!)/100,\"N/A\")","v":{"$error":"#REF!"}},{"$f":"IF(COUNTA(#REF!)>0,(COUNTIF(#REF!,\"=0\")*0+COUNTIF(#REF!,\"=1\")*100+COUNTIF(#REF!,\"=2\")*80+COUNTIF(#REF!,\"=3\")*50+COUNTIF(#REF!,\"=8\")*20+COUNTIF(#REF!,\"=9\")*0)/COUNTA(#REF!)/100,\"N/A\")","v":{"$error":"#REF!"}},{"$f":"IF(AND(COUNTA(B256:X256)<>0,#REF!<>\"\"),AVERAGE(Y256:AE256),\"N/A\")","v":{"$error":"#REF!"}},1,1,1,1,1,{"$error":"#REF!"},{"$error":"#REF!"},{"$error":"#REF!"}]
[{"$nulls":24},{"$f":"IF(COUNTA(B257:G257)>0,(COUNTIF(B257:G257,\"=0\")*0+COUNTIF(B257:G257,\"=1\")*100+COUNTIF(B257:G257,\"=2\")*80+COUNTIF(B257:G257,\"=3\")*50+COUNTIF(B257:G257,\"=8\")*20+COUNTIF(B257:G257,\"=9\")*0)/COUNTA(B257:G257)/100,\"N/A\")","v":"N/A"},{"$f":"IF(COUNTA(K257:P257)>0,(COUNTIF(K257:P257,\"=0\")*0+COUNTIF(K257:P257,\"=1\")*100+COUNTIF(K257:P257,\"=2\")*80+COUNTIF(K257:P257,\"=3\")*50+COUNTIF(K257:P257,\"=8\")*20+COUNTIF(K257:P257,\"=9\")*0)/COUNTA(K257:P257)/100,\"N/A\")","v":"N/A"},{"$f":"IF(COUNTA(Q257)>0,(COUNTIF(Q257,\"=0\")*0+COUNTIF(Q257,\"=1\")*100+COUNTIF(Q257,\"=2\")*80+COUNTIF(Q257,\"=3\")*50+COUNTIF(Q257,\"=8\")*20+COUNTIF(Q257,\"=9\")*0)/COUNTA(Q257)/100,\"N/A\")","v":"N/A"},{"$f":"IF(COUNTA(S257:W257)<>0,(COUNTIF(S257:W257,\"=0\")*0+COUNTIF(S257:W257,\"=1\")*100+COUNTIF(S257:W257,\"=2\")*80+COUNTIF(S257:W257,\"=3\")*50+COUNTIF(S257:W257,\"=8\")*20+COUNTIF(S257:W257,\"=9\")*0)/COUNTA(S257:W257)/100,\"N/A\")","v":"N/A"},"N/A",{"$f":"IF(COUNTA(#REF!)>0,(COUNTIF(#REF!,\"=0\")*0+COUNTIF(#REF!,\"=1\")*100+COUNTIF(#REF!,\"=2\")*80+COUNTIF(#REF!,\"=3\")*50+COUNTIF(#REF!,\"=8\")*20+COUNTIF(#REF!,\"=9\")*0)/COUNTA(#REF!)/100,\"N/A\")","v":{"$error":"#REF!"}},{"$f":"IF(COUNTA(#REF!)>0,(COUNTIF(#REF!,\"=0\")*0+COUNTIF(#REF!,\"=1\")*100+COUNTIF(#REF!,\"=2\")*80+COUNTIF(#REF!,\"=3\")*50+COUNTIF(#REF!,\"=8\")*20+COUNTIF(#REF!,\"=9\")*0)/COUNTA(#REF!)/100,\"N/A\")","v":{"$error":"#REF!"}},{"$f":"IF(AND(COUNTA(B257:X257)<>0,#REF!<>\"\"),AVERAGE(Y257:AE257),\"N/A\")","v":{"$error":"#REF!"}},1,1,1,1,1,{"$error":"#REF!"},{"$error":"#REF!"},{"$error":"#REF!"}]
[{"$nulls":24},{"$f":"IF(COUNTA(B258:G258)>0,(COUNTIF(B258:G258,\"=0\")*0+COUNTIF(B258:G258,\"=1\")*100+COUNTIF(B258:G258,\"=2\")*80+COUNTIF(B258:G258,\"=3\")*50+COUNTIF(B258:G258,\"=8\")*20+COUNTIF(B258:G258,\"=9\")*0)/COUNTA(B258:G258)/100,\"N/A\")","v":"N/A"},{"$f":"IF(COUNTA(K258:P258)>0,(COUNTIF(K258:P258,\"=0\")*0+COUNTIF(K258:P258,\"=1\")*100+COUNTIF(K258:P258,\"=2\")*80+COUNTIF(K258:P258,\"=3\")*50+COUNTIF(K258:P258,\"=8\")*20+COUNTIF(K258:P258,\"=9\")*0)/COUNTA(K258:P258)/100,\"N/A\")","v":"N/A"},{"$f":"IF(COUNTA(Q258)>0,(COUNTIF(Q258,\"=0\")*0+COUNTIF(Q258,\"=1\")*100+COUNTIF(Q258,\"=2\")*80+COUNTIF(Q258,\"=3\")*50+COUNTIF(Q258,\"=8\")*20+COUNTIF(Q258,\"=9\")*0)/COUNTA(Q258)/100,\"N/A\")","v":"N/A"},{"$f":"IF(COUNTA(S258:W258)<>0,(COUNTIF(S258:W258,\"=0\")*0+COUNTIF(S258:W258,\"=1\")*100+COUNTIF(S258:W258,\"=2\")*80+COUNTIF(S258:W258,\"=3\")*50+COUNTIF(S258:W258,\"=8\")*20+COUNTIF(S258:W258,\"=9\")*0)/COUNTA(S258:W258)/100,\"N/A\")","v":"N/A"},"N/A",{"$f":"IF(COUNTA(#REF!)>0,(COUNTIF(#REF!,\"=0\")*0+COUNTIF(#REF!,\"=1\")*100+COUNTIF(#REF!,\"=2\")*80+COUNTIF(#REF!,\"=3\")*50+COUNTIF(#REF!,\"=8\")*20+COUNTIF(#REF!,\"=9\")*0)/COUNTA(#REF!)/100,\"N/A\")","v":{"$error":"#REF!"}},{"$f":"IF(COUNTA(#REF!)>0,(COUNTIF(#REF!,\"=0\")*0+COUNTIF(#REF!,\"=1\")*100+COUNTIF(#REF!,\"=2\")*80+COUNTIF(#REF!,\"=3\")*50+COUNTIF(#REF!,\"=8\")*20+COUNTIF(#REF!,\"=9\")*0)/COUNTA(#REF!)/100,\"N/A\")","v":{"$error":"#REF!"}},{"$f":"IF(AND(COUNTA(B258:X258)<>0,#REF!<>\"\"),AVERAGE(Y258:AE258),\"N/A\")","v":{"$error":"#REF!"}},1,1,1,1,1,{"$error":"#REF!"},{"$error":"#REF!"},{"$error":"#REF!"}]
[{"$nulls":24},{"$f":"IF(COUNTA(B259:G259)>0,(COUNTIF(B259:G259,\"=0\")*0+COUNTIF(B259:G259,\"=1\")*100+COUNTIF(B259:G259,\"=2\")*80+COUNTIF(B259:G259,\"=3\")*50+COUNTIF(B259:G259,\"=8\")*20+COUNTIF(B259:G259,\"=9\")*0)/COUNTA(B259:G259)/100,\"N/A\")","v":"N/A"},{"$f":"IF(COUNTA(K259:P259)>0,(COUNTIF(K259:P259,\"=0\")*0+COUNTIF(K259:P259,\"=1\")*100+COUNTIF(K259:P259,\"=2\")*80+COUNTIF(K259:P259,\"=3\")*50+COUNTIF(K259:P259,\"=8\")*20+COUNTIF(K259:P259,\"=9\")*0)/COUNTA(K259:P259)/100,\"N/A\")","v":"N/A"},{"$f":"IF(COUNTA(Q259)>0,(COUNTIF(Q259,\"=0\")*0+COUNTIF(Q259,\"=1\")*100+COUNTIF(Q259,\"=2\")*80+COUNTIF(Q259,\"=3\")*50+COUNTIF(Q259,\"=8\")*20+COUNTIF(Q259,\"=9\")*0)/COUNTA(Q259)/100,\"N/A\")","v":"N/A"},{"$f":"IF(COUNTA(S259:W259)<>0,(COUNTIF(S259:W259,\"=0\")*0+COUNTIF(S259:W259,\"=1\")*100+COUNTIF(S259:W259,\"=2\")*80+COUNTIF(S259:W259,\"=3\")*50+COUNTIF(S259:W259,\"=8\")*20+COUNTIF(S259:W259,\"=9\")*0)/COUNTA(S259:W259)/100,\"N/A\")","v":"N/A"},"N/A",{"$f":"IF(COUNTA(#REF!)>0,(COUNTIF(#REF!,\"=0\")*0+COUNTIF(#REF!,\"=1\")*100+COUNTIF(#REF!,\"=2\")*80+COUNTIF(#REF!,\"=3\")*50+COUNTIF(#REF!,\"=8\")*20+COUNTIF(#REF!,\"=9\")*0)/COUNTA(#REF!)/100,\"N/A\")","v":{"$error":"#REF!"}},{"$f":"IF(COUNTA(#REF!)>0,(COUNTIF(#REF!,\"=0\")*0+COUNTIF(#REF!,\"=1\")*100+COUNTIF(#REF!,\"=2\")*80+COUNTIF(#REF!,\"=3\")*50+COUNTIF(#REF!,\"=8\")*20+COUNTIF(#REF!,\"=9\")*0)/COUNTA(#REF!)/100,\"N/A\")","v":{"$error":"#REF!"}},{"$f":"IF(AND(COUNTA(B259:X259)<>0,#REF!<>\"\"),AVERAGE(Y259:AE259),\"N/A\")","v":{"$error":"#REF!"}},1,1,1,1,1,{"$error":"#REF!"},{"$error":"#REF!"},{"$error":"#REF!"}]
[{"$nulls":24},{"$f":"IF(COUNTA(B260:G260)>0,(COUNTIF(B260:G260,\"=0\")*0+COUNTIF(B260:G260,\"=1\")*100+COUNTIF(B260:G260,\"=2\")*80+COUNTIF(B260:G260,\"=3\")*50+COUNTIF(B260:G260,\"=8\")*20+COUNTIF(B260:G260,\"=9\")*0)/COUNTA(B260:G260)/100,\"N/A\")","v":"N/A"},{"$f":"IF(COUNTA(K260:P260)>0,(COUNTIF(K260:P260,\"=0\")*0+COUNTIF(K260:P260,\"=1\")*100+COUNTIF(K260:P260,\"=2\")*80+COUNTIF(K260:P260,\"=3\")*50+COUNTIF(K260:P260,\"=8\")*20+COUNTIF(K260:P260,\"=9\")*0)/COUNTA(K260:P260)/100,\"N/A\")","v":"N/A"},{"$f":"IF(COUNTA(Q260)>0,(COUNTIF(Q260,\"=0\")*0+COUNTIF(Q260,\"=1\")*100+COUNTIF(Q260,\"=2\")*80+COUNTIF(Q260,\"=3\")*50+COUNTIF(Q260,\"=8\")*20+COUNTIF(Q260,\"=9\")*0)/COUNTA(Q260)/100,\"N/A\")","v":"N/A"},{"$f":"IF(COUNTA(S260:W260)<>0,(COUNTIF(S260:W260,\"=0\")*0+COUNTIF(S260:W260,\"=1\")*100+COUNTIF(S260:W260,\"=2\")*80+COUNTIF(S260:W260,\"=3\")*50+COUNTIF(S260:W260,\"=8\")*20+COUNTIF(S260:W260,\"=9\")*0)/COUNTA(S260:W260)/100,\"N/A\")","v":"N/A"},"N/A",{"$f":"IF(COUNTA(#REF!)>0,(COUNTIF(#REF!,\"=0\")*0+COUNTIF(#REF!,\"=1\")*100+COUNTIF(#REF!,\"=2\")*80+COUNTIF(#REF!,\"=3\")*50+COUNTIF(#REF!,\"=8\")*20+COUNTIF(#REF!,\"=9\")*0)/COUNTA(#REF!)/100,\"N/A\")","v":{"$error":"#REF!"}},{"$f":"IF(COUNTA(#REF!)>0,(COUNTIF(#REF!,\"=0\")*0+COUNTIF(#REF!,\"=1\")*100+COUNTIF(#REF!,\"=2\")*80+COUNTIF(#REF!,\"=3\")*50+COUNTIF(#REF!,\"=8\")*20+COUNTIF(#REF!,\"=9\")*0)/COUNTA(#REF!)/100,\"N/A\")","v":{"$error":"#REF!"}},{"$f":"IF(AND(COUNTA(B260:X260)<>0,#REF!<>\"\"),AVERAGE(Y260:AE260),\"N/A\")","v":{"$error":"#REF!"}},1,1,1,1,1,{"$error":"#REF!"},{"$error":"#REF!"},{"$error":"#REF!"}]
[{"$nulls":24},{"$f":"IF(COUNTA(B261:G261)>0,(COUNTIF(B261:G261,\"=0\")*0+COUNTIF(B261:G261,\"=1\")*100+COUNTIF(B261:G261,\"=2\")*80+COUNTIF(B261:G261,\"=3\")*50+COUNTIF(B261:G261,\"=8\")*20+COUNTIF(B261:G261,\"=9\")*0)/COUNTA(B261:G261)/100,\"N/A\")","v":"N/A"},{"$f":"IF(COUNTA(K261:P261)>0,(COUNTIF(K261:P261,\"=0\")*0+COUNTIF(K261:P261,\"=1\")*100+COUNTIF(K261:P261,\"=2\")*80+COUNTIF(K261:P261,\"=3\")*50+COUNTIF(K261:P261,\"=8\")*20+COUNTIF(K261:P261,\"=9\")*0)/COUNTA(K261:P261)/100,\"N/A\")","v":"N/A"},{"$f":"IF(COUNTA(Q261)>0,(COUNTIF(Q261,\"=0\")*0+COUNTIF(Q261,\"=1\")*100+COUNTIF(Q261,\"=2\")*80+COUNTIF(Q261,\"=3\")*50+COUNTIF(Q261,\"=8\")*20+COUNTIF(Q261,\"=9\")*0)/COUNTA(Q261)/100,\"N/A\")","v":"N/A"},{"$f":"IF(COUNTA(S261:W261)<>0,(COUNTIF(S261:W261,\"=0\")*0+COUNTIF(S261:W261,\"=1\")*100+COUNTIF(S261:W261,\"=2\")*80+COUNTIF(S261:W261,\"=3\")*50+COUNTIF(S261:W261,\"=8\")*20+COUNTIF(S261:W261,\"=9\")*0)/COUNTA(S261:W261)/100,\"N/A\")","v":"N/A"},"N/A",{"$f":"IF(COUNTA(#REF!)>0,(COUNTIF(#REF!,\"=0\")*0+COUNTIF(#REF!,\"=1\")*100+COUNTIF(#REF!,\"=2\")*80+COUNTIF(#REF!,\"=3\")*50+COUNTIF(#REF!,\"=8\")*20+COUNTIF(#REF!,\"=9\")*0)/COUNTA(#REF!)/100,\"N/A\")","v":{"$error":"#REF!"}},{"$f":"IF(COUNTA(#REF!)>0,(COUNTIF(#REF!,\"=0\")*0+COUNTIF(#REF!,\"=1\")*100+COUNTIF(#REF!,\"=2\")*80+COUNTIF(#REF!,\"=3\")*50+COUNTIF(#REF!,\"=8\")*20+COUNTIF(#REF!,\"=9\")*0)/COUNTA(#REF!)/100,\"N/A\")","v":{"$error":"#REF!"}},{"$f":"IF(AND(COUNTA(B261:X261)<>0,#REF!<>\"\"),AVERAGE(Y261:AE261),\"N/A\")","v":{"$error":"#REF!"}},1,1,1,1,1,{"$error":"#REF!"},{"$error":"#REF!"},{"$error":"#REF!"}]
[{"$nulls":24},{"$f":"IF(COUNTA(B262:G262)>0,(COUNTIF(B262:G262,\"=0\")*0+COUNTIF(B262:G262,\"=1\")*100+COUNTIF(B262:G262,\"=2\")*80+COUNTIF(B262:G262,\"=3\")*50+COUNTIF(B262:G262,\"=8\")*20+COUNTIF(B262:G262,\"=9\")*0)/COUNTA(B262:G262)/100,\"N/A\")","v":"N/A"},{"$f":"IF(COUNTA(K262:P262)>0,(COUNTIF(K262:P262,\"=0\")*0+COUNTIF(K262:P262,\"=1\")*100+COUNTIF(K262:P262,\"=2\")*80+COUNTIF(K262:P262,\"=3\")*50+COUNTIF(K262:P262,\"=8\")*20+COUNTIF(K262:P262,\"=9\")*0)/COUNTA(K262:P262)/100,\"N/A\")","v":"N/A"},{"$f":"IF(COUNTA(Q262)>0,(COUNTIF(Q262,\"=0\")*0+COUNTIF(Q262,\"=1\")*100+COUNTIF(Q262,\"=2\")*80+COUNTIF(Q262,\"=3\")*50+COUNTIF(Q262,\"=8\")*20+COUNTIF(Q262,\"=9\")*0)/COUNTA(Q262)/100,\"N/A\")","v":"N/A"},{"$f":"IF(COUNTA(S262:W262)<>0,(COUNTIF(S262:W262,\"=0\")*0+COUNTIF(S262:W262,\"=1\")*100+COUNTIF(S262:W262,\"=2\")*80+COUNTIF(S262:W262,\"=3\")*50+COUNTIF(S262:W262,\"=8\")*20+COUNTIF(S262:W262,\"=9\")*0)/COUNTA(S262:W262)/100,\"N/A\")","v":"N/A"},"N/A",{"$f":"IF(COUNTA(#REF!)>0,(COUNTIF(#REF!,\"=0\")*0+COUNTIF(#REF!,\"=1\")*100+COUNTIF(#REF!,\"=2\")*80+COUNTIF(#REF!,\"=3\")*50+COUNTIF(#REF!,\"=8\")*20+COUNTIF(#REF!,\"=9\")*0)/COUNTA(#REF!)/100,\"N/A\")","v":{"$error":"#REF!"}},{"$f":"IF(COUNTA(#REF!)>0,(COUNTIF(#REF!,\"=0\")*0+COUNTIF(#REF!,\"=1\")*100+COUNTIF(#REF!,\"=2\")*80+COUNTIF(#REF!,\"=3\")*50+COUNTIF(#REF!,\"=8\")*20+COUNTIF(#REF!,\"=9\")*0)/COUNTA(#REF!)/100,\"N/A\")","v":{"$error":"#REF!"}},{"$f":"IF(AND(COUNTA(B262:X262)<>0,#REF!<>\"\"),AVERAGE(Y262:AE262),\"N/A\")","v":{"$error":"#REF!"}},1,1,1,1,1,{"$error":"#REF!"},{"$error":"#REF!"},{"$error":"#REF!"}]
[{"$nulls":24},{"$f":"IF(COUNTA(B263:G263)>0,(COUNTIF(B263:G263,\"=0\")*0+COUNTIF(B263:G263,\"=1\")*100+COUNTIF(B263:G263,\"=2\")*80+COUNTIF(B263:G263,\"=3\")*50+COUNTIF(B263:G263,\"=8\")*20+COUNTIF(B263:G263,\"=9\")*0)/COUNTA(B263:G263)/100,\"N/A\")","v":"N/A"},{"$f":"IF(COUNTA(K263:P263)>0,(COUNTIF(K263:P263,\"=0\")*0+COUNTIF(K263:P263,\"=1\")*100+COUNTIF(K263:P263,\"=2\")*80+COUNTIF(K263:P263,\"=3\")*50+COUNTIF(K263:P263,\"=8\")*20+COUNTIF(K263:P263,\"=9\")*0)/COUNTA(K263:P263)/100,\"N/A\")","v":"N/A"},{"$f":"IF(COUNTA(Q263)>0,(COUNTIF(Q263,\"=0\")*0+COUNTIF(Q263,\"=1\")*100+COUNTIF(Q263,\"=2\")*80+COUNTIF(Q263,\"=3\")*50+COUNTIF(Q263,\"=8\")*20+COUNTIF(Q263,\"=9\")*0)/COUNTA(Q263)/100,\"N/A\")","v":"N/A"},{"$f":"IF(COUNTA(S263:W263)<>0,(COUNTIF(S263:W263,\"=0\")*0+COUNTIF(S263:W263,\"=1\")*100+COUNTIF(S263:W263,\"=2\")*80+COUNTIF(S263:W263,\"=3\")*50+COUNTIF(S263:W263,\"=8\")*20+COUNTIF(S263:W263,\"=9\")*0)/COUNTA(S263:W263)/100,\"N/A\")","v":"N/A"},"N/A",{"$f":"IF(COUNTA(#REF!)>0,(COUNTIF(#REF!,\"=0\")*0+COUNTIF(#REF!,\"=1\")*100+COUNTIF(#REF!,\"=2\")*80+COUNTIF(#REF!,\"=3\")*50+COUNTIF(#REF!,\"=8\")*20+COUNTIF(#REF!,\"=9\")*0)/COUNTA(#REF!)/100,\"N/A\")","v":{"$error":"#REF!"}},{"$f":"IF(COUNTA(#REF!)>0,(COUNTIF(#REF!,\"=0\")*0+COUNTIF(#REF!,\"=1\")*100+COUNTIF(#REF!,\"=2\")*80+COUNTIF(#REF!,\"=3\")*50+COUNTIF(#REF!,\"=8\")*20+COUNTIF(#REF!,\"=9\")*0)/COUNTA(#REF!)/100,\"N/A\")","v":{"$error":"#REF!"}},{"$f":"IF(AND(COUNTA(B263:X263)<>0,#REF!<>\"\"),AVERAGE(Y263:AE263),\"N/A\")","v":{"$error":"#REF!"}},1,1,1,1,1,{"$error":"#REF!"},{"$error":"#REF!"},{"$error":"#REF!"}]
[{"$nulls":24},{"$f":"IF(COUNTA(B264:G264)>0,(COUNTIF(B264:G264,\"=0\")*0+COUNTIF(B264:G264,\"=1\")*100+COUNTIF(B264:G264,\"=2\")*80+COUNTIF(B264:G264,\"=3\")*50+COUNTIF(B264:G264,\"=8\")*20+COUNTIF(B264:G264,\"=9\")*0)/COUNTA(B264:G264)/100,\"N/A\")","v":"N/A"},{"$f":"IF(COUNTA(K264:P264)>0,(COUNTIF(K264:P264,\"=0\")*0+COUNTIF(K264:P264,\"=1\")*100+COUNTIF(K264:P264,\"=2\")*80+COUNTIF(K264:P264,\"=3\")*50+COUNTIF(K264:P264,\"=8\")*20+COUNTIF(K264:P264,\"=9\")*0)/COUNTA(K264:P264)/100,\"N/A\")","v":"N/A"},{"$f":"IF(COUNTA(Q264)>0,(COUNTIF(Q264,\"=0\")*0+COUNTIF(Q264,\"=1\")*100+COUNTIF(Q264,\"=2\")*80+COUNTIF(Q264,\"=3\")*50+COUNTIF(Q264,\"=8\")*20+COUNTIF(Q264,\"=9\")*0)/COUNTA(Q264)/100,\"N/A\")","v":"N/A"},{"$f":"IF(COUNTA(S264:W264)<>0,(COUNTIF(S264:W264,\"=0\")*0+COUNTIF(S264:W264,\"=1\")*100+COUNTIF(S264:W264,\"=2\")*80+COUNTIF(S264:W264,\"=3\")*50+COUNTIF(S264:W264,\"=8\")*20+COUNTIF(S264:W264,\"=9\")*0)/COUNTA(S264:W264)/100,\"N/A\")","v":"N/A"},"N/A",{"$f":"IF(COUNTA(#REF!)>0,(COUNTIF(#REF!,\"=0\")*0+COUNTIF(#REF!,\"=1\")*100+COUNTIF(#REF!,\"=2\")*80+COUNTIF(#REF!,\"=3\")*50+COUNTIF(#REF!,\"=8\")*20+COUNTIF(#REF!,\"=9\")*0)/COUNTA(#REF!)/100,\"N/A\")","v":{"$error":"#REF!"}},{"$f":"IF(COUNTA(#REF!)>0,(COUNTIF(#REF!,\"=0\")*0+COUNTIF(#REF!,\"=1\")*100+COUNTIF(#REF!,\"=2\")*80+COUNTIF(#REF!,\"=3\")*50+COUNTIF(#REF!,\"=8\")*20+COUNTIF(#REF!,\"=9\")*0)/COUNTA(#REF!)/100,\"N/A\")","v":{"$error":"#REF!"}},{"$f":"IF(AND(COUNTA(B264:X264)<>0,#REF!<>\"\"),AVERAGE(Y264:AE264),\"N/A\")","v":{"$error":"#REF!"}},1,1,1,1,1,{"$error":"#REF!"},{"$error":"#REF!"},{"$error":"#REF!"}]
[{"$nulls":24},{"$f":"IF(COUNTA(B265:G265)>0,(COUNTIF(B265:G265,\"=0\")*0+COUNTIF(B265:G265,\"=1\")*100+COUNTIF(B265:G265,\"=2\")*80+COUNTIF(B265:G265,\"=3\")*50+COUNTIF(B265:G265,\"=8\")*20+COUNTIF(B265:G265,\"=9\")*0)/COUNTA(B265:G265)/100,\"N/A\")","v":"N/A"},{"$f":"IF(COUNTA(K265:P265)>0,(COUNTIF(K265:P265,\"=0\")*0+COUNTIF(K265:P265,\"=1\")*100+COUNTIF(K265:P265,\"=2\")*80+COUNTIF(K265:P265,\"=3\")*50+COUNTIF(K265:P265,\"=8\")*20+COUNTIF(K265:P265,\"=9\")*0)/COUNTA(K265:P265)/100,\"N/A\")","v":"N/A"},{"$f":"IF(COUNTA(Q265)>0,(COUNTIF(Q265,\"=0\")*0+COUNTIF(Q265,\"=1\")*100+COUNTIF(Q265,\"=2\")*80+COUNTIF(Q265,\"=3\")*50+COUNTIF(Q265,\"=8\")*20+COUNTIF(Q265,\"=9\")*0)/COUNTA(Q265)/100,\"N/A\")","v":"N/A"},{"$f":"IF(COUNTA(S265:W265)<>0,(COUNTIF(S265:W265,\"=0\")*0+COUNTIF(S265:W265,\"=1\")*100+COUNTIF(S265:W265,\"=2\")*80+COUNTIF(S265:W265,\"=3\")*50+COUNTIF(S265:W265,\"=8\")*20+COUNTIF(S265:W265,\"=9\")*0)/COUNTA(S265:W265)/100,\"N/A\")","v":"N/A"},"N/A",{"$f":"IF(COUNTA(#REF!)>0,(COUNTIF(#REF!,\"=0\")*0+COUNTIF(#REF!,\"=1\")*100+COUNTIF(#REF!,\"=2\")*80+COUNTIF(#REF!,\"=3\")*50+COUNTIF(#REF!,\"=8\")*20+COUNTIF(#REF!,\"=9\")*0)/COUNTA(#REF!)/100,\"N/A\")","v":{"$error":"#REF!"}},{"$f":"IF(COUNTA(#REF!)>0,(COUNTIF(#REF!,\"=0\")*0+COUNTIF(#REF!,\"=1\")*100+COUNTIF(#REF!,\"=2\")*80+COUNTIF(#REF!,\"=3\")*50+COUNTIF(#REF!,\"=8\")*20+COUNTIF(#REF!,\"=9\")*0)/COUNTA(#REF!)/100,\"N/A\")","v":{"$error":"#REF!"}},{"$f":"IF(AND(COUNTA(B265:X265)<>0,#REF!<>\"\"),AVERAGE(Y265:AE265),\"N/A\")","v":{"$error":"#REF!"}},1,1,1,1,1,{"$error":"#REF!"},{"$error":"#REF!"},{"$error":"#REF!"}]
[{"$nulls":24},{"$f":"IF(COUNTA(B266:G266)>0,(COUNTIF(B266:G266,\"=0\")*0+COUNTIF(B266:G266,\"=1\")*100+COUNTIF(B266:G266,\"=2\")*80+COUNTIF(B266:G266,\"=3\")*50+COUNTIF(B266:G266,\"=8\")*20+COUNTIF(B266:G266,\"=9\")*0)/COUNTA(B266:G266)/100,\"N/A\")","v":"N/A"},{"$f":"IF(COUNTA(K266:P266)>0,(COUNTIF(K266:P266,\"=0\")*0+COUNTIF(K266:P266,\"=1\")*100+COUNTIF(K266:P266,\"=2\")*80+COUNTIF(K266:P266,\"=3\")*50+COUNTIF(K266:P266,\"=8\")*20+COUNTIF(K266:P266,\"=9\")*0)/COUNTA(K266:P266)/100,\"N/A\")","v":"N/A"},{"$f":"IF(COUNTA(Q266)>0,(COUNTIF(Q266,\"=0\")*0+COUNTIF(Q266,\"=1\")*100+COUNTIF(Q266,\"=2\")*80+COUNTIF(Q266,\"=3\")*50+COUNTIF(Q266,\"=8\")*20+COUNTIF(Q266,\"=9\")*0)/COUNTA(Q266)/100,\"N/A\")","v":"N/A"},{"$f":"IF(COUNTA(S266:W266)<>0,(COUNTIF(S266:W266,\"=0\")*0+COUNTIF(S266:W266,\"=1\")*100+COUNTIF(S266:W266,\"=2\")*80+COUNTIF(S266:W266,\"=3\")*50+COUNTIF(S266:W266,\"=8\")*20+COUNTIF(S266:W266,\"=9\")*0)/COUNTA(S266:W266)/100,\"N/A\")","v":"N/A"},"N/A",{"$f":"IF(COUNTA(#REF!)>0,(COUNTIF(#REF!,\"=0\")*0+COUNTIF(#REF!,\"=1\")*100+COUNTIF(#REF!,\"=2\")*80+COUNTIF(#REF!,\"=3\")*50+COUNTIF(#REF!,\"=8\")*20+COUNTIF(#REF!,\"=9\")*0)/COUNTA(#REF!)/100,\"N/A\")","v":{"$error":"#REF!"}},{"$f":"IF(COUNTA(#REF!)>0,(COUNTIF(#REF!,\"=0\")*0+COUNTIF(#REF!,\"=1\")*100+COUNTIF(#REF!,\"=2\")*80+COUNTIF(#REF!,\"=3\")*50+COUNTIF(#REF!,\"=8\")*20+COUNTIF(#REF!,\"=9\")*0)/COUNTA(#REF!)/100,\"N/A\")","v":{"$error":"#REF!"}},{"$f":"IF(AND(COUNTA(B266:X266)<>0,#REF!<>\"\"),AVERAGE(Y266:AE266),\"N/A\")","v":{"$error":"#REF!"}},1,1,1,1,1,{"$error":"#REF!"},{"$error":"#REF!"},{"$error":"#REF!"}]
[{"$nulls":24},{"$f":"IF(COUNTA(B267:G267)>0,(COUNTIF(B267:G267,\"=0\")*0+COUNTIF(B267:G267,\"=1\")*100+COUNTIF(B267:G267,\"=2\")*80+COUNTIF(B267:G267,\"=3\")*50+COUNTIF(B267:G267,\"=8\")*20+COUNTIF(B267:G267,\"=9\")*0)/COUNTA(B267:G267)/100,\"N/A\")","v":"N/A"},{"$f":"IF(COUNTA(K267:P267)>0,(COUNTIF(K267:P267,\"=0\")*0+COUNTIF(K267:P267,\"=1\")*100+COUNTIF(K267:P267,\"=2\")*80+COUNTIF(K267:P267,\"=3\")*50+COUNTIF(K267:P267,\"=8\")*20+COUNTIF(K267:P267,\"=9\")*0)/COUNTA(K267:P267)/100,\"N/A\")","v":"N/A"},{"$f":"IF(COUNTA(Q267)>0,(COUNTIF(Q267,\"=0\")*0+COUNTIF(Q267,\"=1\")*100+COUNTIF(Q267,\"=2\")*80+COUNTIF(Q267,\"=3\")*50+COUNTIF(Q267,\"=8\")*20+COUNTIF(Q267,\"=9\")*0)/COUNTA(Q267)/100,\"N/A\")","v":"N/A"},{"$f":"IF(COUNTA(S267:W267)<>0,(COUNTIF(S267:W267,\"=0\")*0+COUNTIF(S267:W267,\"=1\")*100+COUNTIF(S267:W267,\"=2\")*80+COUNTIF(S267:W267,\"=3\")*50+COUNTIF(S267:W267,\"=8\")*20+COUNTIF(S267:W267,\"=9\")*0)/COUNTA(S267:W267)/100,\"N/A\")","v":"N/A"},"N/A",{"$f":"IF(COUNTA(#REF!)>0,(COUNTIF(#REF!,\"=0\")*0+COUNTIF(#REF!,\"=1\")*100+COUNTIF(#REF!,\"=2\")*80+COUNTIF(#REF!,\"=3\")*50+COUNTIF(#REF!,\"=8\")*20+COUNTIF(#REF!,\"=9\")*0)/COUNTA(#REF!)/100,\"N/A\")","v":{"$error":"#REF!"}},{"$f":"IF(COUNTA(#REF!)>0,(COUNTIF(#REF!,\"=0\")*0+COUNTIF(#REF!,\"=1\")*100+COUNTIF(#REF!,\"=2\")*80+COUNTIF(#REF!,\"=3\")*50+COUNTIF(#REF!,\"=8\")*20+COUNTIF(#REF!,\"=9\")*0)/COUNTA(#REF!)/100,\"N/A\")","v":{"$error":"#REF!"}},{"$f":"IF(AND(COUNTA(B267:X267)<>0,#REF!<>\"\"),AVERAGE(Y267:AE267),\"N/A\")","v":{"$error":"#REF!"}},1,1,1,1,1,{"$error":"#REF!"},{"$error":"#REF!"},{"$error":"#REF!"}]
[{"$nulls":24},{"$f":"IF(COUNTA(B268:G268)>0,(COUNTIF(B268:G268,\"=0\")*0+COUNTIF(B268:G268,\"=1\")*100+COUNTIF(B268:G268,\"=2\")*80+COUNTIF(B268:G268,\"=3\")*50+COUNTIF(B268:G268,\"=8\")*20+COUNTIF(B268:G268,\"=9\")*0)/COUNTA(B268:G268)/100,\"N/A\")","v":"N/A"},{"$f":"IF(COUNTA(K268:P268)>0,(COUNTIF(K268:P268,\"=0\")*0+COUNTIF(K268:P268,\"=1\")*100+COUNTIF(K268:P268,\"=2\")*80+COUNTIF(K268:P268,\"=3\")*50+COUNTIF(K268:P268,\"=8\")*20+COUNTIF(K268:P268,\"=9\")*0)/COUNTA(K268:P268)/100,\"N/A\")","v":"N/A"},{"$f":"IF(COUNTA(Q268)>0,(COUNTIF(Q268,\"=0\")*0+COUNTIF(Q268,\"=1\")*100+COUNTIF(Q268,\"=2\")*80+COUNTIF(Q268,\"=3\")*50+COUNTIF(Q268,\"=8\")*20+COUNTIF(Q268,\"=9\")*0)/COUNTA(Q268)/100,\"N/A\")","v":"N/A"},{"$f":"IF(COUNTA(S268:W268)<>0,(COUNTIF(S268:W268,\"=0\")*0+COUNTIF(S268:W268,\"=1\")*100+COUNTIF(S268:W268,\"=2\")*80+COUNTIF(S268:W268,\"=3\")*50+COUNTIF(S268:W268,\"=8\")*20+COUNTIF(S268:W268,\"=9\")*0)/COUNTA(S268:W268)/100,\"N/A\")","v":"N/A"},"N/A",{"$f":"IF(COUNTA(#REF!)>0,(COUNTIF(#REF!,\"=0\")*0+COUNTIF(#REF!,\"=1\")*100+COUNTIF(#REF!,\"=2\")*80+COUNTIF(#REF!,\"=3\")*50+COUNTIF(#REF!,\"=8\")*20+COUNTIF(#REF!,\"=9\")*0)/COUNTA(#REF!)/100,\"N/A\")","v":{"$error":"#REF!"}},{"$f":"IF(COUNTA(#REF!)>0,(COUNTIF(#REF!,\"=0\")*0+COUNTIF(#REF!,\"=1\")*100+COUNTIF(#REF!,\"=2\")*80+COUNTIF(#REF!,\"=3\")*50+COUNTIF(#REF!,\"=8\")*20+COUNTIF(#REF!,\"=9\")*0)/COUNTA(#REF!)/100,\"N/A\")","v":{"$error":"#REF!"}},{"$f":"IF(AND(COUNTA(B268:X268)<>0,#REF!<>\"\"),AVERAGE(Y268:AE268),\"N/A\")","v":{"$error":"#REF!"}},1,1,1,1,1,{"$error":"#REF!"},{"$error":"#REF!"},{"$error":"#REF!"}]
[{"$nulls":24},{"$f":"IF(COUNTA(B269:G269)>0,(COUNTIF(B269:G269,\"=0\")*0+COUNTIF(B269:G269,\"=1\")*100+COUNTIF(B269:G269,\"=2\")*80+COUNTIF(B269:G269,\"=3\")*50+COUNTIF(B269:G269,\"=8\")*20+COUNTIF(B269:G269,\"=9\")*0)/COUNTA(B269:G269)/100,\"N/A\")","v":"N/A"},{"$f":"IF(COUNTA(K269:P269)>0,(COUNTIF(K269:P269,\"=0\")*0+COUNTIF(K269:P269,\"=1\")*100+COUNTIF(K269:P269,\"=2\")*80+COUNTIF(K269:P269,\"=3\")*50+COUNTIF(K269:P269,\"=8\")*20+COUNTIF(K269:P269,\"=9\")*0)/COUNTA(K269:P269)/100,\"N/A\")","v":"N/A"},{"$f":"IF(COUNTA(Q269)>0,(COUNTIF(Q269,\"=0\")*0+COUNTIF(Q269,\"=1\")*100+COUNTIF(Q269,\"=2\")*80+COUNTIF(Q269,\"=3\")*50+COUNTIF(Q269,\"=8\")*20+COUNTIF(Q269,\"=9\")*0)/COUNTA(Q269)/100,\"N/A\")","v":"N/A"},{"$f":"IF(COUNTA(S269:W269)<>0,(COUNTIF(S269:W269,\"=0\")*0+COUNTIF(S269:W269,\"=1\")*100+COUNTIF(S269:W269,\"=2\")*80+COUNTIF(S269:W269,\"=3\")*50+COUNTIF(S269:W269,\"=8\")*20+COUNTIF(S269:W269,\"=9\")*0)/COUNTA(S269:W269)/100,\"N/A\")","v":"N/A"},"N/A",{"$f":"IF(COUNTA(#REF!)>0,(COUNTIF(#REF!,\"=0\")*0+COUNTIF(#REF!,\"=1\")*100+COUNTIF(#REF!,\"=2\")*80+COUNTIF(#REF!,\"=3\")*50+COUNTIF(#REF!,\"=8\")*20+COUNTIF(#REF!,\"=9\")*0)/COUNTA(#REF!)/100,\"N/A\")","v":{"$error":"#REF!"}},{"$f":"IF(COUNTA(#REF!)>0,(COUNTIF(#REF!,\"=0\")*0+COUNTIF(#REF!,\"=1\")*100+COUNTIF(#REF!,\"=2\")*80+COUNTIF(#REF!,\"=3\")*50+COUNTIF(#REF!,\"=8\")*20+COUNTIF(#REF!,\"=9\")*0)/COUNTA(#REF!)/100,\"N/A\")","v":{"$error":"#REF!"}},{"$f":"IF(AND(COUNTA(B269:X269)<>0,#REF!<>\"\"),AVERAGE(Y269:AE269),\"N/A\")","v":{"$error":"#REF!"}},1,1,1,1,1,{"$error":"#REF!"},{"$error":"#REF!"},{"$error":"#REF!"}]
[{"$nulls":24},{"$f":"IF(COUNTA(B270:G270)>0,(COUNTIF(B270:G270,\"=0\")*0+COUNTIF(B270:G270,\"=1\")*100+COUNTIF(B270:G270,\"=2\")*80+COUNTIF(B270:G270,\"=3\")*50+COUNTIF(B270:G270,\"=8\")*20+COUNTIF(B270:G270,\"=9\")*0)/COUNTA(B270:G270)/100,\"N/A\")","v":"N/A"},{"$f":"IF(COUNTA(K270:P270)>0,(COUNTIF(K270:P270,\"=0\")*0+COUNTIF(K270:P270,\"=1\")*100+COUNTIF(K270:P270,\"=2\")*80+COUNTIF(K270:P270,\"=3\")*50+COUNTIF(K270:P270,\"=8\")*20+COUNTIF(K270:P270,\"=9\")*0)/COUNTA(K270:P270)/100,\"N/A\")","v":"N/A"},{"$f":"IF(COUNTA(Q270)>0,(COUNTIF(Q270,\"=0\")*0+COUNTIF(Q270,\"=1\")*100+COUNTIF(Q270,\"=2\")*80+COUNTIF(Q270,\"=3\")*50+COUNTIF(Q270,\"=8\")*20+COUNTIF(Q270,\"=9\")*0)/COUNTA(Q270)/100,\"N/A\")","v":"N/A"},{"$f":"IF(COUNTA(S270:W270)<>0,(COUNTIF(S270:W270,\"=0\")*0+COUNTIF(S270:W270,\"=1\")*100+COUNTIF(S270:W270,\"=2\")*80+COUNTIF(S270:W270,\"=3\")*50+COUNTIF(S270:W270,\"=8\")*20+COUNTIF(S270:W270,\"=9\")*0)/COUNTA(S270:W270)/100,\"N/A\")","v":"N/A"},"N/A",{"$f":"IF(COUNTA(#REF!)>0,(COUNTIF(#REF!,\"=0\")*0+COUNTIF(#REF!,\"=1\")*100+COUNTIF(#REF!,\"=2\")*80+COUNTIF(#REF!,\"=3\")*50+COUNTIF(#REF!,\"=8\")*20+COUNTIF(#REF!,\"=9\")*0)/COUNTA(#REF!)/100,\"N/A\")","v":{"$error":"#REF!"}},{"$f":"IF(COUNTA(#REF!)>0,(COUNTIF(#REF!,\"=0\")*0+COUNTIF(#REF!,\"=1\")*100+COUNTIF(#REF!,\"=2\")*80+COUNTIF(#REF!,\"=3\")*50+COUNTIF(#REF!,\"=8\")*20+COUNTIF(#REF!,\"=9\")*0)/COUNTA(#REF!)/100,\"N/A\")","v":{"$error":"#REF!"}},{"$f":"IF(AND(COUNTA(B270:X270)<>0,#REF!<>\"\"),AVERAGE(Y270:AE270),\"N/A\")","v":{"$error":"#REF!"}},1,1,1,1,1,{"$error":"#REF!"},{"$error":"#REF!"},{"$error":"#REF!"}]
[{"$nulls":24},{"$f":"IF(COUNTA(B271:G271)>0,(COUNTIF(B271:G271,\"=0\")*0+COUNTIF(B271:G271,\"=1\")*100+COUNTIF(B271:G271,\"=2\")*80+COUNTIF(B271:G271,\"=3\")*50+COUNTIF(B271:G271,\"=8\")*20+COUNTIF(B271:G271,\"=9\")*0)/COUNTA(B271:G271)/100,\"N/A\")","v":"N/A"},{"$f":"IF(COUNTA(K271:P271)>0,(COUNTIF(K271:P271,\"=0\")*0+COUNTIF(K271:P271,\"=1\")*100+COUNTIF(K271:P271,\"=2\")*80+COUNTIF(K271:P271,\"=3\")*50+COUNTIF(K271:P271,\"=8\")*20+COUNTIF(K271:P271,\"=9\")*0)/COUNTA(K271:P271)/100,\"N/A\")","v":"N/A"},{"$f":"IF(COUNTA(Q271)>0,(COUNTIF(Q271,\"=0\")*0+COUNTIF(Q271,\"=1\")*100+COUNTIF(Q271,\"=2\")*80+COUNTIF(Q271,\"=3\")*50+COUNTIF(Q271,\"=8\")*20+COUNTIF(Q271,\"=9\")*0)/COUNTA(Q271)/100,\"N/A\")","v":"N/A"},{"$f":"IF(COUNTA(S271:W271)<>0,(COUNTIF(S271:W271,\"=0\")*0+COUNTIF(S271:W271,\"=1\")*100+COUNTIF(S271:W271,\"=2\")*80+COUNTIF(S271:W271,\"=3\")*50+COUNTIF(S271:W271,\"=8\")*20+COUNTIF(S271:W271,\"=9\")*0)/COUNTA(S271:W271)/100,\"N/A\")","v":"N/A"},"N/A",{"$f":"IF(COUNTA(#REF!)>0,(COUNTIF(#REF!,\"=0\")*0+COUNTIF(#REF!,\"=1\")*100+COUNTIF(#REF!,\"=2\")*80+COUNTIF(#REF!,\"=3\")*50+COUNTIF(#REF!,\"=8\")*20+COUNTIF(#REF!,\"=9\")*0)/COUNTA(#REF!)/100,\"N/A\")","v":{"$error":"#REF!"}},{"$f":"IF(COUNTA(#REF!)>0,(COUNTIF(#REF!,\"=0\")*0+COUNTIF(#REF!,\"=1\")*100+COUNTIF(#REF!,\"=2\")*80+COUNTIF(#REF!,\"=3\")*50+COUNTIF(#REF!,\"=8\")*20+COUNTIF(#REF!,\"=9\")*0)/COUNTA(#REF!)/100,\"N/A\")","v":{"$error":"#REF!"}},{"$f":"IF(AND(COUNTA(B271:X271)<>0,#REF!<>\"\"),AVERAGE(Y271:AE271),\"N/A\")","v":{"$error":"#REF!"}},1,1,1,1,1,{"$error":"#REF!"},{"$error":"#REF!"},{"$error":"#REF!"}]
[{"$nulls":24},{"$f":"IF(COUNTA(B272:G272)>0,(COUNTIF(B272:G272,\"=0\")*0+COUNTIF(B272:G272,\"=1\")*100+COUNTIF(B272:G272,\"=2\")*80+COUNTIF(B272:G272,\"=3\")*50+COUNTIF(B272:G272,\"=8\")*20+COUNTIF(B272:G272,\"=9\")*0)/COUNTA(B272:G272)/100,\"N/A\")","v":"N/A"},{"$f":"IF(COUNTA(K272:P272)>0,(COUNTIF(K272:P272,\"=0\")*0+COUNTIF(K272:P272,\"=1\")*100+COUNTIF(K272:P272,\"=2\")*80+COUNTIF(K272:P272,\"=3\")*50+COUNTIF(K272:P272,\"=8\")*20+COUNTIF(K272:P272,\"=9\")*0)/COUNTA(K272:P272)/100,\"N/A\")","v":"N/A"},{"$f":"IF(COUNTA(Q272)>0,(COUNTIF(Q272,\"=0\")*0+COUNTIF(Q272,\"=1\")*100+COUNTIF(Q272,\"=2\")*80+COUNTIF(Q272,\"=3\")*50+COUNTIF(Q272,\"=8\")*20+COUNTIF(Q272,\"=9\")*0)/COUNTA(Q272)/100,\"N/A\")","v":"N/A"},{"$f":"IF(COUNTA(S272:W272)<>0,(COUNTIF(S272:W272,\"=0\")*0+COUNTIF(S272:W272,\"=1\")*100+COUNTIF(S272:W272,\"=2\")*80+COUNTIF(S272:W272,\"=3\")*50+COUNTIF(S272:W272,\"=8\")*20+COUNTIF(S272:W272,\"=9\")*0)/COUNTA(S272:W272)/100,\"N/A\")","v":"N/A"},"N/A",{"$f":"IF(COUNTA(#REF!)>0,(COUNTIF(#REF!,\"=0\")*0+COUNTIF(#REF!,\"=1\")*100+COUNTIF(#REF!,\"=2\")*80+COUNTIF(#REF!,\"=3\")*50+COUNTIF(#REF!,\"=8\")*20+COUNTIF(#REF!,\"=9\")*0)/COUNTA(#REF!)/100,\"N/A\")","v":{"$error":"#REF!"}},{"$f":"IF(COUNTA(#REF!)>0,(COUNTIF(#REF!,\"=0\")*0+COUNTIF(#REF!,\"=1\")*100+COUNTIF(#REF!,\"=2\")*80+COUNTIF(#REF!,\"=3\")*50+COUNTIF(#REF!,\"=8\")*20+COUNTIF(#REF!,\"=9\")*0)/COUNTA(#REF!)/100,\"N/A\")","v":{"$error":"#REF!"}},{"$f":"IF(AND(COUNTA(B272:X272)<>0,#REF!<>\"\"),AVERAGE(Y272:AE272),\"N/A\")","v":{"$error":"#REF!"}},1,1,1,1,1,{"$error":"#REF!"},{"$error":"#REF!"},{"$error":"#REF!"}]
[{"$nulls":24},{"$f":"IF(COUNTA(B273:G273)>0,(COUNTIF(B273:G273,\"=0\")*0+COUNTIF(B273:G273,\"=1\")*100+COUNTIF(B273:G273,\"=2\")*80+COUNTIF(B273:G273,\"=3\")*50+COUNTIF(B273:G273,\"=8\")*20+COUNTIF(B273:G273,\"=9\")*0)/COUNTA(B273:G273)/100,\"N/A\")","v":"N/A"},{"$f":"IF(COUNTA(K273:P273)>0,(COUNTIF(K273:P273,\"=0\")*0+COUNTIF(K273:P273,\"=1\")*100+COUNTIF(K273:P273,\"=2\")*80+COUNTIF(K273:P273,\"=3\")*50+COUNTIF(K273:P273,\"=8\")*20+COUNTIF(K273:P273,\"=9\")*0)/COUNTA(K273:P273)/100,\"N/A\")","v":"N/A"},{"$f":"IF(COUNTA(Q273)>0,(COUNTIF(Q273,\"=0\")*0+COUNTIF(Q273,\"=1\")*100+COUNTIF(Q273,\"=2\")*80+COUNTIF(Q273,\"=3\")*50+COUNTIF(Q273,\"=8\")*20+COUNTIF(Q273,\"=9\")*0)/COUNTA(Q273)/100,\"N/A\")","v":"N/A"},{"$f":"IF(COUNTA(S273:W273)<>0,(COUNTIF(S273:W273,\"=0\")*0+COUNTIF(S273:W273,\"=1\")*100+COUNTIF(S273:W273,\"=2\")*80+COUNTIF(S273:W273,\"=3\")*50+COUNTIF(S273:W273,\"=8\")*20+COUNTIF(S273:W273,\"=9\")*0)/COUNTA(S273:W273)/100,\"N/A\")","v":"N/A"},"N/A",{"$f":"IF(COUNTA(#REF!)>0,(COUNTIF(#REF!,\"=0\")*0+COUNTIF(#REF!,\"=1\")*100+COUNTIF(#REF!,\"=2\")*80+COUNTIF(#REF!,\"=3\")*50+COUNTIF(#REF!,\"=8\")*20+COUNTIF(#REF!,\"=9\")*0)/COUNTA(#REF!)/100,\"N/A\")","v":{"$error":"#REF!"}},{"$f":"IF(COUNTA(#REF!)>0,(COUNTIF(#REF!,\"=0\")*0+COUNTIF(#REF!,\"=1\")*100+COUNTIF(#REF!,\"=2\")*80+COUNTIF(#REF!,\"=3\")*50+COUNTIF(#REF!,\"=8\")*20+COUNTIF(#REF!,\"=9\")*0)/COUNTA(#REF!)/100,\"N/A\")","v":{"$error":"#REF!"}},{"$f":"IF(AND(COUNTA(B273:X273)<>0,#REF!<>\"\"),AVERAGE(Y273:AE273),\"N/A\")","v":{"$error":"#REF!"}},1,1,1,1,1,{"$error":"#REF!"},{"$error":"#REF!"},{"$error":"#REF!"}]
[{"$nulls":24},{"$f":"IF(COUNTA(B274:G274)>0,(COUNTIF(B274:G274,\"=0\")*0+COUNTIF(B274:G274,\"=1\")*100+COUNTIF(B274:G274,\"=2\")*80+COUNTIF(B274:G274,\"=3\")*50+COUNTIF(B274:G274,\"=8\")*20+COUNTIF(B274:G274,\"=9\")*0)/COUNTA(B274:G274)/100,\"N/A\")","v":"N/A"},{"$f":"IF(COUNTA(K274:P274)>0,(COUNTIF(K274:P274,\"=0\")*0+COUNTIF(K274:P274,\"=1\")*100+COUNTIF(K274:P274,\"=2\")*80+COUNTIF(K274:P274,\"=3\")*50+COUNTIF(K274:P274,\"=8\")*20+COUNTIF(K274:P274,\"=9\")*0)/COUNTA(K274:P274)/100,\"N/A\")","v":"N/A"},{"$f":"IF(COUNTA(Q274)>0,(COUNTIF(Q274,\"=0\")*0+COUNTIF(Q274,\"=1\")*100+COUNTIF(Q274,\"=2\")*80+COUNTIF(Q274,\"=3\")*50+COUNTIF(Q274,\"=8\")*20+COUNTIF(Q274,\"=9\")*0)/COUNTA(Q274)/100,\"N/A\")","v":"N/A"},{"$f":"IF(COUNTA(S274:W274)<>0,(COUNTIF(S274:W274,\"=0\")*0+COUNTIF(S274:W274,\"=1\")*100+COUNTIF(S274:W274,\"=2\")*80+COUNTIF(S274:W274,\"=3\")*50+COUNTIF(S274:W274,\"=8\")*20+COUNTIF(S274:W274,\"=9\")*0)/COUNTA(S274:W274)/100,\"N/A\")","v":"N/A"},"N/A",{"$f":"IF(COUNTA(#REF!)>0,(COUNTIF(#REF!,\"=0\")*0+COUNTIF(#REF!,\"=1\")*100+COUNTIF(#REF!,\"=2\")*80+COUNTIF(#REF!,\"=3\")*50+COUNTIF(#REF!,\"=8\")*20+COUNTIF(#REF!,\"=9\")*0)/COUNTA(#REF!)/100,\"N/A\")","v":{"$error":"#REF!"}},{"$f":"IF(COUNTA(#REF!)>0,(COUNTIF(#REF!,\"=0\")*0+COUNTIF(#REF!,\"=1\")*100+COUNTIF(#REF!,\"=2\")*80+COUNTIF(#REF!,\"=3\")*50+COUNTIF(#REF!,\"=8\")*20+COUNTIF(#REF!,\"=9\")*0)/COUNTA(#REF!)/100,\"N/A\")","v":{"$error":"#REF!"}},{"$f":"IF(AND(COUNTA(B274:X274)<>0,#REF!<>\"\"),AVERAGE(Y274:AE274),\"N/A\")","v":{"$error":"#REF!"}},1,1,1,1,1,{"$error":"#REF!"},{"$error":"#REF!"},{"$error":"#REF!"}]
[{"$nulls":24},{"$f":"IF(COUNTA(B275:G275)>0,(COUNTIF(B275:G275,\"=0\")*0+COUNTIF(B275:G275,\"=1\")*100+COUNTIF(B275:G275,\"=2\")*80+COUNTIF(B275:G275,\"=3\")*50+COUNTIF(B275:G275,\"=8\")*20+COUNTIF(B275:G275,\"=9\")*0)/COUNTA(B275:G275)/100,\"N/A\")","v":"N/A"},{"$f":"IF(COUNTA(K275:P275)>0,(COUNTIF(K275:P275,\"=0\")*0+COUNTIF(K275:P275,\"=1\")*100+COUNTIF(K275:P275,\"=2\")*80+COUNTIF(K275:P275,\"=3\")*50+COUNTIF(K275:P275,\"=8\")*20+COUNTIF(K275:P275,\"=9\")*0)/COUNTA(K275:P275)/100,\"N/A\")","v":"N/A"},{"$f":"IF(COUNTA(Q275)>0,(COUNTIF(Q275,\"=0\")*0+COUNTIF(Q275,\"=1\")*100+COUNTIF(Q275,\"=2\")*80+COUNTIF(Q275,\"=3\")*50+COUNTIF(Q275,\"=8\")*20+COUNTIF(Q275,\"=9\")*0)/COUNTA(Q275)/100,\"N/A\")","v":"N/A"},{"$f":"IF(COUNTA(S275:W275)<>0,(COUNTIF(S275:W275,\"=0\")*0+COUNTIF(S275:W275,\"=1\")*100+COUNTIF(S275:W275,\"=2\")*80+COUNTIF(S275:W275,\"=3\")*50+COUNTIF(S275:W275,\"=8\")*20+COUNTIF(S275:W275,\"=9\")*0)/COUNTA(S275:W275)/100,\"N/A\")","v":"N/A"},"N/A",{"$f":"IF(COUNTA(#REF!)>0,(COUNTIF(#REF!,\"=0\")*0+COUNTIF(#REF!,\"=1\")*100+COUNTIF(#REF!,\"=2\")*80+COUNTIF(#REF!,\"=3\")*50+COUNTIF(#REF!,\"=8\")*20+COUNTIF(#REF!,\"=9\")*0)/COUNTA(#REF!)/100,\"N/A\")","v":{"$error":"#REF!"}},{"$f":"IF(COUNTA(#REF!)>0,(COUNTIF(#REF!,\"=0\")*0+COUNTIF(#REF!,\"=1\")*100+COUNTIF(#REF!,\"=2\")*80+COUNTIF(#REF!,\"=3\")*50+COUNTIF(#REF!,\"=8\")*20+COUNTIF(#REF!,\"=9\")*0)/COUNTA(#REF!)/100,\"N/A\")","v":{"$error":"#REF!"}},{"$f":"IF(AND(COUNTA(B275:X275)<>0,#REF!<>\"\"),AVERAGE(Y275:AE275),\"N/A\")","v":{"$error":"#REF!"}},1,1,1,1,1,{"$error":"#REF!"},{"$error":"#REF!"},{"$error":"#REF!"}]
[{"$nulls":24},{"$f":"IF(COUNTA(B276:G276)>0,(COUNTIF(B276:G276,\"=0\")*0+COUNTIF(B276:G276,\"=1\")*100+COUNTIF(B276:G276,\"=2\")*80+COUNTIF(B276:G276,\"=3\")*50+COUNTIF(B276:G276,\"=8\")*20+COUNTIF(B276:G276,\"=9\")*0)/COUNTA(B276:G276)/100,\"N/A\")","v":"N/A"},{"$f":"IF(COUNTA(K276:P276)>0,(COUNTIF(K276:P276,\"=0\")*0+COUNTIF(K276:P276,\"=1\")*100+COUNTIF(K276:P276,\"=2\")*80+COUNTIF(K276:P276,\"=3\")*50+COUNTIF(K276:P276,\"=8\")*20+COUNTIF(K276:P276,\"=9\")*0)/COUNTA(K276:P276)/100,\"N/A\")","v":"N/A"},{"$f":"IF(COUNTA(Q276)>0,(COUNTIF(Q276,\"=0\")*0+COUNTIF(Q276,\"=1\")*100+COUNTIF(Q276,\"=2\")*80+COUNTIF(Q276,\"=3\")*50+COUNTIF(Q276,\"=8\")*20+COUNTIF(Q276,\"=9\")*0)/COUNTA(Q276)/100,\"N/A\")","v":"N/A"},{"$f":"IF(COUNTA(S276:W276)<>0,(COUNTIF(S276:W276,\"=0\")*0+COUNTIF(S276:W276,\"=1\")*100+COUNTIF(S276:W276,\"=2\")*80+COUNTIF(S276:W276,\"=3\")*50+COUNTIF(S276:W276,\"=8\")*20+COUNTIF(S276:W276,\"=9\")*0)/COUNTA(S276:W276)/100,\"N/A\")","v":"N/A"},{"$f":"IF(COUNTA(X276:X276)>0,(COUNTIF(X276:X276,\"=0\")*0+COUNTIF(X276:X276,\"=1\")*100+COUNTIF(X276:X276,\"=2\")*80+COUNTIF(X276:X276,\"=3\")*50+COUNTIF(X276:X276,\"=8\")*20+COUNTIF(X276:X276,\"=9\")*0)/COUNTA(X276:X276)/100,\"N/A\")","v":"N/A"},{"$f":"IF(COUNTA(#REF!)>0,(COUNTIF(#REF!,\"=0\")*0+COUNTIF(#REF!,\"=1\")*100+COUNTIF(#REF!,\"=2\")*80+COUNTIF(#REF!,\"=3\")*50+COUNTIF(#REF!,\"=8\")*20+COUNTIF(#REF!,\"=9\")*0)/COUNTA(#REF!)/100,\"N/A\")","v":{"$error":"#REF!"}},{"$f":"IF(COUNTA(#REF!)>0,(COUNTIF(#REF!,\"=0\")*0+COUNTIF(#REF!,\"=1\")*100+COUNTIF(#REF!,\"=2\")*80+COUNTIF(#REF!,\"=3\")*50+COUNTIF(#REF!,\"=8\")*20+COUNTIF(#REF!,\"=9\")*0)/COUNTA(#REF!)/100,\"N/A\")","v":{"$error":"#REF!"}},{"$f":"IF(AND(COUNTA(B276:X276)<>0,#REF!<>\"\"),AVERAGE(Y276:AE276),\"N/A\")","v":{"$error":"#REF!"}},1,1,1,1,1,{"$error":"#REF!"},{"$error":"#REF!"},{"$error":"#REF!"}]
[{"$nulls":24},{"$f":"IF(COUNTA(B277:G277)>0,(COUNTIF(B277:G277,\"=0\")*0+COUNTIF(B277:G277,\"=1\")*100+COUNTIF(B277:G277,\"=2\")*80+COUNTIF(B277:G277,\"=3\")*50+COUNTIF(B277:G277,\"=8\")*20+COUNTIF(B277:G277,\"=9\")*0)/COUNTA(B277:G277)/100,\"N/A\")","v":"N/A"},{"$f":"IF(COUNTA(K277:P277)>0,(COUNTIF(K277:P277,\"=0\")*0+COUNTIF(K277:P277,\"=1\")*100+COUNTIF(K277:P277,\"=2\")*80+COUNTIF(K277:P277,\"=3\")*50+COUNTIF(K277:P277,\"=8\")*20+COUNTIF(K277:P277,\"=9\")*0)/COUNTA(K277:P277)/100,\"N/A\")","v":"N/A"},{"$f":"IF(COUNTA(Q277)>0,(COUNTIF(Q277,\"=0\")*0+COUNTIF(Q277,\"=1\")*100+COUNTIF(Q277,\"=2\")*80+COUNTIF(Q277,\"=3\")*50+COUNTIF(Q277,\"=8\")*20+COUNTIF(Q277,\"=9\")*0)/COUNTA(Q277)/100,\"N/A\")","v":"N/A"},{"$f":"IF(COUNTA(S277:W277)<>0,(COUNTIF(S277:W277,\"=0\")*0+COUNTIF(S277:W277,\"=1\")*100+COUNTIF(S277:W277,\"=2\")*80+COUNTIF(S277:W277,\"=3\")*50+COUNTIF(S277:W277,\"=8\")*20+COUNTIF(S277:W277,\"=9\")*0)/COUNTA(S277:W277)/100,\"N/A\")","v":"N/A"},"N/A",{"$f":"IF(COUNTA(#REF!)>0,(COUNTIF(#REF!,\"=0\")*0+COUNTIF(#REF!,\"=1\")*100+COUNTIF(#REF!,\"=2\")*80+COUNTIF(#REF!,\"=3\")*50+COUNTIF(#REF!,\"=8\")*20+COUNTIF(#REF!,\"=9\")*0)/COUNTA(#REF!)/100,\"N/A\")","v":{"$error":"#REF!"}},{"$f":"IF(COUNTA(#REF!)>0,(COUNTIF(#REF!,\"=0\")*0+COUNTIF(#REF!,\"=1\")*100+COUNTIF(#REF!,\"=2\")*80+COUNTIF(#REF!,\"=3\")*50+COUNTIF(#REF!,\"=8\")*20+COUNTIF(#REF!,\"=9\")*0)/COUNTA(#REF!)/100,\"N/A\")","v":{"$error":"#REF!"}},{"$f":"IF(AND(COUNTA(B277:X277)<>0,#REF!<>\"\"),AVERAGE(Y277:AE277),\"N/A\")","v":{"$error":"#REF!"}},1,1,1,1,1,{"$error":"#REF!"},{"$error":"#REF!"},{"$error":"#REF!"}]
[{"$nulls":24},{"$f":"IF(COUNTA(B278:G278)>0,(COUNTIF(B278:G278,\"=0\")*0+COUNTIF(B278:G278,\"=1\")*100+COUNTIF(B278:G278,\"=2\")*80+COUNTIF(B278:G278,\"=3\")*50+COUNTIF(B278:G278,\"=8\")*20+COUNTIF(B278:G278,\"=9\")*0)/COUNTA(B278:G278)/100,\"N/A\")","v":"N/A"},{"$f":"IF(COUNTA(K278:P278)>0,(COUNTIF(K278:P278,\"=0\")*0+COUNTIF(K278:P278,\"=1\")*100+COUNTIF(K278:P278,\"=2\")*80+COUNTIF(K278:P278,\"=3\")*50+COUNTIF(K278:P278,\"=8\")*20+COUNTIF(K278:P278,\"=9\")*0)/COUNTA(K278:P278)/100,\"N/A\")","v":"N/A"},{"$f":"IF(COUNTA(Q278)>0,(COUNTIF(Q278,\"=0\")*0+COUNTIF(Q278,\"=1\")*100+COUNTIF(Q278,\"=2\")*80+COUNTIF(Q278,\"=3\")*50+COUNTIF(Q278,\"=8\")*20+COUNTIF(Q278,\"=9\")*0)/COUNTA(Q278)/100,\"N/A\")","v":"N/A"},{"$f":"IF(COUNTA(S278:W278)<>0,(COUNTIF(S278:W278,\"=0\")*0+COUNTIF(S278:W278,\"=1\")*100+COUNTIF(S278:W278,\"=2\")*80+COUNTIF(S278:W278,\"=3\")*50+COUNTIF(S278:W278,\"=8\")*20+COUNTIF(S278:W278,\"=9\")*0)/COUNTA(S278:W278)/100,\"N/A\")","v":"N/A"},"N/A",{"$f":"IF(COUNTA(#REF!)>0,(COUNTIF(#REF!,\"=0\")*0+COUNTIF(#REF!,\"=1\")*100+COUNTIF(#REF!,\"=2\")*80+COUNTIF(#REF!,\"=3\")*50+COUNTIF(#REF!,\"=8\")*20+COUNTIF(#REF!,\"=9\")*0)/COUNTA(#REF!)/100,\"N/A\")","v":{"$error":"#REF!"}},{"$f":"IF(COUNTA(#REF!)>0,(COUNTIF(#REF!,\"=0\")*0+COUNTIF(#REF!,\"=1\")*100+COUNTIF(#REF!,\"=2\")*80+COUNTIF(#REF!,\"=3\")*50+COUNTIF(#REF!,\"=8\")*20+COUNTIF(#REF!,\"=9\")*0)/COUNTA(#REF!)/100,\"N/A\")","v":{"$error":"#REF!"}},{"$f":"IF(AND(COUNTA(B278:X278)<>0,#REF!<>\"\"),AVERAGE(Y278:AE278),\"N/A\")","v":{"$error":"#REF!"}},1,1,1,1,1,{"$error":"#REF!"},{"$error":"#REF!"},{"$error":"#REF!"}]
[{"$nulls":24},{"$f":"IF(COUNTA(B279:G279)>0,(COUNTIF(B279:G279,\"=0\")*0+COUNTIF(B279:G279,\"=1\")*100+COUNTIF(B279:G279,\"=2\")*80+COUNTIF(B279:G279,\"=3\")*50+COUNTIF(B279:G279,\"=8\")*20+COUNTIF(B279:G279,\"=9\")*0)/COUNTA(B279:G279)/100,\"N/A\")","v":"N/A"},{"$f":"IF(COUNTA(K279:P279)>0,(COUNTIF(K279:P279,\"=0\")*0+COUNTIF(K279:P279,\"=1\")*100+COUNTIF(K279:P279,\"=2\")*80+COUNTIF(K279:P279,\"=3\")*50+COUNTIF(K279:P279,\"=8\")*20+COUNTIF(K279:P279,\"=9\")*0)/COUNTA(K279:P279)/100,\"N/A\")","v":"N/A"},{"$f":"IF(COUNTA(Q279)>0,(COUNTIF(Q279,\"=0\")*0+COUNTIF(Q279,\"=1\")*100+COUNTIF(Q279,\"=2\")*80+COUNTIF(Q279,\"=3\")*50+COUNTIF(Q279,\"=8\")*20+COUNTIF(Q279,\"=9\")*0)/COUNTA(Q279)/100,\"N/A\")","v":"N/A"},{"$f":"IF(COUNTA(S279:W279)<>0,(COUNTIF(S279:W279,\"=0\")*0+COUNTIF(S279:W279,\"=1\")*100+COUNTIF(S279:W279,\"=2\")*80+COUNTIF(S279:W279,\"=3\")*50+COUNTIF(S279:W279,\"=8\")*20+COUNTIF(S279:W279,\"=9\")*0)/COUNTA(S279:W279)/100,\"N/A\")","v":"N/A"},"N/A",{"$f":"IF(COUNTA(#REF!)>0,(COUNTIF(#REF!,\"=0\")*0+COUNTIF(#REF!,\"=1\")*100+COUNTIF(#REF!,\"=2\")*80+COUNTIF(#REF!,\"=3\")*50+COUNTIF(#REF!,\"=8\")*20+COUNTIF(#REF!,\"=9\")*0)/COUNTA(#REF!)/100,\"N/A\")","v":{"$error":"#REF!"}},{"$f":"IF(COUNTA(#REF!)>0,(COUNTIF(#REF!,\"=0\")*0+COUNTIF(#REF!,\"=1\")*100+COUNTIF(#REF!,\"=2\")*80+COUNTIF(#REF!,\"=3\")*50+COUNTIF(#REF!,\"=8\")*20+COUNTIF(#REF!,\"=9\")*0)/COUNTA(#REF!)/100,\"N/A\")","v":{"$error":"#REF!"}},{"$f":"IF(AND(COUNTA(B279:X279)<>0,#REF!<>\"\"),AVERAGE(Y279:AE279),\"N/A\")","v":{"$error":"#REF!"}},1,1,1,1,1,{"$error":"#REF!"},{"$error":"#REF!"},{"$error":"#REF!"}]
[{"$nulls":24},{"$f":"IF(COUNTA(B280:G280)>0,(COUNTIF(B280:G280,\"=0\")*0+COUNTIF(B280:G280,\"=1\")*100+COUNTIF(B280:G280,\"=2\")*80+COUNTIF(B280:G280,\"=3\")*50+COUNTIF(B280:G280,\"=8\")*20+COUNTIF(B280:G280,\"=9\")*0)/COUNTA(B280:G280)/100,\"N/A\")","v":"N/A"},{"$f":"IF(COUNTA(K280:P280)>0,(COUNTIF(K280:P280,\"=0\")*0+COUNTIF(K280:P280,\"=1\")*100+COUNTIF(K280:P280,\"=2\")*80+COUNTIF(K280:P280,\"=3\")*50+COUNTIF(K280:P280,\"=8\")*20+COUNTIF(K280:P280,\"=9\")*0)/COUNTA(K280:P280)/100,\"N/A\")","v":"N/A"},{"$f":"IF(COUNTA(Q280)>0,(COUNTIF(Q280,\"=0\")*0+COUNTIF(Q280,\"=1\")*100+COUNTIF(Q280,\"=2\")*80+COUNTIF(Q280,\"=3\")*50+COUNTIF(Q280,\"=8\")*20+COUNTIF(Q280,\"=9\")*0)/COUNTA(Q280)/100,\"N/A\")","v":"N/A"},{"$f":"IF(COUNTA(S280:W280)<>0,(COUNTIF(S280:W280,\"=0\")*0+COUNTIF(S280:W280,\"=1\")*100+COUNTIF(S280:W280,\"=2\")*80+COUNTIF(S280:W280,\"=3\")*50+COUNTIF(S280:W280,\"=8\")*20+COUNTIF(S280:W280,\"=9\")*0)/COUNTA(S280:W280)/100,\"N/A\")","v":"N/A"},"N/A",{"$f":"IF(COUNTA(#REF!)>0,(COUNTIF(#REF!,\"=0\")*0+COUNTIF(#REF!,\"=1\")*100+COUNTIF(#REF!,\"=2\")*80+COUNTIF(#REF!,\"=3\")*50+COUNTIF(#REF!,\"=8\")*20+COUNTIF(#REF!,\"=9\")*0)/COUNTA(#REF!)/100,\"N/A\")","v":{"$error":"#REF!"}},{"$f":"IF(COUNTA(#REF!)>0,(COUNTIF(#REF!,\"=0\")*0+COUNTIF(#REF!,\"=1\")*100+COUNTIF(#REF!,\"=2\")*80+COUNTIF(#REF!,\"=3\")*50+COUNTIF(#REF!,\"=8\")*20+COUNTIF(#REF!,\"=9\")*0)/COUNTA(#REF!)/100,\"N/A\")","v":{"$error":"#REF!"}},{"$f":"IF(AND(COUNTA(B280:X280)<>0,#REF!<>\"\"),AVERAGE(Y280:AE280),\"N/A\")","v":{"$error":"#REF!"}},1,1,1,1,1,{"$error":"#REF!"},{"$error":"#REF!"},{"$error":"#REF!"}]
[{"$nulls":24},{"$f":"IF(COUNTA(B281:G281)>0,(COUNTIF(B281:G281,\"=0\")*0+COUNTIF(B281:G281,\"=1\")*100+COUNTIF(B281:G281,\"=2\")*80+COUNTIF(B281:G281,\"=3\")*50+COUNTIF(B281:G281,\"=8\")*20+COUNTIF(B281:G281,\"=9\")*0)/COUNTA(B281:G281)/100,\"N/A\")","v":"N/A"},{"$f":"IF(COUNTA(K281:P281)>0,(COUNTIF(K281:P281,\"=0\")*0+COUNTIF(K281:P281,\"=1\")*100+COUNTIF(K281:P281,\"=2\")*80+COUNTIF(K281:P281,\"=3\")*50+COUNTIF(K281:P281,\"=8\")*20+COUNTIF(K281:P281,\"=9\")*0)/COUNTA(K281:P281)/100,\"N/A\")","v":"N/A"},{"$f":"IF(COUNTA(Q281)>0,(COUNTIF(Q281,\"=0\")*0+COUNTIF(Q281,\"=1\")*100+COUNTIF(Q281,\"=2\")*80+COUNTIF(Q281,\"=3\")*50+COUNTIF(Q281,\"=8\")*20+COUNTIF(Q281,\"=9\")*0)/COUNTA(Q281)/100,\"N/A\")","v":"N/A"},{"$f":"IF(COUNTA(S281:W281)<>0,(COUNTIF(S281:W281,\"=0\")*0+COUNTIF(S281:W281,\"=1\")*100+COUNTIF(S281:W281,\"=2\")*80+COUNTIF(S281:W281,\"=3\")*50+COUNTIF(S281:W281,\"=8\")*20+COUNTIF(S281:W281,\"=9\")*0)/COUNTA(S281:W281)/100,\"N/A\")","v":"N/A"},"N/A",{"$f":"IF(COUNTA(#REF!)>0,(COUNTIF(#REF!,\"=0\")*0+COUNTIF(#REF!,\"=1\")*100+COUNTIF(#REF!,\"=2\")*80+COUNTIF(#REF!,\"=3\")*50+COUNTIF(#REF!,\"=8\")*20+COUNTIF(#REF!,\"=9\")*0)/COUNTA(#REF!)/100,\"N/A\")","v":{"$error":"#REF!"}},{"$f":"IF(COUNTA(#REF!)>0,(COUNTIF(#REF!,\"=0\")*0+COUNTIF(#REF!,\"=1\")*100+COUNTIF(#REF!,\"=2\")*80+COUNTIF(#REF!,\"=3\")*50+COUNTIF(#REF!,\"=8\")*20+COUNTIF(#REF!,\"=9\")*0)/COUNTA(#REF!)/100,\"N/A\")","v":{"$error":"#REF!"}},{"$f":"IF(AND(COUNTA(B281:X281)<>0,#REF!<>\"\"),AVERAGE(Y281:AE281),\"N/A\")","v":{"$error":"#REF!"}},1,1,1,1,1,{"$error":"#REF!"},{"$error":"#REF!"},{"$error":"#REF!"}]
[{"$nulls":24},{"$f":"IF(COUNTA(B282:G282)>0,(COUNTIF(B282:G282,\"=0\")*0+COUNTIF(B282:G282,\"=1\")*100+COUNTIF(B282:G282,\"=2\")*80+COUNTIF(B282:G282,\"=3\")*50+COUNTIF(B282:G282,\"=8\")*20+COUNTIF(B282:G282,\"=9\")*0)/COUNTA(B282:G282)/100,\"N/A\")","v":"N/A"},{"$f":"IF(COUNTA(K282:P282)>0,(COUNTIF(K282:P282,\"=0\")*0+COUNTIF(K282:P282,\"=1\")*100+COUNTIF(K282:P282,\"=2\")*80+COUNTIF(K282:P282,\"=3\")*50+COUNTIF(K282:P282,\"=8\")*20+COUNTIF(K282:P282,\"=9\")*0)/COUNTA(K282:P282)/100,\"N/A\")","v":"N/A"},{"$f":"IF(COUNTA(Q282)>0,(COUNTIF(Q282,\"=0\")*0+COUNTIF(Q282,\"=1\")*100+COUNTIF(Q282,\"=2\")*80+COUNTIF(Q282,\"=3\")*50+COUNTIF(Q282,\"=8\")*20+COUNTIF(Q282,\"=9\")*0)/COUNTA(Q282)/100,\"N/A\")","v":"N/A"},{"$f":"IF(COUNTA(S282:W282)<>0,(COUNTIF(S282:W282,\"=0\")*0+COUNTIF(S282:W282,\"=1\")*100+COUNTIF(S282:W282,\"=2\")*80+COUNTIF(S282:W282,\"=3\")*50+COUNTIF(S282:W282,\"=8\")*20+COUNTIF(S282:W282,\"=9\")*0)/COUNTA(S282:W282)/100,\"N/A\")","v":"N/A"},"N/A",{"$f":"IF(COUNTA(#REF!)>0,(COUNTIF(#REF!,\"=0\")*0+COUNTIF(#REF!,\"=1\")*100+COUNTIF(#REF!,\"=2\")*80+COUNTIF(#REF!,\"=3\")*50+COUNTIF(#REF!,\"=8\")*20+COUNTIF(#REF!,\"=9\")*0)/COUNTA(#REF!)/100,\"N/A\")","v":{"$error":"#REF!"}},{"$f":"IF(COUNTA(#REF!)>0,(COUNTIF(#REF!,\"=0\")*0+COUNTIF(#REF!,\"=1\")*100+COUNTIF(#REF!,\"=2\")*80+COUNTIF(#REF!,\"=3\")*50+COUNTIF(#REF!,\"=8\")*20+COUNTIF(#REF!,\"=9\")*0)/COUNTA(#REF!)/100,\"N/A\")","v":{"$error":"#REF!"}},{"$f":"IF(AND(COUNTA(B282:X282)<>0,#REF!<>\"\"),AVERAGE(Y282:AE282),\"N/A\")","v":{"$error":"#REF!"}},1,1,1,1,1,{"$error":"#REF!"},{"$error":"#REF!"},{"$error":"#REF!"}]
[{"$nulls":24},{"$f":"IF(COUNTA(B283:G283)>0,(COUNTIF(B283:G283,\"=0\")*0+COUNTIF(B283:G283,\"=1\")*100+COUNTIF(B283:G283,\"=2\")*80+COUNTIF(B283:G283,\"=3\")*50+COUNTIF(B283:G283,\"=8\")*20+COUNTIF(B283:G283,\"=9\")*0)/COUNTA(B283:G283)/100,\"N/A\")","v":"N/A"},{"$f":"IF(COUNTA(K283:P283)>0,(COUNTIF(K283:P283,\"=0\")*0+COUNTIF(K283:P283,\"=1\")*100+COUNTIF(K283:P283,\"=2\")*80+COUNTIF(K283:P283,\"=3\")*50+COUNTIF(K283:P283,\"=8\")*20+COUNTIF(K283:P283,\"=9\")*0)/COUNTA(K283:P283)/100,\"N/A\")","v":"N/A"},{"$f":"IF(COUNTA(Q283)>0,(COUNTIF(Q283,\"=0\")*0+COUNTIF(Q283,\"=1\")*100+COUNTIF(Q283,\"=2\")*80+COUNTIF(Q283,\"=3\")*50+COUNTIF(Q283,\"=8\")*20+COUNTIF(Q283,\"=9\")*0)/COUNTA(Q283)/100,\"N/A\")","v":"N/A"},{"$f":"IF(COUNTA(S283:W283)<>0,(COUNTIF(S283:W283,\"=0\")*0+COUNTIF(S283:W283,\"=1\")*100+COUNTIF(S283:W283,\"=2\")*80+COUNTIF(S283:W283,\"=3\")*50+COUNTIF(S283:W283,\"=8\")*20+COUNTIF(S283:W283,\"=9\")*0)/COUNTA(S283:W283)/100,\"N/A\")","v":"N/A"},"N/A",{"$f":"IF(COUNTA(#REF!)>0,(COUNTIF(#REF!,\"=0\")*0+COUNTIF(#REF!,\"=1\")*100+COUNTIF(#REF!,\"=2\")*80+COUNTIF(#REF!,\"=3\")*50+COUNTIF(#REF!,\"=8\")*20+COUNTIF(#REF!,\"=9\")*0)/COUNTA(#REF!)/100,\"N/A\")","v":{"$error":"#REF!"}},{"$f":"IF(COUNTA(#REF!)>0,(COUNTIF(#REF!,\"=0\")*0+COUNTIF(#REF!,\"=1\")*100+COUNTIF(#REF!,\"=2\")*80+COUNTIF(#REF!,\"=3\")*50+COUNTIF(#REF!,\"=8\")*20+COUNTIF(#REF!,\"=9\")*0)/COUNTA(#REF!)/100,\"N/A\")","v":{"$error":"#REF!"}},{"$f":"IF(AND(COUNTA(B283:X283)<>0,#REF!<>\"\"),AVERAGE(Y283:AE283),\"N/A\")","v":{"$error":"#REF!"}},1,1,1,1,1,{"$error":"#REF!"},{"$error":"#REF!"},{"$error":"#REF!"}]
[{"$nulls":24},{"$f":"IF(COUNTA(B284:G284)>0,(COUNTIF(B284:G284,\"=0\")*0+COUNTIF(B284:G284,\"=1\")*100+COUNTIF(B284:G284,\"=2\")*80+COUNTIF(B284:G284,\"=3\")*50+COUNTIF(B284:G284,\"=8\")*20+COUNTIF(B284:G284,\"=9\")*0)/COUNTA(B284:G284)/100,\"N/A\")","v":"N/A"},{"$f":"IF(COUNTA(K284:P284)>0,(COUNTIF(K284:P284,\"=0\")*0+COUNTIF(K284:P284,\"=1\")*100+COUNTIF(K284:P284,\"=2\")*80+COUNTIF(K284:P284,\"=3\")*50+COUNTIF(K284:P284,\"=8\")*20+COUNTIF(K284:P284,\"=9\")*0)/COUNTA(K284:P284)/100,\"N/A\")","v":"N/A"},{"$f":"IF(COUNTA(Q284)>0,(COUNTIF(Q284,\"=0\")*0+COUNTIF(Q284,\"=1\")*100+COUNTIF(Q284,\"=2\")*80+COUNTIF(Q284,\"=3\")*50+COUNTIF(Q284,\"=8\")*20+COUNTIF(Q284,\"=9\")*0)/COUNTA(Q284)/100,\"N/A\")","v":"N/A"},{"$f":"IF(COUNTA(S284:W284)<>0,(COUNTIF(S284:W284,\"=0\")*0+COUNTIF(S284:W284,\"=1\")*100+COUNTIF(S284:W284,\"=2\")*80+COUNTIF(S284:W284,\"=3\")*50+COUNTIF(S284:W284,\"=8\")*20+COUNTIF(S284:W284,\"=9\")*0)/COUNTA(S284:W284)/100,\"N/A\")","v":"N/A"},"N/A",{"$f":"IF(COUNTA(#REF!)>0,(COUNTIF(#REF!,\"=0\")*0+COUNTIF(#REF!,\"=1\")*100+COUNTIF(#REF!,\"=2\")*80+COUNTIF(#REF!,\"=3\")*50+COUNTIF(#REF!,\"=8\")*20+COUNTIF(#REF!,\"=9\")*0)/COUNTA(#REF!)/100,\"N/A\")","v":{"$error":"#REF!"}},{"$f":"IF(COUNTA(#REF!)>0,(COUNTIF(#REF!,\"=0\")*0+COUNTIF(#REF!,\"=1\")*100+COUNTIF(#REF!,\"=2\")*80+COUNTIF(#REF!,\"=3\")*50+COUNTIF(#REF!,\"=8\")*20+COUNTIF(#REF!,\"=9\")*0)/COUNTA(#REF!)/100,\"N/A\")","v":{"$error":"#REF!"}},{"$f":"IF(AND(COUNTA(B284:X284)<>0,#REF!<>\"\"),AVERAGE(Y284:AE284),\"N/A\")","v":{"$error":"#REF!"}},1,1,1,1,1,{"$error":"#REF!"},{"$error":"#REF!"},{"$error":"#REF!"}]
[{"$nulls":24},{"$f":"IF(COUNTA(B285:G285)>0,(COUNTIF(B285:G285,\"=0\")*0+COUNTIF(B285:G285,\"=1\")*100+COUNTIF(B285:G285,\"=2\")*80+COUNTIF(B285:G285,\"=3\")*50+COUNTIF(B285:G285,\"=8\")*20+COUNTIF(B285:G285,\"=9\")*0)/COUNTA(B285:G285)/100,\"N/A\")","v":"N/A"},{"$f":"IF(COUNTA(K285:P285)>0,(COUNTIF(K285:P285,\"=0\")*0+COUNTIF(K285:P285,\"=1\")*100+COUNTIF(K285:P285,\"=2\")*80+COUNTIF(K285:P285,\"=3\")*50+COUNTIF(K285:P285,\"=8\")*20+COUNTIF(K285:P285,\"=9\")*0)/COUNTA(K285:P285)/100,\"N/A\")","v":"N/A"},{"$f":"IF(COUNTA(Q285)>0,(COUNTIF(Q285,\"=0\")*0+COUNTIF(Q285,\"=1\")*100+COUNTIF(Q285,\"=2\")*80+COUNTIF(Q285,\"=3\")*50+COUNTIF(Q285,\"=8\")*20+COUNTIF(Q285,\"=9\")*0)/COUNTA(Q285)/100,\"N/A\")","v":"N/A"},{"$f":"IF(COUNTA(S285:W285)<>0,(COUNTIF(S285:W285,\"=0\")*0+COUNTIF(S285:W285,\"=1\")*100+COUNTIF(S285:W285,\"=2\")*80+COUNTIF(S285:W285,\"=3\")*50+COUNTIF(S285:W285,\"=8\")*20+COUNTIF(S285:W285,\"=9\")*0)/COUNTA(S285:W285)/100,\"N/A\")","v":"N/A"},"N/A",{"$f":"IF(COUNTA(#REF!)>0,(COUNTIF(#REF!,\"=0\")*0+COUNTIF(#REF!,\"=1\")*100+COUNTIF(#REF!,\"=2\")*80+COUNTIF(#REF!,\"=3\")*50+COUNTIF(#REF!,\"=8\")*20+COUNTIF(#REF!,\"=9\")*0)/COUNTA(#REF!)/100,\"N/A\")","v":{"$error":"#REF!"}},{"$f":"IF(COUNTA(#REF!)>0,(COUNTIF(#REF!,\"=0\")*0+COUNTIF(#REF!,\"=1\")*100+COUNTIF(#REF!,\"=2\")*80+COUNTIF(#REF!,\"=3\")*50+COUNTIF(#REF!,\"=8\")*20+COUNTIF(#REF!,\"=9\")*0)/COUNTA(#REF!)/100,\"N/A\")","v":{"$error":"#REF!"}},{"$f":"IF(AND(COUNTA(B285:X285)<>0,#REF!<>\"\"),AVERAGE(Y285:AE285),\"N/A\")","v":{"$error":"#REF!"}},1,1,1,1,1,{"$error":"#REF!"},{"$error":"#REF!"},{"$error":"#REF!"}]
[{"$nulls":24},{"$f":"IF(COUNTA(B286:G286)>0,(COUNTIF(B286:G286,\"=0\")*0+COUNTIF(B286:G286,\"=1\")*100+COUNTIF(B286:G286,\"=2\")*80+COUNTIF(B286:G286,\"=3\")*50+COUNTIF(B286:G286,\"=8\")*20+COUNTIF(B286:G286,\"=9\")*0)/COUNTA(B286:G286)/100,\"N/A\")","v":"N/A"},{"$f":"IF(COUNTA(K286:P286)>0,(COUNTIF(K286:P286,\"=0\")*0+COUNTIF(K286:P286,\"=1\")*100+COUNTIF(K286:P286,\"=2\")*80+COUNTIF(K286:P286,\"=3\")*50+COUNTIF(K286:P286,\"=8\")*20+COUNTIF(K286:P286,\"=9\")*0)/COUNTA(K286:P286)/100,\"N/A\")","v":"N/A"},{"$f":"IF(COUNTA(Q286)>0,(COUNTIF(Q286,\"=0\")*0+COUNTIF(Q286,\"=1\")*100+COUNTIF(Q286,\"=2\")*80+COUNTIF(Q286,\"=3\")*50+COUNTIF(Q286,\"=8\")*20+COUNTIF(Q286,\"=9\")*0)/COUNTA(Q286)/100,\"N/A\")","v":"N/A"},{"$f":"IF(COUNTA(S286:W286)<>0,(COUNTIF(S286:W286,\"=0\")*0+COUNTIF(S286:W286,\"=1\")*100+COUNTIF(S286:W286,\"=2\")*80+COUNTIF(S286:W286,\"=3\")*50+COUNTIF(S286:W286,\"=8\")*20+COUNTIF(S286:W286,\"=9\")*0)/COUNTA(S286:W286)/100,\"N/A\")","v":"N/A"},"N/A",{"$f":"IF(COUNTA(#REF!)>0,(COUNTIF(#REF!,\"=0\")*0+COUNTIF(#REF!,\"=1\")*100+COUNTIF(#REF!,\"=2\")*80+COUNTIF(#REF!,\"=3\")*50+COUNTIF(#REF!,\"=8\")*20+COUNTIF(#REF!,\"=9\")*0)/COUNTA(#REF!)/100,\"N/A\")","v":{"$error":"#REF!"}},{"$f":"IF(COUNTA(#REF!)>0,(COUNTIF(#REF!,\"=0\")*0+COUNTIF(#REF!,\"=1\")*100+COUNTIF(#REF!,\"=2\")*80+COUNTIF(#REF!,\"=3\")*50+COUNTIF(#REF!,\"=8\")*20+COUNTIF(#REF!,\"=9\")*0)/COUNTA(#REF!)/100,\"N/A\")","v":{"$error":"#REF!"}},{"$f":"IF(AND(COUNTA(B286:X286)<>0,#REF!<>\"\"),AVERAGE(Y286:AE286),\"N/A\")","v":{"$error":"#REF!"}},1,1,1,1,1,{"$error":"#REF!"},{"$error":"#REF!"},{"$error":"#REF!"}]
[{"$nulls":24},{"$f":"IF(COUNTA(B287:G287)>0,(COUNTIF(B287:G287,\"=0\")*0+COUNTIF(B287:G287,\"=1\")*100+COUNTIF(B287:G287,\"=2\")*80+COUNTIF(B287:G287,\"=3\")*50+COUNTIF(B287:G287,\"=8\")*20+COUNTIF(B287:G287,\"=9\")*0)/COUNTA(B287:G287)/100,\"N/A\")","v":"N/A"},{"$f":"IF(COUNTA(K287:P287)>0,(COUNTIF(K287:P287,\"=0\")*0+COUNTIF(K287:P287,\"=1\")*100+COUNTIF(K287:P287,\"=2\")*80+COUNTIF(K287:P287,\"=3\")*50+COUNTIF(K287:P287,\"=8\")*20+COUNTIF(K287:P287,\"=9\")*0)/COUNTA(K287:P287)/100,\"N/A\")","v":"N/A"},{"$f":"IF(COUNTA(Q287)>0,(COUNTIF(Q287,\"=0\")*0+COUNTIF(Q287,\"=1\")*100+COUNTIF(Q287,\"=2\")*80+COUNTIF(Q287,\"=3\")*50+COUNTIF(Q287,\"=8\")*20+COUNTIF(Q287,\"=9\")*0)/COUNTA(Q287)/100,\"N/A\")","v":"N/A"},{"$f":"IF(COUNTA(S287:W287)<>0,(COUNTIF(S287:W287,\"=0\")*0+COUNTIF(S287:W287,\"=1\")*100+COUNTIF(S287:W287,\"=2\")*80+COUNTIF(S287:W287,\"=3\")*50+COUNTIF(S287:W287,\"=8\")*20+COUNTIF(S287:W287,\"=9\")*0)/COUNTA(S287:W287)/100,\"N/A\")","v":"N/A"},"N/A",{"$f":"IF(COUNTA(#REF!)>0,(COUNTIF(#REF!,\"=0\")*0+COUNTIF(#REF!,\"=1\")*100+COUNTIF(#REF!,\"=2\")*80+COUNTIF(#REF!,\"=3\")*50+COUNTIF(#REF!,\"=8\")*20+COUNTIF(#REF!,\"=9\")*0)/COUNTA(#REF!)/100,\"N/A\")","v":{"$error":"#REF!"}},{"$f":"IF(COUNTA(#REF!)>0,(COUNTIF(#REF!,\"=0\")*0+COUNTIF(#REF!,\"=1\")*100+COUNTIF(#REF!,\"=2\")*80+COUNTIF(#REF!,\"=3\")*50+COUNTIF(#REF!,\"=8\")*20+COUNTIF(#REF!,\"=9\")*0)/COUNTA(#REF!)/100,\"N/A\")","v":{"$error":"#REF!"}},{"$f":"IF(AND(COUNTA(B287:X287)<>0,#REF!<>\"\"),AVERAGE(Y287:AE287),\"N/A\")","v":{"$error":"#REF!"}},1,1,1,1,1,{"$error":"#REF!"},{"$error":"#REF!"},{"$error":"#REF!"}]
[{"$nulls":24},{"$f":"IF(COUNTA(B288:G288)>0,(COUNTIF(B288:G288,\"=0\")*0+COUNTIF(B288:G288,\"=1\")*100+COUNTIF(B288:G288,\"=2\")*80+COUNTIF(B288:G288,\"=3\")*50+COUNTIF(B288:G288,\"=8\")*20+COUNTIF(B288:G288,\"=9\")*0)/COUNTA(B288:G288)/100,\"N/A\")","v":"N/A"},{"$f":"IF(COUNTA(K288:P288)>0,(COUNTIF(K288:P288,\"=0\")*0+COUNTIF(K288:P288,\"=1\")*100+COUNTIF(K288:P288,\"=2\")*80+COUNTIF(K288:P288,\"=3\")*50+COUNTIF(K288:P288,\"=8\")*20+COUNTIF(K288:P288,\"=9\")*0)/COUNTA(K288:P288)/100,\"N/A\")","v":"N/A"},{"$f":"IF(COUNTA(Q288)>0,(COUNTIF(Q288,\"=0\")*0+COUNTIF(Q288,\"=1\")*100+COUNTIF(Q288,\"=2\")*80+COUNTIF(Q288,\"=3\")*50+COUNTIF(Q288,\"=8\")*20+COUNTIF(Q288,\"=9\")*0)/COUNTA(Q288)/100,\"N/A\")","v":"N/A"},{"$f":"IF(COUNTA(S288:W288)<>0,(COUNTIF(S288:W288,\"=0\")*0+COUNTIF(S288:W288,\"=1\")*100+COUNTIF(S288:W288,\"=2\")*80+COUNTIF(S288:W288,\"=3\")*50+COUNTIF(S288:W288,\"=8\")*20+COUNTIF(S288:W288,\"=9\")*0)/COUNTA(S288:W288)/100,\"N/A\")","v":"N/A"},"N/A",{"$f":"IF(COUNTA(#REF!)>0,(COUNTIF(#REF!,\"=0\")*0+COUNTIF(#REF!,\"=1\")*100+COUNTIF(#REF!,\"=2\")*80+COUNTIF(#REF!,\"=3\")*50+COUNTIF(#REF!,\"=8\")*20+COUNTIF(#REF!,\"=9\")*0)/COUNTA(#REF!)/100,\"N/A\")","v":{"$error":"#REF!"}},{"$f":"IF(COUNTA(#REF!)>0,(COUNTIF(#REF!,\"=0\")*0+COUNTIF(#REF!,\"=1\")*100+COUNTIF(#REF!,\"=2\")*80+COUNTIF(#REF!,\"=3\")*50+COUNTIF(#REF!,\"=8\")*20+COUNTIF(#REF!,\"=9\")*0)/COUNTA(#REF!)/100,\"N/A\")","v":{"$error":"#REF!"}},{"$f":"IF(AND(COUNTA(B288:X288)<>0,#REF!<>\"\"),AVERAGE(Y288:AE288),\"N/A\")","v":{"$error":"#REF!"}},1,1,1,1,1,{"$error":"#REF!"},{"$error":"#REF!"},{"$error":"#REF!"}]
[{"$nulls":24},{"$f":"IF(COUNTA(B289:G289)>0,(COUNTIF(B289:G289,\"=0\")*0+COUNTIF(B289:G289,\"=1\")*100+COUNTIF(B289:G289,\"=2\")*80+COUNTIF(B289:G289,\"=3\")*50+COUNTIF(B289:G289,\"=8\")*20+COUNTIF(B289:G289,\"=9\")*0)/COUNTA(B289:G289)/100,\"N/A\")","v":"N/A"},{"$f":"IF(COUNTA(K289:P289)>0,(COUNTIF(K289:P289,\"=0\")*0+COUNTIF(K289:P289,\"=1\")*100+COUNTIF(K289:P289,\"=2\")*80+COUNTIF(K289:P289,\"=3\")*50+COUNTIF(K289:P289,\"=8\")*20+COUNTIF(K289:P289,\"=9\")*0)/COUNTA(K289:P289)/100,\"N/A\")","v":"N/A"},{"$f":"IF(COUNTA(Q289)>0,(COUNTIF(Q289,\"=0\")*0+COUNTIF(Q289,\"=1\")*100+COUNTIF(Q289,\"=2\")*80+COUNTIF(Q289,\"=3\")*50+COUNTIF(Q289,\"=8\")*20+COUNTIF(Q289,\"=9\")*0)/COUNTA(Q289)/100,\"N/A\")","v":"N/A"},{"$f":"IF(COUNTA(S289:W289)<>0,(COUNTIF(S289:W289,\"=0\")*0+COUNTIF(S289:W289,\"=1\")*100+COUNTIF(S289:W289,\"=2\")*80+COUNTIF(S289:W289,\"=3\")*50+COUNTIF(S289:W289,\"=8\")*20+COUNTIF(S289:W289,\"=9\")*0)/COUNTA(S289:W289)/100,\"N/A\")","v":"N/A"},"N/A",{"$f":"IF(COUNTA(#REF!)>0,(COUNTIF(#REF!,\"=0\")*0+COUNTIF(#REF!,\"=1\")*100+COUNTIF(#REF!,\"=2\")*80+COUNTIF(#REF!,\"=3\")*50+COUNTIF(#REF!,\"=8\")*20+COUNTIF(#REF!,\"=9\")*0)/COUNTA(#REF!)/100,\"N/A\")","v":{"$error":"#REF!"}},{"$f":"IF(COUNTA(#REF!)>0,(COUNTIF(#REF!,\"=0\")*0+COUNTIF(#REF!,\"=1\")*100+COUNTIF(#REF!,\"=2\")*80+COUNTIF(#REF!,\"=3\")*50+COUNTIF(#REF!,\"=8\")*20+COUNTIF(#REF!,\"=9\")*0)/COUNTA(#REF!)/100,\"N/A\")","v":{"$error":"#REF!"}},{"$f":"IF(AND(COUNTA(B289:X289)<>0,#REF!<>\"\"),AVERAGE(Y289:AE289),\"N/A\")","v":{"$error":"#REF!"}},1,1,1,1,1,{"$error":"#REF!"},{"$error":"#REF!"},{"$error":"#REF!"}]
[{"$nulls":24},{"$f":"IF(COUNTA(B290:G290)>0,(COUNTIF(B290:G290,\"=0\")*0+COUNTIF(B290:G290,\"=1\")*100+COUNTIF(B290:G290,\"=2\")*80+COUNTIF(B290:G290,\"=3\")*50+COUNTIF(B290:G290,\"=8\")*20+COUNTIF(B290:G290,\"=9\")*0)/COUNTA(B290:G290)/100,\"N/A\")","v":"N/A"},{"$f":"IF(COUNTA(K290:P290)>0,(COUNTIF(K290:P290,\"=0\")*0+COUNTIF(K290:P290,\"=1\")*100+COUNTIF(K290:P290,\"=2\")*80+COUNTIF(K290:P290,\"=3\")*50+COUNTIF(K290:P290,\"=8\")*20+COUNTIF(K290:P290,\"=9\")*0)/COUNTA(K290:P290)/100,\"N/A\")","v":"N/A"},{"$f":"IF(COUNTA(Q290)>0,(COUNTIF(Q290,\"=0\")*0+COUNTIF(Q290,\"=1\")*100+COUNTIF(Q290,\"=2\")*80+COUNTIF(Q290,\"=3\")*50+COUNTIF(Q290,\"=8\")*20+COUNTIF(Q290,\"=9\")*0)/COUNTA(Q290)/100,\"N/A\")","v":"N/A"},{"$f":"IF(COUNTA(S290:W290)<>0,(COUNTIF(S290:W290,\"=0\")*0+COUNTIF(S290:W290,\"=1\")*100+COUNTIF(S290:W290,\"=2\")*80+COUNTIF(S290:W290,\"=3\")*50+COUNTIF(S290:W290,\"=8\")*20+COUNTIF(S290:W290,\"=9\")*0)/COUNTA(S290:W290)/100,\"N/A\")","v":"N/A"},"N/A",{"$f":"IF(COUNTA(#REF!)>0,(COUNTIF(#REF!,\"=0\")*0+COUNTIF(#REF!,\"=1\")*100+COUNTIF(#REF!,\"=2\")*80+COUNTIF(#REF!,\"=3\")*50+COUNTIF(#REF!,\"=8\")*20+COUNTIF(#REF!,\"=9\")*0)/COUNTA(#REF!)/100,\"N/A\")","v":{"$error":"#REF!"}},{"$f":"IF(COUNTA(#REF!)>0,(COUNTIF(#REF!,\"=0\")*0+COUNTIF(#REF!,\"=1\")*100+COUNTIF(#REF!,\"=2\")*80+COUNTIF(#REF!,\"=3\")*50+COUNTIF(#REF!,\"=8\")*20+COUNTIF(#REF!,\"=9\")*0)/COUNTA(#REF!)/100,\"N/A\")","v":{"$error":"#REF!"}},{"$f":"IF(AND(COUNTA(B290:X290)<>0,#REF!<>\"\"),AVERAGE(Y290:AE290),\"N/A\")","v":{"$error":"#REF!"}},1,1,1,1,1,{"$error":"#REF!"},{"$error":"#REF!"},{"$error":"#REF!"}]
[{"$nulls":24},{"$f":"IF(COUNTA(B291:G291)>0,(COUNTIF(B291:G291,\"=0\")*0+COUNTIF(B291:G291,\"=1\")*100+COUNTIF(B291:G291,\"=2\")*80+COUNTIF(B291:G291,\"=3\")*50+COUNTIF(B291:G291,\"=8\")*20+COUNTIF(B291:G291,\"=9\")*0)/COUNTA(B291:G291)/100,\"N/A\")","v":"N/A"},{"$f":"IF(COUNTA(K291:P291)>0,(COUNTIF(K291:P291,\"=0\")*0+COUNTIF(K291:P291,\"=1\")*100+COUNTIF(K291:P291,\"=2\")*80+COUNTIF(K291:P291,\"=3\")*50+COUNTIF(K291:P291,\"=8\")*20+COUNTIF(K291:P291,\"=9\")*0)/COUNTA(K291:P291)/100,\"N/A\")","v":"N/A"},{"$f":"IF(COUNTA(Q291)>0,(COUNTIF(Q291,\"=0\")*0+COUNTIF(Q291,\"=1\")*100+COUNTIF(Q291,\"=2\")*80+COUNTIF(Q291,\"=3\")*50+COUNTIF(Q291,\"=8\")*20+COUNTIF(Q291,\"=9\")*0)/COUNTA(Q291)/100,\"N/A\")","v":"N/A"},{"$f":"IF(COUNTA(S291:W291)<>0,(COUNTIF(S291:W291,\"=0\")*0+COUNTIF(S291:W291,\"=1\")*100+COUNTIF(S291:W291,\"=2\")*80+COUNTIF(S291:W291,\"=3\")*50+COUNTIF(S291:W291,\"=8\")*20+COUNTIF(S291:W291,\"=9\")*0)/COUNTA(S291:W291)/100,\"N/A\")","v":"N/A"},"N/A",{"$f":"IF(COUNTA(#REF!)>0,(COUNTIF(#REF!,\"=0\")*0+COUNTIF(#REF!,\"=1\")*100+COUNTIF(#REF!,\"=2\")*80+COUNTIF(#REF!,\"=3\")*50+COUNTIF(#REF!,\"=8\")*20+COUNTIF(#REF!,\"=9\")*0)/COUNTA(#REF!)/100,\"N/A\")","v":{"$error":"#REF!"}},{"$f":"IF(COUNTA(#REF!)>0,(COUNTIF(#REF!,\"=0\")*0+COUNTIF(#REF!,\"=1\")*100+COUNTIF(#REF!,\"=2\")*80+COUNTIF(#REF!,\"=3\")*50+COUNTIF(#REF!,\"=8\")*20+COUNTIF(#REF!,\"=9\")*0)/COUNTA(#REF!)/100,\"N/A\")","v":{"$error":"#REF!"}},{"$f":"IF(AND(COUNTA(B291:X291)<>0,#REF!<>\"\"),AVERAGE(Y291:AE291),\"N/A\")","v":{"$error":"#REF!"}},1,1,1,1,1,{"$error":"#REF!"},{"$error":"#REF!"},{"$error":"#REF!"}]
[{"$nulls":24},{"$f":"IF(COUNTA(B292:G292)>0,(COUNTIF(B292:G292,\"=0\")*0+COUNTIF(B292:G292,\"=1\")*100+COUNTIF(B292:G292,\"=2\")*80+COUNTIF(B292:G292,\"=3\")*50+COUNTIF(B292:G292,\"=8\")*20+COUNTIF(B292:G292,\"=9\")*0)/COUNTA(B292:G292)/100,\"N/A\")","v":"N/A"},{"$f":"IF(COUNTA(K292:P292)>0,(COUNTIF(K292:P292,\"=0\")*0+COUNTIF(K292:P292,\"=1\")*100+COUNTIF(K292:P292,\"=2\")*80+COUNTIF(K292:P292,\"=3\")*50+COUNTIF(K292:P292,\"=8\")*20+COUNTIF(K292:P292,\"=9\")*0)/COUNTA(K292:P292)/100,\"N/A\")","v":"N/A"},{"$f":"IF(COUNTA(Q292)>0,(COUNTIF(Q292,\"=0\")*0+COUNTIF(Q292,\"=1\")*100+COUNTIF(Q292,\"=2\")*80+COUNTIF(Q292,\"=3\")*50+COUNTIF(Q292,\"=8\")*20+COUNTIF(Q292,\"=9\")*0)/COUNTA(Q292)/100,\"N/A\")","v":"N/A"},{"$f":"IF(COUNTA(S292:W292)<>0,(COUNTIF(S292:W292,\"=0\")*0+COUNTIF(S292:W292,\"=1\")*100+COUNTIF(S292:W292,\"=2\")*80+COUNTIF(S292:W292,\"=3\")*50+COUNTIF(S292:W292,\"=8\")*20+COUNTIF(S292:W292,\"=9\")*0)/COUNTA(S292:W292)/100,\"N/A\")","v":"N/A"},"N/A",{"$f":"IF(COUNTA(#REF!)>0,(COUNTIF(#REF!,\"=0\")*0+COUNTIF(#REF!,\"=1\")*100+COUNTIF(#REF!,\"=2\")*80+COUNTIF(#REF!,\"=3\")*50+COUNTIF(#REF!,\"=8\")*20+COUNTIF(#REF!,\"=9\")*0)/COUNTA(#REF!)/100,\"N/A\")","v":{"$error":"#REF!"}},{"$f":"IF(COUNTA(#REF!)>0,(COUNTIF(#REF!,\"=0\")*0+COUNTIF(#REF!,\"=1\")*100+COUNTIF(#REF!,\"=2\")*80+COUNTIF(#REF!,\"=3\")*50+COUNTIF(#REF!,\"=8\")*20+COUNTIF(#REF!,\"=9\")*0)/COUNTA(#REF!)/100,\"N/A\")","v":{"$error":"#REF!"}},{"$f":"IF(AND(COUNTA(B292:X292)<>0,#REF!<>\"\"),AVERAGE(Y292:AE292),\"N/A\")","v":{"$error":"#REF!"}},1,1,1,1,1,{"$error":"#REF!"},{"$error":"#REF!"},{"$error":"#REF!"}]
[{"$nulls":24},{"$f":"IF(COUNTA(B293:G293)>0,(COUNTIF(B293:G293,\"=0\")*0+COUNTIF(B293:G293,\"=1\")*100+COUNTIF(B293:G293,\"=2\")*80+COUNTIF(B293:G293,\"=3\")*50+COUNTIF(B293:G293,\"=8\")*20+COUNTIF(B293:G293,\"=9\")*0)/COUNTA(B293:G293)/100,\"N/A\")","v":"N/A"},{"$f":"IF(COUNTA(K293:P293)>0,(COUNTIF(K293:P293,\"=0\")*0+COUNTIF(K293:P293,\"=1\")*100+COUNTIF(K293:P293,\"=2\")*80+COUNTIF(K293:P293,\"=3\")*50+COUNTIF(K293:P293,\"=8\")*20+COUNTIF(K293:P293,\"=9\")*0)/COUNTA(K293:P293)/100,\"N/A\")","v":"N/A"},{"$f":"IF(COUNTA(Q293)>0,(COUNTIF(Q293,\"=0\")*0+COUNTIF(Q293,\"=1\")*100+COUNTIF(Q293,\"=2\")*80+COUNTIF(Q293,\"=3\")*50+COUNTIF(Q293,\"=8\")*20+COUNTIF(Q293,\"=9\")*0)/COUNTA(Q293)/100,\"N/A\")","v":"N/A"},{"$f":"IF(COUNTA(S293:W293)<>0,(COUNTIF(S293:W293,\"=0\")*0+COUNTIF(S293:W293,\"=1\")*100+COUNTIF(S293:W293,\"=2\")*80+COUNTIF(S293:W293,\"=3\")*50+COUNTIF(S293:W293,\"=8\")*20+COUNTIF(S293:W293,\"=9\")*0)/COUNTA(S293:W293)/100,\"N/A\")","v":"N/A"},"N/A",{"$f":"IF(COUNTA(#REF!)>0,(COUNTIF(#REF!,\"=0\")*0+COUNTIF(#REF!,\"=1\")*100+COUNTIF(#REF!,\"=2\")*80+COUNTIF(#REF!,\"=3\")*50+COUNTIF(#REF!,\"=8\")*20+COUNTIF(#REF!,\"=9\")*0)/COUNTA(#REF!)/100,\"N/A\")","v":{"$error":"#REF!"}},{"$f":"IF(COUNTA(#REF!)>0,(COUNTIF(#REF!,\"=0\")*0+COUNTIF(#REF!,\"=1\")*100+COUNTIF(#REF!,\"=2\")*80+COUNTIF(#REF!,\"=3\")*50+COUNTIF(#REF!,\"=8\")*20+COUNTIF(#REF!,\"=9\")*0)/COUNTA(#REF!)/100,\"N/A\")","v":{"$error":"#REF!"}},{"$f":"IF(AND(COUNTA(B293:X293)<>0,#REF!<>\"\"),AVERAGE(Y293:AE293),\"N/A\")","v":{"$error":"#REF!"}},1,1,1,1,1,{"$error":"#REF!"},{"$error":"#REF!"},{"$error":"#REF!"}]
[{"$nulls":24},{"$f":"IF(COUNTA(B294:G294)>0,(COUNTIF(B294:G294,\"=0\")*0+COUNTIF(B294:G294,\"=1\")*100+COUNTIF(B294:G294,\"=2\")*80+COUNTIF(B294:G294,\"=3\")*50+COUNTIF(B294:G294,\"=8\")*20+COUNTIF(B294:G294,\"=9\")*0)/COUNTA(B294:G294)/100,\"N/A\")","v":"N/A"},{"$f":"IF(COUNTA(K294:P294)>0,(COUNTIF(K294:P294,\"=0\")*0+COUNTIF(K294:P294,\"=1\")*100+COUNTIF(K294:P294,\"=2\")*80+COUNTIF(K294:P294,\"=3\")*50+COUNTIF(K294:P294,\"=8\")*20+COUNTIF(K294:P294,\"=9\")*0)/COUNTA(K294:P294)/100,\"N/A\")","v":"N/A"},{"$f":"IF(COUNTA(Q294)>0,(COUNTIF(Q294,\"=0\")*0+COUNTIF(Q294,\"=1\")*100+COUNTIF(Q294,\"=2\")*80+COUNTIF(Q294,\"=3\")*50+COUNTIF(Q294,\"=8\")*20+COUNTIF(Q294,\"=9\")*0)/COUNTA(Q294)/100,\"N/A\")","v":"N/A"},{"$f":"IF(COUNTA(S294:W294)<>0,(COUNTIF(S294:W294,\"=0\")*0+COUNTIF(S294:W294,\"=1\")*100+COUNTIF(S294:W294,\"=2\")*80+COUNTIF(S294:W294,\"=3\")*50+COUNTIF(S294:W294,\"=8\")*20+COUNTIF(S294:W294,\"=9\")*0)/COUNTA(S294:W294)/100,\"N/A\")","v":"N/A"},"N/A",{"$f":"IF(COUNTA(#REF!)>0,(COUNTIF(#REF!,\"=0\")*0+COUNTIF(#REF!,\"=1\")*100+COUNTIF(#REF!,\"=2\")*80+COUNTIF(#REF!,\"=3\")*50+COUNTIF(#REF!,\"=8\")*20+COUNTIF(#REF!,\"=9\")*0)/COUNTA(#REF!)/100,\"N/A\")","v":{"$error":"#REF!"}},{"$f":"IF(COUNTA(#REF!)>0,(COUNTIF(#REF!,\"=0\")*0+COUNTIF(#REF!,\"=1\")*100+COUNTIF(#REF!,\"=2\")*80+COUNTIF(#REF!,\"=3\")*50+COUNTIF(#REF!,\"=8\")*20+COUNTIF(#REF!,\"=9\")*0)/COUNTA(#REF!)/100,\"N/A\")","v":{"$error":"#REF!"}},{"$f":"IF(AND(COUNTA(B294:X294)<>0,#REF!<>\"\"),AVERAGE(Y294:AE294),\"N/A\")","v":{"$error":"#REF!"}},1,1,1,1,1,{"$error":"#REF!"},{"$error":"#REF!"},{"$error":"#REF!"}]
[{"$nulls":24},{"$f":"IF(COUNTA(B295:G295)>0,(COUNTIF(B295:G295,\"=0\")*0+COUNTIF(B295:G295,\"=1\")*100+COUNTIF(B295:G295,\"=2\")*80+COUNTIF(B295:G295,\"=3\")*50+COUNTIF(B295:G295,\"=8\")*20+COUNTIF(B295:G295,\"=9\")*0)/COUNTA(B295:G295)/100,\"N/A\")","v":"N/A"},{"$f":"IF(COUNTA(K295:P295)>0,(COUNTIF(K295:P295,\"=0\")*0+COUNTIF(K295:P295,\"=1\")*100+COUNTIF(K295:P295,\"=2\")*80+COUNTIF(K295:P295,\"=3\")*50+COUNTIF(K295:P295,\"=8\")*20+COUNTIF(K295:P295,\"=9\")*0)/COUNTA(K295:P295)/100,\"N/A\")","v":"N/A"},{"$f":"IF(COUNTA(Q295)>0,(COUNTIF(Q295,\"=0\")*0+COUNTIF(Q295,\"=1\")*100+COUNTIF(Q295,\"=2\")*80+COUNTIF(Q295,\"=3\")*50+COUNTIF(Q295,\"=8\")*20+COUNTIF(Q295,\"=9\")*0)/COUNTA(Q295)/100,\"N/A\")","v":"N/A"},{"$f":"IF(COUNTA(S295:W295)<>0,(COUNTIF(S295:W295,\"=0\")*0+COUNTIF(S295:W295,\"=1\")*100+COUNTIF(S295:W295,\"=2\")*80+COUNTIF(S295:W295,\"=3\")*50+COUNTIF(S295:W295,\"=8\")*20+COUNTIF(S295:W295,\"=9\")*0)/COUNTA(S295:W295)/100,\"N/A\")","v":"N/A"},"N/A",{"$f":"IF(COUNTA(#REF!)>0,(COUNTIF(#REF!,\"=0\")*0+COUNTIF(#REF!,\"=1\")*100+COUNTIF(#REF!,\"=2\")*80+COUNTIF(#REF!,\"=3\")*50+COUNTIF(#REF!,\"=8\")*20+COUNTIF(#REF!,\"=9\")*0)/COUNTA(#REF!)/100,\"N/A\")","v":{"$error":"#REF!"}},{"$f":"IF(COUNTA(#REF!)>0,(COUNTIF(#REF!,\"=0\")*0+COUNTIF(#REF!,\"=1\")*100+COUNTIF(#REF!,\"=2\")*80+COUNTIF(#REF!,\"=3\")*50+COUNTIF(#REF!,\"=8\")*20+COUNTIF(#REF!,\"=9\")*0)/COUNTA(#REF!)/100,\"N/A\")","v":{"$error":"#REF!"}},{"$f":"IF(AND(COUNTA(B295:X295)<>0,#REF!<>\"\"),AVERAGE(Y295:AE295),\"N/A\")","v":{"$error":"#REF!"}},1,1,1,1,1,{"$error":"#REF!"},{"$error":"#REF!"},{"$error":"#REF!"}]
[{"$nulls":24},{"$f":"IF(COUNTA(B296:G296)>0,(COUNTIF(B296:G296,\"=0\")*0+COUNTIF(B296:G296,\"=1\")*100+COUNTIF(B296:G296,\"=2\")*80+COUNTIF(B296:G296,\"=3\")*50+COUNTIF(B296:G296,\"=8\")*20+COUNTIF(B296:G296,\"=9\")*0)/COUNTA(B296:G296)/100,\"N/A\")","v":"N/A"},{"$f":"IF(COUNTA(K296:P296)>0,(COUNTIF(K296:P296,\"=0\")*0+COUNTIF(K296:P296,\"=1\")*100+COUNTIF(K296:P296,\"=2\")*80+COUNTIF(K296:P296,\"=3\")*50+COUNTIF(K296:P296,\"=8\")*20+COUNTIF(K296:P296,\"=9\")*0)/COUNTA(K296:P296)/100,\"N/A\")","v":"N/A"},{"$f":"IF(COUNTA(Q296)>0,(COUNTIF(Q296,\"=0\")*0+COUNTIF(Q296,\"=1\")*100+COUNTIF(Q296,\"=2\")*80+COUNTIF(Q296,\"=3\")*50+COUNTIF(Q296,\"=8\")*20+COUNTIF(Q296,\"=9\")*0)/COUNTA(Q296)/100,\"N/A\")","v":"N/A"},{"$f":"IF(COUNTA(S296:W296)<>0,(COUNTIF(S296:W296,\"=0\")*0+COUNTIF(S296:W296,\"=1\")*100+COUNTIF(S296:W296,\"=2\")*80+COUNTIF(S296:W296,\"=3\")*50+COUNTIF(S296:W296,\"=8\")*20+COUNTIF(S296:W296,\"=9\")*0)/COUNTA(S296:W296)/100,\"N/A\")","v":"N/A"},"N/A",{"$f":"IF(COUNTA(#REF!)>0,(COUNTIF(#REF!,\"=0\")*0+COUNTIF(#REF!,\"=1\")*100+COUNTIF(#REF!,\"=2\")*80+COUNTIF(#REF!,\"=3\")*50+COUNTIF(#REF!,\"=8\")*20+COUNTIF(#REF!,\"=9\")*0)/COUNTA(#REF!)/100,\"N/A\")","v":{"$error":"#REF!"}},{"$f":"IF(COUNTA(#REF!)>0,(COUNTIF(#REF!,\"=0\")*0+COUNTIF(#REF!,\"=1\")*100+COUNTIF(#REF!,\"=2\")*80+COUNTIF(#REF!,\"=3\")*50+COUNTIF(#REF!,\"=8\")*20+COUNTIF(#REF!,\"=9\")*0)/COUNTA(#REF!)/100,\"N/A\")","v":{"$error":"#REF!"}},{"$f":"IF(AND(COUNTA(B296:X296)<>0,#REF!<>\"\"),AVERAGE(Y296:AE296),\"N/A\")","v":{"$error":"#REF!"}},1,1,1,1,1,{"$error":"#REF!"},{"$error":"#REF!"},{"$error":"#REF!"}]
[{"$nulls":24},{"$f":"IF(COUNTA(B297:G297)>0,(COUNTIF(B297:G297,\"=0\")*0+COUNTIF(B297:G297,\"=1\")*100+COUNTIF(B297:G297,\"=2\")*80+COUNTIF(B297:G297,\"=3\")*50+COUNTIF(B297:G297,\"=8\")*20+COUNTIF(B297:G297,\"=9\")*0)/COUNTA(B297:G297)/100,\"N/A\")","v":"N/A"},{"$f":"IF(COUNTA(K297:P297)>0,(COUNTIF(K297:P297,\"=0\")*0+COUNTIF(K297:P297,\"=1\")*100+COUNTIF(K297:P297,\"=2\")*80+COUNTIF(K297:P297,\"=3\")*50+COUNTIF(K297:P297,\"=8\")*20+COUNTIF(K297:P297,\"=9\")*0)/COUNTA(K297:P297)/100,\"N/A\")","v":"N/A"},{"$f":"IF(COUNTA(Q297)>0,(COUNTIF(Q297,\"=0\")*0+COUNTIF(Q297,\"=1\")*100+COUNTIF(Q297,\"=2\")*80+COUNTIF(Q297,\"=3\")*50+COUNTIF(Q297,\"=8\")*20+COUNTIF(Q297,\"=9\")*0)/COUNTA(Q297)/100,\"N/A\")","v":"N/A"},{"$f":"IF(COUNTA(S297:W297)<>0,(COUNTIF(S297:W297,\"=0\")*0+COUNTIF(S297:W297,\"=1\")*100+COUNTIF(S297:W297,\"=2\")*80+COUNTIF(S297:W297,\"=3\")*50+COUNTIF(S297:W297,\"=8\")*20+COUNTIF(S297:W297,\"=9\")*0)/COUNTA(S297:W297)/100,\"N/A\")","v":"N/A"},"N/A",{"$f":"IF(COUNTA(#REF!)>0,(COUNTIF(#REF!,\"=0\")*0+COUNTIF(#REF!,\"=1\")*100+COUNTIF(#REF!,\"=2\")*80+COUNTIF(#REF!,\"=3\")*50+COUNTIF(#REF!,\"=8\")*20+COUNTIF(#REF!,\"=9\")*0)/COUNTA(#REF!)/100,\"N/A\")","v":{"$error":"#REF!"}},{"$f":"IF(COUNTA(#REF!)>0,(COUNTIF(#REF!,\"=0\")*0+COUNTIF(#REF!,\"=1\")*100+COUNTIF(#REF!,\"=2\")*80+COUNTIF(#REF!,\"=3\")*50+COUNTIF(#REF!,\"=8\")*20+COUNTIF(#REF!,\"=9\")*0)/COUNTA(#REF!)/100,\"N/A\")","v":{"$error":"#REF!"}},{"$f":"IF(AND(COUNTA(B297:X297)<>0,#REF!<>\"\"),AVERAGE(Y297:AE297),\"N/A\")","v":{"$error":"#REF!"}},1,1,1,1,1,{"$error":"#REF!"},{"$error":"#REF!"},{"$error":"#REF!"}]
[{"$nulls":24},{"$f":"IF(COUNTA(B298:G298)>0,(COUNTIF(B298:G298,\"=0\")*0+COUNTIF(B298:G298,\"=1\")*100+COUNTIF(B298:G298,\"=2\")*80+COUNTIF(B298:G298,\"=3\")*50+COUNTIF(B298:G298,\"=8\")*20+COUNTIF(B298:G298,\"=9\")*0)/COUNTA(B298:G298)/100,\"N/A\")","v":"N/A"},{"$f":"IF(COUNTA(K298:P298)>0,(COUNTIF(K298:P298,\"=0\")*0+COUNTIF(K298:P298,\"=1\")*100+COUNTIF(K298:P298,\"=2\")*80+COUNTIF(K298:P298,\"=3\")*50+COUNTIF(K298:P298,\"=8\")*20+COUNTIF(K298:P298,\"=9\")*0)/COUNTA(K298:P298)/100,\"N/A\")","v":"N/A"},{"$f":"IF(COUNTA(Q298)>0,(COUNTIF(Q298,\"=0\")*0+COUNTIF(Q298,\"=1\")*100+COUNTIF(Q298,\"=2\")*80+COUNTIF(Q298,\"=3\")*50+COUNTIF(Q298,\"=8\")*20+COUNTIF(Q298,\"=9\")*0)/COUNTA(Q298)/100,\"N/A\")","v":"N/A"},{"$f":"IF(COUNTA(S298:W298)<>0,(COUNTIF(S298:W298,\"=0\")*0+COUNTIF(S298:W298,\"=1\")*100+COUNTIF(S298:W298,\"=2\")*80+COUNTIF(S298:W298,\"=3\")*50+COUNTIF(S298:W298,\"=8\")*20+COUNTIF(S298:W298,\"=9\")*0)/COUNTA(S298:W298)/100,\"N/A\")","v":"N/A"},"N/A",{"$f":"IF(COUNTA(#REF!)>0,(COUNTIF(#REF!,\"=0\")*0+COUNTIF(#REF!,\"=1\")*100+COUNTIF(#REF!,\"=2\")*80+COUNTIF(#REF!,\"=3\")*50+COUNTIF(#REF!,\"=8\")*20+COUNTIF(#REF!,\"=9\")*0)/COUNTA(#REF!)/100,\"N/A\")","v":{"$error":"#REF!"}},{"$f":"IF(COUNTA(#REF!)>0,(COUNTIF(#REF!,\"=0\")*0+COUNTIF(#REF!,\"=1\")*100+COUNTIF(#REF!,\"=2\")*80+COUNTIF(#REF!,\"=3\")*50+COUNTIF(#REF!,\"=8\")*20+COUNTIF(#REF!,\"=9\")*0)/COUNTA(#REF!)/100,\"N/A\")","v":{"$error":"#REF!"}},{"$f":"IF(AND(COUNTA(B298:X298)<>0,#REF!<>\"\"),AVERAGE(Y298:AE298),\"N/A\")","v":{"$error":"#REF!"}},1,1,1,1,1,{"$error":"#REF!"},{"$error":"#REF!"},{"$error":"#REF!"}]
[{"$nulls":24},{"$f":"IF(COUNTA(B299:G299)>0,(COUNTIF(B299:G299,\"=0\")*0+COUNTIF(B299:G299,\"=1\")*100+COUNTIF(B299:G299,\"=2\")*80+COUNTIF(B299:G299,\"=3\")*50+COUNTIF(B299:G299,\"=8\")*20+COUNTIF(B299:G299,\"=9\")*0)/COUNTA(B299:G299)/100,\"N/A\")","v":"N/A"},{"$f":"IF(COUNTA(K299:P299)>0,(COUNTIF(K299:P299,\"=0\")*0+COUNTIF(K299:P299,\"=1\")*100+COUNTIF(K299:P299,\"=2\")*80+COUNTIF(K299:P299,\"=3\")*50+COUNTIF(K299:P299,\"=8\")*20+COUNTIF(K299:P299,\"=9\")*0)/COUNTA(K299:P299)/100,\"N/A\")","v":"N/A"},{"$f":"IF(COUNTA(Q299)>0,(COUNTIF(Q299,\"=0\")*0+COUNTIF(Q299,\"=1\")*100+COUNTIF(Q299,\"=2\")*80+COUNTIF(Q299,\"=3\")*50+COUNTIF(Q299,\"=8\")*20+COUNTIF(Q299,\"=9\")*0)/COUNTA(Q299)/100,\"N/A\")","v":"N/A"},{"$f":"IF(COUNTA(S299:W299)<>0,(COUNTIF(S299:W299,\"=0\")*0+COUNTIF(S299:W299,\"=1\")*100+COUNTIF(S299:W299,\"=2\")*80+COUNTIF(S299:W299,\"=3\")*50+COUNTIF(S299:W299,\"=8\")*20+COUNTIF(S299:W299,\"=9\")*0)/COUNTA(S299:W299)/100,\"N/A\")","v":"N/A"},"N/A",{"$f":"IF(COUNTA(#REF!)>0,(COUNTIF(#REF!,\"=0\")*0+COUNTIF(#REF!,\"=1\")*100+COUNTIF(#REF!,\"=2\")*80+COUNTIF(#REF!,\"=3\")*50+COUNTIF(#REF!,\"=8\")*20+COUNTIF(#REF!,\"=9\")*0)/COUNTA(#REF!)/100,\"N/A\")","v":{"$error":"#REF!"}},{"$f":"IF(COUNTA(#REF!)>0,(COUNTIF(#REF!,\"=0\")*0+COUNTIF(#REF!,\"=1\")*100+COUNTIF(#REF!,\"=2\")*80+COUNTIF(#REF!,\"=3\")*50+COUNTIF(#REF!,\"=8\")*20+COUNTIF(#REF!,\"=9\")*0)/COUNTA(#REF!)/100,\"N/A\")","v":{"$error":"#REF!"}},{"$f":"IF(AND(COUNTA(B299:X299)<>0,#REF!<>\"\"),AVERAGE(Y299:AE299),\"N/A\")","v":{"$error":"#REF!"}},1,1,1,1,1,{"$error":"#REF!"},{"$error":"#REF!"},{"$error":"#REF!"}]
[{"$nulls":24},{"$f":"IF(COUNTA(B300:G300)>0,(COUNTIF(B300:G300,\"=0\")*0+COUNTIF(B300:G300,\"=1\")*100+COUNTIF(B300:G300,\"=2\")*80+COUNTIF(B300:G300,\"=3\")*50+COUNTIF(B300:G300,\"=8\")*20+COUNTIF(B300:G300,\"=9\")*0)/COUNTA(B300:G300)/100,\"N/A\")","v":"N/A"},{"$f":"IF(COUNTA(K300:P300)>0,(COUNTIF(K300:P300,\"=0\")*0+COUNTIF(K300:P300,\"=1\")*100+COUNTIF(K300:P300,\"=2\")*80+COUNTIF(K300:P300,\"=3\")*50+COUNTIF(K300:P300,\"=8\")*20+COUNTIF(K300:P300,\"=9\")*0)/COUNTA(K300:P300)/100,\"N/A\")","v":"N/A"},{"$f":"IF(COUNTA(Q300)>0,(COUNTIF(Q300,\"=0\")*0+COUNTIF(Q300,\"=1\")*100+COUNTIF(Q300,\"=2\")*80+COUNTIF(Q300,\"=3\")*50+COUNTIF(Q300,\"=8\")*20+COUNTIF(Q300,\"=9\")*0)/COUNTA(Q300)/100,\"N/A\")","v":"N/A"},{"$f":"IF(COUNTA(S300:W300)<>0,(COUNTIF(S300:W300,\"=0\")*0+COUNTIF(S300:W300,\"=1\")*100+COUNTIF(S300:W300,\"=2\")*80+COUNTIF(S300:W300,\"=3\")*50+COUNTIF(S300:W300,\"=8\")*20+COUNTIF(S300:W300,\"=9\")*0)/COUNTA(S300:W300)/100,\"N/A\")","v":"N/A"},"N/A",{"$f":"IF(COUNTA(#REF!)>0,(COUNTIF(#REF!,\"=0\")*0+COUNTIF(#REF!,\"=1\")*100+COUNTIF(#REF!,\"=2\")*80+COUNTIF(#REF!,\"=3\")*50+COUNTIF(#REF!,\"=8\")*20+COUNTIF(#REF!,\"=9\")*0)/COUNTA(#REF!)/100,\"N/A\")","v":{"$error":"#REF!"}},{"$f":"IF(COUNTA(#REF!)>0,(COUNTIF(#REF!,\"=0\")*0+COUNTIF(#REF!,\"=1\")*100+COUNTIF(#REF!,\"=2\")*80+COUNTIF(#REF!,\"=3\")*50+COUNTIF(#REF!,\"=8\")*20+COUNTIF(#REF!,\"=9\")*0)/COUNTA(#REF!)/100,\"N/A\")","v":{"$error":"#REF!"}},{"$f":"IF(AND(COUNTA(B300:X300)<>0,#REF!<>\"\"),AVERAGE(Y300:AE300),\"N/A\")","v":{"$error":"#REF!"}},1,1,1,1,1,{"$error":"#REF!"},{"$error":"#REF!"},{"$error":"#REF!"}]
[{"$nulls":24},{"$f":"IF(COUNTA(B301:G301)>0,(COUNTIF(B301:G301,\"=0\")*0+COUNTIF(B301:G301,\"=1\")*100+COUNTIF(B301:G301,\"=2\")*80+COUNTIF(B301:G301,\"=3\")*50+COUNTIF(B301:G301,\"=8\")*20+COUNTIF(B301:G301,\"=9\")*0)/COUNTA(B301:G301)/100,\"N/A\")","v":"N/A"},{"$f":"IF(COUNTA(K301:P301)>0,(COUNTIF(K301:P301,\"=0\")*0+COUNTIF(K301:P301,\"=1\")*100+COUNTIF(K301:P301,\"=2\")*80+COUNTIF(K301:P301,\"=3\")*50+COUNTIF(K301:P301,\"=8\")*20+COUNTIF(K301:P301,\"=9\")*0)/COUNTA(K301:P301)/100,\"N/A\")","v":"N/A"},{"$f":"IF(COUNTA(Q301)>0,(COUNTIF(Q301,\"=0\")*0+COUNTIF(Q301,\"=1\")*100+COUNTIF(Q301,\"=2\")*80+COUNTIF(Q301,\"=3\")*50+COUNTIF(Q301,\"=8\")*20+COUNTIF(Q301,\"=9\")*0)/COUNTA(Q301)/100,\"N/A\")","v":"N/A"},{"$f":"IF(COUNTA(S301:W301)<>0,(COUNTIF(S301:W301,\"=0\")*0+COUNTIF(S301:W301,\"=1\")*100+COUNTIF(S301:W301,\"=2\")*80+COUNTIF(S301:W301,\"=3\")*50+COUNTIF(S301:W301,\"=8\")*20+COUNTIF(S301:W301,\"=9\")*0)/COUNTA(S301:W301)/100,\"N/A\")","v":"N/A"},"N/A",{"$f":"IF(COUNTA(#REF!)>0,(COUNTIF(#REF!,\"=0\")*0+COUNTIF(#REF!,\"=1\")*100+COUNTIF(#REF!,\"=2\")*80+COUNTIF(#REF!,\"=3\")*50+COUNTIF(#REF!,\"=8\")*20+COUNTIF(#REF!,\"=9\")*0)/COUNTA(#REF!)/100,\"N/A\")","v":{"$error":"#REF!"}},{"$f":"IF(COUNTA(#REF!)>0,(COUNTIF(#REF!,\"=0\")*0+COUNTIF(#REF!,\"=1\")*100+COUNTIF(#REF!,\"=2\")*80+COUNTIF(#REF!,\"=3\")*50+COUNTIF(#REF!,\"=8\")*20+COUNTIF(#REF!,\"=9\")*0)/COUNTA(#REF!)/100,\"N/A\")","v":{"$error":"#REF!"}},{"$f":"IF(AND(COUNTA(B301:X301)<>0,#REF!<>\"\"),AVERAGE(Y301:AE301),\"N/A\")","v":{"$error":"#REF!"}},1,1,1,1,1,{"$error":"#REF!"},{"$error":"#REF!"},{"$error":"#REF!"}]
[{"$nulls":24},{"$f":"IF(COUNTA(B302:G302)>0,(COUNTIF(B302:G302,\"=0\")*0+COUNTIF(B302:G302,\"=1\")*100+COUNTIF(B302:G302,\"=2\")*80+COUNTIF(B302:G302,\"=3\")*50+COUNTIF(B302:G302,\"=8\")*20+COUNTIF(B302:G302,\"=9\")*0)/COUNTA(B302:G302)/100,\"N/A\")","v":"N/A"},{"$f":"IF(COUNTA(K302:P302)>0,(COUNTIF(K302:P302,\"=0\")*0+COUNTIF(K302:P302,\"=1\")*100+COUNTIF(K302:P302,\"=2\")*80+COUNTIF(K302:P302,\"=3\")*50+COUNTIF(K302:P302,\"=8\")*20+COUNTIF(K302:P302,\"=9\")*0)/COUNTA(K302:P302)/100,\"N/A\")","v":"N/A"},{"$f":"IF(COUNTA(Q302)>0,(COUNTIF(Q302,\"=0\")*0+COUNTIF(Q302,\"=1\")*100+COUNTIF(Q302,\"=2\")*80+COUNTIF(Q302,\"=3\")*50+COUNTIF(Q302,\"=8\")*20+COUNTIF(Q302,\"=9\")*0)/COUNTA(Q302)/100,\"N/A\")","v":"N/A"},{"$f":"IF(COUNTA(S302:W302)<>0,(COUNTIF(S302:W302,\"=0\")*0+COUNTIF(S302:W302,\"=1\")*100+COUNTIF(S302:W302,\"=2\")*80+COUNTIF(S302:W302,\"=3\")*50+COUNTIF(S302:W302,\"=8\")*20+COUNTIF(S302:W302,\"=9\")*0)/COUNTA(S302:W302)/100,\"N/A\")","v":"N/A"},"N/A",{"$f":"IF(COUNTA(#REF!)>0,(COUNTIF(#REF!,\"=0\")*0+COUNTIF(#REF!,\"=1\")*100+COUNTIF(#REF!,\"=2\")*80+COUNTIF(#REF!,\"=3\")*50+COUNTIF(#REF!,\"=8\")*20+COUNTIF(#REF!,\"=9\")*0)/COUNTA(#REF!)/100,\"N/A\")","v":{"$error":"#REF!"}},{"$f":"IF(COUNTA(#REF!)>0,(COUNTIF(#REF!,\"=0\")*0+COUNTIF(#REF!,\"=1\")*100+COUNTIF(#REF!,\"=2\")*80+COUNTIF(#REF!,\"=3\")*50+COUNTIF(#REF!,\"=8\")*20+COUNTIF(#REF!,\"=9\")*0)/COUNTA(#REF!)/100,\"N/A\")","v":{"$error":"#REF!"}},{"$f":"IF(AND(COUNTA(B302:X302)<>0,#REF!<>\"\"),AVERAGE(Y302:AE302),\"N/A\")","v":{"$error":"#REF!"}},1,1,1,1,1,{"$error":"#REF!"},{"$error":"#REF!"},{"$error":"#REF!"}]
[{"$nulls":24},{"$f":"IF(COUNTA(B303:G303)>0,(COUNTIF(B303:G303,\"=0\")*0+COUNTIF(B303:G303,\"=1\")*100+COUNTIF(B303:G303,\"=2\")*80+COUNTIF(B303:G303,\"=3\")*50+COUNTIF(B303:G303,\"=8\")*20+COUNTIF(B303:G303,\"=9\")*0)/COUNTA(B303:G303)/100,\"N/A\")","v":"N/A"},{"$f":"IF(COUNTA(K303:P303)>0,(COUNTIF(K303:P303,\"=0\")*0+COUNTIF(K303:P303,\"=1\")*100+COUNTIF(K303:P303,\"=2\")*80+COUNTIF(K303:P303,\"=3\")*50+COUNTIF(K303:P303,\"=8\")*20+COUNTIF(K303:P303,\"=9\")*0)/COUNTA(K303:P303)/100,\"N/A\")","v":"N/A"},{"$f":"IF(COUNTA(Q303)>0,(COUNTIF(Q303,\"=0\")*0+COUNTIF(Q303,\"=1\")*100+COUNTIF(Q303,\"=2\")*80+COUNTIF(Q303,\"=3\")*50+COUNTIF(Q303,\"=8\")*20+COUNTIF(Q303,\"=9\")*0)/COUNTA(Q303)/100,\"N/A\")","v":"N/A"},{"$f":"IF(COUNTA(S303:W303)<>0,(COUNTIF(S303:W303,\"=0\")*0+COUNTIF(S303:W303,\"=1\")*100+COUNTIF(S303:W303,\"=2\")*80+COUNTIF(S303:W303,\"=3\")*50+COUNTIF(S303:W303,\"=8\")*20+COUNTIF(S303:W303,\"=9\")*0)/COUNTA(S303:W303)/100,\"N/A\")","v":"N/A"},"N/A",{"$f":"IF(COUNTA(#REF!)>0,(COUNTIF(#REF!,\"=0\")*0+COUNTIF(#REF!,\"=1\")*100+COUNTIF(#REF!,\"=2\")*80+COUNTIF(#REF!,\"=3\")*50+COUNTIF(#REF!,\"=8\")*20+COUNTIF(#REF!,\"=9\")*0)/COUNTA(#REF!)/100,\"N/A\")","v":{"$error":"#REF!"}},{"$f":"IF(COUNTA(#REF!)>0,(COUNTIF(#REF!,\"=0\")*0+COUNTIF(#REF!,\"=1\")*100+COUNTIF(#REF!,\"=2\")*80+COUNTIF(#REF!,\"=3\")*50+COUNTIF(#REF!,\"=8\")*20+COUNTIF(#REF!,\"=9\")*0)/COUNTA(#REF!)/100,\"N/A\")","v":{"$error":"#REF!"}},{"$f":"IF(AND(COUNTA(B303:X303)<>0,#REF!<>\"\"),AVERAGE(Y303:AE303),\"N/A\")","v":{"$error":"#REF!"}},1,1,1,1,1,{"$error":"#REF!"},{"$error":"#REF!"},{"$error":"#REF!"}]
[{"$nulls":24},{"$f":"IF(COUNTA(B304:G304)>0,(COUNTIF(B304:G304,\"=0\")*0+COUNTIF(B304:G304,\"=1\")*100+COUNTIF(B304:G304,\"=2\")*80+COUNTIF(B304:G304,\"=3\")*50+COUNTIF(B304:G304,\"=8\")*20+COUNTIF(B304:G304,\"=9\")*0)/COUNTA(B304:G304)/100,\"N/A\")","v":"N/A"},{"$f":"IF(COUNTA(K304:P304)>0,(COUNTIF(K304:P304,\"=0\")*0+COUNTIF(K304:P304,\"=1\")*100+COUNTIF(K304:P304,\"=2\")*80+COUNTIF(K304:P304,\"=3\")*50+COUNTIF(K304:P304,\"=8\")*20+COUNTIF(K304:P304,\"=9\")*0)/COUNTA(K304:P304)/100,\"N/A\")","v":"N/A"},{"$f":"IF(COUNTA(Q304)>0,(COUNTIF(Q304,\"=0\")*0+COUNTIF(Q304,\"=1\")*100+COUNTIF(Q304,\"=2\")*80+COUNTIF(Q304,\"=3\")*50+COUNTIF(Q304,\"=8\")*20+COUNTIF(Q304,\"=9\")*0)/COUNTA(Q304)/100,\"N/A\")","v":"N/A"},{"$f":"IF(COUNTA(S304:W304)<>0,(COUNTIF(S304:W304,\"=0\")*0+COUNTIF(S304:W304,\"=1\")*100+COUNTIF(S304:W304,\"=2\")*80+COUNTIF(S304:W304,\"=3\")*50+COUNTIF(S304:W304,\"=8\")*20+COUNTIF(S304:W304,\"=9\")*0)/COUNTA(S304:W304)/100,\"N/A\")","v":"N/A"},"N/A",{"$f":"IF(COUNTA(#REF!)>0,(COUNTIF(#REF!,\"=0\")*0+COUNTIF(#REF!,\"=1\")*100+COUNTIF(#REF!,\"=2\")*80+COUNTIF(#REF!,\"=3\")*50+COUNTIF(#REF!,\"=8\")*20+COUNTIF(#REF!,\"=9\")*0)/COUNTA(#REF!)/100,\"N/A\")","v":{"$error":"#REF!"}},{"$f":"IF(COUNTA(#REF!)>0,(COUNTIF(#REF!,\"=0\")*0+COUNTIF(#REF!,\"=1\")*100+COUNTIF(#REF!,\"=2\")*80+COUNTIF(#REF!,\"=3\")*50+COUNTIF(#REF!,\"=8\")*20+COUNTIF(#REF!,\"=9\")*0)/COUNTA(#REF!)/100,\"N/A\")","v":{"$error":"#REF!"}},{"$f":"IF(AND(COUNTA(B304:X304)<>0,#REF!<>\"\"),AVERAGE(Y304:AE304),\"N/A\")","v":{"$error":"#REF!"}},1,1,1,1,1,{"$error":"#REF!"},{"$error":"#REF!"},{"$error":"#REF!"}]
[{"$nulls":24},{"$f":"IF(COUNTA(B305:G305)>0,(COUNTIF(B305:G305,\"=0\")*0+COUNTIF(B305:G305,\"=1\")*100+COUNTIF(B305:G305,\"=2\")*80+COUNTIF(B305:G305,\"=3\")*50+COUNTIF(B305:G305,\"=8\")*20+COUNTIF(B305:G305,\"=9\")*0)/COUNTA(B305:G305)/100,\"N/A\")","v":"N/A"},{"$f":"IF(COUNTA(K305:P305)>0,(COUNTIF(K305:P305,\"=0\")*0+COUNTIF(K305:P305,\"=1\")*100+COUNTIF(K305:P305,\"=2\")*80+COUNTIF(K305:P305,\"=3\")*50+COUNTIF(K305:P305,\"=8\")*20+COUNTIF(K305:P305,\"=9\")*0)/COUNTA(K305:P305)/100,\"N/A\")","v":"N/A"},{"$f":"IF(COUNTA(Q305)>0,(COUNTIF(Q305,\"=0\")*0+COUNTIF(Q305,\"=1\")*100+COUNTIF(Q305,\"=2\")*80+COUNTIF(Q305,\"=3\")*50+COUNTIF(Q305,\"=8\")*20+COUNTIF(Q305,\"=9\")*0)/COUNTA(Q305)/100,\"N/A\")","v":"N/A"},{"$f":"IF(COUNTA(S305:W305)<>0,(COUNTIF(S305:W305,\"=0\")*0+COUNTIF(S305:W305,\"=1\")*100+COUNTIF(S305:W305,\"=2\")*80+COUNTIF(S305:W305,\"=3\")*50+COUNTIF(S305:W305,\"=8\")*20+COUNTIF(S305:W305,\"=9\")*0)/COUNTA(S305:W305)/100,\"N/A\")","v":"N/A"},"N/A",{"$f":"IF(COUNTA(#REF!)>0,(COUNTIF(#REF!,\"=0\")*0+COUNTIF(#REF!,\"=1\")*100+COUNTIF(#REF!,\"=2\")*80+COUNTIF(#REF!,\"=3\")*50+COUNTIF(#REF!,\"=8\")*20+COUNTIF(#REF!,\"=9\")*0)/COUNTA(#REF!)/100,\"N/A\")","v":{"$error":"#REF!"}},{"$f":"IF(COUNTA(#REF!)>0,(COUNTIF(#REF!,\"=0\")*0+COUNTIF(#REF!,\"=1\")*100+COUNTIF(#REF!,\"=2\")*80+COUNTIF(#REF!,\"=3\")*50+COUNTIF(#REF!,\"=8\")*20+COUNTIF(#REF!,\"=9\")*0)/COUNTA(#REF!)/100,\"N/A\")","v":{"$error":"#REF!"}},{"$f":"IF(AND(COUNTA(B305:X305)<>0,#REF!<>\"\"),AVERAGE(Y305:AE305),\"N/A\")","v":{"$error":"#REF!"}},1,1,1,1,1,{"$error":"#REF!"},{"$error":"#REF!"},{"$error":"#REF!"}]
[{"$nulls":24},{"$f":"IF(COUNTA(B306:G306)>0,(COUNTIF(B306:G306,\"=0\")*0+COUNTIF(B306:G306,\"=1\")*100+COUNTIF(B306:G306,\"=2\")*80+COUNTIF(B306:G306,\"=3\")*50+COUNTIF(B306:G306,\"=8\")*20+COUNTIF(B306:G306,\"=9\")*0)/COUNTA(B306:G306)/100,\"N/A\")","v":"N/A"},{"$f":"IF(COUNTA(K306:P306)>0,(COUNTIF(K306:P306,\"=0\")*0+COUNTIF(K306:P306,\"=1\")*100+COUNTIF(K306:P306,\"=2\")*80+COUNTIF(K306:P306,\"=3\")*50+COUNTIF(K306:P306,\"=8\")*20+COUNTIF(K306:P306,\"=9\")*0)/COUNTA(K306:P306)/100,\"N/A\")","v":"N/A"},{"$f":"IF(COUNTA(Q306)>0,(COUNTIF(Q306,\"=0\")*0+COUNTIF(Q306,\"=1\")*100+COUNTIF(Q306,\"=2\")*80+COUNTIF(Q306,\"=3\")*50+COUNTIF(Q306,\"=8\")*20+COUNTIF(Q306,\"=9\")*0)/COUNTA(Q306)/100,\"N/A\")","v":"N/A"},{"$f":"IF(COUNTA(S306:W306)<>0,(COUNTIF(S306:W306,\"=0\")*0+COUNTIF(S306:W306,\"=1\")*100+COUNTIF(S306:W306,\"=2\")*80+COUNTIF(S306:W306,\"=3\")*50+COUNTIF(S306:W306,\"=8\")*20+COUNTIF(S306:W306,\"=9\")*0)/COUNTA(S306:W306)/100,\"N/A\")","v":"N/A"},"N/A",{"$f":"IF(COUNTA(#REF!)>0,(COUNTIF(#REF!,\"=0\")*0+COUNTIF(#REF!,\"=1\")*100+COUNTIF(#REF!,\"=2\")*80+COUNTIF(#REF!,\"=3\")*50+COUNTIF(#REF!,\"=8\")*20+COUNTIF(#REF!,\"=9\")*0)/COUNTA(#REF!)/100,\"N/A\")","v":{"$error":"#REF!"}},{"$f":"IF(COUNTA(#REF!)>0,(COUNTIF(#REF!,\"=0\")*0+COUNTIF(#REF!,\"=1\")*100+COUNTIF(#REF!,\"=2\")*80+COUNTIF(#REF!,\"=3\")*50+COUNTIF(#REF!,\"=8\")*20+COUNTIF(#REF!,\"=9\")*0)/COUNTA(#REF!)/100,\"N/A\")","v":{"$error":"#REF!"}},{"$f":"IF(AND(COUNTA(B306:X306)<>0,#REF!<>\"\"),AVERAGE(Y306:AE306),\"N/A\")","v":{"$error":"#REF!"}},1,1,1,1,1,{"$error":"#REF!"},{"$error":"#REF!"},{"$error":"#REF!"}]
[{"$nulls":24},{"$f":"IF(COUNTA(B307:G307)>0,(COUNTIF(B307:G307,\"=0\")*0+COUNTIF(B307:G307,\"=1\")*100+COUNTIF(B307:G307,\"=2\")*80+COUNTIF(B307:G307,\"=3\")*50+COUNTIF(B307:G307,\"=8\")*20+COUNTIF(B307:G307,\"=9\")*0)/COUNTA(B307:G307)/100,\"N/A\")","v":"N/A"},{"$f":"IF(COUNTA(K307:P307)>0,(COUNTIF(K307:P307,\"=0\")*0+COUNTIF(K307:P307,\"=1\")*100+COUNTIF(K307:P307,\"=2\")*80+COUNTIF(K307:P307,\"=3\")*50+COUNTIF(K307:P307,\"=8\")*20+COUNTIF(K307:P307,\"=9\")*0)/COUNTA(K307:P307)/100,\"N/A\")","v":"N/A"},{"$f":"IF(COUNTA(Q307)>0,(COUNTIF(Q307,\"=0\")*0+COUNTIF(Q307,\"=1\")*100+COUNTIF(Q307,\"=2\")*80+COUNTIF(Q307,\"=3\")*50+COUNTIF(Q307,\"=8\")*20+COUNTIF(Q307,\"=9\")*0)/COUNTA(Q307)/100,\"N/A\")","v":"N/A"},{"$f":"IF(COUNTA(S307:W307)<>0,(COUNTIF(S307:W307,\"=0\")*0+COUNTIF(S307:W307,\"=1\")*100+COUNTIF(S307:W307,\"=2\")*80+COUNTIF(S307:W307,\"=3\")*50+COUNTIF(S307:W307,\"=8\")*20+COUNTIF(S307:W307,\"=9\")*0)/COUNTA(S307:W307)/100,\"N/A\")","v":"N/A"},"N/A",{"$f":"IF(COUNTA(#REF!)>0,(COUNTIF(#REF!,\"=0\")*0+COUNTIF(#REF!,\"=1\")*100+COUNTIF(#REF!,\"=2\")*80+COUNTIF(#REF!,\"=3\")*50+COUNTIF(#REF!,\"=8\")*20+COUNTIF(#REF!,\"=9\")*0)/COUNTA(#REF!)/100,\"N/A\")","v":{"$error":"#REF!"}},{"$f":"IF(COUNTA(#REF!)>0,(COUNTIF(#REF!,\"=0\")*0+COUNTIF(#REF!,\"=1\")*100+COUNTIF(#REF!,\"=2\")*80+COUNTIF(#REF!,\"=3\")*50+COUNTIF(#REF!,\"=8\")*20+COUNTIF(#REF!,\"=9\")*0)/COUNTA(#REF!)/100,\"N/A\")","v":{"$error":"#REF!"}},{"$f":"IF(AND(COUNTA(B307:X307)<>0,#REF!<>\"\"),AVERAGE(Y307:AE307),\"N/A\")","v":{"$error":"#REF!"}},1,1,1,1,1,{"$error":"#REF!"},{"$error":"#REF!"},{"$error":"#REF!"}]
[{"$nulls":24},{"$f":"IF(COUNTA(B308:G308)>0,(COUNTIF(B308:G308,\"=0\")*0+COUNTIF(B308:G308,\"=1\")*100+COUNTIF(B308:G308,\"=2\")*80+COUNTIF(B308:G308,\"=3\")*50+COUNTIF(B308:G308,\"=8\")*20+COUNTIF(B308:G308,\"=9\")*0)/COUNTA(B308:G308)/100,\"N/A\")","v":"N/A"},{"$f":"IF(COUNTA(K308:P308)>0,(COUNTIF(K308:P308,\"=0\")*0+COUNTIF(K308:P308,\"=1\")*100+COUNTIF(K308:P308,\"=2\")*80+COUNTIF(K308:P308,\"=3\")*50+COUNTIF(K308:P308,\"=8\")*20+COUNTIF(K308:P308,\"=9\")*0)/COUNTA(K308:P308)/100,\"N/A\")","v":"N/A"},{"$f":"IF(COUNTA(Q308)>0,(COUNTIF(Q308,\"=0\")*0+COUNTIF(Q308,\"=1\")*100+COUNTIF(Q308,\"=2\")*80+COUNTIF(Q308,\"=3\")*50+COUNTIF(Q308,\"=8\")*20+COUNTIF(Q308,\"=9\")*0)/COUNTA(Q308)/100,\"N/A\")","v":"N/A"},{"$f":"IF(COUNTA(S308:W308)<>0,(COUNTIF(S308:W308,\"=0\")*0+COUNTIF(S308:W308,\"=1\")*100+COUNTIF(S308:W308,\"=2\")*80+COUNTIF(S308:W308,\"=3\")*50+COUNTIF(S308:W308,\"=8\")*20+COUNTIF(S308:W308,\"=9\")*0)/COUNTA(S308:W308)/100,\"N/A\")","v":"N/A"},"N/A",{"$f":"IF(COUNTA(#REF!)>0,(COUNTIF(#REF!,\"=0\")*0+COUNTIF(#REF!,\"=1\")*100+COUNTIF(#REF!,\"=2\")*80+COUNTIF(#REF!,\"=3\")*50+COUNTIF(#REF!,\"=8\")*20+COUNTIF(#REF!,\"=9\")*0)/COUNTA(#REF!)/100,\"N/A\")","v":{"$error":"#REF!"}},{"$f":"IF(COUNTA(#REF!)>0,(COUNTIF(#REF!,\"=0\")*0+COUNTIF(#REF!,\"=1\")*100+COUNTIF(#REF!,\"=2\")*80+COUNTIF(#REF!,\"=3\")*50+COUNTIF(#REF!,\"=8\")*20+COUNTIF(#REF!,\"=9\")*0)/COUNTA(#REF!)/100,\"N/A\")","v":{"$error":"#REF!"}},{"$f":"IF(AND(COUNTA(B308:X308)<>0,#REF!<>\"\"),AVERAGE(Y308:AE308),\"N/A\")","v":{"$error":"#REF!"}},1,1,1,1,1,{"$error":"#REF!"},{"$error":"#REF!"},{"$error":"#REF!"}]
[{"$nulls":24},{"$f":"IF(COUNTA(B309:G309)>0,(COUNTIF(B309:G309,\"=0\")*0+COUNTIF(B309:G309,\"=1\")*100+COUNTIF(B309:G309,\"=2\")*80+COUNTIF(B309:G309,\"=3\")*50+COUNTIF(B309:G309,\"=8\")*20+COUNTIF(B309:G309,\"=9\")*0)/COUNTA(B309:G309)/100,\"N/A\")","v":"N/A"},{"$f":"IF(COUNTA(K309:P309)>0,(COUNTIF(K309:P309,\"=0\")*0+COUNTIF(K309:P309,\"=1\")*100+COUNTIF(K309:P309,\"=2\")*80+COUNTIF(K309:P309,\"=3\")*50+COUNTIF(K309:P309,\"=8\")*20+COUNTIF(K309:P309,\"=9\")*0)/COUNTA(K309:P309)/100,\"N/A\")","v":"N/A"},{"$f":"IF(COUNTA(Q309)>0,(COUNTIF(Q309,\"=0\")*0+COUNTIF(Q309,\"=1\")*100+COUNTIF(Q309,\"=2\")*80+COUNTIF(Q309,\"=3\")*50+COUNTIF(Q309,\"=8\")*20+COUNTIF(Q309,\"=9\")*0)/COUNTA(Q309)/100,\"N/A\")","v":"N/A"},{"$f":"IF(COUNTA(S309:W309)<>0,(COUNTIF(S309:W309,\"=0\")*0+COUNTIF(S309:W309,\"=1\")*100+COUNTIF(S309:W309,\"=2\")*80+COUNTIF(S309:W309,\"=3\")*50+COUNTIF(S309:W309,\"=8\")*20+COUNTIF(S309:W309,\"=9\")*0)/COUNTA(S309:W309)/100,\"N/A\")","v":"N/A"},"N/A",{"$f":"IF(COUNTA(#REF!)>0,(COUNTIF(#REF!,\"=0\")*0+COUNTIF(#REF!,\"=1\")*100+COUNTIF(#REF!,\"=2\")*80+COUNTIF(#REF!,\"=3\")*50+COUNTIF(#REF!,\"=8\")*20+COUNTIF(#REF!,\"=9\")*0)/COUNTA(#REF!)/100,\"N/A\")","v":{"$error":"#REF!"}},{"$f":"IF(COUNTA(#REF!)>0,(COUNTIF(#REF!,\"=0\")*0+COUNTIF(#REF!,\"=1\")*100+COUNTIF(#REF!,\"=2\")*80+COUNTIF(#REF!,\"=3\")*50+COUNTIF(#REF!,\"=8\")*20+COUNTIF(#REF!,\"=9\")*0)/COUNTA(#REF!)/100,\"N/A\")","v":{"$error":"#REF!"}},{"$f":"IF(AND(COUNTA(B309:X309)<>0,#REF!<>\"\"),AVERAGE(Y309:AE309),\"N/A\")","v":{"$error":"#REF!"}},1,1,1,1,1,{"$error":"#REF!"},{"$error":"#REF!"},{"$error":"#REF!"}]
[{"$nulls":24},{"$f":"IF(COUNTA(B310:G310)>0,(COUNTIF(B310:G310,\"=0\")*0+COUNTIF(B310:G310,\"=1\")*100+COUNTIF(B310:G310,\"=2\")*80+COUNTIF(B310:G310,\"=3\")*50+COUNTIF(B310:G310,\"=8\")*20+COUNTIF(B310:G310,\"=9\")*0)/COUNTA(B310:G310)/100,\"N/A\")","v":"N/A"},{"$f":"IF(COUNTA(K310:P310)>0,(COUNTIF(K310:P310,\"=0\")*0+COUNTIF(K310:P310,\"=1\")*100+COUNTIF(K310:P310,\"=2\")*80+COUNTIF(K310:P310,\"=3\")*50+COUNTIF(K310:P310,\"=8\")*20+COUNTIF(K310:P310,\"=9\")*0)/COUNTA(K310:P310)/100,\"N/A\")","v":"N/A"},{"$f":"IF(COUNTA(Q310)>0,(COUNTIF(Q310,\"=0\")*0+COUNTIF(Q310,\"=1\")*100+COUNTIF(Q310,\"=2\")*80+COUNTIF(Q310,\"=3\")*50+COUNTIF(Q310,\"=8\")*20+COUNTIF(Q310,\"=9\")*0)/COUNTA(Q310)/100,\"N/A\")","v":"N/A"},{"$f":"IF(COUNTA(S310:W310)<>0,(COUNTIF(S310:W310,\"=0\")*0+COUNTIF(S310:W310,\"=1\")*100+COUNTIF(S310:W310,\"=2\")*80+COUNTIF(S310:W310,\"=3\")*50+COUNTIF(S310:W310,\"=8\")*20+COUNTIF(S310:W310,\"=9\")*0)/COUNTA(S310:W310)/100,\"N/A\")","v":"N/A"},"N/A",{"$f":"IF(COUNTA(#REF!)>0,(COUNTIF(#REF!,\"=0\")*0+COUNTIF(#REF!,\"=1\")*100+COUNTIF(#REF!,\"=2\")*80+COUNTIF(#REF!,\"=3\")*50+COUNTIF(#REF!,\"=8\")*20+COUNTIF(#REF!,\"=9\")*0)/COUNTA(#REF!)/100,\"N/A\")","v":{"$error":"#REF!"}},{"$f":"IF(COUNTA(#REF!)>0,(COUNTIF(#REF!,\"=0\")*0+COUNTIF(#REF!,\"=1\")*100+COUNTIF(#REF!,\"=2\")*80+COUNTIF(#REF!,\"=3\")*50+COUNTIF(#REF!,\"=8\")*20+COUNTIF(#REF!,\"=9\")*0)/COUNTA(#REF!)/100,\"N/A\")","v":{"$error":"#REF!"}},{"$f":"IF(AND(COUNTA(B310:X310)<>0,#REF!<>\"\"),AVERAGE(Y310:AE310),\"N/A\")","v":{"$error":"#REF!"}},1,1,1,1,1,{"$error":"#REF!"},{"$error":"#REF!"},{"$error":"#REF!"}]
[{"$nulls":24},{"$f":"IF(COUNTA(B311:G311)>0,(COUNTIF(B311:G311,\"=0\")*0+COUNTIF(B311:G311,\"=1\")*100+COUNTIF(B311:G311,\"=2\")*80+COUNTIF(B311:G311,\"=3\")*50+COUNTIF(B311:G311,\"=8\")*20+COUNTIF(B311:G311,\"=9\")*0)/COUNTA(B311:G311)/100,\"N/A\")","v":"N/A"},{"$f":"IF(COUNTA(K311:P311)>0,(COUNTIF(K311:P311,\"=0\")*0+COUNTIF(K311:P311,\"=1\")*100+COUNTIF(K311:P311,\"=2\")*80+COUNTIF(K311:P311,\"=3\")*50+COUNTIF(K311:P311,\"=8\")*20+COUNTIF(K311:P311,\"=9\")*0)/COUNTA(K311:P311)/100,\"N/A\")","v":"N/A"},{"$f":"IF(COUNTA(Q311)>0,(COUNTIF(Q311,\"=0\")*0+COUNTIF(Q311,\"=1\")*100+COUNTIF(Q311,\"=2\")*80+COUNTIF(Q311,\"=3\")*50+COUNTIF(Q311,\"=8\")*20+COUNTIF(Q311,\"=9\")*0)/COUNTA(Q311)/100,\"N/A\")","v":"N/A"},{"$f":"IF(COUNTA(S311:W311)<>0,(COUNTIF(S311:W311,\"=0\")*0+COUNTIF(S311:W311,\"=1\")*100+COUNTIF(S311:W311,\"=2\")*80+COUNTIF(S311:W311,\"=3\")*50+COUNTIF(S311:W311,\"=8\")*20+COUNTIF(S311:W311,\"=9\")*0)/COUNTA(S311:W311)/100,\"N/A\")","v":"N/A"},"N/A",{"$f":"IF(COUNTA(#REF!)>0,(COUNTIF(#REF!,\"=0\")*0+COUNTIF(#REF!,\"=1\")*100+COUNTIF(#REF!,\"=2\")*80+COUNTIF(#REF!,\"=3\")*50+COUNTIF(#REF!,\"=8\")*20+COUNTIF(#REF!,\"=9\")*0)/COUNTA(#REF!)/100,\"N/A\")","v":{"$error":"#REF!"}},{"$f":"IF(COUNTA(#REF!)>0,(COUNTIF(#REF!,\"=0\")*0+COUNTIF(#REF!,\"=1\")*100+COUNTIF(#REF!,\"=2\")*80+COUNTIF(#REF!,\"=3\")*50+COUNTIF(#REF!,\"=8\")*20+COUNTIF(#REF!,\"=9\")*0)/COUNTA(#REF!)/100,\"N/A\")","v":{"$error":"#REF!"}},{"$f":"IF(AND(COUNTA(B311:X311)<>0,#REF!<>\"\"),AVERAGE(Y311:AE311),\"N/A\")","v":{"$error":"#REF!"}},1,1,1,1,1,{"$error":"#REF!"},{"$error":"#REF!"},{"$error":"#REF!"}]
[{"$nulls":24},{"$f":"IF(COUNTA(B312:G312)>0,(COUNTIF(B312:G312,\"=0\")*0+COUNTIF(B312:G312,\"=1\")*100+COUNTIF(B312:G312,\"=2\")*80+COUNTIF(B312:G312,\"=3\")*50+COUNTIF(B312:G312,\"=8\")*20+COUNTIF(B312:G312,\"=9\")*0)/COUNTA(B312:G312)/100,\"N/A\")","v":"N/A"},{"$f":"IF(COUNTA(K312:P312)>0,(COUNTIF(K312:P312,\"=0\")*0+COUNTIF(K312:P312,\"=1\")*100+COUNTIF(K312:P312,\"=2\")*80+COUNTIF(K312:P312,\"=3\")*50+COUNTIF(K312:P312,\"=8\")*20+COUNTIF(K312:P312,\"=9\")*0)/COUNTA(K312:P312)/100,\"N/A\")","v":"N/A"},{"$f":"IF(COUNTA(Q312)>0,(COUNTIF(Q312,\"=0\")*0+COUNTIF(Q312,\"=1\")*100+COUNTIF(Q312,\"=2\")*80+COUNTIF(Q312,\"=3\")*50+COUNTIF(Q312,\"=8\")*20+COUNTIF(Q312,\"=9\")*0)/COUNTA(Q312)/100,\"N/A\")","v":"N/A"},{"$f":"IF(COUNTA(S312:W312)<>0,(COUNTIF(S312:W312,\"=0\")*0+COUNTIF(S312:W312,\"=1\")*100+COUNTIF(S312:W312,\"=2\")*80+COUNTIF(S312:W312,\"=3\")*50+COUNTIF(S312:W312,\"=8\")*20+COUNTIF(S312:W312,\"=9\")*0)/COUNTA(S312:W312)/100,\"N/A\")","v":"N/A"},"N/A",{"$f":"IF(COUNTA(#REF!)>0,(COUNTIF(#REF!,\"=0\")*0+COUNTIF(#REF!,\"=1\")*100+COUNTIF(#REF!,\"=2\")*80+COUNTIF(#REF!,\"=3\")*50+COUNTIF(#REF!,\"=8\")*20+COUNTIF(#REF!,\"=9\")*0)/COUNTA(#REF!)/100,\"N/A\")","v":{"$error":"#REF!"}},{"$f":"IF(COUNTA(#REF!)>0,(COUNTIF(#REF!,\"=0\")*0+COUNTIF(#REF!,\"=1\")*100+COUNTIF(#REF!,\"=2\")*80+COUNTIF(#REF!,\"=3\")*50+COUNTIF(#REF!,\"=8\")*20+COUNTIF(#REF!,\"=9\")*0)/COUNTA(#REF!)/100,\"N/A\")","v":{"$error":"#REF!"}},{"$f":"IF(AND(COUNTA(B312:X312)<>0,#REF!<>\"\"),AVERAGE(Y312:AE312),\"N/A\")","v":{"$error":"#REF!"}},1,{"$f":"IF(Z312=\"N/A\",1,\"\")","v":1},1,1,1,{"$error":"#REF!"},{"$error":"#REF!"},{"$error":"#REF!"}]
[{"$nulls":24},{"$f":"IF(COUNTA(B313:G313)>0,(COUNTIF(B313:G313,\"=0\")*0+COUNTIF(B313:G313,\"=1\")*100+COUNTIF(B313:G313,\"=2\")*80+COUNTIF(B313:G313,\"=3\")*50+COUNTIF(B313:G313,\"=8\")*20+COUNTIF(B313:G313,\"=9\")*0)/COUNTA(B313:G313)/100,\"N/A\")","v":"N/A"},{"$f":"IF(COUNTA(K313:P313)>0,(COUNTIF(K313:P313,\"=0\")*0+COUNTIF(K313:P313,\"=1\")*100+COUNTIF(K313:P313,\"=2\")*80+COUNTIF(K313:P313,\"=3\")*50+COUNTIF(K313:P313,\"=8\")*20+COUNTIF(K313:P313,\"=9\")*0)/COUNTA(K313:P313)/100,\"N/A\")","v":"N/A"},{"$f":"IF(COUNTA(Q313)>0,(COUNTIF(Q313,\"=0\")*0+COUNTIF(Q313,\"=1\")*100+COUNTIF(Q313,\"=2\")*80+COUNTIF(Q313,\"=3\")*50+COUNTIF(Q313,\"=8\")*20+COUNTIF(Q313,\"=9\")*0)/COUNTA(Q313)/100,\"N/A\")","v":"N/A"},{"$f":"IF(COUNTA(S313:W313)<>0,(COUNTIF(S313:W313,\"=0\")*0+COUNTIF(S313:W313,\"=1\")*100+COUNTIF(S313:W313,\"=2\")*80+COUNTIF(S313:W313,\"=3\")*50+COUNTIF(S313:W313,\"=8\")*20+COUNTIF(S313:W313,\"=9\")*0)/COUNTA(S313:W313)/100,\"N/A\")","v":"N/A"},"N/A",{"$f":"IF(COUNTA(#REF!)>0,(COUNTIF(#REF!,\"=0\")*0+COUNTIF(#REF!,\"=1\")*100+COUNTIF(#REF!,\"=2\")*80+COUNTIF(#REF!,\"=3\")*50+COUNTIF(#REF!,\"=8\")*20+COUNTIF(#REF!,\"=9\")*0)/COUNTA(#REF!)/100,\"N/A\")","v":{"$error":"#REF!"}},{"$f":"IF(COUNTA(#REF!)>0,(COUNTIF(#REF!,\"=0\")*0+COUNTIF(#REF!,\"=1\")*100+COUNTIF(#REF!,\"=2\")*80+COUNTIF(#REF!,\"=3\")*50+COUNTIF(#REF!,\"=8\")*20+COUNTIF(#REF!,\"=9\")*0)/COUNTA(#REF!)/100,\"N/A\")","v":{"$error":"#REF!"}},{"$f":"IF(AND(COUNTA(B313:X313)<>0,#REF!<>\"\"),AVERAGE(Y313:AE313),\"N/A\")","v":{"$error":"#REF!"}},1,1,1,1,1,{"$error":"#REF!"},{"$error":"#REF!"},{"$error":"#REF!"}]
[{"$nulls":24},{"$f":"IF(COUNTA(B314:G314)>0,(COUNTIF(B314:G314,\"=0\")*0+COUNTIF(B314:G314,\"=1\")*100+COUNTIF(B314:G314,\"=2\")*80+COUNTIF(B314:G314,\"=3\")*50+COUNTIF(B314:G314,\"=8\")*20+COUNTIF(B314:G314,\"=9\")*0)/COUNTA(B314:G314)/100,\"N/A\")","v":"N/A"},{"$f":"IF(COUNTA(K314:P314)>0,(COUNTIF(K314:P314,\"=0\")*0+COUNTIF(K314:P314,\"=1\")*100+COUNTIF(K314:P314,\"=2\")*80+COUNTIF(K314:P314,\"=3\")*50+COUNTIF(K314:P314,\"=8\")*20+COUNTIF(K314:P314,\"=9\")*0)/COUNTA(K314:P314)/100,\"N/A\")","v":"N/A"},{"$f":"IF(COUNTA(Q314)>0,(COUNTIF(Q314,\"=0\")*0+COUNTIF(Q314,\"=1\")*100+COUNTIF(Q314,\"=2\")*80+COUNTIF(Q314,\"=3\")*50+COUNTIF(Q314,\"=8\")*20+COUNTIF(Q314,\"=9\")*0)/COUNTA(Q314)/100,\"N/A\")","v":"N/A"},{"$f":"IF(COUNTA(S314:W314)<>0,(COUNTIF(S314:W314,\"=0\")*0+COUNTIF(S314:W314,\"=1\")*100+COUNTIF(S314:W314,\"=2\")*80+COUNTIF(S314:W314,\"=3\")*50+COUNTIF(S314:W314,\"=8\")*20+COUNTIF(S314:W314,\"=9\")*0)/COUNTA(S314:W314)/100,\"N/A\")","v":"N/A"},"N/A",{"$f":"IF(COUNTA(#REF!)>0,(COUNTIF(#REF!,\"=0\")*0+COUNTIF(#REF!,\"=1\")*100+COUNTIF(#REF!,\"=2\")*80+COUNTIF(#REF!,\"=3\")*50+COUNTIF(#REF!,\"=8\")*20+COUNTIF(#REF!,\"=9\")*0)/COUNTA(#REF!)/100,\"N/A\")","v":{"$error":"#REF!"}},{"$f":"IF(COUNTA(#REF!)>0,(COUNTIF(#REF!,\"=0\")*0+COUNTIF(#REF!,\"=1\")*100+COUNTIF(#REF!,\"=2\")*80+COUNTIF(#REF!,\"=3\")*50+COUNTIF(#REF!,\"=8\")*20+COUNTIF(#REF!,\"=9\")*0)/COUNTA(#REF!)/100,\"N/A\")","v":{"$error":"#REF!"}},{"$f":"IF(AND(COUNTA(B314:X314)<>0,#REF!<>\"\"),AVERAGE(Y314:AE314),\"N/A\")","v":{"$error":"#REF!"}},1,1,1,1,1,{"$error":"#REF!"},{"$error":"#REF!"},{"$error":"#REF!"}]
[{"$nulls":24},{"$f":"IF(COUNTA(B315:G315)>0,(COUNTIF(B315:G315,\"=0\")*0+COUNTIF(B315:G315,\"=1\")*100+COUNTIF(B315:G315,\"=2\")*80+COUNTIF(B315:G315,\"=3\")*50+COUNTIF(B315:G315,\"=8\")*20+COUNTIF(B315:G315,\"=9\")*0)/COUNTA(B315:G315)/100,\"N/A\")","v":"N/A"},{"$f":"IF(COUNTA(K315:P315)>0,(COUNTIF(K315:P315,\"=0\")*0+COUNTIF(K315:P315,\"=1\")*100+COUNTIF(K315:P315,\"=2\")*80+COUNTIF(K315:P315,\"=3\")*50+COUNTIF(K315:P315,\"=8\")*20+COUNTIF(K315:P315,\"=9\")*0)/COUNTA(K315:P315)/100,\"N/A\")","v":"N/A"},{"$f":"IF(COUNTA(Q315)>0,(COUNTIF(Q315,\"=0\")*0+COUNTIF(Q315,\"=1\")*100+COUNTIF(Q315,\"=2\")*80+COUNTIF(Q315,\"=3\")*50+COUNTIF(Q315,\"=8\")*20+COUNTIF(Q315,\"=9\")*0)/COUNTA(Q315)/100,\"N/A\")","v":"N/A"},{"$f":"IF(COUNTA(S315:W315)<>0,(COUNTIF(S315:W315,\"=0\")*0+COUNTIF(S315:W315,\"=1\")*100+COUNTIF(S315:W315,\"=2\")*80+COUNTIF(S315:W315,\"=3\")*50+COUNTIF(S315:W315,\"=8\")*20+COUNTIF(S315:W315,\"=9\")*0)/COUNTA(S315:W315)/100,\"N/A\")","v":"N/A"},"N/A",{"$f":"IF(COUNTA(#REF!)>0,(COUNTIF(#REF!,\"=0\")*0+COUNTIF(#REF!,\"=1\")*100+COUNTIF(#REF!,\"=2\")*80+COUNTIF(#REF!,\"=3\")*50+COUNTIF(#REF!,\"=8\")*20+COUNTIF(#REF!,\"=9\")*0)/COUNTA(#REF!)/100,\"N/A\")","v":{"$error":"#REF!"}},{"$f":"IF(COUNTA(#REF!)>0,(COUNTIF(#REF!,\"=0\")*0+COUNTIF(#REF!,\"=1\")*100+COUNTIF(#REF!,\"=2\")*80+COUNTIF(#REF!,\"=3\")*50+COUNTIF(#REF!,\"=8\")*20+COUNTIF(#REF!,\"=9\")*0)/COUNTA(#REF!)/100,\"N/A\")","v":{"$error":"#REF!"}},{"$f":"IF(AND(COUNTA(B315:X315)<>0,#REF!<>\"\"),AVERAGE(Y315:AE315),\"N/A\")","v":{"$error":"#REF!"}},1,1,1,1,1,{"$error":"#REF!"},{"$error":"#REF!"},{"$error":"#REF!"}]
[{"$nulls":24},{"$f":"IF(COUNTA(B316:G316)>0,(COUNTIF(B316:G316,\"=0\")*0+COUNTIF(B316:G316,\"=1\")*100+COUNTIF(B316:G316,\"=2\")*80+COUNTIF(B316:G316,\"=3\")*50+COUNTIF(B316:G316,\"=8\")*20+COUNTIF(B316:G316,\"=9\")*0)/COUNTA(B316:G316)/100,\"N/A\")","v":"N/A"},{"$f":"IF(COUNTA(K316:P316)>0,(COUNTIF(K316:P316,\"=0\")*0+COUNTIF(K316:P316,\"=1\")*100+COUNTIF(K316:P316,\"=2\")*80+COUNTIF(K316:P316,\"=3\")*50+COUNTIF(K316:P316,\"=8\")*20+COUNTIF(K316:P316,\"=9\")*0)/COUNTA(K316:P316)/100,\"N/A\")","v":"N/A"},{"$f":"IF(COUNTA(Q316)>0,(COUNTIF(Q316,\"=0\")*0+COUNTIF(Q316,\"=1\")*100+COUNTIF(Q316,\"=2\")*80+COUNTIF(Q316,\"=3\")*50+COUNTIF(Q316,\"=8\")*20+COUNTIF(Q316,\"=9\")*0)/COUNTA(Q316)/100,\"N/A\")","v":"N/A"},{"$f":"IF(COUNTA(S316:W316)<>0,(COUNTIF(S316:W316,\"=0\")*0+COUNTIF(S316:W316,\"=1\")*100+COUNTIF(S316:W316,\"=2\")*80+COUNTIF(S316:W316,\"=3\")*50+COUNTIF(S316:W316,\"=8\")*20+COUNTIF(S316:W316,\"=9\")*0)/COUNTA(S316:W316)/100,\"N/A\")","v":"N/A"},"N/A",{"$f":"IF(COUNTA(#REF!)>0,(COUNTIF(#REF!,\"=0\")*0+COUNTIF(#REF!,\"=1\")*100+COUNTIF(#REF!,\"=2\")*80+COUNTIF(#REF!,\"=3\")*50+COUNTIF(#REF!,\"=8\")*20+COUNTIF(#REF!,\"=9\")*0)/COUNTA(#REF!)/100,\"N/A\")","v":{"$error":"#REF!"}},{"$f":"IF(COUNTA(#REF!)>0,(COUNTIF(#REF!,\"=0\")*0+COUNTIF(#REF!,\"=1\")*100+COUNTIF(#REF!,\"=2\")*80+COUNTIF(#REF!,\"=3\")*50+COUNTIF(#REF!,\"=8\")*20+COUNTIF(#REF!,\"=9\")*0)/COUNTA(#REF!)/100,\"N/A\")","v":{"$error":"#REF!"}},{"$f":"IF(AND(COUNTA(B316:X316)<>0,#REF!<>\"\"),AVERAGE(Y316:AE316),\"N/A\")","v":{"$error":"#REF!"}},1,1,1,1,1,{"$error":"#REF!"},{"$error":"#REF!"},{"$error":"#REF!"}]
[{"$nulls":24},{"$f":"IF(COUNTA(B317:G317)>0,(COUNTIF(B317:G317,\"=0\")*0+COUNTIF(B317:G317,\"=1\")*100+COUNTIF(B317:G317,\"=2\")*80+COUNTIF(B317:G317,\"=3\")*50+COUNTIF(B317:G317,\"=8\")*20+COUNTIF(B317:G317,\"=9\")*0)/COUNTA(B317:G317)/100,\"N/A\")","v":"N/A"},{"$f":"IF(COUNTA(K317:P317)>0,(COUNTIF(K317:P317,\"=0\")*0+COUNTIF(K317:P317,\"=1\")*100+COUNTIF(K317:P317,\"=2\")*80+COUNTIF(K317:P317,\"=3\")*50+COUNTIF(K317:P317,\"=8\")*20+COUNTIF(K317:P317,\"=9\")*0)/COUNTA(K317:P317)/100,\"N/A\")","v":"N/A"},{"$f":"IF(COUNTA(Q317)>0,(COUNTIF(Q317,\"=0\")*0+COUNTIF(Q317,\"=1\")*100+COUNTIF(Q317,\"=2\")*80+COUNTIF(Q317,\"=3\")*50+COUNTIF(Q317,\"=8\")*20+COUNTIF(Q317,\"=9\")*0)/COUNTA(Q317)/100,\"N/A\")","v":"N/A"},{"$f":"IF(COUNTA(S317:W317)<>0,(COUNTIF(S317:W317,\"=0\")*0+COUNTIF(S317:W317,\"=1\")*100+COUNTIF(S317:W317,\"=2\")*80+COUNTIF(S317:W317,\"=3\")*50+COUNTIF(S317:W317,\"=8\")*20+COUNTIF(S317:W317,\"=9\")*0)/COUNTA(S317:W317)/100,\"N/A\")","v":"N/A"},"N/A",{"$f":"IF(COUNTA(#REF!)>0,(COUNTIF(#REF!,\"=0\")*0+COUNTIF(#REF!,\"=1\")*100+COUNTIF(#REF!,\"=2\")*80+COUNTIF(#REF!,\"=3\")*50+COUNTIF(#REF!,\"=8\")*20+COUNTIF(#REF!,\"=9\")*0)/COUNTA(#REF!)/100,\"N/A\")","v":{"$error":"#REF!"}},{"$f":"IF(COUNTA(#REF!)>0,(COUNTIF(#REF!,\"=0\")*0+COUNTIF(#REF!,\"=1\")*100+COUNTIF(#REF!,\"=2\")*80+COUNTIF(#REF!,\"=3\")*50+COUNTIF(#REF!,\"=8\")*20+COUNTIF(#REF!,\"=9\")*0)/COUNTA(#REF!)/100,\"N/A\")","v":{"$error":"#REF!"}},{"$f":"IF(AND(COUNTA(B317:X317)<>0,#REF!<>\"\"),AVERAGE(Y317:AE317),\"N/A\")","v":{"$error":"#REF!"}},1,1,1,1,1,{"$error":"#REF!"},{"$error":"#REF!"},{"$error":"#REF!"}]
[{"$nulls":24},{"$f":"IF(COUNTA(B318:G318)>0,(COUNTIF(B318:G318,\"=0\")*0+COUNTIF(B318:G318,\"=1\")*100+COUNTIF(B318:G318,\"=2\")*80+COUNTIF(B318:G318,\"=3\")*50+COUNTIF(B318:G318,\"=8\")*20+COUNTIF(B318:G318,\"=9\")*0)/COUNTA(B318:G318)/100,\"N/A\")","v":"N/A"},{"$f":"IF(COUNTA(K318:P318)>0,(COUNTIF(K318:P318,\"=0\")*0+COUNTIF(K318:P318,\"=1\")*100+COUNTIF(K318:P318,\"=2\")*80+COUNTIF(K318:P318,\"=3\")*50+COUNTIF(K318:P318,\"=8\")*20+COUNTIF(K318:P318,\"=9\")*0)/COUNTA(K318:P318)/100,\"N/A\")","v":"N/A"},{"$f":"IF(COUNTA(Q318)>0,(COUNTIF(Q318,\"=0\")*0+COUNTIF(Q318,\"=1\")*100+COUNTIF(Q318,\"=2\")*80+COUNTIF(Q318,\"=3\")*50+COUNTIF(Q318,\"=8\")*20+COUNTIF(Q318,\"=9\")*0)/COUNTA(Q318)/100,\"N/A\")","v":"N/A"},{"$f":"IF(COUNTA(S318:W318)<>0,(COUNTIF(S318:W318,\"=0\")*0+COUNTIF(S318:W318,\"=1\")*100+COUNTIF(S318:W318,\"=2\")*80+COUNTIF(S318:W318,\"=3\")*50+COUNTIF(S318:W318,\"=8\")*20+COUNTIF(S318:W318,\"=9\")*0)/COUNTA(S318:W318)/100,\"N/A\")","v":"N/A"},"N/A",{"$f":"IF(COUNTA(#REF!)>0,(COUNTIF(#REF!,\"=0\")*0+COUNTIF(#REF!,\"=1\")*100+COUNTIF(#REF!,\"=2\")*80+COUNTIF(#REF!,\"=3\")*50+COUNTIF(#REF!,\"=8\")*20+COUNTIF(#REF!,\"=9\")*0)/COUNTA(#REF!)/100,\"N/A\")","v":{"$error":"#REF!"}},{"$f":"IF(COUNTA(#REF!)>0,(COUNTIF(#REF!,\"=0\")*0+COUNTIF(#REF!,\"=1\")*100+COUNTIF(#REF!,\"=2\")*80+COUNTIF(#REF!,\"=3\")*50+COUNTIF(#REF!,\"=8\")*20+COUNTIF(#REF!,\"=9\")*0)/COUNTA(#REF!)/100,\"N/A\")","v":{"$error":"#REF!"}},{"$f":"IF(AND(COUNTA(B318:X318)<>0,#REF!<>\"\"),AVERAGE(Y318:AE318),\"N/A\")","v":{"$error":"#REF!"}},1,1,1,1,1,{"$error":"#REF!"},{"$error":"#REF!"},{"$error":"#REF!"}]
[{"$nulls":24},{"$f":"IF(COUNTA(B319:G319)>0,(COUNTIF(B319:G319,\"=0\")*0+COUNTIF(B319:G319,\"=1\")*100+COUNTIF(B319:G319,\"=2\")*80+COUNTIF(B319:G319,\"=3\")*50+COUNTIF(B319:G319,\"=8\")*20+COUNTIF(B319:G319,\"=9\")*0)/COUNTA(B319:G319)/100,\"N/A\")","v":"N/A"},{"$f":"IF(COUNTA(K319:P319)>0,(COUNTIF(K319:P319,\"=0\")*0+COUNTIF(K319:P319,\"=1\")*100+COUNTIF(K319:P319,\"=2\")*80+COUNTIF(K319:P319,\"=3\")*50+COUNTIF(K319:P319,\"=8\")*20+COUNTIF(K319:P319,\"=9\")*0)/COUNTA(K319:P319)/100,\"N/A\")","v":"N/A"},{"$f":"IF(COUNTA(Q319)>0,(COUNTIF(Q319,\"=0\")*0+COUNTIF(Q319,\"=1\")*100+COUNTIF(Q319,\"=2\")*80+COUNTIF(Q319,\"=3\")*50+COUNTIF(Q319,\"=8\")*20+COUNTIF(Q319,\"=9\")*0)/COUNTA(Q319)/100,\"N/A\")","v":"N/A"},{"$f":"IF(COUNTA(S319:W319)<>0,(COUNTIF(S319:W319,\"=0\")*0+COUNTIF(S319:W319,\"=1\")*100+COUNTIF(S319:W319,\"=2\")*80+COUNTIF(S319:W319,\"=3\")*50+COUNTIF(S319:W319,\"=8\")*20+COUNTIF(S319:W319,\"=9\")*0)/COUNTA(S319:W319)/100,\"N/A\")","v":"N/A"},"N/A",{"$f":"IF(COUNTA(#REF!)>0,(COUNTIF(#REF!,\"=0\")*0+COUNTIF(#REF!,\"=1\")*100+COUNTIF(#REF!,\"=2\")*80+COUNTIF(#REF!,\"=3\")*50+COUNTIF(#REF!,\"=8\")*20+COUNTIF(#REF!,\"=9\")*0)/COUNTA(#REF!)/100,\"N/A\")","v":{"$error":"#REF!"}},{"$f":"IF(COUNTA(#REF!)>0,(COUNTIF(#REF!,\"=0\")*0+COUNTIF(#REF!,\"=1\")*100+COUNTIF(#REF!,\"=2\")*80+COUNTIF(#REF!,\"=3\")*50+COUNTIF(#REF!,\"=8\")*20+COUNTIF(#REF!,\"=9\")*0)/COUNTA(#REF!)/100,\"N/A\")","v":{"$error":"#REF!"}},{"$f":"IF(AND(COUNTA(B319:X319)<>0,#REF!<>\"\"),AVERAGE(Y319:AE319),\"N/A\")","v":{"$error":"#REF!"}},1,1,1,1,1,{"$error":"#REF!"},{"$error":"#REF!"},{"$error":"#REF!"}]
[{"$nulls":24},{"$f":"IF(COUNTA(B320:G320)>0,(COUNTIF(B320:G320,\"=0\")*0+COUNTIF(B320:G320,\"=1\")*100+COUNTIF(B320:G320,\"=2\")*80+COUNTIF(B320:G320,\"=3\")*50+COUNTIF(B320:G320,\"=8\")*20+COUNTIF(B320:G320,\"=9\")*0)/COUNTA(B320:G320)/100,\"N/A\")","v":"N/A"},{"$f":"IF(COUNTA(K320:P320)>0,(COUNTIF(K320:P320,\"=0\")*0+COUNTIF(K320:P320,\"=1\")*100+COUNTIF(K320:P320,\"=2\")*80+COUNTIF(K320:P320,\"=3\")*50+COUNTIF(K320:P320,\"=8\")*20+COUNTIF(K320:P320,\"=9\")*0)/COUNTA(K320:P320)/100,\"N/A\")","v":"N/A"},{"$f":"IF(COUNTA(Q320)>0,(COUNTIF(Q320,\"=0\")*0+COUNTIF(Q320,\"=1\")*100+COUNTIF(Q320,\"=2\")*80+COUNTIF(Q320,\"=3\")*50+COUNTIF(Q320,\"=8\")*20+COUNTIF(Q320,\"=9\")*0)/COUNTA(Q320)/100,\"N/A\")","v":"N/A"},{"$f":"IF(COUNTA(S320:W320)<>0,(COUNTIF(S320:W320,\"=0\")*0+COUNTIF(S320:W320,\"=1\")*100+COUNTIF(S320:W320,\"=2\")*80+COUNTIF(S320:W320,\"=3\")*50+COUNTIF(S320:W320,\"=8\")*20+COUNTIF(S320:W320,\"=9\")*0)/COUNTA(S320:W320)/100,\"N/A\")","v":"N/A"},"N/A",{"$f":"IF(COUNTA(#REF!)>0,(COUNTIF(#REF!,\"=0\")*0+COUNTIF(#REF!,\"=1\")*100+COUNTIF(#REF!,\"=2\")*80+COUNTIF(#REF!,\"=3\")*50+COUNTIF(#REF!,\"=8\")*20+COUNTIF(#REF!,\"=9\")*0)/COUNTA(#REF!)/100,\"N/A\")","v":{"$error":"#REF!"}},{"$f":"IF(COUNTA(#REF!)>0,(COUNTIF(#REF!,\"=0\")*0+COUNTIF(#REF!,\"=1\")*100+COUNTIF(#REF!,\"=2\")*80+COUNTIF(#REF!,\"=3\")*50+COUNTIF(#REF!,\"=8\")*20+COUNTIF(#REF!,\"=9\")*0)/COUNTA(#REF!)/100,\"N/A\")","v":{"$error":"#REF!"}},{"$f":"IF(AND(COUNTA(B320:X320)<>0,#REF!<>\"\"),AVERAGE(Y320:AE320),\"N/A\")","v":{"$error":"#REF!"}},1,1,1,1,1,{"$error":"#REF!"},{"$error":"#REF!"},{"$error":"#REF!"}]
[{"$nulls":24},{"$f":"IF(COUNTA(B321:G321)>0,(COUNTIF(B321:G321,\"=0\")*0+COUNTIF(B321:G321,\"=1\")*100+COUNTIF(B321:G321,\"=2\")*80+COUNTIF(B321:G321,\"=3\")*50+COUNTIF(B321:G321,\"=8\")*20+COUNTIF(B321:G321,\"=9\")*0)/COUNTA(B321:G321)/100,\"N/A\")","v":"N/A"},{"$f":"IF(COUNTA(K321:P321)>0,(COUNTIF(K321:P321,\"=0\")*0+COUNTIF(K321:P321,\"=1\")*100+COUNTIF(K321:P321,\"=2\")*80+COUNTIF(K321:P321,\"=3\")*50+COUNTIF(K321:P321,\"=8\")*20+COUNTIF(K321:P321,\"=9\")*0)/COUNTA(K321:P321)/100,\"N/A\")","v":"N/A"},{"$f":"IF(COUNTA(Q321)>0,(COUNTIF(Q321,\"=0\")*0+COUNTIF(Q321,\"=1\")*100+COUNTIF(Q321,\"=2\")*80+COUNTIF(Q321,\"=3\")*50+COUNTIF(Q321,\"=8\")*20+COUNTIF(Q321,\"=9\")*0)/COUNTA(Q321)/100,\"N/A\")","v":"N/A"},{"$f":"IF(COUNTA(S321:W321)<>0,(COUNTIF(S321:W321,\"=0\")*0+COUNTIF(S321:W321,\"=1\")*100+COUNTIF(S321:W321,\"=2\")*80+COUNTIF(S321:W321,\"=3\")*50+COUNTIF(S321:W321,\"=8\")*20+COUNTIF(S321:W321,\"=9\")*0)/COUNTA(S321:W321)/100,\"N/A\")","v":"N/A"},"N/A",{"$f":"IF(COUNTA(#REF!)>0,(COUNTIF(#REF!,\"=0\")*0+COUNTIF(#REF!,\"=1\")*100+COUNTIF(#REF!,\"=2\")*80+COUNTIF(#REF!,\"=3\")*50+COUNTIF(#REF!,\"=8\")*20+COUNTIF(#REF!,\"=9\")*0)/COUNTA(#REF!)/100,\"N/A\")","v":{"$error":"#REF!"}},{"$f":"IF(COUNTA(#REF!)>0,(COUNTIF(#REF!,\"=0\")*0+COUNTIF(#REF!,\"=1\")*100+COUNTIF(#REF!,\"=2\")*80+COUNTIF(#REF!,\"=3\")*50+COUNTIF(#REF!,\"=8\")*20+COUNTIF(#REF!,\"=9\")*0)/COUNTA(#REF!)/100,\"N/A\")","v":{"$error":"#REF!"}},{"$f":"IF(AND(COUNTA(B321:X321)<>0,#REF!<>\"\"),AVERAGE(Y321:AE321),\"N/A\")","v":{"$error":"#REF!"}},1,1,1,1,1,{"$error":"#REF!"},{"$error":"#REF!"},{"$error":"#REF!"}]
[{"$nulls":24},{"$f":"IF(COUNTA(B322:G322)>0,(COUNTIF(B322:G322,\"=0\")*0+COUNTIF(B322:G322,\"=1\")*100+COUNTIF(B322:G322,\"=2\")*80+COUNTIF(B322:G322,\"=3\")*50+COUNTIF(B322:G322,\"=8\")*20+COUNTIF(B322:G322,\"=9\")*0)/COUNTA(B322:G322)/100,\"N/A\")","v":"N/A"},{"$f":"IF(COUNTA(K322:P322)>0,(COUNTIF(K322:P322,\"=0\")*0+COUNTIF(K322:P322,\"=1\")*100+COUNTIF(K322:P322,\"=2\")*80+COUNTIF(K322:P322,\"=3\")*50+COUNTIF(K322:P322,\"=8\")*20+COUNTIF(K322:P322,\"=9\")*0)/COUNTA(K322:P322)/100,\"N/A\")","v":"N/A"},{"$f":"IF(COUNTA(Q322)>0,(COUNTIF(Q322,\"=0\")*0+COUNTIF(Q322,\"=1\")*100+COUNTIF(Q322,\"=2\")*80+COUNTIF(Q322,\"=3\")*50+COUNTIF(Q322,\"=8\")*20+COUNTIF(Q322,\"=9\")*0)/COUNTA(Q322)/100,\"N/A\")","v":"N/A"},{"$f":"IF(COUNTA(S322:W322)<>0,(COUNTIF(S322:W322,\"=0\")*0+COUNTIF(S322:W322,\"=1\")*100+COUNTIF(S322:W322,\"=2\")*80+COUNTIF(S322:W322,\"=3\")*50+COUNTIF(S322:W322,\"=8\")*20+COUNTIF(S322:W322,\"=9\")*0)/COUNTA(S322:W322)/100,\"N/A\")","v":"N/A"},"N/A",{"$f":"IF(COUNTA(#REF!)>0,(COUNTIF(#REF!,\"=0\")*0+COUNTIF(#REF!,\"=1\")*100+COUNTIF(#REF!,\"=2\")*80+COUNTIF(#REF!,\"=3\")*50+COUNTIF(#REF!,\"=8\")*20+COUNTIF(#REF!,\"=9\")*0)/COUNTA(#REF!)/100,\"N/A\")","v":{"$error":"#REF!"}},{"$f":"IF(COUNTA(#REF!)>0,(COUNTIF(#REF!,\"=0\")*0+COUNTIF(#REF!,\"=1\")*100+COUNTIF(#REF!,\"=2\")*80+COUNTIF(#REF!,\"=3\")*50+COUNTIF(#REF!,\"=8\")*20+COUNTIF(#REF!,\"=9\")*0)/COUNTA(#REF!)/100,\"N/A\")","v":{"$error":"#REF!"}},{"$f":"IF(AND(COUNTA(B322:X322)<>0,#REF!<>\"\"),AVERAGE(Y322:AE322),\"N/A\")","v":{"$error":"#REF!"}},1,1,1,1,1,{"$error":"#REF!"},{"$error":"#REF!"},{"$error":"#REF!"}]
[{"$nulls":24},{"$f":"IF(COUNTA(B323:G323)>0,(COUNTIF(B323:G323,\"=0\")*0+COUNTIF(B323:G323,\"=1\")*100+COUNTIF(B323:G323,\"=2\")*80+COUNTIF(B323:G323,\"=3\")*50+COUNTIF(B323:G323,\"=8\")*20+COUNTIF(B323:G323,\"=9\")*0)/COUNTA(B323:G323)/100,\"N/A\")","v":"N/A"},{"$f":"IF(COUNTA(K323:P323)>0,(COUNTIF(K323:P323,\"=0\")*0+COUNTIF(K323:P323,\"=1\")*100+COUNTIF(K323:P323,\"=2\")*80+COUNTIF(K323:P323,\"=3\")*50+COUNTIF(K323:P323,\"=8\")*20+COUNTIF(K323:P323,\"=9\")*0)/COUNTA(K323:P323)/100,\"N/A\")","v":"N/A"},{"$f":"IF(COUNTA(Q323)>0,(COUNTIF(Q323,\"=0\")*0+COUNTIF(Q323,\"=1\")*100+COUNTIF(Q323,\"=2\")*80+COUNTIF(Q323,\"=3\")*50+COUNTIF(Q323,\"=8\")*20+COUNTIF(Q323,\"=9\")*0)/COUNTA(Q323)/100,\"N/A\")","v":"N/A"},{"$f":"IF(COUNTA(S323:W323)<>0,(COUNTIF(S323:W323,\"=0\")*0+COUNTIF(S323:W323,\"=1\")*100+COUNTIF(S323:W323,\"=2\")*80+COUNTIF(S323:W323,\"=3\")*50+COUNTIF(S323:W323,\"=8\")*20+COUNTIF(S323:W323,\"=9\")*0)/COUNTA(S323:W323)/100,\"N/A\")","v":"N/A"},"N/A",{"$f":"IF(COUNTA(#REF!)>0,(COUNTIF(#REF!,\"=0\")*0+COUNTIF(#REF!,\"=1\")*100+COUNTIF(#REF!,\"=2\")*80+COUNTIF(#REF!,\"=3\")*50+COUNTIF(#REF!,\"=8\")*20+COUNTIF(#REF!,\"=9\")*0)/COUNTA(#REF!)/100,\"N/A\")","v":{"$error":"#REF!"}},{"$f":"IF(COUNTA(#REF!)>0,(COUNTIF(#REF!,\"=0\")*0+COUNTIF(#REF!,\"=1\")*100+COUNTIF(#REF!,\"=2\")*80+COUNTIF(#REF!,\"=3\")*50+COUNTIF(#REF!,\"=8\")*20+COUNTIF(#REF!,\"=9\")*0)/COUNTA(#REF!)/100,\"N/A\")","v":{"$error":"#REF!"}},{"$f":"IF(AND(COUNTA(B323:X323)<>0,#REF!<>\"\"),AVERAGE(Y323:AE323),\"N/A\")","v":{"$error":"#REF!"}},1,1,1,1,1,{"$error":"#REF!"},{"$error":"#REF!"},{"$error":"#REF!"}]
[{"$nulls":24},{"$f":"IF(COUNTA(B324:G324)>0,(COUNTIF(B324:G324,\"=0\")*0+COUNTIF(B324:G324,\"=1\")*100+COUNTIF(B324:G324,\"=2\")*80+COUNTIF(B324:G324,\"=3\")*50+COUNTIF(B324:G324,\"=8\")*20+COUNTIF(B324:G324,\"=9\")*0)/COUNTA(B324:G324)/100,\"N/A\")","v":"N/A"},{"$f":"IF(COUNTA(K324:P324)>0,(COUNTIF(K324:P324,\"=0\")*0+COUNTIF(K324:P324,\"=1\")*100+COUNTIF(K324:P324,\"=2\")*80+COUNTIF(K324:P324,\"=3\")*50+COUNTIF(K324:P324,\"=8\")*20+COUNTIF(K324:P324,\"=9\")*0)/COUNTA(K324:P324)/100,\"N/A\")","v":"N/A"},{"$f":"IF(COUNTA(Q324)>0,(COUNTIF(Q324,\"=0\")*0+COUNTIF(Q324,\"=1\")*100+COUNTIF(Q324,\"=2\")*80+COUNTIF(Q324,\"=3\")*50+COUNTIF(Q324,\"=8\")*20+COUNTIF(Q324,\"=9\")*0)/COUNTA(Q324)/100,\"N/A\")","v":"N/A"},{"$f":"IF(COUNTA(S324:W324)<>0,(COUNTIF(S324:W324,\"=0\")*0+COUNTIF(S324:W324,\"=1\")*100+COUNTIF(S324:W324,\"=2\")*80+COUNTIF(S324:W324,\"=3\")*50+COUNTIF(S324:W324,\"=8\")*20+COUNTIF(S324:W324,\"=9\")*0)/COUNTA(S324:W324)/100,\"N/A\")","v":"N/A"},"N/A",{"$f":"IF(COUNTA(#REF!)>0,(COUNTIF(#REF!,\"=0\")*0+COUNTIF(#REF!,\"=1\")*100+COUNTIF(#REF!,\"=2\")*80+COUNTIF(#REF!,\"=3\")*50+COUNTIF(#REF!,\"=8\")*20+COUNTIF(#REF!,\"=9\")*0)/COUNTA(#REF!)/100,\"N/A\")","v":{"$error":"#REF!"}},{"$f":"IF(COUNTA(#REF!)>0,(COUNTIF(#REF!,\"=0\")*0+COUNTIF(#REF!,\"=1\")*100+COUNTIF(#REF!,\"=2\")*80+COUNTIF(#REF!,\"=3\")*50+COUNTIF(#REF!,\"=8\")*20+COUNTIF(#REF!,\"=9\")*0)/COUNTA(#REF!)/100,\"N/A\")","v":{"$error":"#REF!"}},{"$f":"IF(AND(COUNTA(B324:X324)<>0,#REF!<>\"\"),AVERAGE(Y324:AE324),\"N/A\")","v":{"$error":"#REF!"}},1,1,1,1,1,{"$error":"#REF!"},{"$error":"#REF!"},{"$error":"#REF!"}]
[{"$nulls":24},{"$f":"IF(COUNTA(B325:G325)>0,(COUNTIF(B325:G325,\"=0\")*0+COUNTIF(B325:G325,\"=1\")*100+COUNTIF(B325:G325,\"=2\")*80+COUNTIF(B325:G325,\"=3\")*50+COUNTIF(B325:G325,\"=8\")*20+COUNTIF(B325:G325,\"=9\")*0)/COUNTA(B325:G325)/100,\"N/A\")","v":"N/A"},{"$f":"IF(COUNTA(K325:P325)>0,(COUNTIF(K325:P325,\"=0\")*0+COUNTIF(K325:P325,\"=1\")*100+COUNTIF(K325:P325,\"=2\")*80+COUNTIF(K325:P325,\"=3\")*50+COUNTIF(K325:P325,\"=8\")*20+COUNTIF(K325:P325,\"=9\")*0)/COUNTA(K325:P325)/100,\"N/A\")","v":"N/A"},{"$f":"IF(COUNTA(Q325)>0,(COUNTIF(Q325,\"=0\")*0+COUNTIF(Q325,\"=1\")*100+COUNTIF(Q325,\"=2\")*80+COUNTIF(Q325,\"=3\")*50+COUNTIF(Q325,\"=8\")*20+COUNTIF(Q325,\"=9\")*0)/COUNTA(Q325)/100,\"N/A\")","v":"N/A"},{"$f":"IF(COUNTA(S325:W325)<>0,(COUNTIF(S325:W325,\"=0\")*0+COUNTIF(S325:W325,\"=1\")*100+COUNTIF(S325:W325,\"=2\")*80+COUNTIF(S325:W325,\"=3\")*50+COUNTIF(S325:W325,\"=8\")*20+COUNTIF(S325:W325,\"=9\")*0)/COUNTA(S325:W325)/100,\"N/A\")","v":"N/A"},"N/A",{"$f":"IF(COUNTA(#REF!)>0,(COUNTIF(#REF!,\"=0\")*0+COUNTIF(#REF!,\"=1\")*100+COUNTIF(#REF!,\"=2\")*80+COUNTIF(#REF!,\"=3\")*50+COUNTIF(#REF!,\"=8\")*20+COUNTIF(#REF!,\"=9\")*0)/COUNTA(#REF!)/100,\"N/A\")","v":{"$error":"#REF!"}},{"$f":"IF(COUNTA(#REF!)>0,(COUNTIF(#REF!,\"=0\")*0+COUNTIF(#REF!,\"=1\")*100+COUNTIF(#REF!,\"=2\")*80+COUNTIF(#REF!,\"=3\")*50+COUNTIF(#REF!,\"=8\")*20+COUNTIF(#REF!,\"=9\")*0)/COUNTA(#REF!)/100,\"N/A\")","v":{"$error":"#REF!"}},{"$f":"IF(AND(COUNTA(B325:X325)<>0,#REF!<>\"\"),AVERAGE(Y325:AE325),\"N/A\")","v":{"$error":"#REF!"}},1,1,1,1,1,{"$error":"#REF!"},{"$error":"#REF!"},{"$error":"#REF!"}]
[{"$nulls":24},{"$f":"IF(COUNTA(B326:G326)>0,(COUNTIF(B326:G326,\"=0\")*0+COUNTIF(B326:G326,\"=1\")*100+COUNTIF(B326:G326,\"=2\")*80+COUNTIF(B326:G326,\"=3\")*50+COUNTIF(B326:G326,\"=8\")*20+COUNTIF(B326:G326,\"=9\")*0)/COUNTA(B326:G326)/100,\"N/A\")","v":"N/A"},{"$f":"IF(COUNTA(K326:P326)>0,(COUNTIF(K326:P326,\"=0\")*0+COUNTIF(K326:P326,\"=1\")*100+COUNTIF(K326:P326,\"=2\")*80+COUNTIF(K326:P326,\"=3\")*50+COUNTIF(K326:P326,\"=8\")*20+COUNTIF(K326:P326,\"=9\")*0)/COUNTA(K326:P326)/100,\"N/A\")","v":"N/A"},{"$f":"IF(COUNTA(Q326)>0,(COUNTIF(Q326,\"=0\")*0+COUNTIF(Q326,\"=1\")*100+COUNTIF(Q326,\"=2\")*80+COUNTIF(Q326,\"=3\")*50+COUNTIF(Q326,\"=8\")*20+COUNTIF(Q326,\"=9\")*0)/COUNTA(Q326)/100,\"N/A\")","v":"N/A"},{"$f":"IF(COUNTA(S326:W326)<>0,(COUNTIF(S326:W326,\"=0\")*0+COUNTIF(S326:W326,\"=1\")*100+COUNTIF(S326:W326,\"=2\")*80+COUNTIF(S326:W326,\"=3\")*50+COUNTIF(S326:W326,\"=8\")*20+COUNTIF(S326:W326,\"=9\")*0)/COUNTA(S326:W326)/100,\"N/A\")","v":"N/A"},"N/A",{"$f":"IF(COUNTA(#REF!)>0,(COUNTIF(#REF!,\"=0\")*0+COUNTIF(#REF!,\"=1\")*100+COUNTIF(#REF!,\"=2\")*80+COUNTIF(#REF!,\"=3\")*50+COUNTIF(#REF!,\"=8\")*20+COUNTIF(#REF!,\"=9\")*0)/COUNTA(#REF!)/100,\"N/A\")","v":{"$error":"#REF!"}},{"$f":"IF(COUNTA(#REF!)>0,(COUNTIF(#REF!,\"=0\")*0+COUNTIF(#REF!,\"=1\")*100+COUNTIF(#REF!,\"=2\")*80+COUNTIF(#REF!,\"=3\")*50+COUNTIF(#REF!,\"=8\")*20+COUNTIF(#REF!,\"=9\")*0)/COUNTA(#REF!)/100,\"N/A\")","v":{"$error":"#REF!"}},{"$f":"IF(AND(COUNTA(B326:X326)<>0,#REF!<>\"\"),AVERAGE(Y326:AE326),\"N/A\")","v":{"$error":"#REF!"}},1,1,1,1,1,{"$error":"#REF!"},{"$error":"#REF!"},{"$error":"#REF!"}]
[{"$nulls":24},{"$f":"IF(COUNTA(B327:G327)>0,(COUNTIF(B327:G327,\"=0\")*0+COUNTIF(B327:G327,\"=1\")*100+COUNTIF(B327:G327,\"=2\")*80+COUNTIF(B327:G327,\"=3\")*50+COUNTIF(B327:G327,\"=8\")*20+COUNTIF(B327:G327,\"=9\")*0)/COUNTA(B327:G327)/100,\"N/A\")","v":"N/A"},{"$f":"IF(COUNTA(K327:P327)>0,(COUNTIF(K327:P327,\"=0\")*0+COUNTIF(K327:P327,\"=1\")*100+COUNTIF(K327:P327,\"=2\")*80+COUNTIF(K327:P327,\"=3\")*50+COUNTIF(K327:P327,\"=8\")*20+COUNTIF(K327:P327,\"=9\")*0)/COUNTA(K327:P327)/100,\"N/A\")","v":"N/A"},{"$f":"IF(COUNTA(Q327)>0,(COUNTIF(Q327,\"=0\")*0+COUNTIF(Q327,\"=1\")*100+COUNTIF(Q327,\"=2\")*80+COUNTIF(Q327,\"=3\")*50+COUNTIF(Q327,\"=8\")*20+COUNTIF(Q327,\"=9\")*0)/COUNTA(Q327)/100,\"N/A\")","v":"N/A"},{"$f":"IF(COUNTA(S327:W327)<>0,(COUNTIF(S327:W327,\"=0\")*0+COUNTIF(S327:W327,\"=1\")*100+COUNTIF(S327:W327,\"=2\")*80+COUNTIF(S327:W327,\"=3\")*50+COUNTIF(S327:W327,\"=8\")*20+COUNTIF(S327:W327,\"=9\")*0)/COUNTA(S327:W327)/100,\"N/A\")","v":"N/A"},"N/A",{"$f":"IF(COUNTA(#REF!)>0,(COUNTIF(#REF!,\"=0\")*0+COUNTIF(#REF!,\"=1\")*100+COUNTIF(#REF!,\"=2\")*80+COUNTIF(#REF!,\"=3\")*50+COUNTIF(#REF!,\"=8\")*20+COUNTIF(#REF!,\"=9\")*0)/COUNTA(#REF!)/100,\"N/A\")","v":{"$error":"#REF!"}},{"$f":"IF(COUNTA(#REF!)>0,(COUNTIF(#REF!,\"=0\")*0+COUNTIF(#REF!,\"=1\")*100+COUNTIF(#REF!,\"=2\")*80+COUNTIF(#REF!,\"=3\")*50+COUNTIF(#REF!,\"=8\")*20+COUNTIF(#REF!,\"=9\")*0)/COUNTA(#REF!)/100,\"N/A\")","v":{"$error":"#REF!"}},{"$f":"IF(AND(COUNTA(B327:X327)<>0,#REF!<>\"\"),AVERAGE(Y327:AE327),\"N/A\")","v":{"$error":"#REF!"}},1,1,1,1,1,{"$error":"#REF!"},{"$error":"#REF!"},{"$error":"#REF!"}]
[{"$nulls":24},{"$f":"IF(COUNTA(B328:G328)>0,(COUNTIF(B328:G328,\"=0\")*0+COUNTIF(B328:G328,\"=1\")*100+COUNTIF(B328:G328,\"=2\")*80+COUNTIF(B328:G328,\"=3\")*50+COUNTIF(B328:G328,\"=8\")*20+COUNTIF(B328:G328,\"=9\")*0)/COUNTA(B328:G328)/100,\"N/A\")","v":"N/A"},{"$f":"IF(COUNTA(K328:P328)>0,(COUNTIF(K328:P328,\"=0\")*0+COUNTIF(K328:P328,\"=1\")*100+COUNTIF(K328:P328,\"=2\")*80+COUNTIF(K328:P328,\"=3\")*50+COUNTIF(K328:P328,\"=8\")*20+COUNTIF(K328:P328,\"=9\")*0)/COUNTA(K328:P328)/100,\"N/A\")","v":"N/A"},{"$f":"IF(COUNTA(Q328)>0,(COUNTIF(Q328,\"=0\")*0+COUNTIF(Q328,\"=1\")*100+COUNTIF(Q328,\"=2\")*80+COUNTIF(Q328,\"=3\")*50+COUNTIF(Q328,\"=8\")*20+COUNTIF(Q328,\"=9\")*0)/COUNTA(Q328)/100,\"N/A\")","v":"N/A"},{"$f":"IF(COUNTA(S328:W328)<>0,(COUNTIF(S328:W328,\"=0\")*0+COUNTIF(S328:W328,\"=1\")*100+COUNTIF(S328:W328,\"=2\")*80+COUNTIF(S328:W328,\"=3\")*50+COUNTIF(S328:W328,\"=8\")*20+COUNTIF(S328:W328,\"=9\")*0)/COUNTA(S328:W328)/100,\"N/A\")","v":"N/A"},"N/A",{"$f":"IF(COUNTA(#REF!)>0,(COUNTIF(#REF!,\"=0\")*0+COUNTIF(#REF!,\"=1\")*100+COUNTIF(#REF!,\"=2\")*80+COUNTIF(#REF!,\"=3\")*50+COUNTIF(#REF!,\"=8\")*20+COUNTIF(#REF!,\"=9\")*0)/COUNTA(#REF!)/100,\"N/A\")","v":{"$error":"#REF!"}},{"$f":"IF(COUNTA(#REF!)>0,(COUNTIF(#REF!,\"=0\")*0+COUNTIF(#REF!,\"=1\")*100+COUNTIF(#REF!,\"=2\")*80+COUNTIF(#REF!,\"=3\")*50+COUNTIF(#REF!,\"=8\")*20+COUNTIF(#REF!,\"=9\")*0)/COUNTA(#REF!)/100,\"N/A\")","v":{"$error":"#REF!"}},{"$f":"IF(AND(COUNTA(B328:X328)<>0,#REF!<>\"\"),AVERAGE(Y328:AE328),\"N/A\")","v":{"$error":"#REF!"}},1,1,1,1,1,{"$error":"#REF!"},{"$error":"#REF!"},{"$error":"#REF!"}]
[{"$nulls":24},{"$f":"IF(COUNTA(B329:G329)>0,(COUNTIF(B329:G329,\"=0\")*0+COUNTIF(B329:G329,\"=1\")*100+COUNTIF(B329:G329,\"=2\")*80+COUNTIF(B329:G329,\"=3\")*50+COUNTIF(B329:G329,\"=8\")*20+COUNTIF(B329:G329,\"=9\")*0)/COUNTA(B329:G329)/100,\"N/A\")","v":"N/A"},{"$f":"IF(COUNTA(K329:P329)>0,(COUNTIF(K329:P329,\"=0\")*0+COUNTIF(K329:P329,\"=1\")*100+COUNTIF(K329:P329,\"=2\")*80+COUNTIF(K329:P329,\"=3\")*50+COUNTIF(K329:P329,\"=8\")*20+COUNTIF(K329:P329,\"=9\")*0)/COUNTA(K329:P329)/100,\"N/A\")","v":"N/A"},{"$f":"IF(COUNTA(Q329)>0,(COUNTIF(Q329,\"=0\")*0+COUNTIF(Q329,\"=1\")*100+COUNTIF(Q329,\"=2\")*80+COUNTIF(Q329,\"=3\")*50+COUNTIF(Q329,\"=8\")*20+COUNTIF(Q329,\"=9\")*0)/COUNTA(Q329)/100,\"N/A\")","v":"N/A"},{"$f":"IF(COUNTA(S329:W329)<>0,(COUNTIF(S329:W329,\"=0\")*0+COUNTIF(S329:W329,\"=1\")*100+COUNTIF(S329:W329,\"=2\")*80+COUNTIF(S329:W329,\"=3\")*50+COUNTIF(S329:W329,\"=8\")*20+COUNTIF(S329:W329,\"=9\")*0)/COUNTA(S329:W329)/100,\"N/A\")","v":"N/A"},"N/A",{"$f":"IF(COUNTA(#REF!)>0,(COUNTIF(#REF!,\"=0\")*0+COUNTIF(#REF!,\"=1\")*100+COUNTIF(#REF!,\"=2\")*80+COUNTIF(#REF!,\"=3\")*50+COUNTIF(#REF!,\"=8\")*20+COUNTIF(#REF!,\"=9\")*0)/COUNTA(#REF!)/100,\"N/A\")","v":{"$error":"#REF!"}},{"$f":"IF(COUNTA(#REF!)>0,(COUNTIF(#REF!,\"=0\")*0+COUNTIF(#REF!,\"=1\")*100+COUNTIF(#REF!,\"=2\")*80+COUNTIF(#REF!,\"=3\")*50+COUNTIF(#REF!,\"=8\")*20+COUNTIF(#REF!,\"=9\")*0)/COUNTA(#REF!)/100,\"N/A\")","v":{"$error":"#REF!"}},{"$f":"IF(AND(COUNTA(B329:X329)<>0,#REF!<>\"\"),AVERAGE(Y329:AE329),\"N/A\")","v":{"$error":"#REF!"}},1,1,1,1,1,{"$error":"#REF!"},{"$error":"#REF!"},{"$error":"#REF!"}]
[{"$nulls":24},{"$f":"IF(COUNTA(B330:G330)>0,(COUNTIF(B330:G330,\"=0\")*0+COUNTIF(B330:G330,\"=1\")*100+COUNTIF(B330:G330,\"=2\")*80+COUNTIF(B330:G330,\"=3\")*50+COUNTIF(B330:G330,\"=8\")*20+COUNTIF(B330:G330,\"=9\")*0)/COUNTA(B330:G330)/100,\"N/A\")","v":"N/A"},{"$f":"IF(COUNTA(K330:P330)>0,(COUNTIF(K330:P330,\"=0\")*0+COUNTIF(K330:P330,\"=1\")*100+COUNTIF(K330:P330,\"=2\")*80+COUNTIF(K330:P330,\"=3\")*50+COUNTIF(K330:P330,\"=8\")*20+COUNTIF(K330:P330,\"=9\")*0)/COUNTA(K330:P330)/100,\"N/A\")","v":"N/A"},{"$f":"IF(COUNTA(Q330)>0,(COUNTIF(Q330,\"=0\")*0+COUNTIF(Q330,\"=1\")*100+COUNTIF(Q330,\"=2\")*80+COUNTIF(Q330,\"=3\")*50+COUNTIF(Q330,\"=8\")*20+COUNTIF(Q330,\"=9\")*0)/COUNTA(Q330)/100,\"N/A\")","v":"N/A"},{"$f":"IF(COUNTA(S330:W330)<>0,(COUNTIF(S330:W330,\"=0\")*0+COUNTIF(S330:W330,\"=1\")*100+COUNTIF(S330:W330,\"=2\")*80+COUNTIF(S330:W330,\"=3\")*50+COUNTIF(S330:W330,\"=8\")*20+COUNTIF(S330:W330,\"=9\")*0)/COUNTA(S330:W330)/100,\"N/A\")","v":"N/A"},"N/A",{"$f":"IF(COUNTA(#REF!)>0,(COUNTIF(#REF!,\"=0\")*0+COUNTIF(#REF!,\"=1\")*100+COUNTIF(#REF!,\"=2\")*80+COUNTIF(#REF!,\"=3\")*50+COUNTIF(#REF!,\"=8\")*20+COUNTIF(#REF!,\"=9\")*0)/COUNTA(#REF!)/100,\"N/A\")","v":{"$error":"#REF!"}},{"$f":"IF(COUNTA(#REF!)>0,(COUNTIF(#REF!,\"=0\")*0+COUNTIF(#REF!,\"=1\")*100+COUNTIF(#REF!,\"=2\")*80+COUNTIF(#REF!,\"=3\")*50+COUNTIF(#REF!,\"=8\")*20+COUNTIF(#REF!,\"=9\")*0)/COUNTA(#REF!)/100,\"N/A\")","v":{"$error":"#REF!"}},{"$f":"IF(AND(COUNTA(B330:X330)<>0,#REF!<>\"\"),AVERAGE(Y330:AE330),\"N/A\")","v":{"$error":"#REF!"}},1,1,1,1,1,{"$error":"#REF!"},{"$error":"#REF!"},{"$error":"#REF!"}]
[{"$nulls":24},{"$f":"IF(COUNTA(B331:G331)>0,(COUNTIF(B331:G331,\"=0\")*0+COUNTIF(B331:G331,\"=1\")*100+COUNTIF(B331:G331,\"=2\")*80+COUNTIF(B331:G331,\"=3\")*50+COUNTIF(B331:G331,\"=8\")*20+COUNTIF(B331:G331,\"=9\")*0)/COUNTA(B331:G331)/100,\"N/A\")","v":"N/A"},{"$f":"IF(COUNTA(K331:P331)>0,(COUNTIF(K331:P331,\"=0\")*0+COUNTIF(K331:P331,\"=1\")*100+COUNTIF(K331:P331,\"=2\")*80+COUNTIF(K331:P331,\"=3\")*50+COUNTIF(K331:P331,\"=8\")*20+COUNTIF(K331:P331,\"=9\")*0)/COUNTA(K331:P331)/100,\"N/A\")","v":"N/A"},{"$f":"IF(COUNTA(Q331)>0,(COUNTIF(Q331,\"=0\")*0+COUNTIF(Q331,\"=1\")*100+COUNTIF(Q331,\"=2\")*80+COUNTIF(Q331,\"=3\")*50+COUNTIF(Q331,\"=8\")*20+COUNTIF(Q331,\"=9\")*0)/COUNTA(Q331)/100,\"N/A\")","v":"N/A"},{"$f":"IF(COUNTA(S331:W331)<>0,(COUNTIF(S331:W331,\"=0\")*0+COUNTIF(S331:W331,\"=1\")*100+COUNTIF(S331:W331,\"=2\")*80+COUNTIF(S331:W331,\"=3\")*50+COUNTIF(S331:W331,\"=8\")*20+COUNTIF(S331:W331,\"=9\")*0)/COUNTA(S331:W331)/100,\"N/A\")","v":"N/A"},"N/A",{"$f":"IF(COUNTA(#REF!)>0,(COUNTIF(#REF!,\"=0\")*0+COUNTIF(#REF!,\"=1\")*100+COUNTIF(#REF!,\"=2\")*80+COUNTIF(#REF!,\"=3\")*50+COUNTIF(#REF!,\"=8\")*20+COUNTIF(#REF!,\"=9\")*0)/COUNTA(#REF!)/100,\"N/A\")","v":{"$error":"#REF!"}},{"$f":"IF(COUNTA(#REF!)>0,(COUNTIF(#REF!,\"=0\")*0+COUNTIF(#REF!,\"=1\")*100+COUNTIF(#REF!,\"=2\")*80+COUNTIF(#REF!,\"=3\")*50+COUNTIF(#REF!,\"=8\")*20+COUNTIF(#REF!,\"=9\")*0)/COUNTA(#REF!)/100,\"N/A\")","v":{"$error":"#REF!"}},{"$f":"IF(AND(COUNTA(B331:X331)<>0,#REF!<>\"\"),AVERAGE(Y331:AE331),\"N/A\")","v":{"$error":"#REF!"}},1,1,1,1,1,{"$error":"#REF!"},{"$error":"#REF!"},{"$error":"#REF!"}]
[{"$nulls":24},{"$f":"IF(COUNTA(B332:G332)>0,(COUNTIF(B332:G332,\"=0\")*0+COUNTIF(B332:G332,\"=1\")*100+COUNTIF(B332:G332,\"=2\")*80+COUNTIF(B332:G332,\"=3\")*50+COUNTIF(B332:G332,\"=8\")*20+COUNTIF(B332:G332,\"=9\")*0)/COUNTA(B332:G332)/100,\"N/A\")","v":"N/A"},{"$f":"IF(COUNTA(K332:P332)>0,(COUNTIF(K332:P332,\"=0\")*0+COUNTIF(K332:P332,\"=1\")*100+COUNTIF(K332:P332,\"=2\")*80+COUNTIF(K332:P332,\"=3\")*50+COUNTIF(K332:P332,\"=8\")*20+COUNTIF(K332:P332,\"=9\")*0)/COUNTA(K332:P332)/100,\"N/A\")","v":"N/A"},{"$f":"IF(COUNTA(Q332)>0,(COUNTIF(Q332,\"=0\")*0+COUNTIF(Q332,\"=1\")*100+COUNTIF(Q332,\"=2\")*80+COUNTIF(Q332,\"=3\")*50+COUNTIF(Q332,\"=8\")*20+COUNTIF(Q332,\"=9\")*0)/COUNTA(Q332)/100,\"N/A\")","v":"N/A"},{"$f":"IF(COUNTA(S332:W332)<>0,(COUNTIF(S332:W332,\"=0\")*0+COUNTIF(S332:W332,\"=1\")*100+COUNTIF(S332:W332,\"=2\")*80+COUNTIF(S332:W332,\"=3\")*50+COUNTIF(S332:W332,\"=8\")*20+COUNTIF(S332:W332,\"=9\")*0)/COUNTA(S332:W332)/100,\"N/A\")","v":"N/A"},"N/A",{"$f":"IF(COUNTA(#REF!)>0,(COUNTIF(#REF!,\"=0\")*0+COUNTIF(#REF!,\"=1\")*100+COUNTIF(#REF!,\"=2\")*80+COUNTIF(#REF!,\"=3\")*50+COUNTIF(#REF!,\"=8\")*20+COUNTIF(#REF!,\"=9\")*0)/COUNTA(#REF!)/100,\"N/A\")","v":{"$error":"#REF!"}},{"$f":"IF(COUNTA(#REF!)>0,(COUNTIF(#REF!,\"=0\")*0+COUNTIF(#REF!,\"=1\")*100+COUNTIF(#REF!,\"=2\")*80+COUNTIF(#REF!,\"=3\")*50+COUNTIF(#REF!,\"=8\")*20+COUNTIF(#REF!,\"=9\")*0)/COUNTA(#REF!)/100,\"N/A\")","v":{"$error":"#REF!"}},{"$f":"IF(AND(COUNTA(B332:X332)<>0,#REF!<>\"\"),AVERAGE(Y332:AE332),\"N/A\")","v":{"$error":"#REF!"}},1,1,1,1,1,{"$error":"#REF!"},{"$error":"#REF!"},{"$error":"#REF!"}]
[{"$nulls":24},{"$f":"IF(COUNTA(B333:G333)>0,(COUNTIF(B333:G333,\"=0\")*0+COUNTIF(B333:G333,\"=1\")*100+COUNTIF(B333:G333,\"=2\")*80+COUNTIF(B333:G333,\"=3\")*50+COUNTIF(B333:G333,\"=8\")*20+COUNTIF(B333:G333,\"=9\")*0)/COUNTA(B333:G333)/100,\"N/A\")","v":"N/A"},{"$f":"IF(COUNTA(K333:P333)>0,(COUNTIF(K333:P333,\"=0\")*0+COUNTIF(K333:P333,\"=1\")*100+COUNTIF(K333:P333,\"=2\")*80+COUNTIF(K333:P333,\"=3\")*50+COUNTIF(K333:P333,\"=8\")*20+COUNTIF(K333:P333,\"=9\")*0)/COUNTA(K333:P333)/100,\"N/A\")","v":"N/A"},{"$f":"IF(COUNTA(Q333)>0,(COUNTIF(Q333,\"=0\")*0+COUNTIF(Q333,\"=1\")*100+COUNTIF(Q333,\"=2\")*80+COUNTIF(Q333,\"=3\")*50+COUNTIF(Q333,\"=8\")*20+COUNTIF(Q333,\"=9\")*0)/COUNTA(Q333)/100,\"N/A\")","v":"N/A"},{"$f":"IF(COUNTA(S333:W333)<>0,(COUNTIF(S333:W333,\"=0\")*0+COUNTIF(S333:W333,\"=1\")*100+COUNTIF(S333:W333,\"=2\")*80+COUNTIF(S333:W333,\"=3\")*50+COUNTIF(S333:W333,\"=8\")*20+COUNTIF(S333:W333,\"=9\")*0)/COUNTA(S333:W333)/100,\"N/A\")","v":"N/A"},"N/A",{"$f":"IF(COUNTA(#REF!)>0,(COUNTIF(#REF!,\"=0\")*0+COUNTIF(#REF!,\"=1\")*100+COUNTIF(#REF!,\"=2\")*80+COUNTIF(#REF!,\"=3\")*50+COUNTIF(#REF!,\"=8\")*20+COUNTIF(#REF!,\"=9\")*0)/COUNTA(#REF!)/100,\"N/A\")","v":{"$error":"#REF!"}},{"$f":"IF(COUNTA(#REF!)>0,(COUNTIF(#REF!,\"=0\")*0+COUNTIF(#REF!,\"=1\")*100+COUNTIF(#REF!,\"=2\")*80+COUNTIF(#REF!,\"=3\")*50+COUNTIF(#REF!,\"=8\")*20+COUNTIF(#REF!,\"=9\")*0)/COUNTA(#REF!)/100,\"N/A\")","v":{"$error":"#REF!"}},{"$f":"IF(AND(COUNTA(B333:X333)<>0,#REF!<>\"\"),AVERAGE(Y333:AE333),\"N/A\")","v":{"$error":"#REF!"}},1,1,1,1,1,{"$error":"#REF!"},{"$error":"#REF!"},{"$error":"#REF!"}]
[{"$nulls":24},{"$f":"IF(COUNTA(B334:G334)>0,(COUNTIF(B334:G334,\"=0\")*0+COUNTIF(B334:G334,\"=1\")*100+COUNTIF(B334:G334,\"=2\")*80+COUNTIF(B334:G334,\"=3\")*50+COUNTIF(B334:G334,\"=8\")*20+COUNTIF(B334:G334,\"=9\")*0)/COUNTA(B334:G334)/100,\"N/A\")","v":"N/A"},{"$f":"IF(COUNTA(K334:P334)>0,(COUNTIF(K334:P334,\"=0\")*0+COUNTIF(K334:P334,\"=1\")*100+COUNTIF(K334:P334,\"=2\")*80+COUNTIF(K334:P334,\"=3\")*50+COUNTIF(K334:P334,\"=8\")*20+COUNTIF(K334:P334,\"=9\")*0)/COUNTA(K334:P334)/100,\"N/A\")","v":"N/A"},{"$f":"IF(COUNTA(Q334)>0,(COUNTIF(Q334,\"=0\")*0+COUNTIF(Q334,\"=1\")*100+COUNTIF(Q334,\"=2\")*80+COUNTIF(Q334,\"=3\")*50+COUNTIF(Q334,\"=8\")*20+COUNTIF(Q334,\"=9\")*0)/COUNTA(Q334)/100,\"N/A\")","v":"N/A"},{"$f":"IF(COUNTA(S334:W334)<>0,(COUNTIF(S334:W334,\"=0\")*0+COUNTIF(S334:W334,\"=1\")*100+COUNTIF(S334:W334,\"=2\")*80+COUNTIF(S334:W334,\"=3\")*50+COUNTIF(S334:W334,\"=8\")*20+COUNTIF(S334:W334,\"=9\")*0)/COUNTA(S334:W334)/100,\"N/A\")","v":"N/A"},"N/A",{"$f":"IF(COUNTA(#REF!)>0,(COUNTIF(#REF!,\"=0\")*0+COUNTIF(#REF!,\"=1\")*100+COUNTIF(#REF!,\"=2\")*80+COUNTIF(#REF!,\"=3\")*50+COUNTIF(#REF!,\"=8\")*20+COUNTIF(#REF!,\"=9\")*0)/COUNTA(#REF!)/100,\"N/A\")","v":{"$error":"#REF!"}},{"$f":"IF(COUNTA(#REF!)>0,(COUNTIF(#REF!,\"=0\")*0+COUNTIF(#REF!,\"=1\")*100+COUNTIF(#REF!,\"=2\")*80+COUNTIF(#REF!,\"=3\")*50+COUNTIF(#REF!,\"=8\")*20+COUNTIF(#REF!,\"=9\")*0)/COUNTA(#REF!)/100,\"N/A\")","v":{"$error":"#REF!"}},{"$f":"IF(AND(COUNTA(B334:X334)<>0,#REF!<>\"\"),AVERAGE(Y334:AE334),\"N/A\")","v":{"$error":"#REF!"}},1,1,1,1,1,{"$error":"#REF!"},{"$error":"#REF!"},{"$error":"#REF!"}]
[{"$nulls":24},{"$f":"IF(COUNTA(B335:G335)>0,(COUNTIF(B335:G335,\"=0\")*0+COUNTIF(B335:G335,\"=1\")*100+COUNTIF(B335:G335,\"=2\")*80+COUNTIF(B335:G335,\"=3\")*50+COUNTIF(B335:G335,\"=8\")*20+COUNTIF(B335:G335,\"=9\")*0)/COUNTA(B335:G335)/100,\"N/A\")","v":"N/A"},{"$f":"IF(COUNTA(K335:P335)>0,(COUNTIF(K335:P335,\"=0\")*0+COUNTIF(K335:P335,\"=1\")*100+COUNTIF(K335:P335,\"=2\")*80+COUNTIF(K335:P335,\"=3\")*50+COUNTIF(K335:P335,\"=8\")*20+COUNTIF(K335:P335,\"=9\")*0)/COUNTA(K335:P335)/100,\"N/A\")","v":"N/A"},{"$f":"IF(COUNTA(Q335)>0,(COUNTIF(Q335,\"=0\")*0+COUNTIF(Q335,\"=1\")*100+COUNTIF(Q335,\"=2\")*80+COUNTIF(Q335,\"=3\")*50+COUNTIF(Q335,\"=8\")*20+COUNTIF(Q335,\"=9\")*0)/COUNTA(Q335)/100,\"N/A\")","v":"N/A"},{"$f":"IF(COUNTA(S335:W335)<>0,(COUNTIF(S335:W335,\"=0\")*0+COUNTIF(S335:W335,\"=1\")*100+COUNTIF(S335:W335,\"=2\")*80+COUNTIF(S335:W335,\"=3\")*50+COUNTIF(S335:W335,\"=8\")*20+COUNTIF(S335:W335,\"=9\")*0)/COUNTA(S335:W335)/100,\"N/A\")","v":"N/A"},"N/A",{"$f":"IF(COUNTA(#REF!)>0,(COUNTIF(#REF!,\"=0\")*0+COUNTIF(#REF!,\"=1\")*100+COUNTIF(#REF!,\"=2\")*80+COUNTIF(#REF!,\"=3\")*50+COUNTIF(#REF!,\"=8\")*20+COUNTIF(#REF!,\"=9\")*0)/COUNTA(#REF!)/100,\"N/A\")","v":{"$error":"#REF!"}},{"$f":"IF(COUNTA(#REF!)>0,(COUNTIF(#REF!,\"=0\")*0+COUNTIF(#REF!,\"=1\")*100+COUNTIF(#REF!,\"=2\")*80+COUNTIF(#REF!,\"=3\")*50+COUNTIF(#REF!,\"=8\")*20+COUNTIF(#REF!,\"=9\")*0)/COUNTA(#REF!)/100,\"N/A\")","v":{"$error":"#REF!"}},{"$f":"IF(AND(COUNTA(B335:X335)<>0,#REF!<>\"\"),AVERAGE(Y335:AE335),\"N/A\")","v":{"$error":"#REF!"}},1,1,1,1,1,{"$error":"#REF!"},{"$error":"#REF!"},{"$error":"#REF!"}]
[{"$nulls":24},{"$f":"IF(COUNTA(B336:G336)>0,(COUNTIF(B336:G336,\"=0\")*0+COUNTIF(B336:G336,\"=1\")*100+COUNTIF(B336:G336,\"=2\")*80+COUNTIF(B336:G336,\"=3\")*50+COUNTIF(B336:G336,\"=8\")*20+COUNTIF(B336:G336,\"=9\")*0)/COUNTA(B336:G336)/100,\"N/A\")","v":"N/A"},{"$f":"IF(COUNTA(K336:P336)>0,(COUNTIF(K336:P336,\"=0\")*0+COUNTIF(K336:P336,\"=1\")*100+COUNTIF(K336:P336,\"=2\")*80+COUNTIF(K336:P336,\"=3\")*50+COUNTIF(K336:P336,\"=8\")*20+COUNTIF(K336:P336,\"=9\")*0)/COUNTA(K336:P336)/100,\"N/A\")","v":"N/A"},{"$f":"IF(COUNTA(Q336)>0,(COUNTIF(Q336,\"=0\")*0+COUNTIF(Q336,\"=1\")*100+COUNTIF(Q336,\"=2\")*80+COUNTIF(Q336,\"=3\")*50+COUNTIF(Q336,\"=8\")*20+COUNTIF(Q336,\"=9\")*0)/COUNTA(Q336)/100,\"N/A\")","v":"N/A"},{"$f":"IF(COUNTA(S336:W336)<>0,(COUNTIF(S336:W336,\"=0\")*0+COUNTIF(S336:W336,\"=1\")*100+COUNTIF(S336:W336,\"=2\")*80+COUNTIF(S336:W336,\"=3\")*50+COUNTIF(S336:W336,\"=8\")*20+COUNTIF(S336:W336,\"=9\")*0)/COUNTA(S336:W336)/100,\"N/A\")","v":"N/A"},"N/A",{"$f":"IF(COUNTA(#REF!)>0,(COUNTIF(#REF!,\"=0\")*0+COUNTIF(#REF!,\"=1\")*100+COUNTIF(#REF!,\"=2\")*80+COUNTIF(#REF!,\"=3\")*50+COUNTIF(#REF!,\"=8\")*20+COUNTIF(#REF!,\"=9\")*0)/COUNTA(#REF!)/100,\"N/A\")","v":{"$error":"#REF!"}},{"$f":"IF(COUNTA(#REF!)>0,(COUNTIF(#REF!,\"=0\")*0+COUNTIF(#REF!,\"=1\")*100+COUNTIF(#REF!,\"=2\")*80+COUNTIF(#REF!,\"=3\")*50+COUNTIF(#REF!,\"=8\")*20+COUNTIF(#REF!,\"=9\")*0)/COUNTA(#REF!)/100,\"N/A\")","v":{"$error":"#REF!"}},{"$f":"IF(AND(COUNTA(B336:X336)<>0,#REF!<>\"\"),AVERAGE(Y336:AE336),\"N/A\")","v":{"$error":"#REF!"}},1,1,1,1,1,{"$error":"#REF!"},{"$error":"#REF!"},{"$error":"#REF!"}]
[{"$nulls":24},{"$f":"IF(COUNTA(B337:G337)>0,(COUNTIF(B337:G337,\"=0\")*0+COUNTIF(B337:G337,\"=1\")*100+COUNTIF(B337:G337,\"=2\")*80+COUNTIF(B337:G337,\"=3\")*50+COUNTIF(B337:G337,\"=8\")*20+COUNTIF(B337:G337,\"=9\")*0)/COUNTA(B337:G337)/100,\"N/A\")","v":"N/A"},{"$f":"IF(COUNTA(K337:P337)>0,(COUNTIF(K337:P337,\"=0\")*0+COUNTIF(K337:P337,\"=1\")*100+COUNTIF(K337:P337,\"=2\")*80+COUNTIF(K337:P337,\"=3\")*50+COUNTIF(K337:P337,\"=8\")*20+COUNTIF(K337:P337,\"=9\")*0)/COUNTA(K337:P337)/100,\"N/A\")","v":"N/A"},{"$f":"IF(COUNTA(Q337)>0,(COUNTIF(Q337,\"=0\")*0+COUNTIF(Q337,\"=1\")*100+COUNTIF(Q337,\"=2\")*80+COUNTIF(Q337,\"=3\")*50+COUNTIF(Q337,\"=8\")*20+COUNTIF(Q337,\"=9\")*0)/COUNTA(Q337)/100,\"N/A\")","v":"N/A"},{"$f":"IF(COUNTA(S337:W337)<>0,(COUNTIF(S337:W337,\"=0\")*0+COUNTIF(S337:W337,\"=1\")*100+COUNTIF(S337:W337,\"=2\")*80+COUNTIF(S337:W337,\"=3\")*50+COUNTIF(S337:W337,\"=8\")*20+COUNTIF(S337:W337,\"=9\")*0)/COUNTA(S337:W337)/100,\"N/A\")","v":"N/A"},"N/A",{"$f":"IF(COUNTA(#REF!)>0,(COUNTIF(#REF!,\"=0\")*0+COUNTIF(#REF!,\"=1\")*100+COUNTIF(#REF!,\"=2\")*80+COUNTIF(#REF!,\"=3\")*50+COUNTIF(#REF!,\"=8\")*20+COUNTIF(#REF!,\"=9\")*0)/COUNTA(#REF!)/100,\"N/A\")","v":{"$error":"#REF!"}},{"$f":"IF(COUNTA(#REF!)>0,(COUNTIF(#REF!,\"=0\")*0+COUNTIF(#REF!,\"=1\")*100+COUNTIF(#REF!,\"=2\")*80+COUNTIF(#REF!,\"=3\")*50+COUNTIF(#REF!,\"=8\")*20+COUNTIF(#REF!,\"=9\")*0)/COUNTA(#REF!)/100,\"N/A\")","v":{"$error":"#REF!"}},{"$f":"IF(AND(COUNTA(B337:X337)<>0,#REF!<>\"\"),AVERAGE(Y337:AE337),\"N/A\")","v":{"$error":"#REF!"}},1,1,1,1,1,{"$error":"#REF!"},{"$error":"#REF!"},{"$error":"#REF!"}]
[{"$nulls":24},{"$f":"IF(COUNTA(B338:G338)>0,(COUNTIF(B338:G338,\"=0\")*0+COUNTIF(B338:G338,\"=1\")*100+COUNTIF(B338:G338,\"=2\")*80+COUNTIF(B338:G338,\"=3\")*50+COUNTIF(B338:G338,\"=8\")*20+COUNTIF(B338:G338,\"=9\")*0)/COUNTA(B338:G338)/100,\"N/A\")","v":"N/A"},{"$f":"IF(COUNTA(K338:P338)>0,(COUNTIF(K338:P338,\"=0\")*0+COUNTIF(K338:P338,\"=1\")*100+COUNTIF(K338:P338,\"=2\")*80+COUNTIF(K338:P338,\"=3\")*50+COUNTIF(K338:P338,\"=8\")*20+COUNTIF(K338:P338,\"=9\")*0)/COUNTA(K338:P338)/100,\"N/A\")","v":"N/A"},{"$f":"IF(COUNTA(Q338)>0,(COUNTIF(Q338,\"=0\")*0+COUNTIF(Q338,\"=1\")*100+COUNTIF(Q338,\"=2\")*80+COUNTIF(Q338,\"=3\")*50+COUNTIF(Q338,\"=8\")*20+COUNTIF(Q338,\"=9\")*0)/COUNTA(Q338)/100,\"N/A\")","v":"N/A"},{"$f":"IF(COUNTA(S338:W338)<>0,(COUNTIF(S338:W338,\"=0\")*0+COUNTIF(S338:W338,\"=1\")*100+COUNTIF(S338:W338,\"=2\")*80+COUNTIF(S338:W338,\"=3\")*50+COUNTIF(S338:W338,\"=8\")*20+COUNTIF(S338:W338,\"=9\")*0)/COUNTA(S338:W338)/100,\"N/A\")","v":"N/A"},"N/A",{"$f":"IF(COUNTA(#REF!)>0,(COUNTIF(#REF!,\"=0\")*0+COUNTIF(#REF!,\"=1\")*100+COUNTIF(#REF!,\"=2\")*80+COUNTIF(#REF!,\"=3\")*50+COUNTIF(#REF!,\"=8\")*20+COUNTIF(#REF!,\"=9\")*0)/COUNTA(#REF!)/100,\"N/A\")","v":{"$error":"#REF!"}},{"$f":"IF(COUNTA(#REF!)>0,(COUNTIF(#REF!,\"=0\")*0+COUNTIF(#REF!,\"=1\")*100+COUNTIF(#REF!,\"=2\")*80+COUNTIF(#REF!,\"=3\")*50+COUNTIF(#REF!,\"=8\")*20+COUNTIF(#REF!,\"=9\")*0)/COUNTA(#REF!)/100,\"N/A\")","v":{"$error":"#REF!"}},{"$f":"IF(AND(COUNTA(B338:X338)<>0,#REF!<>\"\"),AVERAGE(Y338:AE338),\"N/A\")","v":{"$error":"#REF!"}},1,1,1,1,1,{"$error":"#REF!"},{"$error":"#REF!"},{"$error":"#REF!"}]
[{"$nulls":24},{"$f":"IF(COUNTA(B339:G339)>0,(COUNTIF(B339:G339,\"=0\")*0+COUNTIF(B339:G339,\"=1\")*100+COUNTIF(B339:G339,\"=2\")*80+COUNTIF(B339:G339,\"=3\")*50+COUNTIF(B339:G339,\"=8\")*20+COUNTIF(B339:G339,\"=9\")*0)/COUNTA(B339:G339)/100,\"N/A\")","v":"N/A"},{"$f":"IF(COUNTA(K339:P339)>0,(COUNTIF(K339:P339,\"=0\")*0+COUNTIF(K339:P339,\"=1\")*100+COUNTIF(K339:P339,\"=2\")*80+COUNTIF(K339:P339,\"=3\")*50+COUNTIF(K339:P339,\"=8\")*20+COUNTIF(K339:P339,\"=9\")*0)/COUNTA(K339:P339)/100,\"N/A\")","v":"N/A"},{"$f":"IF(COUNTA(Q339)>0,(COUNTIF(Q339,\"=0\")*0+COUNTIF(Q339,\"=1\")*100+COUNTIF(Q339,\"=2\")*80+COUNTIF(Q339,\"=3\")*50+COUNTIF(Q339,\"=8\")*20+COUNTIF(Q339,\"=9\")*0)/COUNTA(Q339)/100,\"N/A\")","v":"N/A"},{"$f":"IF(COUNTA(S339:W339)<>0,(COUNTIF(S339:W339,\"=0\")*0+COUNTIF(S339:W339,\"=1\")*100+COUNTIF(S339:W339,\"=2\")*80+COUNTIF(S339:W339,\"=3\")*50+COUNTIF(S339:W339,\"=8\")*20+COUNTIF(S339:W339,\"=9\")*0)/COUNTA(S339:W339)/100,\"N/A\")","v":"N/A"},"N/A",{"$f":"IF(COUNTA(#REF!)>0,(COUNTIF(#REF!,\"=0\")*0+COUNTIF(#REF!,\"=1\")*100+COUNTIF(#REF!,\"=2\")*80+COUNTIF(#REF!,\"=3\")*50+COUNTIF(#REF!,\"=8\")*20+COUNTIF(#REF!,\"=9\")*0)/COUNTA(#REF!)/100,\"N/A\")","v":{"$error":"#REF!"}},{"$f":"IF(COUNTA(#REF!)>0,(COUNTIF(#REF!,\"=0\")*0+COUNTIF(#REF!,\"=1\")*100+COUNTIF(#REF!,\"=2\")*80+COUNTIF(#REF!,\"=3\")*50+COUNTIF(#REF!,\"=8\")*20+COUNTIF(#REF!,\"=9\")*0)/COUNTA(#REF!)/100,\"N/A\")","v":{"$error":"#REF!"}},{"$f":"IF(AND(COUNTA(B339:X339)<>0,#REF!<>\"\"),AVERAGE(Y339:AE339),\"N/A\")","v":{"$error":"#REF!"}},1,1,1,1,1,{"$error":"#REF!"},{"$error":"#REF!"},{"$error":"#REF!"}]
[{"$nulls":24},{"$f":"IF(COUNTA(B340:G340)>0,(COUNTIF(B340:G340,\"=0\")*0+COUNTIF(B340:G340,\"=1\")*100+COUNTIF(B340:G340,\"=2\")*80+COUNTIF(B340:G340,\"=3\")*50+COUNTIF(B340:G340,\"=8\")*20+COUNTIF(B340:G340,\"=9\")*0)/COUNTA(B340:G340)/100,\"N/A\")","v":"N/A"},{"$f":"IF(COUNTA(K340:P340)>0,(COUNTIF(K340:P340,\"=0\")*0+COUNTIF(K340:P340,\"=1\")*100+COUNTIF(K340:P340,\"=2\")*80+COUNTIF(K340:P340,\"=3\")*50+COUNTIF(K340:P340,\"=8\")*20+COUNTIF(K340:P340,\"=9\")*0)/COUNTA(K340:P340)/100,\"N/A\")","v":"N/A"},{"$f":"IF(COUNTA(Q340)>0,(COUNTIF(Q340,\"=0\")*0+COUNTIF(Q340,\"=1\")*100+COUNTIF(Q340,\"=2\")*80+COUNTIF(Q340,\"=3\")*50+COUNTIF(Q340,\"=8\")*20+COUNTIF(Q340,\"=9\")*0)/COUNTA(Q340)/100,\"N/A\")","v":"N/A"},{"$f":"IF(COUNTA(S340:W340)<>0,(COUNTIF(S340:W340,\"=0\")*0+COUNTIF(S340:W340,\"=1\")*100+COUNTIF(S340:W340,\"=2\")*80+COUNTIF(S340:W340,\"=3\")*50+COUNTIF(S340:W340,\"=8\")*20+COUNTIF(S340:W340,\"=9\")*0)/COUNTA(S340:W340)/100,\"N/A\")","v":"N/A"},{"$f":"IF(COUNTA(X340:X340)>0,(COUNTIF(X340:X340,\"=0\")*0+COUNTIF(X340:X340,\"=1\")*100+COUNTIF(X340:X340,\"=2\")*80+COUNTIF(X340:X340,\"=3\")*50+COUNTIF(X340:X340,\"=8\")*20+COUNTIF(X340:X340,\"=9\")*0)/COUNTA(X340:X340)/100,\"N/A\")","v":"N/A"},{"$f":"IF(COUNTA(#REF!)>0,(COUNTIF(#REF!,\"=0\")*0+COUNTIF(#REF!,\"=1\")*100+COUNTIF(#REF!,\"=2\")*80+COUNTIF(#REF!,\"=3\")*50+COUNTIF(#REF!,\"=8\")*20+COUNTIF(#REF!,\"=9\")*0)/COUNTA(#REF!)/100,\"N/A\")","v":{"$error":"#REF!"}},{"$f":"IF(COUNTA(#REF!)>0,(COUNTIF(#REF!,\"=0\")*0+COUNTIF(#REF!,\"=1\")*100+COUNTIF(#REF!,\"=2\")*80+COUNTIF(#REF!,\"=3\")*50+COUNTIF(#REF!,\"=8\")*20+COUNTIF(#REF!,\"=9\")*0)/COUNTA(#REF!)/100,\"N/A\")","v":{"$error":"#REF!"}},{"$f":"IF(AND(COUNTA(B340:X340)<>0,#REF!<>\"\"),AVERAGE(Y340:AE340),\"N/A\")","v":{"$error":"#REF!"}},1,1,1,1,1,{"$error":"#REF!"},{"$error":"#REF!"},{"$error":"#REF!"}]
[{"$nulls":24},{"$f":"IF(COUNTA(B341:G341)>0,(COUNTIF(B341:G341,\"=0\")*0+COUNTIF(B341:G341,\"=1\")*100+COUNTIF(B341:G341,\"=2\")*80+COUNTIF(B341:G341,\"=3\")*50+COUNTIF(B341:G341,\"=8\")*20+COUNTIF(B341:G341,\"=9\")*0)/COUNTA(B341:G341)/100,\"N/A\")","v":"N/A"},{"$f":"IF(COUNTA(K341:P341)>0,(COUNTIF(K341:P341,\"=0\")*0+COUNTIF(K341:P341,\"=1\")*100+COUNTIF(K341:P341,\"=2\")*80+COUNTIF(K341:P341,\"=3\")*50+COUNTIF(K341:P341,\"=8\")*20+COUNTIF(K341:P341,\"=9\")*0)/COUNTA(K341:P341)/100,\"N/A\")","v":"N/A"},{"$f":"IF(COUNTA(Q341)>0,(COUNTIF(Q341,\"=0\")*0+COUNTIF(Q341,\"=1\")*100+COUNTIF(Q341,\"=2\")*80+COUNTIF(Q341,\"=3\")*50+COUNTIF(Q341,\"=8\")*20+COUNTIF(Q341,\"=9\")*0)/COUNTA(Q341)/100,\"N/A\")","v":"N/A"},{"$f":"IF(COUNTA(S341:W341)<>0,(COUNTIF(S341:W341,\"=0\")*0+COUNTIF(S341:W341,\"=1\")*100+COUNTIF(S341:W341,\"=2\")*80+COUNTIF(S341:W341,\"=3\")*50+COUNTIF(S341:W341,\"=8\")*20+COUNTIF(S341:W341,\"=9\")*0)/COUNTA(S341:W341)/100,\"N/A\")","v":"N/A"},"N/A",{"$f":"IF(COUNTA(#REF!)>0,(COUNTIF(#REF!,\"=0\")*0+COUNTIF(#REF!,\"=1\")*100+COUNTIF(#REF!,\"=2\")*80+COUNTIF(#REF!,\"=3\")*50+COUNTIF(#REF!,\"=8\")*20+COUNTIF(#REF!,\"=9\")*0)/COUNTA(#REF!)/100,\"N/A\")","v":{"$error":"#REF!"}},{"$f":"IF(COUNTA(#REF!)>0,(COUNTIF(#REF!,\"=0\")*0+COUNTIF(#REF!,\"=1\")*100+COUNTIF(#REF!,\"=2\")*80+COUNTIF(#REF!,\"=3\")*50+COUNTIF(#REF!,\"=8\")*20+COUNTIF(#REF!,\"=9\")*0)/COUNTA(#REF!)/100,\"N/A\")","v":{"$error":"#REF!"}},{"$f":"IF(AND(COUNTA(B341:X341)<>0,#REF!<>\"\"),AVERAGE(Y341:AE341),\"N/A\")","v":{"$error":"#REF!"}},1,1,1,1,1,{"$error":"#REF!"},{"$error":"#REF!"},{"$error":"#REF!"}]
[{"$nulls":24},{"$f":"IF(COUNTA(B342:G342)>0,(COUNTIF(B342:G342,\"=0\")*0+COUNTIF(B342:G342,\"=1\")*100+COUNTIF(B342:G342,\"=2\")*80+COUNTIF(B342:G342,\"=3\")*50+COUNTIF(B342:G342,\"=8\")*20+COUNTIF(B342:G342,\"=9\")*0)/COUNTA(B342:G342)/100,\"N/A\")","v":"N/A"},{"$f":"IF(COUNTA(K342:P342)>0,(COUNTIF(K342:P342,\"=0\")*0+COUNTIF(K342:P342,\"=1\")*100+COUNTIF(K342:P342,\"=2\")*80+COUNTIF(K342:P342,\"=3\")*50+COUNTIF(K342:P342,\"=8\")*20+COUNTIF(K342:P342,\"=9\")*0)/COUNTA(K342:P342)/100,\"N/A\")","v":"N/A"},{"$f":"IF(COUNTA(Q342)>0,(COUNTIF(Q342,\"=0\")*0+COUNTIF(Q342,\"=1\")*100+COUNTIF(Q342,\"=2\")*80+COUNTIF(Q342,\"=3\")*50+COUNTIF(Q342,\"=8\")*20+COUNTIF(Q342,\"=9\")*0)/COUNTA(Q342)/100,\"N/A\")","v":"N/A"},{"$f":"IF(COUNTA(S342:W342)<>0,(COUNTIF(S342:W342,\"=0\")*0+COUNTIF(S342:W342,\"=1\")*100+COUNTIF(S342:W342,\"=2\")*80+COUNTIF(S342:W342,\"=3\")*50+COUNTIF(S342:W342,\"=8\")*20+COUNTIF(S342:W342,\"=9\")*0)/COUNTA(S342:W342)/100,\"N/A\")","v":"N/A"},"N/A",{"$f":"IF(COUNTA(#REF!)>0,(COUNTIF(#REF!,\"=0\")*0+COUNTIF(#REF!,\"=1\")*100+COUNTIF(#REF!,\"=2\")*80+COUNTIF(#REF!,\"=3\")*50+COUNTIF(#REF!,\"=8\")*20+COUNTIF(#REF!,\"=9\")*0)/COUNTA(#REF!)/100,\"N/A\")","v":{"$error":"#REF!"}},{"$f":"IF(COUNTA(#REF!)>0,(COUNTIF(#REF!,\"=0\")*0+COUNTIF(#REF!,\"=1\")*100+COUNTIF(#REF!,\"=2\")*80+COUNTIF(#REF!,\"=3\")*50+COUNTIF(#REF!,\"=8\")*20+COUNTIF(#REF!,\"=9\")*0)/COUNTA(#REF!)/100,\"N/A\")","v":{"$error":"#REF!"}},{"$f":"IF(AND(COUNTA(B342:X342)<>0,#REF!<>\"\"),AVERAGE(Y342:AE342),\"N/A\")","v":{"$error":"#REF!"}},1,1,1,1,1,{"$error":"#REF!"},{"$error":"#REF!"},{"$error":"#REF!"}]
[{"$nulls":24},{"$f":"IF(COUNTA(B343:G343)>0,(COUNTIF(B343:G343,\"=0\")*0+COUNTIF(B343:G343,\"=1\")*100+COUNTIF(B343:G343,\"=2\")*80+COUNTIF(B343:G343,\"=3\")*50+COUNTIF(B343:G343,\"=8\")*20+COUNTIF(B343:G343,\"=9\")*0)/COUNTA(B343:G343)/100,\"N/A\")","v":"N/A"},{"$f":"IF(COUNTA(K343:P343)>0,(COUNTIF(K343:P343,\"=0\")*0+COUNTIF(K343:P343,\"=1\")*100+COUNTIF(K343:P343,\"=2\")*80+COUNTIF(K343:P343,\"=3\")*50+COUNTIF(K343:P343,\"=8\")*20+COUNTIF(K343:P343,\"=9\")*0)/COUNTA(K343:P343)/100,\"N/A\")","v":"N/A"},{"$f":"IF(COUNTA(Q343)>0,(COUNTIF(Q343,\"=0\")*0+COUNTIF(Q343,\"=1\")*100+COUNTIF(Q343,\"=2\")*80+COUNTIF(Q343,\"=3\")*50+COUNTIF(Q343,\"=8\")*20+COUNTIF(Q343,\"=9\")*0)/COUNTA(Q343)/100,\"N/A\")","v":"N/A"},{"$f":"IF(COUNTA(S343:W343)<>0,(COUNTIF(S343:W343,\"=0\")*0+COUNTIF(S343:W343,\"=1\")*100+COUNTIF(S343:W343,\"=2\")*80+COUNTIF(S343:W343,\"=3\")*50+COUNTIF(S343:W343,\"=8\")*20+COUNTIF(S343:W343,\"=9\")*0)/COUNTA(S343:W343)/100,\"N/A\")","v":"N/A"},"N/A",{"$f":"IF(COUNTA(#REF!)>0,(COUNTIF(#REF!,\"=0\")*0+COUNTIF(#REF!,\"=1\")*100+COUNTIF(#REF!,\"=2\")*80+COUNTIF(#REF!,\"=3\")*50+COUNTIF(#REF!,\"=8\")*20+COUNTIF(#REF!,\"=9\")*0)/COUNTA(#REF!)/100,\"N/A\")","v":{"$error":"#REF!"}},{"$f":"IF(COUNTA(#REF!)>0,(COUNTIF(#REF!,\"=0\")*0+COUNTIF(#REF!,\"=1\")*100+COUNTIF(#REF!,\"=2\")*80+COUNTIF(#REF!,\"=3\")*50+COUNTIF(#REF!,\"=8\")*20+COUNTIF(#REF!,\"=9\")*0)/COUNTA(#REF!)/100,\"N/A\")","v":{"$error":"#REF!"}},{"$f":"IF(AND(COUNTA(B343:X343)<>0,#REF!<>\"\"),AVERAGE(Y343:AE343),\"N/A\")","v":{"$error":"#REF!"}},1,1,1,1,1,{"$error":"#REF!"},{"$error":"#REF!"},{"$error":"#REF!"}]
[{"$nulls":24},{"$f":"IF(COUNTA(B344:G344)>0,(COUNTIF(B344:G344,\"=0\")*0+COUNTIF(B344:G344,\"=1\")*100+COUNTIF(B344:G344,\"=2\")*80+COUNTIF(B344:G344,\"=3\")*50+COUNTIF(B344:G344,\"=8\")*20+COUNTIF(B344:G344,\"=9\")*0)/COUNTA(B344:G344)/100,\"N/A\")","v":"N/A"},{"$f":"IF(COUNTA(K344:P344)>0,(COUNTIF(K344:P344,\"=0\")*0+COUNTIF(K344:P344,\"=1\")*100+COUNTIF(K344:P344,\"=2\")*80+COUNTIF(K344:P344,\"=3\")*50+COUNTIF(K344:P344,\"=8\")*20+COUNTIF(K344:P344,\"=9\")*0)/COUNTA(K344:P344)/100,\"N/A\")","v":"N/A"},{"$f":"IF(COUNTA(Q344)>0,(COUNTIF(Q344,\"=0\")*0+COUNTIF(Q344,\"=1\")*100+COUNTIF(Q344,\"=2\")*80+COUNTIF(Q344,\"=3\")*50+COUNTIF(Q344,\"=8\")*20+COUNTIF(Q344,\"=9\")*0)/COUNTA(Q344)/100,\"N/A\")","v":"N/A"},{"$f":"IF(COUNTA(S344:W344)<>0,(COUNTIF(S344:W344,\"=0\")*0+COUNTIF(S344:W344,\"=1\")*100+COUNTIF(S344:W344,\"=2\")*80+COUNTIF(S344:W344,\"=3\")*50+COUNTIF(S344:W344,\"=8\")*20+COUNTIF(S344:W344,\"=9\")*0)/COUNTA(S344:W344)/100,\"N/A\")","v":"N/A"},"N/A",{"$f":"IF(COUNTA(#REF!)>0,(COUNTIF(#REF!,\"=0\")*0+COUNTIF(#REF!,\"=1\")*100+COUNTIF(#REF!,\"=2\")*80+COUNTIF(#REF!,\"=3\")*50+COUNTIF(#REF!,\"=8\")*20+COUNTIF(#REF!,\"=9\")*0)/COUNTA(#REF!)/100,\"N/A\")","v":{"$error":"#REF!"}},{"$f":"IF(COUNTA(#REF!)>0,(COUNTIF(#REF!,\"=0\")*0+COUNTIF(#REF!,\"=1\")*100+COUNTIF(#REF!,\"=2\")*80+COUNTIF(#REF!,\"=3\")*50+COUNTIF(#REF!,\"=8\")*20+COUNTIF(#REF!,\"=9\")*0)/COUNTA(#REF!)/100,\"N/A\")","v":{"$error":"#REF!"}},{"$f":"IF(AND(COUNTA(B344:X344)<>0,#REF!<>\"\"),AVERAGE(Y344:AE344),\"N/A\")","v":{"$error":"#REF!"}},{"$f":"IF(Y344=\"N/A\",1,\"\")","v":1},1,1,1,1,{"$error":"#REF!"},{"$error":"#REF!"},{"$error":"#REF!"}]
[{"$nulls":24},{"$f":"IF(COUNTA(B345:G345)>0,(COUNTIF(B345:G345,\"=0\")*0+COUNTIF(B345:G345,\"=1\")*100+COUNTIF(B345:G345,\"=2\")*80+COUNTIF(B345:G345,\"=3\")*50+COUNTIF(B345:G345,\"=8\")*20+COUNTIF(B345:G345,\"=9\")*0)/COUNTA(B345:G345)/100,\"N/A\")","v":"N/A"},{"$f":"IF(COUNTA(K345:P345)>0,(COUNTIF(K345:P345,\"=0\")*0+COUNTIF(K345:P345,\"=1\")*100+COUNTIF(K345:P345,\"=2\")*80+COUNTIF(K345:P345,\"=3\")*50+COUNTIF(K345:P345,\"=8\")*20+COUNTIF(K345:P345,\"=9\")*0)/COUNTA(K345:P345)/100,\"N/A\")","v":"N/A"},{"$f":"IF(COUNTA(Q345)>0,(COUNTIF(Q345,\"=0\")*0+COUNTIF(Q345,\"=1\")*100+COUNTIF(Q345,\"=2\")*80+COUNTIF(Q345,\"=3\")*50+COUNTIF(Q345,\"=8\")*20+COUNTIF(Q345,\"=9\")*0)/COUNTA(Q345)/100,\"N/A\")","v":"N/A"},{"$f":"IF(COUNTA(S345:W345)<>0,(COUNTIF(S345:W345,\"=0\")*0+COUNTIF(S345:W345,\"=1\")*100+COUNTIF(S345:W345,\"=2\")*80+COUNTIF(S345:W345,\"=3\")*50+COUNTIF(S345:W345,\"=8\")*20+COUNTIF(S345:W345,\"=9\")*0)/COUNTA(S345:W345)/100,\"N/A\")","v":"N/A"},"N/A",{"$f":"IF(COUNTA(#REF!)>0,(COUNTIF(#REF!,\"=0\")*0+COUNTIF(#REF!,\"=1\")*100+COUNTIF(#REF!,\"=2\")*80+COUNTIF(#REF!,\"=3\")*50+COUNTIF(#REF!,\"=8\")*20+COUNTIF(#REF!,\"=9\")*0)/COUNTA(#REF!)/100,\"N/A\")","v":{"$error":"#REF!"}},{"$f":"IF(COUNTA(#REF!)>0,(COUNTIF(#REF!,\"=0\")*0+COUNTIF(#REF!,\"=1\")*100+COUNTIF(#REF!,\"=2\")*80+COUNTIF(#REF!,\"=3\")*50+COUNTIF(#REF!,\"=8\")*20+COUNTIF(#REF!,\"=9\")*0)/COUNTA(#REF!)/100,\"N/A\")","v":{"$error":"#REF!"}},{"$f":"IF(AND(COUNTA(B345:X345)<>0,#REF!<>\"\"),AVERAGE(Y345:AE345),\"N/A\")","v":{"$error":"#REF!"}},1,1,1,1,1,{"$error":"#REF!"},{"$error":"#REF!"},{"$error":"#REF!"}]
[{"$nulls":24},{"$f":"IF(COUNTA(B346:G346)>0,(COUNTIF(B346:G346,\"=0\")*0+COUNTIF(B346:G346,\"=1\")*100+COUNTIF(B346:G346,\"=2\")*80+COUNTIF(B346:G346,\"=3\")*50+COUNTIF(B346:G346,\"=8\")*20+COUNTIF(B346:G346,\"=9\")*0)/COUNTA(B346:G346)/100,\"N/A\")","v":"N/A"},{"$f":"IF(COUNTA(K346:P346)>0,(COUNTIF(K346:P346,\"=0\")*0+COUNTIF(K346:P346,\"=1\")*100+COUNTIF(K346:P346,\"=2\")*80+COUNTIF(K346:P346,\"=3\")*50+COUNTIF(K346:P346,\"=8\")*20+COUNTIF(K346:P346,\"=9\")*0)/COUNTA(K346:P346)/100,\"N/A\")","v":"N/A"},{"$f":"IF(COUNTA(Q346)>0,(COUNTIF(Q346,\"=0\")*0+COUNTIF(Q346,\"=1\")*100+COUNTIF(Q346,\"=2\")*80+COUNTIF(Q346,\"=3\")*50+COUNTIF(Q346,\"=8\")*20+COUNTIF(Q346,\"=9\")*0)/COUNTA(Q346)/100,\"N/A\")","v":"N/A"},{"$f":"IF(COUNTA(S346:W346)<>0,(COUNTIF(S346:W346,\"=0\")*0+COUNTIF(S346:W346,\"=1\")*100+COUNTIF(S346:W346,\"=2\")*80+COUNTIF(S346:W346,\"=3\")*50+COUNTIF(S346:W346,\"=8\")*20+COUNTIF(S346:W346,\"=9\")*0)/COUNTA(S346:W346)/100,\"N/A\")","v":"N/A"},"N/A",{"$f":"IF(COUNTA(#REF!)>0,(COUNTIF(#REF!,\"=0\")*0+COUNTIF(#REF!,\"=1\")*100+COUNTIF(#REF!,\"=2\")*80+COUNTIF(#REF!,\"=3\")*50+COUNTIF(#REF!,\"=8\")*20+COUNTIF(#REF!,\"=9\")*0)/COUNTA(#REF!)/100,\"N/A\")","v":{"$error":"#REF!"}},{"$f":"IF(COUNTA(#REF!)>0,(COUNTIF(#REF!,\"=0\")*0+COUNTIF(#REF!,\"=1\")*100+COUNTIF(#REF!,\"=2\")*80+COUNTIF(#REF!,\"=3\")*50+COUNTIF(#REF!,\"=8\")*20+COUNTIF(#REF!,\"=9\")*0)/COUNTA(#REF!)/100,\"N/A\")","v":{"$error":"#REF!"}},{"$f":"IF(AND(COUNTA(B346:X346)<>0,#REF!<>\"\"),AVERAGE(Y346:AE346),\"N/A\")","v":{"$error":"#REF!"}},1,1,1,1,1,{"$error":"#REF!"},{"$error":"#REF!"},{"$error":"#REF!"}]
[{"$nulls":24},{"$f":"IF(COUNTA(B347:G347)>0,(COUNTIF(B347:G347,\"=0\")*0+COUNTIF(B347:G347,\"=1\")*100+COUNTIF(B347:G347,\"=2\")*80+COUNTIF(B347:G347,\"=3\")*50+COUNTIF(B347:G347,\"=8\")*20+COUNTIF(B347:G347,\"=9\")*0)/COUNTA(B347:G347)/100,\"N/A\")","v":"N/A"},{"$f":"IF(COUNTA(K347:P347)>0,(COUNTIF(K347:P347,\"=0\")*0+COUNTIF(K347:P347,\"=1\")*100+COUNTIF(K347:P347,\"=2\")*80+COUNTIF(K347:P347,\"=3\")*50+COUNTIF(K347:P347,\"=8\")*20+COUNTIF(K347:P347,\"=9\")*0)/COUNTA(K347:P347)/100,\"N/A\")","v":"N/A"},{"$f":"IF(COUNTA(Q347)>0,(COUNTIF(Q347,\"=0\")*0+COUNTIF(Q347,\"=1\")*100+COUNTIF(Q347,\"=2\")*80+COUNTIF(Q347,\"=3\")*50+COUNTIF(Q347,\"=8\")*20+COUNTIF(Q347,\"=9\")*0)/COUNTA(Q347)/100,\"N/A\")","v":"N/A"},{"$f":"IF(COUNTA(S347:W347)<>0,(COUNTIF(S347:W347,\"=0\")*0+COUNTIF(S347:W347,\"=1\")*100+COUNTIF(S347:W347,\"=2\")*80+COUNTIF(S347:W347,\"=3\")*50+COUNTIF(S347:W347,\"=8\")*20+COUNTIF(S347:W347,\"=9\")*0)/COUNTA(S347:W347)/100,\"N/A\")","v":"N/A"},"N/A",{"$f":"IF(COUNTA(#REF!)>0,(COUNTIF(#REF!,\"=0\")*0+COUNTIF(#REF!,\"=1\")*100+COUNTIF(#REF!,\"=2\")*80+COUNTIF(#REF!,\"=3\")*50+COUNTIF(#REF!,\"=8\")*20+COUNTIF(#REF!,\"=9\")*0)/COUNTA(#REF!)/100,\"N/A\")","v":{"$error":"#REF!"}},{"$f":"IF(COUNTA(#REF!)>0,(COUNTIF(#REF!,\"=0\")*0+COUNTIF(#REF!,\"=1\")*100+COUNTIF(#REF!,\"=2\")*80+COUNTIF(#REF!,\"=3\")*50+COUNTIF(#REF!,\"=8\")*20+COUNTIF(#REF!,\"=9\")*0)/COUNTA(#REF!)/100,\"N/A\")","v":{"$error":"#REF!"}},{"$f":"IF(AND(COUNTA(B347:X347)<>0,#REF!<>\"\"),AVERAGE(Y347:AE347),\"N/A\")","v":{"$error":"#REF!"}},1,1,1,1,1,{"$error":"#REF!"},{"$error":"#REF!"},{"$error":"#REF!"}]
[{"$nulls":24},{"$f":"IF(COUNTA(B348:G348)>0,(COUNTIF(B348:G348,\"=0\")*0+COUNTIF(B348:G348,\"=1\")*100+COUNTIF(B348:G348,\"=2\")*80+COUNTIF(B348:G348,\"=3\")*50+COUNTIF(B348:G348,\"=8\")*20+COUNTIF(B348:G348,\"=9\")*0)/COUNTA(B348:G348)/100,\"N/A\")","v":"N/A"},{"$f":"IF(COUNTA(K348:P348)>0,(COUNTIF(K348:P348,\"=0\")*0+COUNTIF(K348:P348,\"=1\")*100+COUNTIF(K348:P348,\"=2\")*80+COUNTIF(K348:P348,\"=3\")*50+COUNTIF(K348:P348,\"=8\")*20+COUNTIF(K348:P348,\"=9\")*0)/COUNTA(K348:P348)/100,\"N/A\")","v":"N/A"},{"$f":"IF(COUNTA(Q348)>0,(COUNTIF(Q348,\"=0\")*0+COUNTIF(Q348,\"=1\")*100+COUNTIF(Q348,\"=2\")*80+COUNTIF(Q348,\"=3\")*50+COUNTIF(Q348,\"=8\")*20+COUNTIF(Q348,\"=9\")*0)/COUNTA(Q348)/100,\"N/A\")","v":"N/A"},{"$f":"IF(COUNTA(S348:W348)<>0,(COUNTIF(S348:W348,\"=0\")*0+COUNTIF(S348:W348,\"=1\")*100+COUNTIF(S348:W348,\"=2\")*80+COUNTIF(S348:W348,\"=3\")*50+COUNTIF(S348:W348,\"=8\")*20+COUNTIF(S348:W348,\"=9\")*0)/COUNTA(S348:W348)/100,\"N/A\")","v":"N/A"},"N/A",{"$f":"IF(COUNTA(#REF!)>0,(COUNTIF(#REF!,\"=0\")*0+COUNTIF(#REF!,\"=1\")*100+COUNTIF(#REF!,\"=2\")*80+COUNTIF(#REF!,\"=3\")*50+COUNTIF(#REF!,\"=8\")*20+COUNTIF(#REF!,\"=9\")*0)/COUNTA(#REF!)/100,\"N/A\")","v":{"$error":"#REF!"}},{"$f":"IF(COUNTA(#REF!)>0,(COUNTIF(#REF!,\"=0\")*0+COUNTIF(#REF!,\"=1\")*100+COUNTIF(#REF!,\"=2\")*80+COUNTIF(#REF!,\"=3\")*50+COUNTIF(#REF!,\"=8\")*20+COUNTIF(#REF!,\"=9\")*0)/COUNTA(#REF!)/100,\"N/A\")","v":{"$error":"#REF!"}},{"$f":"IF(AND(COUNTA(B348:X348)<>0,#REF!<>\"\"),AVERAGE(Y348:AE348),\"N/A\")","v":{"$error":"#REF!"}},1,1,1,1,1,{"$error":"#REF!"},{"$error":"#REF!"},{"$error":"#REF!"}]
[{"$nulls":24},{"$f":"IF(COUNTA(B349:G349)>0,(COUNTIF(B349:G349,\"=0\")*0+COUNTIF(B349:G349,\"=1\")*100+COUNTIF(B349:G349,\"=2\")*80+COUNTIF(B349:G349,\"=3\")*50+COUNTIF(B349:G349,\"=8\")*20+COUNTIF(B349:G349,\"=9\")*0)/COUNTA(B349:G349)/100,\"N/A\")","v":"N/A"},{"$f":"IF(COUNTA(K349:P349)>0,(COUNTIF(K349:P349,\"=0\")*0+COUNTIF(K349:P349,\"=1\")*100+COUNTIF(K349:P349,\"=2\")*80+COUNTIF(K349:P349,\"=3\")*50+COUNTIF(K349:P349,\"=8\")*20+COUNTIF(K349:P349,\"=9\")*0)/COUNTA(K349:P349)/100,\"N/A\")","v":"N/A"},{"$f":"IF(COUNTA(Q349)>0,(COUNTIF(Q349,\"=0\")*0+COUNTIF(Q349,\"=1\")*100+COUNTIF(Q349,\"=2\")*80+COUNTIF(Q349,\"=3\")*50+COUNTIF(Q349,\"=8\")*20+COUNTIF(Q349,\"=9\")*0)/COUNTA(Q349)/100,\"N/A\")","v":"N/A"},{"$f":"IF(COUNTA(S349:W349)<>0,(COUNTIF(S349:W349,\"=0\")*0+COUNTIF(S349:W349,\"=1\")*100+COUNTIF(S349:W349,\"=2\")*80+COUNTIF(S349:W349,\"=3\")*50+COUNTIF(S349:W349,\"=8\")*20+COUNTIF(S349:W349,\"=9\")*0)/COUNTA(S349:W349)/100,\"N/A\")","v":"N/A"},"N/A",{"$f":"IF(COUNTA(#REF!)>0,(COUNTIF(#REF!,\"=0\")*0+COUNTIF(#REF!,\"=1\")*100+COUNTIF(#REF!,\"=2\")*80+COUNTIF(#REF!,\"=3\")*50+COUNTIF(#REF!,\"=8\")*20+COUNTIF(#REF!,\"=9\")*0)/COUNTA(#REF!)/100,\"N/A\")","v":{"$error":"#REF!"}},{"$f":"IF(COUNTA(#REF!)>0,(COUNTIF(#REF!,\"=0\")*0+COUNTIF(#REF!,\"=1\")*100+COUNTIF(#REF!,\"=2\")*80+COUNTIF(#REF!,\"=3\")*50+COUNTIF(#REF!,\"=8\")*20+COUNTIF(#REF!,\"=9\")*0)/COUNTA(#REF!)/100,\"N/A\")","v":{"$error":"#REF!"}},{"$f":"IF(AND(COUNTA(B349:X349)<>0,#REF!<>\"\"),AVERAGE(Y349:AE349),\"N/A\")","v":{"$error":"#REF!"}},1,1,1,1,1,{"$error":"#REF!"},{"$error":"#REF!"},{"$error":"#REF!"}]
[{"$nulls":24},{"$f":"IF(COUNTA(B350:G350)>0,(COUNTIF(B350:G350,\"=0\")*0+COUNTIF(B350:G350,\"=1\")*100+COUNTIF(B350:G350,\"=2\")*80+COUNTIF(B350:G350,\"=3\")*50+COUNTIF(B350:G350,\"=8\")*20+COUNTIF(B350:G350,\"=9\")*0)/COUNTA(B350:G350)/100,\"N/A\")","v":"N/A"},{"$f":"IF(COUNTA(K350:P350)>0,(COUNTIF(K350:P350,\"=0\")*0+COUNTIF(K350:P350,\"=1\")*100+COUNTIF(K350:P350,\"=2\")*80+COUNTIF(K350:P350,\"=3\")*50+COUNTIF(K350:P350,\"=8\")*20+COUNTIF(K350:P350,\"=9\")*0)/COUNTA(K350:P350)/100,\"N/A\")","v":"N/A"},{"$f":"IF(COUNTA(Q350)>0,(COUNTIF(Q350,\"=0\")*0+COUNTIF(Q350,\"=1\")*100+COUNTIF(Q350,\"=2\")*80+COUNTIF(Q350,\"=3\")*50+COUNTIF(Q350,\"=8\")*20+COUNTIF(Q350,\"=9\")*0)/COUNTA(Q350)/100,\"N/A\")","v":"N/A"},{"$f":"IF(COUNTA(S350:W350)<>0,(COUNTIF(S350:W350,\"=0\")*0+COUNTIF(S350:W350,\"=1\")*100+COUNTIF(S350:W350,\"=2\")*80+COUNTIF(S350:W350,\"=3\")*50+COUNTIF(S350:W350,\"=8\")*20+COUNTIF(S350:W350,\"=9\")*0)/COUNTA(S350:W350)/100,\"N/A\")","v":"N/A"},"N/A",{"$f":"IF(COUNTA(#REF!)>0,(COUNTIF(#REF!,\"=0\")*0+COUNTIF(#REF!,\"=1\")*100+COUNTIF(#REF!,\"=2\")*80+COUNTIF(#REF!,\"=3\")*50+COUNTIF(#REF!,\"=8\")*20+COUNTIF(#REF!,\"=9\")*0)/COUNTA(#REF!)/100,\"N/A\")","v":{"$error":"#REF!"}},{"$f":"IF(COUNTA(#REF!)>0,(COUNTIF(#REF!,\"=0\")*0+COUNTIF(#REF!,\"=1\")*100+COUNTIF(#REF!,\"=2\")*80+COUNTIF(#REF!,\"=3\")*50+COUNTIF(#REF!,\"=8\")*20+COUNTIF(#REF!,\"=9\")*0)/COUNTA(#REF!)/100,\"N/A\")","v":{"$error":"#REF!"}},{"$f":"IF(AND(COUNTA(B350:X350)<>0,#REF!<>\"\"),AVERAGE(Y350:AE350),\"N/A\")","v":{"$error":"#REF!"}},1,1,1,1,1,{"$error":"#REF!"},{"$error":"#REF!"},{"$error":"#REF!"}]
[{"$nulls":24},{"$f":"IF(COUNTA(B351:G351)>0,(COUNTIF(B351:G351,\"=0\")*0+COUNTIF(B351:G351,\"=1\")*100+COUNTIF(B351:G351,\"=2\")*80+COUNTIF(B351:G351,\"=3\")*50+COUNTIF(B351:G351,\"=8\")*20+COUNTIF(B351:G351,\"=9\")*0)/COUNTA(B351:G351)/100,\"N/A\")","v":"N/A"},{"$f":"IF(COUNTA(K351:P351)>0,(COUNTIF(K351:P351,\"=0\")*0+COUNTIF(K351:P351,\"=1\")*100+COUNTIF(K351:P351,\"=2\")*80+COUNTIF(K351:P351,\"=3\")*50+COUNTIF(K351:P351,\"=8\")*20+COUNTIF(K351:P351,\"=9\")*0)/COUNTA(K351:P351)/100,\"N/A\")","v":"N/A"},{"$f":"IF(COUNTA(Q351)>0,(COUNTIF(Q351,\"=0\")*0+COUNTIF(Q351,\"=1\")*100+COUNTIF(Q351,\"=2\")*80+COUNTIF(Q351,\"=3\")*50+COUNTIF(Q351,\"=8\")*20+COUNTIF(Q351,\"=9\")*0)/COUNTA(Q351)/100,\"N/A\")","v":"N/A"},{"$f":"IF(COUNTA(S351:W351)<>0,(COUNTIF(S351:W351,\"=0\")*0+COUNTIF(S351:W351,\"=1\")*100+COUNTIF(S351:W351,\"=2\")*80+COUNTIF(S351:W351,\"=3\")*50+COUNTIF(S351:W351,\"=8\")*20+COUNTIF(S351:W351,\"=9\")*0)/COUNTA(S351:W351)/100,\"N/A\")","v":"N/A"},"N/A",{"$f":"IF(COUNTA(#REF!)>0,(COUNTIF(#REF!,\"=0\")*0+COUNTIF(#REF!,\"=1\")*100+COUNTIF(#REF!,\"=2\")*80+COUNTIF(#REF!,\"=3\")*50+COUNTIF(#REF!,\"=8\")*20+COUNTIF(#REF!,\"=9\")*0)/COUNTA(#REF!)/100,\"N/A\")","v":{"$error":"#REF!"}},{"$f":"IF(COUNTA(#REF!)>0,(COUNTIF(#REF!,\"=0\")*0+COUNTIF(#REF!,\"=1\")*100+COUNTIF(#REF!,\"=2\")*80+COUNTIF(#REF!,\"=3\")*50+COUNTIF(#REF!,\"=8\")*20+COUNTIF(#REF!,\"=9\")*0)/COUNTA(#REF!)/100,\"N/A\")","v":{"$error":"#REF!"}},{"$f":"IF(AND(COUNTA(B351:X351)<>0,#REF!<>\"\"),AVERAGE(Y351:AE351),\"N/A\")","v":{"$error":"#REF!"}},1,1,1,1,1,{"$error":"#REF!"},{"$error":"#REF!"},{"$error":"#REF!"}]
[{"$nulls":24},{"$f":"IF(COUNTA(B352:G352)>0,(COUNTIF(B352:G352,\"=0\")*0+COUNTIF(B352:G352,\"=1\")*100+COUNTIF(B352:G352,\"=2\")*80+COUNTIF(B352:G352,\"=3\")*50+COUNTIF(B352:G352,\"=8\")*20+COUNTIF(B352:G352,\"=9\")*0)/COUNTA(B352:G352)/100,\"N/A\")","v":"N/A"},{"$f":"IF(COUNTA(K352:P352)>0,(COUNTIF(K352:P352,\"=0\")*0+COUNTIF(K352:P352,\"=1\")*100+COUNTIF(K352:P352,\"=2\")*80+COUNTIF(K352:P352,\"=3\")*50+COUNTIF(K352:P352,\"=8\")*20+COUNTIF(K352:P352,\"=9\")*0)/COUNTA(K352:P352)/100,\"N/A\")","v":"N/A"},{"$f":"IF(COUNTA(Q352)>0,(COUNTIF(Q352,\"=0\")*0+COUNTIF(Q352,\"=1\")*100+COUNTIF(Q352,\"=2\")*80+COUNTIF(Q352,\"=3\")*50+COUNTIF(Q352,\"=8\")*20+COUNTIF(Q352,\"=9\")*0)/COUNTA(Q352)/100,\"N/A\")","v":"N/A"},{"$f":"IF(COUNTA(S352:W352)<>0,(COUNTIF(S352:W352,\"=0\")*0+COUNTIF(S352:W352,\"=1\")*100+COUNTIF(S352:W352,\"=2\")*80+COUNTIF(S352:W352,\"=3\")*50+COUNTIF(S352:W352,\"=8\")*20+COUNTIF(S352:W352,\"=9\")*0)/COUNTA(S352:W352)/100,\"N/A\")","v":"N/A"},"N/A",{"$f":"IF(COUNTA(#REF!)>0,(COUNTIF(#REF!,\"=0\")*0+COUNTIF(#REF!,\"=1\")*100+COUNTIF(#REF!,\"=2\")*80+COUNTIF(#REF!,\"=3\")*50+COUNTIF(#REF!,\"=8\")*20+COUNTIF(#REF!,\"=9\")*0)/COUNTA(#REF!)/100,\"N/A\")","v":{"$error":"#REF!"}},{"$f":"IF(COUNTA(#REF!)>0,(COUNTIF(#REF!,\"=0\")*0+COUNTIF(#REF!,\"=1\")*100+COUNTIF(#REF!,\"=2\")*80+COUNTIF(#REF!,\"=3\")*50+COUNTIF(#REF!,\"=8\")*20+COUNTIF(#REF!,\"=9\")*0)/COUNTA(#REF!)/100,\"N/A\")","v":{"$error":"#REF!"}},{"$f":"IF(AND(COUNTA(B352:X352)<>0,#REF!<>\"\"),AVERAGE(Y352:AE352),\"N/A\")","v":{"$error":"#REF!"}},1,1,1,1,1,{"$error":"#REF!"},{"$error":"#REF!"},{"$error":"#REF!"}]
[{"$nulls":24},{"$f":"IF(COUNTA(B353:G353)>0,(COUNTIF(B353:G353,\"=0\")*0+COUNTIF(B353:G353,\"=1\")*100+COUNTIF(B353:G353,\"=2\")*80+COUNTIF(B353:G353,\"=3\")*50+COUNTIF(B353:G353,\"=8\")*20+COUNTIF(B353:G353,\"=9\")*0)/COUNTA(B353:G353)/100,\"N/A\")","v":"N/A"},{"$f":"IF(COUNTA(K353:P353)>0,(COUNTIF(K353:P353,\"=0\")*0+COUNTIF(K353:P353,\"=1\")*100+COUNTIF(K353:P353,\"=2\")*80+COUNTIF(K353:P353,\"=3\")*50+COUNTIF(K353:P353,\"=8\")*20+COUNTIF(K353:P353,\"=9\")*0)/COUNTA(K353:P353)/100,\"N/A\")","v":"N/A"},{"$f":"IF(COUNTA(Q353)>0,(COUNTIF(Q353,\"=0\")*0+COUNTIF(Q353,\"=1\")*100+COUNTIF(Q353,\"=2\")*80+COUNTIF(Q353,\"=3\")*50+COUNTIF(Q353,\"=8\")*20+COUNTIF(Q353,\"=9\")*0)/COUNTA(Q353)/100,\"N/A\")","v":"N/A"},{"$f":"IF(COUNTA(S353:W353)<>0,(COUNTIF(S353:W353,\"=0\")*0+COUNTIF(S353:W353,\"=1\")*100+COUNTIF(S353:W353,\"=2\")*80+COUNTIF(S353:W353,\"=3\")*50+COUNTIF(S353:W353,\"=8\")*20+COUNTIF(S353:W353,\"=9\")*0)/COUNTA(S353:W353)/100,\"N/A\")","v":"N/A"},"N/A",{"$f":"IF(COUNTA(#REF!)>0,(COUNTIF(#REF!,\"=0\")*0+COUNTIF(#REF!,\"=1\")*100+COUNTIF(#REF!,\"=2\")*80+COUNTIF(#REF!,\"=3\")*50+COUNTIF(#REF!,\"=8\")*20+COUNTIF(#REF!,\"=9\")*0)/COUNTA(#REF!)/100,\"N/A\")","v":{"$error":"#REF!"}},{"$f":"IF(COUNTA(#REF!)>0,(COUNTIF(#REF!,\"=0\")*0+COUNTIF(#REF!,\"=1\")*100+COUNTIF(#REF!,\"=2\")*80+COUNTIF(#REF!,\"=3\")*50+COUNTIF(#REF!,\"=8\")*20+COUNTIF(#REF!,\"=9\")*0)/COUNTA(#REF!)/100,\"N/A\")","v":{"$error":"#REF!"}},{"$f":"IF(AND(COUNTA(B353:X353)<>0,#REF!<>\"\"),AVERAGE(Y353:AE353),\"N/A\")","v":{"$error":"#REF!"}},1,1,1,1,1,{"$error":"#REF!"},{"$error":"#REF!"},{"$error":"#REF!"}]
[{"$nulls":24},{"$f":"IF(COUNTA(B354:G354)>0,(COUNTIF(B354:G354,\"=0\")*0+COUNTIF(B354:G354,\"=1\")*100+COUNTIF(B354:G354,\"=2\")*80+COUNTIF(B354:G354,\"=3\")*50+COUNTIF(B354:G354,\"=8\")*20+COUNTIF(B354:G354,\"=9\")*0)/COUNTA(B354:G354)/100,\"N/A\")","v":"N/A"},{"$f":"IF(COUNTA(K354:P354)>0,(COUNTIF(K354:P354,\"=0\")*0+COUNTIF(K354:P354,\"=1\")*100+COUNTIF(K354:P354,\"=2\")*80+COUNTIF(K354:P354,\"=3\")*50+COUNTIF(K354:P354,\"=8\")*20+COUNTIF(K354:P354,\"=9\")*0)/COUNTA(K354:P354)/100,\"N/A\")","v":"N/A"},{"$f":"IF(COUNTA(Q354)>0,(COUNTIF(Q354,\"=0\")*0+COUNTIF(Q354,\"=1\")*100+COUNTIF(Q354,\"=2\")*80+COUNTIF(Q354,\"=3\")*50+COUNTIF(Q354,\"=8\")*20+COUNTIF(Q354,\"=9\")*0)/COUNTA(Q354)/100,\"N/A\")","v":"N/A"},{"$f":"IF(COUNTA(S354:W354)<>0,(COUNTIF(S354:W354,\"=0\")*0+COUNTIF(S354:W354,\"=1\")*100+COUNTIF(S354:W354,\"=2\")*80+COUNTIF(S354:W354,\"=3\")*50+COUNTIF(S354:W354,\"=8\")*20+COUNTIF(S354:W354,\"=9\")*0)/COUNTA(S354:W354)/100,\"N/A\")","v":"N/A"},"N/A",{"$f":"IF(COUNTA(#REF!)>0,(COUNTIF(#REF!,\"=0\")*0+COUNTIF(#REF!,\"=1\")*100+COUNTIF(#REF!,\"=2\")*80+COUNTIF(#REF!,\"=3\")*50+COUNTIF(#REF!,\"=8\")*20+COUNTIF(#REF!,\"=9\")*0)/COUNTA(#REF!)/100,\"N/A\")","v":{"$error":"#REF!"}},{"$f":"IF(COUNTA(#REF!)>0,(COUNTIF(#REF!,\"=0\")*0+COUNTIF(#REF!,\"=1\")*100+COUNTIF(#REF!,\"=2\")*80+COUNTIF(#REF!,\"=3\")*50+COUNTIF(#REF!,\"=8\")*20+COUNTIF(#REF!,\"=9\")*0)/COUNTA(#REF!)/100,\"N/A\")","v":{"$error":"#REF!"}},{"$f":"IF(AND(COUNTA(B354:X354)<>0,#REF!<>\"\"),AVERAGE(Y354:AE354),\"N/A\")","v":{"$error":"#REF!"}},1,1,1,1,1,{"$error":"#REF!"},{"$error":"#REF!"},{"$error":"#REF!"}]
[{"$nulls":24},{"$f":"IF(COUNTA(B355:G355)>0,(COUNTIF(B355:G355,\"=0\")*0+COUNTIF(B355:G355,\"=1\")*100+COUNTIF(B355:G355,\"=2\")*80+COUNTIF(B355:G355,\"=3\")*50+COUNTIF(B355:G355,\"=8\")*20+COUNTIF(B355:G355,\"=9\")*0)/COUNTA(B355:G355)/100,\"N/A\")","v":"N/A"},{"$f":"IF(COUNTA(K355:P355)>0,(COUNTIF(K355:P355,\"=0\")*0+COUNTIF(K355:P355,\"=1\")*100+COUNTIF(K355:P355,\"=2\")*80+COUNTIF(K355:P355,\"=3\")*50+COUNTIF(K355:P355,\"=8\")*20+COUNTIF(K355:P355,\"=9\")*0)/COUNTA(K355:P355)/100,\"N/A\")","v":"N/A"},{"$f":"IF(COUNTA(Q355)>0,(COUNTIF(Q355,\"=0\")*0+COUNTIF(Q355,\"=1\")*100+COUNTIF(Q355,\"=2\")*80+COUNTIF(Q355,\"=3\")*50+COUNTIF(Q355,\"=8\")*20+COUNTIF(Q355,\"=9\")*0)/COUNTA(Q355)/100,\"N/A\")","v":"N/A"},{"$f":"IF(COUNTA(S355:W355)<>0,(COUNTIF(S355:W355,\"=0\")*0+COUNTIF(S355:W355,\"=1\")*100+COUNTIF(S355:W355,\"=2\")*80+COUNTIF(S355:W355,\"=3\")*50+COUNTIF(S355:W355,\"=8\")*20+COUNTIF(S355:W355,\"=9\")*0)/COUNTA(S355:W355)/100,\"N/A\")","v":"N/A"},"N/A",{"$f":"IF(COUNTA(#REF!)>0,(COUNTIF(#REF!,\"=0\")*0+COUNTIF(#REF!,\"=1\")*100+COUNTIF(#REF!,\"=2\")*80+COUNTIF(#REF!,\"=3\")*50+COUNTIF(#REF!,\"=8\")*20+COUNTIF(#REF!,\"=9\")*0)/COUNTA(#REF!)/100,\"N/A\")","v":{"$error":"#REF!"}},{"$f":"IF(COUNTA(#REF!)>0,(COUNTIF(#REF!,\"=0\")*0+COUNTIF(#REF!,\"=1\")*100+COUNTIF(#REF!,\"=2\")*80+COUNTIF(#REF!,\"=3\")*50+COUNTIF(#REF!,\"=8\")*20+COUNTIF(#REF!,\"=9\")*0)/COUNTA(#REF!)/100,\"N/A\")","v":{"$error":"#REF!"}},{"$f":"IF(AND(COUNTA(B355:X355)<>0,#REF!<>\"\"),AVERAGE(Y355:AE355),\"N/A\")","v":{"$error":"#REF!"}},1,1,1,1,1,{"$error":"#REF!"},{"$error":"#REF!"},{"$error":"#REF!"}]
[{"$nulls":24},{"$f":"IF(COUNTA(B356:G356)>0,(COUNTIF(B356:G356,\"=0\")*0+COUNTIF(B356:G356,\"=1\")*100+COUNTIF(B356:G356,\"=2\")*80+COUNTIF(B356:G356,\"=3\")*50+COUNTIF(B356:G356,\"=8\")*20+COUNTIF(B356:G356,\"=9\")*0)/COUNTA(B356:G356)/100,\"N/A\")","v":"N/A"},{"$f":"IF(COUNTA(K356:P356)>0,(COUNTIF(K356:P356,\"=0\")*0+COUNTIF(K356:P356,\"=1\")*100+COUNTIF(K356:P356,\"=2\")*80+COUNTIF(K356:P356,\"=3\")*50+COUNTIF(K356:P356,\"=8\")*20+COUNTIF(K356:P356,\"=9\")*0)/COUNTA(K356:P356)/100,\"N/A\")","v":"N/A"},{"$f":"IF(COUNTA(Q356)>0,(COUNTIF(Q356,\"=0\")*0+COUNTIF(Q356,\"=1\")*100+COUNTIF(Q356,\"=2\")*80+COUNTIF(Q356,\"=3\")*50+COUNTIF(Q356,\"=8\")*20+COUNTIF(Q356,\"=9\")*0)/COUNTA(Q356)/100,\"N/A\")","v":"N/A"},{"$f":"IF(COUNTA(S356:W356)<>0,(COUNTIF(S356:W356,\"=0\")*0+COUNTIF(S356:W356,\"=1\")*100+COUNTIF(S356:W356,\"=2\")*80+COUNTIF(S356:W356,\"=3\")*50+COUNTIF(S356:W356,\"=8\")*20+COUNTIF(S356:W356,\"=9\")*0)/COUNTA(S356:W356)/100,\"N/A\")","v":"N/A"},"N/A",{"$f":"IF(COUNTA(#REF!)>0,(COUNTIF(#REF!,\"=0\")*0+COUNTIF(#REF!,\"=1\")*100+COUNTIF(#REF!,\"=2\")*80+COUNTIF(#REF!,\"=3\")*50+COUNTIF(#REF!,\"=8\")*20+COUNTIF(#REF!,\"=9\")*0)/COUNTA(#REF!)/100,\"N/A\")","v":{"$error":"#REF!"}},{"$f":"IF(COUNTA(#REF!)>0,(COUNTIF(#REF!,\"=0\")*0+COUNTIF(#REF!,\"=1\")*100+COUNTIF(#REF!,\"=2\")*80+COUNTIF(#REF!,\"=3\")*50+COUNTIF(#REF!,\"=8\")*20+COUNTIF(#REF!,\"=9\")*0)/COUNTA(#REF!)/100,\"N/A\")","v":{"$error":"#REF!"}},{"$f":"IF(AND(COUNTA(B356:X356)<>0,#REF!<>\"\"),AVERAGE(Y356:AE356),\"N/A\")","v":{"$error":"#REF!"}},1,1,1,1,1,{"$error":"#REF!"},{"$error":"#REF!"},{"$error":"#REF!"}]
[{"$nulls":24},{"$f":"IF(COUNTA(B357:G357)>0,(COUNTIF(B357:G357,\"=0\")*0+COUNTIF(B357:G357,\"=1\")*100+COUNTIF(B357:G357,\"=2\")*80+COUNTIF(B357:G357,\"=3\")*50+COUNTIF(B357:G357,\"=8\")*20+COUNTIF(B357:G357,\"=9\")*0)/COUNTA(B357:G357)/100,\"N/A\")","v":"N/A"},{"$f":"IF(COUNTA(K357:P357)>0,(COUNTIF(K357:P357,\"=0\")*0+COUNTIF(K357:P357,\"=1\")*100+COUNTIF(K357:P357,\"=2\")*80+COUNTIF(K357:P357,\"=3\")*50+COUNTIF(K357:P357,\"=8\")*20+COUNTIF(K357:P357,\"=9\")*0)/COUNTA(K357:P357)/100,\"N/A\")","v":"N/A"},{"$f":"IF(COUNTA(Q357)>0,(COUNTIF(Q357,\"=0\")*0+COUNTIF(Q357,\"=1\")*100+COUNTIF(Q357,\"=2\")*80+COUNTIF(Q357,\"=3\")*50+COUNTIF(Q357,\"=8\")*20+COUNTIF(Q357,\"=9\")*0)/COUNTA(Q357)/100,\"N/A\")","v":"N/A"},{"$f":"IF(COUNTA(S357:W357)<>0,(COUNTIF(S357:W357,\"=0\")*0+COUNTIF(S357:W357,\"=1\")*100+COUNTIF(S357:W357,\"=2\")*80+COUNTIF(S357:W357,\"=3\")*50+COUNTIF(S357:W357,\"=8\")*20+COUNTIF(S357:W357,\"=9\")*0)/COUNTA(S357:W357)/100,\"N/A\")","v":"N/A"},"N/A",{"$f":"IF(COUNTA(#REF!)>0,(COUNTIF(#REF!,\"=0\")*0+COUNTIF(#REF!,\"=1\")*100+COUNTIF(#REF!,\"=2\")*80+COUNTIF(#REF!,\"=3\")*50+COUNTIF(#REF!,\"=8\")*20+COUNTIF(#REF!,\"=9\")*0)/COUNTA(#REF!)/100,\"N/A\")","v":{"$error":"#REF!"}},{"$f":"IF(COUNTA(#REF!)>0,(COUNTIF(#REF!,\"=0\")*0+COUNTIF(#REF!,\"=1\")*100+COUNTIF(#REF!,\"=2\")*80+COUNTIF(#REF!,\"=3\")*50+COUNTIF(#REF!,\"=8\")*20+COUNTIF(#REF!,\"=9\")*0)/COUNTA(#REF!)/100,\"N/A\")","v":{"$error":"#REF!"}},{"$f":"IF(AND(COUNTA(B357:X357)<>0,#REF!<>\"\"),AVERAGE(Y357:AE357),\"N/A\")","v":{"$error":"#REF!"}},1,1,1,1,1,{"$error":"#REF!"},{"$error":"#REF!"},{"$error":"#REF!"}]
[{"$nulls":24},{"$f":"IF(COUNTA(B358:G358)>0,(COUNTIF(B358:G358,\"=0\")*0+COUNTIF(B358:G358,\"=1\")*100+COUNTIF(B358:G358,\"=2\")*80+COUNTIF(B358:G358,\"=3\")*50+COUNTIF(B358:G358,\"=8\")*20+COUNTIF(B358:G358,\"=9\")*0)/COUNTA(B358:G358)/100,\"N/A\")","v":"N/A"},{"$f":"IF(COUNTA(K358:P358)>0,(COUNTIF(K358:P358,\"=0\")*0+COUNTIF(K358:P358,\"=1\")*100+COUNTIF(K358:P358,\"=2\")*80+COUNTIF(K358:P358,\"=3\")*50+COUNTIF(K358:P358,\"=8\")*20+COUNTIF(K358:P358,\"=9\")*0)/COUNTA(K358:P358)/100,\"N/A\")","v":"N/A"},{"$f":"IF(COUNTA(Q358)>0,(COUNTIF(Q358,\"=0\")*0+COUNTIF(Q358,\"=1\")*100+COUNTIF(Q358,\"=2\")*80+COUNTIF(Q358,\"=3\")*50+COUNTIF(Q358,\"=8\")*20+COUNTIF(Q358,\"=9\")*0)/COUNTA(Q358)/100,\"N/A\")","v":"N/A"},{"$f":"IF(COUNTA(S358:W358)<>0,(COUNTIF(S358:W358,\"=0\")*0+COUNTIF(S358:W358,\"=1\")*100+COUNTIF(S358:W358,\"=2\")*80+COUNTIF(S358:W358,\"=3\")*50+COUNTIF(S358:W358,\"=8\")*20+COUNTIF(S358:W358,\"=9\")*0)/COUNTA(S358:W358)/100,\"N/A\")","v":"N/A"},"N/A",{"$f":"IF(COUNTA(#REF!)>0,(COUNTIF(#REF!,\"=0\")*0+COUNTIF(#REF!,\"=1\")*100+COUNTIF(#REF!,\"=2\")*80+COUNTIF(#REF!,\"=3\")*50+COUNTIF(#REF!,\"=8\")*20+COUNTIF(#REF!,\"=9\")*0)/COUNTA(#REF!)/100,\"N/A\")","v":{"$error":"#REF!"}},{"$f":"IF(COUNTA(#REF!)>0,(COUNTIF(#REF!,\"=0\")*0+COUNTIF(#REF!,\"=1\")*100+COUNTIF(#REF!,\"=2\")*80+COUNTIF(#REF!,\"=3\")*50+COUNTIF(#REF!,\"=8\")*20+COUNTIF(#REF!,\"=9\")*0)/COUNTA(#REF!)/100,\"N/A\")","v":{"$error":"#REF!"}},{"$f":"IF(AND(COUNTA(B358:X358)<>0,#REF!<>\"\"),AVERAGE(Y358:AE358),\"N/A\")","v":{"$error":"#REF!"}},1,1,1,1,1,{"$error":"#REF!"},{"$error":"#REF!"},{"$error":"#REF!"}]
[{"$nulls":24},{"$f":"IF(COUNTA(B359:G359)>0,(COUNTIF(B359:G359,\"=0\")*0+COUNTIF(B359:G359,\"=1\")*100+COUNTIF(B359:G359,\"=2\")*80+COUNTIF(B359:G359,\"=3\")*50+COUNTIF(B359:G359,\"=8\")*20+COUNTIF(B359:G359,\"=9\")*0)/COUNTA(B359:G359)/100,\"N/A\")","v":"N/A"},{"$f":"IF(COUNTA(K359:P359)>0,(COUNTIF(K359:P359,\"=0\")*0+COUNTIF(K359:P359,\"=1\")*100+COUNTIF(K359:P359,\"=2\")*80+COUNTIF(K359:P359,\"=3\")*50+COUNTIF(K359:P359,\"=8\")*20+COUNTIF(K359:P359,\"=9\")*0)/COUNTA(K359:P359)/100,\"N/A\")","v":"N/A"},{"$f":"IF(COUNTA(Q359)>0,(COUNTIF(Q359,\"=0\")*0+COUNTIF(Q359,\"=1\")*100+COUNTIF(Q359,\"=2\")*80+COUNTIF(Q359,\"=3\")*50+COUNTIF(Q359,\"=8\")*20+COUNTIF(Q359,\"=9\")*0)/COUNTA(Q359)/100,\"N/A\")","v":"N/A"},{"$f":"IF(COUNTA(S359:W359)<>0,(COUNTIF(S359:W359,\"=0\")*0+COUNTIF(S359:W359,\"=1\")*100+COUNTIF(S359:W359,\"=2\")*80+COUNTIF(S359:W359,\"=3\")*50+COUNTIF(S359:W359,\"=8\")*20+COUNTIF(S359:W359,\"=9\")*0)/COUNTA(S359:W359)/100,\"N/A\")","v":"N/A"},"N/A",{"$f":"IF(COUNTA(#REF!)>0,(COUNTIF(#REF!,\"=0\")*0+COUNTIF(#REF!,\"=1\")*100+COUNTIF(#REF!,\"=2\")*80+COUNTIF(#REF!,\"=3\")*50+COUNTIF(#REF!,\"=8\")*20+COUNTIF(#REF!,\"=9\")*0)/COUNTA(#REF!)/100,\"N/A\")","v":{"$error":"#REF!"}},{"$f":"IF(COUNTA(#REF!)>0,(COUNTIF(#REF!,\"=0\")*0+COUNTIF(#REF!,\"=1\")*100+COUNTIF(#REF!,\"=2\")*80+COUNTIF(#REF!,\"=3\")*50+COUNTIF(#REF!,\"=8\")*20+COUNTIF(#REF!,\"=9\")*0)/COUNTA(#REF!)/100,\"N/A\")","v":{"$error":"#REF!"}},{"$f":"IF(AND(COUNTA(B359:X359)<>0,#REF!<>\"\"),AVERAGE(Y359:AE359),\"N/A\")","v":{"$error":"#REF!"}},1,1,1,1,1,{"$error":"#REF!"},{"$error":"#REF!"},{"$error":"#REF!"}]
[{"$nulls":24},{"$f":"IF(COUNTA(B360:G360)>0,(COUNTIF(B360:G360,\"=0\")*0+COUNTIF(B360:G360,\"=1\")*100+COUNTIF(B360:G360,\"=2\")*80+COUNTIF(B360:G360,\"=3\")*50+COUNTIF(B360:G360,\"=8\")*20+COUNTIF(B360:G360,\"=9\")*0)/COUNTA(B360:G360)/100,\"N/A\")","v":"N/A"},{"$f":"IF(COUNTA(K360:P360)>0,(COUNTIF(K360:P360,\"=0\")*0+COUNTIF(K360:P360,\"=1\")*100+COUNTIF(K360:P360,\"=2\")*80+COUNTIF(K360:P360,\"=3\")*50+COUNTIF(K360:P360,\"=8\")*20+COUNTIF(K360:P360,\"=9\")*0)/COUNTA(K360:P360)/100,\"N/A\")","v":"N/A"},{"$f":"IF(COUNTA(Q360)>0,(COUNTIF(Q360,\"=0\")*0+COUNTIF(Q360,\"=1\")*100+COUNTIF(Q360,\"=2\")*80+COUNTIF(Q360,\"=3\")*50+COUNTIF(Q360,\"=8\")*20+COUNTIF(Q360,\"=9\")*0)/COUNTA(Q360)/100,\"N/A\")","v":"N/A"},{"$f":"IF(COUNTA(S360:W360)<>0,(COUNTIF(S360:W360,\"=0\")*0+COUNTIF(S360:W360,\"=1\")*100+COUNTIF(S360:W360,\"=2\")*80+COUNTIF(S360:W360,\"=3\")*50+COUNTIF(S360:W360,\"=8\")*20+COUNTIF(S360:W360,\"=9\")*0)/COUNTA(S360:W360)/100,\"N/A\")","v":"N/A"},"N/A",{"$f":"IF(COUNTA(#REF!)>0,(COUNTIF(#REF!,\"=0\")*0+COUNTIF(#REF!,\"=1\")*100+COUNTIF(#REF!,\"=2\")*80+COUNTIF(#REF!,\"=3\")*50+COUNTIF(#REF!,\"=8\")*20+COUNTIF(#REF!,\"=9\")*0)/COUNTA(#REF!)/100,\"N/A\")","v":{"$error":"#REF!"}},{"$f":"IF(COUNTA(#REF!)>0,(COUNTIF(#REF!,\"=0\")*0+COUNTIF(#REF!,\"=1\")*100+COUNTIF(#REF!,\"=2\")*80+COUNTIF(#REF!,\"=3\")*50+COUNTIF(#REF!,\"=8\")*20+COUNTIF(#REF!,\"=9\")*0)/COUNTA(#REF!)/100,\"N/A\")","v":{"$error":"#REF!"}},{"$f":"IF(AND(COUNTA(B360:X360)<>0,#REF!<>\"\"),AVERAGE(Y360:AE360),\"N/A\")","v":{"$error":"#REF!"}},1,1,1,1,1,{"$error":"#REF!"},{"$error":"#REF!"},{"$error":"#REF!"}]
[{"$nulls":24},{"$f":"IF(COUNTA(B361:G361)>0,(COUNTIF(B361:G361,\"=0\")*0+COUNTIF(B361:G361,\"=1\")*100+COUNTIF(B361:G361,\"=2\")*80+COUNTIF(B361:G361,\"=3\")*50+COUNTIF(B361:G361,\"=8\")*20+COUNTIF(B361:G361,\"=9\")*0)/COUNTA(B361:G361)/100,\"N/A\")","v":"N/A"},{"$f":"IF(COUNTA(K361:P361)>0,(COUNTIF(K361:P361,\"=0\")*0+COUNTIF(K361:P361,\"=1\")*100+COUNTIF(K361:P361,\"=2\")*80+COUNTIF(K361:P361,\"=3\")*50+COUNTIF(K361:P361,\"=8\")*20+COUNTIF(K361:P361,\"=9\")*0)/COUNTA(K361:P361)/100,\"N/A\")","v":"N/A"},{"$f":"IF(COUNTA(Q361)>0,(COUNTIF(Q361,\"=0\")*0+COUNTIF(Q361,\"=1\")*100+COUNTIF(Q361,\"=2\")*80+COUNTIF(Q361,\"=3\")*50+COUNTIF(Q361,\"=8\")*20+COUNTIF(Q361,\"=9\")*0)/COUNTA(Q361)/100,\"N/A\")","v":"N/A"},{"$f":"IF(COUNTA(S361:W361)<>0,(COUNTIF(S361:W361,\"=0\")*0+COUNTIF(S361:W361,\"=1\")*100+COUNTIF(S361:W361,\"=2\")*80+COUNTIF(S361:W361,\"=3\")*50+COUNTIF(S361:W361,\"=8\")*20+COUNTIF(S361:W361,\"=9\")*0)/COUNTA(S361:W361)/100,\"N/A\")","v":"N/A"},"N/A",{"$f":"IF(COUNTA(#REF!)>0,(COUNTIF(#REF!,\"=0\")*0+COUNTIF(#REF!,\"=1\")*100+COUNTIF(#REF!,\"=2\")*80+COUNTIF(#REF!,\"=3\")*50+COUNTIF(#REF!,\"=8\")*20+COUNTIF(#REF!,\"=9\")*0)/COUNTA(#REF!)/100,\"N/A\")","v":{"$error":"#REF!"}},{"$f":"IF(COUNTA(#REF!)>0,(COUNTIF(#REF!,\"=0\")*0+COUNTIF(#REF!,\"=1\")*100+COUNTIF(#REF!,\"=2\")*80+COUNTIF(#REF!,\"=3\")*50+COUNTIF(#REF!,\"=8\")*20+COUNTIF(#REF!,\"=9\")*0)/COUNTA(#REF!)/100,\"N/A\")","v":{"$error":"#REF!"}},{"$f":"IF(AND(COUNTA(B361:X361)<>0,#REF!<>\"\"),AVERAGE(Y361:AE361),\"N/A\")","v":{"$error":"#REF!"}},1,1,1,1,1,{"$error":"#REF!"},{"$error":"#REF!"},{"$error":"#REF!"}]
[{"$nulls":24},{"$f":"IF(COUNTA(B362:G362)>0,(COUNTIF(B362:G362,\"=0\")*0+COUNTIF(B362:G362,\"=1\")*100+COUNTIF(B362:G362,\"=2\")*80+COUNTIF(B362:G362,\"=3\")*50+COUNTIF(B362:G362,\"=8\")*20+COUNTIF(B362:G362,\"=9\")*0)/COUNTA(B362:G362)/100,\"N/A\")","v":"N/A"},{"$f":"IF(COUNTA(K362:P362)>0,(COUNTIF(K362:P362,\"=0\")*0+COUNTIF(K362:P362,\"=1\")*100+COUNTIF(K362:P362,\"=2\")*80+COUNTIF(K362:P362,\"=3\")*50+COUNTIF(K362:P362,\"=8\")*20+COUNTIF(K362:P362,\"=9\")*0)/COUNTA(K362:P362)/100,\"N/A\")","v":"N/A"},{"$f":"IF(COUNTA(Q362)>0,(COUNTIF(Q362,\"=0\")*0+COUNTIF(Q362,\"=1\")*100+COUNTIF(Q362,\"=2\")*80+COUNTIF(Q362,\"=3\")*50+COUNTIF(Q362,\"=8\")*20+COUNTIF(Q362,\"=9\")*0)/COUNTA(Q362)/100,\"N/A\")","v":"N/A"},{"$f":"IF(COUNTA(S362:W362)<>0,(COUNTIF(S362:W362,\"=0\")*0+COUNTIF(S362:W362,\"=1\")*100+COUNTIF(S362:W362,\"=2\")*80+COUNTIF(S362:W362,\"=3\")*50+COUNTIF(S362:W362,\"=8\")*20+COUNTIF(S362:W362,\"=9\")*0)/COUNTA(S362:W362)/100,\"N/A\")","v":"N/A"},"N/A",{"$f":"IF(COUNTA(#REF!)>0,(COUNTIF(#REF!,\"=0\")*0+COUNTIF(#REF!,\"=1\")*100+COUNTIF(#REF!,\"=2\")*80+COUNTIF(#REF!,\"=3\")*50+COUNTIF(#REF!,\"=8\")*20+COUNTIF(#REF!,\"=9\")*0)/COUNTA(#REF!)/100,\"N/A\")","v":{"$error":"#REF!"}},{"$f":"IF(COUNTA(#REF!)>0,(COUNTIF(#REF!,\"=0\")*0+COUNTIF(#REF!,\"=1\")*100+COUNTIF(#REF!,\"=2\")*80+COUNTIF(#REF!,\"=3\")*50+COUNTIF(#REF!,\"=8\")*20+COUNTIF(#REF!,\"=9\")*0)/COUNTA(#REF!)/100,\"N/A\")","v":{"$error":"#REF!"}},{"$f":"IF(AND(COUNTA(B362:X362)<>0,#REF!<>\"\"),AVERAGE(Y362:AE362),\"N/A\")","v":{"$error":"#REF!"}},1,1,1,1,1,{"$error":"#REF!"},{"$error":"#REF!"},{"$error":"#REF!"}]
[{"$nulls":24},{"$f":"IF(COUNTA(B363:G363)>0,(COUNTIF(B363:G363,\"=0\")*0+COUNTIF(B363:G363,\"=1\")*100+COUNTIF(B363:G363,\"=2\")*80+COUNTIF(B363:G363,\"=3\")*50+COUNTIF(B363:G363,\"=8\")*20+COUNTIF(B363:G363,\"=9\")*0)/COUNTA(B363:G363)/100,\"N/A\")","v":"N/A"},{"$f":"IF(COUNTA(K363:P363)>0,(COUNTIF(K363:P363,\"=0\")*0+COUNTIF(K363:P363,\"=1\")*100+COUNTIF(K363:P363,\"=2\")*80+COUNTIF(K363:P363,\"=3\")*50+COUNTIF(K363:P363,\"=8\")*20+COUNTIF(K363:P363,\"=9\")*0)/COUNTA(K363:P363)/100,\"N/A\")","v":"N/A"},{"$f":"IF(COUNTA(Q363)>0,(COUNTIF(Q363,\"=0\")*0+COUNTIF(Q363,\"=1\")*100+COUNTIF(Q363,\"=2\")*80+COUNTIF(Q363,\"=3\")*50+COUNTIF(Q363,\"=8\")*20+COUNTIF(Q363,\"=9\")*0)/COUNTA(Q363)/100,\"N/A\")","v":"N/A"},{"$f":"IF(COUNTA(S363:W363)<>0,(COUNTIF(S363:W363,\"=0\")*0+COUNTIF(S363:W363,\"=1\")*100+COUNTIF(S363:W363,\"=2\")*80+COUNTIF(S363:W363,\"=3\")*50+COUNTIF(S363:W363,\"=8\")*20+COUNTIF(S363:W363,\"=9\")*0)/COUNTA(S363:W363)/100,\"N/A\")","v":"N/A"},"N/A",{"$f":"IF(COUNTA(#REF!)>0,(COUNTIF(#REF!,\"=0\")*0+COUNTIF(#REF!,\"=1\")*100+COUNTIF(#REF!,\"=2\")*80+COUNTIF(#REF!,\"=3\")*50+COUNTIF(#REF!,\"=8\")*20+COUNTIF(#REF!,\"=9\")*0)/COUNTA(#REF!)/100,\"N/A\")","v":{"$error":"#REF!"}},{"$f":"IF(COUNTA(#REF!)>0,(COUNTIF(#REF!,\"=0\")*0+COUNTIF(#REF!,\"=1\")*100+COUNTIF(#REF!,\"=2\")*80+COUNTIF(#REF!,\"=3\")*50+COUNTIF(#REF!,\"=8\")*20+COUNTIF(#REF!,\"=9\")*0)/COUNTA(#REF!)/100,\"N/A\")","v":{"$error":"#REF!"}},{"$f":"IF(AND(COUNTA(B363:X363)<>0,#REF!<>\"\"),AVERAGE(Y363:AE363),\"N/A\")","v":{"$error":"#REF!"}},1,1,1,1,1,{"$error":"#REF!"},{"$error":"#REF!"},{"$error":"#REF!"}]
[{"$nulls":24},{"$f":"IF(COUNTA(B364:G364)>0,(COUNTIF(B364:G364,\"=0\")*0+COUNTIF(B364:G364,\"=1\")*100+COUNTIF(B364:G364,\"=2\")*80+COUNTIF(B364:G364,\"=3\")*50+COUNTIF(B364:G364,\"=8\")*20+COUNTIF(B364:G364,\"=9\")*0)/COUNTA(B364:G364)/100,\"N/A\")","v":"N/A"},{"$f":"IF(COUNTA(K364:P364)>0,(COUNTIF(K364:P364,\"=0\")*0+COUNTIF(K364:P364,\"=1\")*100+COUNTIF(K364:P364,\"=2\")*80+COUNTIF(K364:P364,\"=3\")*50+COUNTIF(K364:P364,\"=8\")*20+COUNTIF(K364:P364,\"=9\")*0)/COUNTA(K364:P364)/100,\"N/A\")","v":"N/A"},{"$f":"IF(COUNTA(Q364)>0,(COUNTIF(Q364,\"=0\")*0+COUNTIF(Q364,\"=1\")*100+COUNTIF(Q364,\"=2\")*80+COUNTIF(Q364,\"=3\")*50+COUNTIF(Q364,\"=8\")*20+COUNTIF(Q364,\"=9\")*0)/COUNTA(Q364)/100,\"N/A\")","v":"N/A"},{"$f":"IF(COUNTA(S364:W364)<>0,(COUNTIF(S364:W364,\"=0\")*0+COUNTIF(S364:W364,\"=1\")*100+COUNTIF(S364:W364,\"=2\")*80+COUNTIF(S364:W364,\"=3\")*50+COUNTIF(S364:W364,\"=8\")*20+COUNTIF(S364:W364,\"=9\")*0)/COUNTA(S364:W364)/100,\"N/A\")","v":"N/A"},"N/A",{"$f":"IF(COUNTA(#REF!)>0,(COUNTIF(#REF!,\"=0\")*0+COUNTIF(#REF!,\"=1\")*100+COUNTIF(#REF!,\"=2\")*80+COUNTIF(#REF!,\"=3\")*50+COUNTIF(#REF!,\"=8\")*20+COUNTIF(#REF!,\"=9\")*0)/COUNTA(#REF!)/100,\"N/A\")","v":{"$error":"#REF!"}},{"$f":"IF(COUNTA(#REF!)>0,(COUNTIF(#REF!,\"=0\")*0+COUNTIF(#REF!,\"=1\")*100+COUNTIF(#REF!,\"=2\")*80+COUNTIF(#REF!,\"=3\")*50+COUNTIF(#REF!,\"=8\")*20+COUNTIF(#REF!,\"=9\")*0)/COUNTA(#REF!)/100,\"N/A\")","v":{"$error":"#REF!"}},{"$f":"IF(AND(COUNTA(B364:X364)<>0,#REF!<>\"\"),AVERAGE(Y364:AE364),\"N/A\")","v":{"$error":"#REF!"}},1,1,1,1,1,{"$error":"#REF!"},{"$error":"#REF!"},{"$error":"#REF!"}]
[{"$nulls":24},{"$f":"IF(COUNTA(B365:G365)>0,(COUNTIF(B365:G365,\"=0\")*0+COUNTIF(B365:G365,\"=1\")*100+COUNTIF(B365:G365,\"=2\")*80+COUNTIF(B365:G365,\"=3\")*50+COUNTIF(B365:G365,\"=8\")*20+COUNTIF(B365:G365,\"=9\")*0)/COUNTA(B365:G365)/100,\"N/A\")","v":"N/A"},{"$f":"IF(COUNTA(K365:P365)>0,(COUNTIF(K365:P365,\"=0\")*0+COUNTIF(K365:P365,\"=1\")*100+COUNTIF(K365:P365,\"=2\")*80+COUNTIF(K365:P365,\"=3\")*50+COUNTIF(K365:P365,\"=8\")*20+COUNTIF(K365:P365,\"=9\")*0)/COUNTA(K365:P365)/100,\"N/A\")","v":"N/A"},{"$f":"IF(COUNTA(Q365)>0,(COUNTIF(Q365,\"=0\")*0+COUNTIF(Q365,\"=1\")*100+COUNTIF(Q365,\"=2\")*80+COUNTIF(Q365,\"=3\")*50+COUNTIF(Q365,\"=8\")*20+COUNTIF(Q365,\"=9\")*0)/COUNTA(Q365)/100,\"N/A\")","v":"N/A"},{"$f":"IF(COUNTA(S365:W365)<>0,(COUNTIF(S365:W365,\"=0\")*0+COUNTIF(S365:W365,\"=1\")*100+COUNTIF(S365:W365,\"=2\")*80+COUNTIF(S365:W365,\"=3\")*50+COUNTIF(S365:W365,\"=8\")*20+COUNTIF(S365:W365,\"=9\")*0)/COUNTA(S365:W365)/100,\"N/A\")","v":"N/A"},"N/A",{"$f":"IF(COUNTA(#REF!)>0,(COUNTIF(#REF!,\"=0\")*0+COUNTIF(#REF!,\"=1\")*100+COUNTIF(#REF!,\"=2\")*80+COUNTIF(#REF!,\"=3\")*50+COUNTIF(#REF!,\"=8\")*20+COUNTIF(#REF!,\"=9\")*0)/COUNTA(#REF!)/100,\"N/A\")","v":{"$error":"#REF!"}},{"$f":"IF(COUNTA(#REF!)>0,(COUNTIF(#REF!,\"=0\")*0+COUNTIF(#REF!,\"=1\")*100+COUNTIF(#REF!,\"=2\")*80+COUNTIF(#REF!,\"=3\")*50+COUNTIF(#REF!,\"=8\")*20+COUNTIF(#REF!,\"=9\")*0)/COUNTA(#REF!)/100,\"N/A\")","v":{"$error":"#REF!"}},{"$f":"IF(AND(COUNTA(B365:X365)<>0,#REF!<>\"\"),AVERAGE(Y365:AE365),\"N/A\")","v":{"$error":"#REF!"}},1,1,1,1,1,{"$error":"#REF!"},{"$error":"#REF!"},{"$error":"#REF!"}]
[{"$nulls":24},{"$f":"IF(COUNTA(B366:G366)>0,(COUNTIF(B366:G366,\"=0\")*0+COUNTIF(B366:G366,\"=1\")*100+COUNTIF(B366:G366,\"=2\")*80+COUNTIF(B366:G366,\"=3\")*50+COUNTIF(B366:G366,\"=8\")*20+COUNTIF(B366:G366,\"=9\")*0)/COUNTA(B366:G366)/100,\"N/A\")","v":"N/A"},{"$f":"IF(COUNTA(K366:P366)>0,(COUNTIF(K366:P366,\"=0\")*0+COUNTIF(K366:P366,\"=1\")*100+COUNTIF(K366:P366,\"=2\")*80+COUNTIF(K366:P366,\"=3\")*50+COUNTIF(K366:P366,\"=8\")*20+COUNTIF(K366:P366,\"=9\")*0)/COUNTA(K366:P366)/100,\"N/A\")","v":"N/A"},{"$f":"IF(COUNTA(Q366)>0,(COUNTIF(Q366,\"=0\")*0+COUNTIF(Q366,\"=1\")*100+COUNTIF(Q366,\"=2\")*80+COUNTIF(Q366,\"=3\")*50+COUNTIF(Q366,\"=8\")*20+COUNTIF(Q366,\"=9\")*0)/COUNTA(Q366)/100,\"N/A\")","v":"N/A"},{"$f":"IF(COUNTA(S366:W366)<>0,(COUNTIF(S366:W366,\"=0\")*0+COUNTIF(S366:W366,\"=1\")*100+COUNTIF(S366:W366,\"=2\")*80+COUNTIF(S366:W366,\"=3\")*50+COUNTIF(S366:W366,\"=8\")*20+COUNTIF(S366:W366,\"=9\")*0)/COUNTA(S366:W366)/100,\"N/A\")","v":"N/A"},"N/A",{"$f":"IF(COUNTA(#REF!)>0,(COUNTIF(#REF!,\"=0\")*0+COUNTIF(#REF!,\"=1\")*100+COUNTIF(#REF!,\"=2\")*80+COUNTIF(#REF!,\"=3\")*50+COUNTIF(#REF!,\"=8\")*20+COUNTIF(#REF!,\"=9\")*0)/COUNTA(#REF!)/100,\"N/A\")","v":{"$error":"#REF!"}},{"$f":"IF(COUNTA(#REF!)>0,(COUNTIF(#REF!,\"=0\")*0+COUNTIF(#REF!,\"=1\")*100+COUNTIF(#REF!,\"=2\")*80+COUNTIF(#REF!,\"=3\")*50+COUNTIF(#REF!,\"=8\")*20+COUNTIF(#REF!,\"=9\")*0)/COUNTA(#REF!)/100,\"N/A\")","v":{"$error":"#REF!"}},{"$f":"IF(AND(COUNTA(B366:X366)<>0,#REF!<>\"\"),AVERAGE(Y366:AE366),\"N/A\")","v":{"$error":"#REF!"}},1,1,1,1,1,{"$error":"#REF!"},{"$error":"#REF!"},{"$error":"#REF!"}]
[{"$nulls":24},{"$f":"IF(COUNTA(B367:G367)>0,(COUNTIF(B367:G367,\"=0\")*0+COUNTIF(B367:G367,\"=1\")*100+COUNTIF(B367:G367,\"=2\")*80+COUNTIF(B367:G367,\"=3\")*50+COUNTIF(B367:G367,\"=8\")*20+COUNTIF(B367:G367,\"=9\")*0)/COUNTA(B367:G367)/100,\"N/A\")","v":"N/A"},{"$f":"IF(COUNTA(K367:P367)>0,(COUNTIF(K367:P367,\"=0\")*0+COUNTIF(K367:P367,\"=1\")*100+COUNTIF(K367:P367,\"=2\")*80+COUNTIF(K367:P367,\"=3\")*50+COUNTIF(K367:P367,\"=8\")*20+COUNTIF(K367:P367,\"=9\")*0)/COUNTA(K367:P367)/100,\"N/A\")","v":"N/A"},{"$f":"IF(COUNTA(Q367)>0,(COUNTIF(Q367,\"=0\")*0+COUNTIF(Q367,\"=1\")*100+COUNTIF(Q367,\"=2\")*80+COUNTIF(Q367,\"=3\")*50+COUNTIF(Q367,\"=8\")*20+COUNTIF(Q367,\"=9\")*0)/COUNTA(Q367)/100,\"N/A\")","v":"N/A"},{"$f":"IF(COUNTA(S367:W367)<>0,(COUNTIF(S367:W367,\"=0\")*0+COUNTIF(S367:W367,\"=1\")*100+COUNTIF(S367:W367,\"=2\")*80+COUNTIF(S367:W367,\"=3\")*50+COUNTIF(S367:W367,\"=8\")*20+COUNTIF(S367:W367,\"=9\")*0)/COUNTA(S367:W367)/100,\"N/A\")","v":"N/A"},"N/A",{"$f":"IF(COUNTA(#REF!)>0,(COUNTIF(#REF!,\"=0\")*0+COUNTIF(#REF!,\"=1\")*100+COUNTIF(#REF!,\"=2\")*80+COUNTIF(#REF!,\"=3\")*50+COUNTIF(#REF!,\"=8\")*20+COUNTIF(#REF!,\"=9\")*0)/COUNTA(#REF!)/100,\"N/A\")","v":{"$error":"#REF!"}},{"$f":"IF(COUNTA(#REF!)>0,(COUNTIF(#REF!,\"=0\")*0+COUNTIF(#REF!,\"=1\")*100+COUNTIF(#REF!,\"=2\")*80+COUNTIF(#REF!,\"=3\")*50+COUNTIF(#REF!,\"=8\")*20+COUNTIF(#REF!,\"=9\")*0)/COUNTA(#REF!)/100,\"N/A\")","v":{"$error":"#REF!"}},{"$f":"IF(AND(COUNTA(B367:X367)<>0,#REF!<>\"\"),AVERAGE(Y367:AE367),\"N/A\")","v":{"$error":"#REF!"}},1,1,1,1,1,{"$error":"#REF!"},{"$error":"#REF!"},{"$error":"#REF!"}]
[{"$nulls":24},{"$f":"IF(COUNTA(B368:G368)>0,(COUNTIF(B368:G368,\"=0\")*0+COUNTIF(B368:G368,\"=1\")*100+COUNTIF(B368:G368,\"=2\")*80+COUNTIF(B368:G368,\"=3\")*50+COUNTIF(B368:G368,\"=8\")*20+COUNTIF(B368:G368,\"=9\")*0)/COUNTA(B368:G368)/100,\"N/A\")","v":"N/A"},{"$f":"IF(COUNTA(K368:P368)>0,(COUNTIF(K368:P368,\"=0\")*0+COUNTIF(K368:P368,\"=1\")*100+COUNTIF(K368:P368,\"=2\")*80+COUNTIF(K368:P368,\"=3\")*50+COUNTIF(K368:P368,\"=8\")*20+COUNTIF(K368:P368,\"=9\")*0)/COUNTA(K368:P368)/100,\"N/A\")","v":"N/A"},{"$f":"IF(COUNTA(Q368)>0,(COUNTIF(Q368,\"=0\")*0+COUNTIF(Q368,\"=1\")*100+COUNTIF(Q368,\"=2\")*80+COUNTIF(Q368,\"=3\")*50+COUNTIF(Q368,\"=8\")*20+COUNTIF(Q368,\"=9\")*0)/COUNTA(Q368)/100,\"N/A\")","v":"N/A"},{"$f":"IF(COUNTA(S368:W368)<>0,(COUNTIF(S368:W368,\"=0\")*0+COUNTIF(S368:W368,\"=1\")*100+COUNTIF(S368:W368,\"=2\")*80+COUNTIF(S368:W368,\"=3\")*50+COUNTIF(S368:W368,\"=8\")*20+COUNTIF(S368:W368,\"=9\")*0)/COUNTA(S368:W368)/100,\"N/A\")","v":"N/A"},"N/A",{"$f":"IF(COUNTA(#REF!)>0,(COUNTIF(#REF!,\"=0\")*0+COUNTIF(#REF!,\"=1\")*100+COUNTIF(#REF!,\"=2\")*80+COUNTIF(#REF!,\"=3\")*50+COUNTIF(#REF!,\"=8\")*20+COUNTIF(#REF!,\"=9\")*0)/COUNTA(#REF!)/100,\"N/A\")","v":{"$error":"#REF!"}},{"$f":"IF(COUNTA(#REF!)>0,(COUNTIF(#REF!,\"=0\")*0+COUNTIF(#REF!,\"=1\")*100+COUNTIF(#REF!,\"=2\")*80+COUNTIF(#REF!,\"=3\")*50+COUNTIF(#REF!,\"=8\")*20+COUNTIF(#REF!,\"=9\")*0)/COUNTA(#REF!)/100,\"N/A\")","v":{"$error":"#REF!"}},{"$f":"IF(AND(COUNTA(B368:X368)<>0,#REF!<>\"\"),AVERAGE(Y368:AE368),\"N/A\")","v":{"$error":"#REF!"}},1,1,1,1,1,{"$error":"#REF!"},{"$error":"#REF!"},{"$error":"#REF!"}]
[{"$nulls":24},{"$f":"IF(COUNTA(B369:G369)>0,(COUNTIF(B369:G369,\"=0\")*0+COUNTIF(B369:G369,\"=1\")*100+COUNTIF(B369:G369,\"=2\")*80+COUNTIF(B369:G369,\"=3\")*50+COUNTIF(B369:G369,\"=8\")*20+COUNTIF(B369:G369,\"=9\")*0)/COUNTA(B369:G369)/100,\"N/A\")","v":"N/A"},{"$f":"IF(COUNTA(K369:P369)>0,(COUNTIF(K369:P369,\"=0\")*0+COUNTIF(K369:P369,\"=1\")*100+COUNTIF(K369:P369,\"=2\")*80+COUNTIF(K369:P369,\"=3\")*50+COUNTIF(K369:P369,\"=8\")*20+COUNTIF(K369:P369,\"=9\")*0)/COUNTA(K369:P369)/100,\"N/A\")","v":"N/A"},{"$f":"IF(COUNTA(Q369)>0,(COUNTIF(Q369,\"=0\")*0+COUNTIF(Q369,\"=1\")*100+COUNTIF(Q369,\"=2\")*80+COUNTIF(Q369,\"=3\")*50+COUNTIF(Q369,\"=8\")*20+COUNTIF(Q369,\"=9\")*0)/COUNTA(Q369)/100,\"N/A\")","v":"N/A"},{"$f":"IF(COUNTA(S369:W369)<>0,(COUNTIF(S369:W369,\"=0\")*0+COUNTIF(S369:W369,\"=1\")*100+COUNTIF(S369:W369,\"=2\")*80+COUNTIF(S369:W369,\"=3\")*50+COUNTIF(S369:W369,\"=8\")*20+COUNTIF(S369:W369,\"=9\")*0)/COUNTA(S369:W369)/100,\"N/A\")","v":"N/A"},"N/A",{"$f":"IF(COUNTA(#REF!)>0,(COUNTIF(#REF!,\"=0\")*0+COUNTIF(#REF!,\"=1\")*100+COUNTIF(#REF!,\"=2\")*80+COUNTIF(#REF!,\"=3\")*50+COUNTIF(#REF!,\"=8\")*20+COUNTIF(#REF!,\"=9\")*0)/COUNTA(#REF!)/100,\"N/A\")","v":{"$error":"#REF!"}},{"$f":"IF(COUNTA(#REF!)>0,(COUNTIF(#REF!,\"=0\")*0+COUNTIF(#REF!,\"=1\")*100+COUNTIF(#REF!,\"=2\")*80+COUNTIF(#REF!,\"=3\")*50+COUNTIF(#REF!,\"=8\")*20+COUNTIF(#REF!,\"=9\")*0)/COUNTA(#REF!)/100,\"N/A\")","v":{"$error":"#REF!"}},{"$f":"IF(AND(COUNTA(B369:X369)<>0,#REF!<>\"\"),AVERAGE(Y369:AE369),\"N/A\")","v":{"$error":"#REF!"}},1,1,1,1,1,{"$error":"#REF!"},{"$error":"#REF!"},{"$error":"#REF!"}]
[{"$nulls":24},{"$f":"IF(COUNTA(B370:G370)>0,(COUNTIF(B370:G370,\"=0\")*0+COUNTIF(B370:G370,\"=1\")*100+COUNTIF(B370:G370,\"=2\")*80+COUNTIF(B370:G370,\"=3\")*50+COUNTIF(B370:G370,\"=8\")*20+COUNTIF(B370:G370,\"=9\")*0)/COUNTA(B370:G370)/100,\"N/A\")","v":"N/A"},{"$f":"IF(COUNTA(K370:P370)>0,(COUNTIF(K370:P370,\"=0\")*0+COUNTIF(K370:P370,\"=1\")*100+COUNTIF(K370:P370,\"=2\")*80+COUNTIF(K370:P370,\"=3\")*50+COUNTIF(K370:P370,\"=8\")*20+COUNTIF(K370:P370,\"=9\")*0)/COUNTA(K370:P370)/100,\"N/A\")","v":"N/A"},{"$f":"IF(COUNTA(Q370)>0,(COUNTIF(Q370,\"=0\")*0+COUNTIF(Q370,\"=1\")*100+COUNTIF(Q370,\"=2\")*80+COUNTIF(Q370,\"=3\")*50+COUNTIF(Q370,\"=8\")*20+COUNTIF(Q370,\"=9\")*0)/COUNTA(Q370)/100,\"N/A\")","v":"N/A"},{"$f":"IF(COUNTA(S370:W370)<>0,(COUNTIF(S370:W370,\"=0\")*0+COUNTIF(S370:W370,\"=1\")*100+COUNTIF(S370:W370,\"=2\")*80+COUNTIF(S370:W370,\"=3\")*50+COUNTIF(S370:W370,\"=8\")*20+COUNTIF(S370:W370,\"=9\")*0)/COUNTA(S370:W370)/100,\"N/A\")","v":"N/A"},"N/A",{"$f":"IF(COUNTA(#REF!)>0,(COUNTIF(#REF!,\"=0\")*0+COUNTIF(#REF!,\"=1\")*100+COUNTIF(#REF!,\"=2\")*80+COUNTIF(#REF!,\"=3\")*50+COUNTIF(#REF!,\"=8\")*20+COUNTIF(#REF!,\"=9\")*0)/COUNTA(#REF!)/100,\"N/A\")","v":{"$error":"#REF!"}},{"$f":"IF(COUNTA(#REF!)>0,(COUNTIF(#REF!,\"=0\")*0+COUNTIF(#REF!,\"=1\")*100+COUNTIF(#REF!,\"=2\")*80+COUNTIF(#REF!,\"=3\")*50+COUNTIF(#REF!,\"=8\")*20+COUNTIF(#REF!,\"=9\")*0)/COUNTA(#REF!)/100,\"N/A\")","v":{"$error":"#REF!"}},{"$f":"IF(AND(COUNTA(B370:X370)<>0,#REF!<>\"\"),AVERAGE(Y370:AE370),\"N/A\")","v":{"$error":"#REF!"}},1,1,1,1,1,{"$error":"#REF!"},{"$error":"#REF!"},{"$error":"#REF!"}]
[{"$nulls":24},{"$f":"IF(COUNTA(B371:G371)>0,(COUNTIF(B371:G371,\"=0\")*0+COUNTIF(B371:G371,\"=1\")*100+COUNTIF(B371:G371,\"=2\")*80+COUNTIF(B371:G371,\"=3\")*50+COUNTIF(B371:G371,\"=8\")*20+COUNTIF(B371:G371,\"=9\")*0)/COUNTA(B371:G371)/100,\"N/A\")","v":"N/A"},{"$f":"IF(COUNTA(K371:P371)>0,(COUNTIF(K371:P371,\"=0\")*0+COUNTIF(K371:P371,\"=1\")*100+COUNTIF(K371:P371,\"=2\")*80+COUNTIF(K371:P371,\"=3\")*50+COUNTIF(K371:P371,\"=8\")*20+COUNTIF(K371:P371,\"=9\")*0)/COUNTA(K371:P371)/100,\"N/A\")","v":"N/A"},{"$f":"IF(COUNTA(Q371)>0,(COUNTIF(Q371,\"=0\")*0+COUNTIF(Q371,\"=1\")*100+COUNTIF(Q371,\"=2\")*80+COUNTIF(Q371,\"=3\")*50+COUNTIF(Q371,\"=8\")*20+COUNTIF(Q371,\"=9\")*0)/COUNTA(Q371)/100,\"N/A\")","v":"N/A"},{"$f":"IF(COUNTA(S371:W371)<>0,(COUNTIF(S371:W371,\"=0\")*0+COUNTIF(S371:W371,\"=1\")*100+COUNTIF(S371:W371,\"=2\")*80+COUNTIF(S371:W371,\"=3\")*50+COUNTIF(S371:W371,\"=8\")*20+COUNTIF(S371:W371,\"=9\")*0)/COUNTA(S371:W371)/100,\"N/A\")","v":"N/A"},"N/A",{"$f":"IF(COUNTA(#REF!)>0,(COUNTIF(#REF!,\"=0\")*0+COUNTIF(#REF!,\"=1\")*100+COUNTIF(#REF!,\"=2\")*80+COUNTIF(#REF!,\"=3\")*50+COUNTIF(#REF!,\"=8\")*20+COUNTIF(#REF!,\"=9\")*0)/COUNTA(#REF!)/100,\"N/A\")","v":{"$error":"#REF!"}},{"$f":"IF(COUNTA(#REF!)>0,(COUNTIF(#REF!,\"=0\")*0+COUNTIF(#REF!,\"=1\")*100+COUNTIF(#REF!,\"=2\")*80+COUNTIF(#REF!,\"=3\")*50+COUNTIF(#REF!,\"=8\")*20+COUNTIF(#REF!,\"=9\")*0)/COUNTA(#REF!)/100,\"N/A\")","v":{"$error":"#REF!"}},{"$f":"IF(AND(COUNTA(B371:X371)<>0,#REF!<>\"\"),AVERAGE(Y371:AE371),\"N/A\")","v":{"$error":"#REF!"}},1,1,1,1,1,{"$error":"#REF!"},{"$error":"#REF!"},{"$error":"#REF!"}]
[{"$nulls":24},{"$f":"IF(COUNTA(B372:G372)>0,(COUNTIF(B372:G372,\"=0\")*0+COUNTIF(B372:G372,\"=1\")*100+COUNTIF(B372:G372,\"=2\")*80+COUNTIF(B372:G372,\"=3\")*50+COUNTIF(B372:G372,\"=8\")*20+COUNTIF(B372:G372,\"=9\")*0)/COUNTA(B372:G372)/100,\"N/A\")","v":"N/A"},{"$f":"IF(COUNTA(K372:P372)>0,(COUNTIF(K372:P372,\"=0\")*0+COUNTIF(K372:P372,\"=1\")*100+COUNTIF(K372:P372,\"=2\")*80+COUNTIF(K372:P372,\"=3\")*50+COUNTIF(K372:P372,\"=8\")*20+COUNTIF(K372:P372,\"=9\")*0)/COUNTA(K372:P372)/100,\"N/A\")","v":"N/A"},{"$f":"IF(COUNTA(Q372)>0,(COUNTIF(Q372,\"=0\")*0+COUNTIF(Q372,\"=1\")*100+COUNTIF(Q372,\"=2\")*80+COUNTIF(Q372,\"=3\")*50+COUNTIF(Q372,\"=8\")*20+COUNTIF(Q372,\"=9\")*0)/COUNTA(Q372)/100,\"N/A\")","v":"N/A"},{"$f":"IF(COUNTA(S372:W372)<>0,(COUNTIF(S372:W372,\"=0\")*0+COUNTIF(S372:W372,\"=1\")*100+COUNTIF(S372:W372,\"=2\")*80+COUNTIF(S372:W372,\"=3\")*50+COUNTIF(S372:W372,\"=8\")*20+COUNTIF(S372:W372,\"=9\")*0)/COUNTA(S372:W372)/100,\"N/A\")","v":"N/A"},"N/A",{"$f":"IF(COUNTA(#REF!)>0,(COUNTIF(#REF!,\"=0\")*0+COUNTIF(#REF!,\"=1\")*100+COUNTIF(#REF!,\"=2\")*80+COUNTIF(#REF!,\"=3\")*50+COUNTIF(#REF!,\"=8\")*20+COUNTIF(#REF!,\"=9\")*0)/COUNTA(#REF!)/100,\"N/A\")","v":{"$error":"#REF!"}},{"$f":"IF(COUNTA(#REF!)>0,(COUNTIF(#REF!,\"=0\")*0+COUNTIF(#REF!,\"=1\")*100+COUNTIF(#REF!,\"=2\")*80+COUNTIF(#REF!,\"=3\")*50+COUNTIF(#REF!,\"=8\")*20+COUNTIF(#REF!,\"=9\")*0)/COUNTA(#REF!)/100,\"N/A\")","v":{"$error":"#REF!"}},{"$f":"IF(AND(COUNTA(B372:X372)<>0,#REF!<>\"\"),AVERAGE(Y372:AE372),\"N/A\")","v":{"$error":"#REF!"}},1,1,1,1,1,{"$error":"#REF!"},{"$error":"#REF!"},{"$error":"#REF!"}]
[{"$nulls":24},{"$f":"IF(COUNTA(B373:G373)>0,(COUNTIF(B373:G373,\"=0\")*0+COUNTIF(B373:G373,\"=1\")*100+COUNTIF(B373:G373,\"=2\")*80+COUNTIF(B373:G373,\"=3\")*50+COUNTIF(B373:G373,\"=8\")*20+COUNTIF(B373:G373,\"=9\")*0)/COUNTA(B373:G373)/100,\"N/A\")","v":"N/A"},{"$f":"IF(COUNTA(K373:P373)>0,(COUNTIF(K373:P373,\"=0\")*0+COUNTIF(K373:P373,\"=1\")*100+COUNTIF(K373:P373,\"=2\")*80+COUNTIF(K373:P373,\"=3\")*50+COUNTIF(K373:P373,\"=8\")*20+COUNTIF(K373:P373,\"=9\")*0)/COUNTA(K373:P373)/100,\"N/A\")","v":"N/A"},{"$f":"IF(COUNTA(Q373)>0,(COUNTIF(Q373,\"=0\")*0+COUNTIF(Q373,\"=1\")*100+COUNTIF(Q373,\"=2\")*80+COUNTIF(Q373,\"=3\")*50+COUNTIF(Q373,\"=8\")*20+COUNTIF(Q373,\"=9\")*0)/COUNTA(Q373)/100,\"N/A\")","v":"N/A"},{"$f":"IF(COUNTA(S373:W373)<>0,(COUNTIF(S373:W373,\"=0\")*0+COUNTIF(S373:W373,\"=1\")*100+COUNTIF(S373:W373,\"=2\")*80+COUNTIF(S373:W373,\"=3\")*50+COUNTIF(S373:W373,\"=8\")*20+COUNTIF(S373:W373,\"=9\")*0)/COUNTA(S373:W373)/100,\"N/A\")","v":"N/A"},"N/A",{"$f":"IF(COUNTA(#REF!)>0,(COUNTIF(#REF!,\"=0\")*0+COUNTIF(#REF!,\"=1\")*100+COUNTIF(#REF!,\"=2\")*80+COUNTIF(#REF!,\"=3\")*50+COUNTIF(#REF!,\"=8\")*20+COUNTIF(#REF!,\"=9\")*0)/COUNTA(#REF!)/100,\"N/A\")","v":{"$error":"#REF!"}},{"$f":"IF(COUNTA(#REF!)>0,(COUNTIF(#REF!,\"=0\")*0+COUNTIF(#REF!,\"=1\")*100+COUNTIF(#REF!,\"=2\")*80+COUNTIF(#REF!,\"=3\")*50+COUNTIF(#REF!,\"=8\")*20+COUNTIF(#REF!,\"=9\")*0)/COUNTA(#REF!)/100,\"N/A\")","v":{"$error":"#REF!"}},{"$f":"IF(AND(COUNTA(B373:X373)<>0,#REF!<>\"\"),AVERAGE(Y373:AE373),\"N/A\")","v":{"$error":"#REF!"}},1,1,1,1,1,{"$error":"#REF!"},{"$error":"#REF!"},{"$error":"#REF!"}]
[{"$nulls":24},{"$f":"IF(COUNTA(B374:G374)>0,(COUNTIF(B374:G374,\"=0\")*0+COUNTIF(B374:G374,\"=1\")*100+COUNTIF(B374:G374,\"=2\")*80+COUNTIF(B374:G374,\"=3\")*50+COUNTIF(B374:G374,\"=8\")*20+COUNTIF(B374:G374,\"=9\")*0)/COUNTA(B374:G374)/100,\"N/A\")","v":"N/A"},{"$f":"IF(COUNTA(K374:P374)>0,(COUNTIF(K374:P374,\"=0\")*0+COUNTIF(K374:P374,\"=1\")*100+COUNTIF(K374:P374,\"=2\")*80+COUNTIF(K374:P374,\"=3\")*50+COUNTIF(K374:P374,\"=8\")*20+COUNTIF(K374:P374,\"=9\")*0)/COUNTA(K374:P374)/100,\"N/A\")","v":"N/A"},{"$f":"IF(COUNTA(Q374)>0,(COUNTIF(Q374,\"=0\")*0+COUNTIF(Q374,\"=1\")*100+COUNTIF(Q374,\"=2\")*80+COUNTIF(Q374,\"=3\")*50+COUNTIF(Q374,\"=8\")*20+COUNTIF(Q374,\"=9\")*0)/COUNTA(Q374)/100,\"N/A\")","v":"N/A"},{"$f":"IF(COUNTA(S374:W374)<>0,(COUNTIF(S374:W374,\"=0\")*0+COUNTIF(S374:W374,\"=1\")*100+COUNTIF(S374:W374,\"=2\")*80+COUNTIF(S374:W374,\"=3\")*50+COUNTIF(S374:W374,\"=8\")*20+COUNTIF(S374:W374,\"=9\")*0)/COUNTA(S374:W374)/100,\"N/A\")","v":"N/A"},"N/A",{"$f":"IF(COUNTA(#REF!)>0,(COUNTIF(#REF!,\"=0\")*0+COUNTIF(#REF!,\"=1\")*100+COUNTIF(#REF!,\"=2\")*80+COUNTIF(#REF!,\"=3\")*50+COUNTIF(#REF!,\"=8\")*20+COUNTIF(#REF!,\"=9\")*0)/COUNTA(#REF!)/100,\"N/A\")","v":{"$error":"#REF!"}},{"$f":"IF(COUNTA(#REF!)>0,(COUNTIF(#REF!,\"=0\")*0+COUNTIF(#REF!,\"=1\")*100+COUNTIF(#REF!,\"=2\")*80+COUNTIF(#REF!,\"=3\")*50+COUNTIF(#REF!,\"=8\")*20+COUNTIF(#REF!,\"=9\")*0)/COUNTA(#REF!)/100,\"N/A\")","v":{"$error":"#REF!"}},{"$f":"IF(AND(COUNTA(B374:X374)<>0,#REF!<>\"\"),AVERAGE(Y374:AE374),\"N/A\")","v":{"$error":"#REF!"}},1,1,1,1,1,{"$error":"#REF!"},{"$error":"#REF!"},{"$error":"#REF!"}]
[{"$nulls":24},{"$f":"IF(COUNTA(B375:G375)>0,(COUNTIF(B375:G375,\"=0\")*0+COUNTIF(B375:G375,\"=1\")*100+COUNTIF(B375:G375,\"=2\")*80+COUNTIF(B375:G375,\"=3\")*50+COUNTIF(B375:G375,\"=8\")*20+COUNTIF(B375:G375,\"=9\")*0)/COUNTA(B375:G375)/100,\"N/A\")","v":"N/A"},{"$f":"IF(COUNTA(K375:P375)>0,(COUNTIF(K375:P375,\"=0\")*0+COUNTIF(K375:P375,\"=1\")*100+COUNTIF(K375:P375,\"=2\")*80+COUNTIF(K375:P375,\"=3\")*50+COUNTIF(K375:P375,\"=8\")*20+COUNTIF(K375:P375,\"=9\")*0)/COUNTA(K375:P375)/100,\"N/A\")","v":"N/A"},{"$f":"IF(COUNTA(Q375)>0,(COUNTIF(Q375,\"=0\")*0+COUNTIF(Q375,\"=1\")*100+COUNTIF(Q375,\"=2\")*80+COUNTIF(Q375,\"=3\")*50+COUNTIF(Q375,\"=8\")*20+COUNTIF(Q375,\"=9\")*0)/COUNTA(Q375)/100,\"N/A\")","v":"N/A"},{"$f":"IF(COUNTA(S375:W375)<>0,(COUNTIF(S375:W375,\"=0\")*0+COUNTIF(S375:W375,\"=1\")*100+COUNTIF(S375:W375,\"=2\")*80+COUNTIF(S375:W375,\"=3\")*50+COUNTIF(S375:W375,\"=8\")*20+COUNTIF(S375:W375,\"=9\")*0)/COUNTA(S375:W375)/100,\"N/A\")","v":"N/A"},"N/A",{"$f":"IF(COUNTA(#REF!)>0,(COUNTIF(#REF!,\"=0\")*0+COUNTIF(#REF!,\"=1\")*100+COUNTIF(#REF!,\"=2\")*80+COUNTIF(#REF!,\"=3\")*50+COUNTIF(#REF!,\"=8\")*20+COUNTIF(#REF!,\"=9\")*0)/COUNTA(#REF!)/100,\"N/A\")","v":{"$error":"#REF!"}},{"$f":"IF(COUNTA(#REF!)>0,(COUNTIF(#REF!,\"=0\")*0+COUNTIF(#REF!,\"=1\")*100+COUNTIF(#REF!,\"=2\")*80+COUNTIF(#REF!,\"=3\")*50+COUNTIF(#REF!,\"=8\")*20+COUNTIF(#REF!,\"=9\")*0)/COUNTA(#REF!)/100,\"N/A\")","v":{"$error":"#REF!"}},{"$f":"IF(AND(COUNTA(B375:X375)<>0,#REF!<>\"\"),AVERAGE(Y375:AE375),\"N/A\")","v":{"$error":"#REF!"}},1,1,1,1,1,{"$error":"#REF!"},{"$error":"#REF!"},{"$f":"IF(AF375=\"N/A\",1,\"\")","v":{"$error":"#REF!"}}]
[{"$nulls":24},{"$f":"IF(COUNTA(B376:G376)>0,(COUNTIF(B376:G376,\"=0\")*0+COUNTIF(B376:G376,\"=1\")*100+COUNTIF(B376:G376,\"=2\")*80+COUNTIF(B376:G376,\"=3\")*50+COUNTIF(B376:G376,\"=8\")*20+COUNTIF(B376:G376,\"=9\")*0)/COUNTA(B376:G376)/100,\"N/A\")","v":"N/A"},{"$f":"IF(COUNTA(K376:P376)>0,(COUNTIF(K376:P376,\"=0\")*0+COUNTIF(K376:P376,\"=1\")*100+COUNTIF(K376:P376,\"=2\")*80+COUNTIF(K376:P376,\"=3\")*50+COUNTIF(K376:P376,\"=8\")*20+COUNTIF(K376:P376,\"=9\")*0)/COUNTA(K376:P376)/100,\"N/A\")","v":"N/A"},{"$f":"IF(COUNTA(Q376)>0,(COUNTIF(Q376,\"=0\")*0+COUNTIF(Q376,\"=1\")*100+COUNTIF(Q376,\"=2\")*80+COUNTIF(Q376,\"=3\")*50+COUNTIF(Q376,\"=8\")*20+COUNTIF(Q376,\"=9\")*0)/COUNTA(Q376)/100,\"N/A\")","v":"N/A"},{"$f":"IF(COUNTA(S376:W376)<>0,(COUNTIF(S376:W376,\"=0\")*0+COUNTIF(S376:W376,\"=1\")*100+COUNTIF(S376:W376,\"=2\")*80+COUNTIF(S376:W376,\"=3\")*50+COUNTIF(S376:W376,\"=8\")*20+COUNTIF(S376:W376,\"=9\")*0)/COUNTA(S376:W376)/100,\"N/A\")","v":"N/A"},"N/A",{"$f":"IF(COUNTA(#REF!)>0,(COUNTIF(#REF!,\"=0\")*0+COUNTIF(#REF!,\"=1\")*100+COUNTIF(#REF!,\"=2\")*80+COUNTIF(#REF!,\"=3\")*50+COUNTIF(#REF!,\"=8\")*20+COUNTIF(#REF!,\"=9\")*0)/COUNTA(#REF!)/100,\"N/A\")","v":{"$error":"#REF!"}},{"$f":"IF(COUNTA(#REF!)>0,(COUNTIF(#REF!,\"=0\")*0+COUNTIF(#REF!,\"=1\")*100+COUNTIF(#REF!,\"=2\")*80+COUNTIF(#REF!,\"=3\")*50+COUNTIF(#REF!,\"=8\")*20+COUNTIF(#REF!,\"=9\")*0)/COUNTA(#REF!)/100,\"N/A\")","v":{"$error":"#REF!"}},{"$f":"IF(AND(COUNTA(B376:X376)<>0,#REF!<>\"\"),AVERAGE(Y376:AE376),\"N/A\")","v":{"$error":"#REF!"}},1,1,1,1,1,{"$error":"#REF!"},{"$error":"#REF!"},{"$error":"#REF!"}]
[{"$nulls":24},{"$f":"IF(COUNTA(B377:G377)>0,(COUNTIF(B377:G377,\"=0\")*0+COUNTIF(B377:G377,\"=1\")*100+COUNTIF(B377:G377,\"=2\")*80+COUNTIF(B377:G377,\"=3\")*50+COUNTIF(B377:G377,\"=8\")*20+COUNTIF(B377:G377,\"=9\")*0)/COUNTA(B377:G377)/100,\"N/A\")","v":"N/A"},{"$f":"IF(COUNTA(K377:P377)>0,(COUNTIF(K377:P377,\"=0\")*0+COUNTIF(K377:P377,\"=1\")*100+COUNTIF(K377:P377,\"=2\")*80+COUNTIF(K377:P377,\"=3\")*50+COUNTIF(K377:P377,\"=8\")*20+COUNTIF(K377:P377,\"=9\")*0)/COUNTA(K377:P377)/100,\"N/A\")","v":"N/A"},{"$f":"IF(COUNTA(Q377)>0,(COUNTIF(Q377,\"=0\")*0+COUNTIF(Q377,\"=1\")*100+COUNTIF(Q377,\"=2\")*80+COUNTIF(Q377,\"=3\")*50+COUNTIF(Q377,\"=8\")*20+COUNTIF(Q377,\"=9\")*0)/COUNTA(Q377)/100,\"N/A\")","v":"N/A"},{"$f":"IF(COUNTA(S377:W377)<>0,(COUNTIF(S377:W377,\"=0\")*0+COUNTIF(S377:W377,\"=1\")*100+COUNTIF(S377:W377,\"=2\")*80+COUNTIF(S377:W377,\"=3\")*50+COUNTIF(S377:W377,\"=8\")*20+COUNTIF(S377:W377,\"=9\")*0)/COUNTA(S377:W377)/100,\"N/A\")","v":"N/A"},"N/A",{"$f":"IF(COUNTA(#REF!)>0,(COUNTIF(#REF!,\"=0\")*0+COUNTIF(#REF!,\"=1\")*100+COUNTIF(#REF!,\"=2\")*80+COUNTIF(#REF!,\"=3\")*50+COUNTIF(#REF!,\"=8\")*20+COUNTIF(#REF!,\"=9\")*0)/COUNTA(#REF!)/100,\"N/A\")","v":{"$error":"#REF!"}},{"$f":"IF(COUNTA(#REF!)>0,(COUNTIF(#REF!,\"=0\")*0+COUNTIF(#REF!,\"=1\")*100+COUNTIF(#REF!,\"=2\")*80+COUNTIF(#REF!,\"=3\")*50+COUNTIF(#REF!,\"=8\")*20+COUNTIF(#REF!,\"=9\")*0)/COUNTA(#REF!)/100,\"N/A\")","v":{"$error":"#REF!"}},{"$f":"IF(AND(COUNTA(B377:X377)<>0,#REF!<>\"\"),AVERAGE(Y377:AE377),\"N/A\")","v":{"$error":"#REF!"}},1,1,1,1,1,{"$error":"#REF!"},{"$error":"#REF!"},{"$error":"#REF!"}]
[{"$nulls":24},{"$f":"IF(COUNTA(B378:G378)>0,(COUNTIF(B378:G378,\"=0\")*0+COUNTIF(B378:G378,\"=1\")*100+COUNTIF(B378:G378,\"=2\")*80+COUNTIF(B378:G378,\"=3\")*50+COUNTIF(B378:G378,\"=8\")*20+COUNTIF(B378:G378,\"=9\")*0)/COUNTA(B378:G378)/100,\"N/A\")","v":"N/A"},{"$f":"IF(COUNTA(K378:P378)>0,(COUNTIF(K378:P378,\"=0\")*0+COUNTIF(K378:P378,\"=1\")*100+COUNTIF(K378:P378,\"=2\")*80+COUNTIF(K378:P378,\"=3\")*50+COUNTIF(K378:P378,\"=8\")*20+COUNTIF(K378:P378,\"=9\")*0)/COUNTA(K378:P378)/100,\"N/A\")","v":"N/A"},{"$f":"IF(COUNTA(Q378)>0,(COUNTIF(Q378,\"=0\")*0+COUNTIF(Q378,\"=1\")*100+COUNTIF(Q378,\"=2\")*80+COUNTIF(Q378,\"=3\")*50+COUNTIF(Q378,\"=8\")*20+COUNTIF(Q378,\"=9\")*0)/COUNTA(Q378)/100,\"N/A\")","v":"N/A"},{"$f":"IF(COUNTA(S378:W378)<>0,(COUNTIF(S378:W378,\"=0\")*0+COUNTIF(S378:W378,\"=1\")*100+COUNTIF(S378:W378,\"=2\")*80+COUNTIF(S378:W378,\"=3\")*50+COUNTIF(S378:W378,\"=8\")*20+COUNTIF(S378:W378,\"=9\")*0)/COUNTA(S378:W378)/100,\"N/A\")","v":"N/A"},"N/A",{"$f":"IF(COUNTA(#REF!)>0,(COUNTIF(#REF!,\"=0\")*0+COUNTIF(#REF!,\"=1\")*100+COUNTIF(#REF!,\"=2\")*80+COUNTIF(#REF!,\"=3\")*50+COUNTIF(#REF!,\"=8\")*20+COUNTIF(#REF!,\"=9\")*0)/COUNTA(#REF!)/100,\"N/A\")","v":{"$error":"#REF!"}},{"$f":"IF(COUNTA(#REF!)>0,(COUNTIF(#REF!,\"=0\")*0+COUNTIF(#REF!,\"=1\")*100+COUNTIF(#REF!,\"=2\")*80+COUNTIF(#REF!,\"=3\")*50+COUNTIF(#REF!,\"=8\")*20+COUNTIF(#REF!,\"=9\")*0)/COUNTA(#REF!)/100,\"N/A\")","v":{"$error":"#REF!"}},{"$f":"IF(AND(COUNTA(B378:X378)<>0,#REF!<>\"\"),AVERAGE(Y378:AE378),\"N/A\")","v":{"$error":"#REF!"}},1,1,1,1,1,{"$error":"#REF!"},{"$error":"#REF!"},{"$error":"#REF!"}]
[{"$nulls":24},{"$f":"IF(COUNTA(B379:G379)>0,(COUNTIF(B379:G379,\"=0\")*0+COUNTIF(B379:G379,\"=1\")*100+COUNTIF(B379:G379,\"=2\")*80+COUNTIF(B379:G379,\"=3\")*50+COUNTIF(B379:G379,\"=8\")*20+COUNTIF(B379:G379,\"=9\")*0)/COUNTA(B379:G379)/100,\"N/A\")","v":"N/A"},{"$f":"IF(COUNTA(K379:P379)>0,(COUNTIF(K379:P379,\"=0\")*0+COUNTIF(K379:P379,\"=1\")*100+COUNTIF(K379:P379,\"=2\")*80+COUNTIF(K379:P379,\"=3\")*50+COUNTIF(K379:P379,\"=8\")*20+COUNTIF(K379:P379,\"=9\")*0)/COUNTA(K379:P379)/100,\"N/A\")","v":"N/A"},{"$f":"IF(COUNTA(Q379)>0,(COUNTIF(Q379,\"=0\")*0+COUNTIF(Q379,\"=1\")*100+COUNTIF(Q379,\"=2\")*80+COUNTIF(Q379,\"=3\")*50+COUNTIF(Q379,\"=8\")*20+COUNTIF(Q379,\"=9\")*0)/COUNTA(Q379)/100,\"N/A\")","v":"N/A"},{"$f":"IF(COUNTA(S379:W379)<>0,(COUNTIF(S379:W379,\"=0\")*0+COUNTIF(S379:W379,\"=1\")*100+COUNTIF(S379:W379,\"=2\")*80+COUNTIF(S379:W379,\"=3\")*50+COUNTIF(S379:W379,\"=8\")*20+COUNTIF(S379:W379,\"=9\")*0)/COUNTA(S379:W379)/100,\"N/A\")","v":"N/A"},"N/A",{"$f":"IF(COUNTA(#REF!)>0,(COUNTIF(#REF!,\"=0\")*0+COUNTIF(#REF!,\"=1\")*100+COUNTIF(#REF!,\"=2\")*80+COUNTIF(#REF!,\"=3\")*50+COUNTIF(#REF!,\"=8\")*20+COUNTIF(#REF!,\"=9\")*0)/COUNTA(#REF!)/100,\"N/A\")","v":{"$error":"#REF!"}},{"$f":"IF(COUNTA(#REF!)>0,(COUNTIF(#REF!,\"=0\")*0+COUNTIF(#REF!,\"=1\")*100+COUNTIF(#REF!,\"=2\")*80+COUNTIF(#REF!,\"=3\")*50+COUNTIF(#REF!,\"=8\")*20+COUNTIF(#REF!,\"=9\")*0)/COUNTA(#REF!)/100,\"N/A\")","v":{"$error":"#REF!"}},{"$f":"IF(AND(COUNTA(B379:X379)<>0,#REF!<>\"\"),AVERAGE(Y379:AE379),\"N/A\")","v":{"$error":"#REF!"}},1,1,1,1,1,{"$error":"#REF!"},{"$error":"#REF!"},{"$error":"#REF!"}]
[{"$nulls":24},{"$f":"IF(COUNTA(B380:G380)>0,(COUNTIF(B380:G380,\"=0\")*0+COUNTIF(B380:G380,\"=1\")*100+COUNTIF(B380:G380,\"=2\")*80+COUNTIF(B380:G380,\"=3\")*50+COUNTIF(B380:G380,\"=8\")*20+COUNTIF(B380:G380,\"=9\")*0)/COUNTA(B380:G380)/100,\"N/A\")","v":"N/A"},{"$f":"IF(COUNTA(K380:P380)>0,(COUNTIF(K380:P380,\"=0\")*0+COUNTIF(K380:P380,\"=1\")*100+COUNTIF(K380:P380,\"=2\")*80+COUNTIF(K380:P380,\"=3\")*50+COUNTIF(K380:P380,\"=8\")*20+COUNTIF(K380:P380,\"=9\")*0)/COUNTA(K380:P380)/100,\"N/A\")","v":"N/A"},{"$f":"IF(COUNTA(Q380)>0,(COUNTIF(Q380,\"=0\")*0+COUNTIF(Q380,\"=1\")*100+COUNTIF(Q380,\"=2\")*80+COUNTIF(Q380,\"=3\")*50+COUNTIF(Q380,\"=8\")*20+COUNTIF(Q380,\"=9\")*0)/COUNTA(Q380)/100,\"N/A\")","v":"N/A"},{"$f":"IF(COUNTA(S380:W380)<>0,(COUNTIF(S380:W380,\"=0\")*0+COUNTIF(S380:W380,\"=1\")*100+COUNTIF(S380:W380,\"=2\")*80+COUNTIF(S380:W380,\"=3\")*50+COUNTIF(S380:W380,\"=8\")*20+COUNTIF(S380:W380,\"=9\")*0)/COUNTA(S380:W380)/100,\"N/A\")","v":"N/A"},"N/A",{"$f":"IF(COUNTA(#REF!)>0,(COUNTIF(#REF!,\"=0\")*0+COUNTIF(#REF!,\"=1\")*100+COUNTIF(#REF!,\"=2\")*80+COUNTIF(#REF!,\"=3\")*50+COUNTIF(#REF!,\"=8\")*20+COUNTIF(#REF!,\"=9\")*0)/COUNTA(#REF!)/100,\"N/A\")","v":{"$error":"#REF!"}},{"$f":"IF(COUNTA(#REF!)>0,(COUNTIF(#REF!,\"=0\")*0+COUNTIF(#REF!,\"=1\")*100+COUNTIF(#REF!,\"=2\")*80+COUNTIF(#REF!,\"=3\")*50+COUNTIF(#REF!,\"=8\")*20+COUNTIF(#REF!,\"=9\")*0)/COUNTA(#REF!)/100,\"N/A\")","v":{"$error":"#REF!"}},{"$f":"IF(AND(COUNTA(B380:X380)<>0,#REF!<>\"\"),AVERAGE(Y380:AE380),\"N/A\")","v":{"$error":"#REF!"}},1,1,1,1,1,{"$error":"#REF!"},{"$error":"#REF!"},{"$error":"#REF!"}]
[{"$nulls":24},{"$f":"IF(COUNTA(B381:G381)>0,(COUNTIF(B381:G381,\"=0\")*0+COUNTIF(B381:G381,\"=1\")*100+COUNTIF(B381:G381,\"=2\")*80+COUNTIF(B381:G381,\"=3\")*50+COUNTIF(B381:G381,\"=8\")*20+COUNTIF(B381:G381,\"=9\")*0)/COUNTA(B381:G381)/100,\"N/A\")","v":"N/A"},{"$f":"IF(COUNTA(K381:P381)>0,(COUNTIF(K381:P381,\"=0\")*0+COUNTIF(K381:P381,\"=1\")*100+COUNTIF(K381:P381,\"=2\")*80+COUNTIF(K381:P381,\"=3\")*50+COUNTIF(K381:P381,\"=8\")*20+COUNTIF(K381:P381,\"=9\")*0)/COUNTA(K381:P381)/100,\"N/A\")","v":"N/A"},{"$f":"IF(COUNTA(Q381)>0,(COUNTIF(Q381,\"=0\")*0+COUNTIF(Q381,\"=1\")*100+COUNTIF(Q381,\"=2\")*80+COUNTIF(Q381,\"=3\")*50+COUNTIF(Q381,\"=8\")*20+COUNTIF(Q381,\"=9\")*0)/COUNTA(Q381)/100,\"N/A\")","v":"N/A"},{"$f":"IF(COUNTA(S381:W381)<>0,(COUNTIF(S381:W381,\"=0\")*0+COUNTIF(S381:W381,\"=1\")*100+COUNTIF(S381:W381,\"=2\")*80+COUNTIF(S381:W381,\"=3\")*50+COUNTIF(S381:W381,\"=8\")*20+COUNTIF(S381:W381,\"=9\")*0)/COUNTA(S381:W381)/100,\"N/A\")","v":"N/A"},"N/A",{"$f":"IF(COUNTA(#REF!)>0,(COUNTIF(#REF!,\"=0\")*0+COUNTIF(#REF!,\"=1\")*100+COUNTIF(#REF!,\"=2\")*80+COUNTIF(#REF!,\"=3\")*50+COUNTIF(#REF!,\"=8\")*20+COUNTIF(#REF!,\"=9\")*0)/COUNTA(#REF!)/100,\"N/A\")","v":{"$error":"#REF!"}},{"$f":"IF(COUNTA(#REF!)>0,(COUNTIF(#REF!,\"=0\")*0+COUNTIF(#REF!,\"=1\")*100+COUNTIF(#REF!,\"=2\")*80+COUNTIF(#REF!,\"=3\")*50+COUNTIF(#REF!,\"=8\")*20+COUNTIF(#REF!,\"=9\")*0)/COUNTA(#REF!)/100,\"N/A\")","v":{"$error":"#REF!"}},{"$f":"IF(AND(COUNTA(B381:X381)<>0,#REF!<>\"\"),AVERAGE(Y381:AE381),\"N/A\")","v":{"$error":"#REF!"}},1,1,1,1,1,{"$error":"#REF!"},{"$error":"#REF!"},{"$error":"#REF!"}]
[{"$nulls":24},{"$f":"IF(COUNTA(B382:G382)>0,(COUNTIF(B382:G382,\"=0\")*0+COUNTIF(B382:G382,\"=1\")*100+COUNTIF(B382:G382,\"=2\")*80+COUNTIF(B382:G382,\"=3\")*50+COUNTIF(B382:G382,\"=8\")*20+COUNTIF(B382:G382,\"=9\")*0)/COUNTA(B382:G382)/100,\"N/A\")","v":"N/A"},{"$f":"IF(COUNTA(K382:P382)>0,(COUNTIF(K382:P382,\"=0\")*0+COUNTIF(K382:P382,\"=1\")*100+COUNTIF(K382:P382,\"=2\")*80+COUNTIF(K382:P382,\"=3\")*50+COUNTIF(K382:P382,\"=8\")*20+COUNTIF(K382:P382,\"=9\")*0)/COUNTA(K382:P382)/100,\"N/A\")","v":"N/A"},{"$f":"IF(COUNTA(Q382)>0,(COUNTIF(Q382,\"=0\")*0+COUNTIF(Q382,\"=1\")*100+COUNTIF(Q382,\"=2\")*80+COUNTIF(Q382,\"=3\")*50+COUNTIF(Q382,\"=8\")*20+COUNTIF(Q382,\"=9\")*0)/COUNTA(Q382)/100,\"N/A\")","v":"N/A"},{"$f":"IF(COUNTA(S382:W382)<>0,(COUNTIF(S382:W382,\"=0\")*0+COUNTIF(S382:W382,\"=1\")*100+COUNTIF(S382:W382,\"=2\")*80+COUNTIF(S382:W382,\"=3\")*50+COUNTIF(S382:W382,\"=8\")*20+COUNTIF(S382:W382,\"=9\")*0)/COUNTA(S382:W382)/100,\"N/A\")","v":"N/A"},"N/A",{"$f":"IF(COUNTA(#REF!)>0,(COUNTIF(#REF!,\"=0\")*0+COUNTIF(#REF!,\"=1\")*100+COUNTIF(#REF!,\"=2\")*80+COUNTIF(#REF!,\"=3\")*50+COUNTIF(#REF!,\"=8\")*20+COUNTIF(#REF!,\"=9\")*0)/COUNTA(#REF!)/100,\"N/A\")","v":{"$error":"#REF!"}},{"$f":"IF(COUNTA(#REF!)>0,(COUNTIF(#REF!,\"=0\")*0+COUNTIF(#REF!,\"=1\")*100+COUNTIF(#REF!,\"=2\")*80+COUNTIF(#REF!,\"=3\")*50+COUNTIF(#REF!,\"=8\")*20+COUNTIF(#REF!,\"=9\")*0)/COUNTA(#REF!)/100,\"N/A\")","v":{"$error":"#REF!"}},{"$f":"IF(AND(COUNTA(B382:X382)<>0,#REF!<>\"\"),AVERAGE(Y382:AE382),\"N/A\")","v":{"$error":"#REF!"}},1,1,1,1,1,{"$error":"#REF!"},{"$error":"#REF!"},{"$error":"#REF!"}]
[{"$nulls":24},{"$f":"IF(COUNTA(B383:G383)>0,(COUNTIF(B383:G383,\"=0\")*0+COUNTIF(B383:G383,\"=1\")*100+COUNTIF(B383:G383,\"=2\")*80+COUNTIF(B383:G383,\"=3\")*50+COUNTIF(B383:G383,\"=8\")*20+COUNTIF(B383:G383,\"=9\")*0)/COUNTA(B383:G383)/100,\"N/A\")","v":"N/A"},{"$f":"IF(COUNTA(K383:P383)>0,(COUNTIF(K383:P383,\"=0\")*0+COUNTIF(K383:P383,\"=1\")*100+COUNTIF(K383:P383,\"=2\")*80+COUNTIF(K383:P383,\"=3\")*50+COUNTIF(K383:P383,\"=8\")*20+COUNTIF(K383:P383,\"=9\")*0)/COUNTA(K383:P383)/100,\"N/A\")","v":"N/A"},{"$f":"IF(COUNTA(Q383)>0,(COUNTIF(Q383,\"=0\")*0+COUNTIF(Q383,\"=1\")*100+COUNTIF(Q383,\"=2\")*80+COUNTIF(Q383,\"=3\")*50+COUNTIF(Q383,\"=8\")*20+COUNTIF(Q383,\"=9\")*0)/COUNTA(Q383)/100,\"N/A\")","v":"N/A"},{"$f":"IF(COUNTA(S383:W383)<>0,(COUNTIF(S383:W383,\"=0\")*0+COUNTIF(S383:W383,\"=1\")*100+COUNTIF(S383:W383,\"=2\")*80+COUNTIF(S383:W383,\"=3\")*50+COUNTIF(S383:W383,\"=8\")*20+COUNTIF(S383:W383,\"=9\")*0)/COUNTA(S383:W383)/100,\"N/A\")","v":"N/A"},"N/A",{"$f":"IF(COUNTA(#REF!)>0,(COUNTIF(#REF!,\"=0\")*0+COUNTIF(#REF!,\"=1\")*100+COUNTIF(#REF!,\"=2\")*80+COUNTIF(#REF!,\"=3\")*50+COUNTIF(#REF!,\"=8\")*20+COUNTIF(#REF!,\"=9\")*0)/COUNTA(#REF!)/100,\"N/A\")","v":{"$error":"#REF!"}},{"$f":"IF(COUNTA(#REF!)>0,(COUNTIF(#REF!,\"=0\")*0+COUNTIF(#REF!,\"=1\")*100+COUNTIF(#REF!,\"=2\")*80+COUNTIF(#REF!,\"=3\")*50+COUNTIF(#REF!,\"=8\")*20+COUNTIF(#REF!,\"=9\")*0)/COUNTA(#REF!)/100,\"N/A\")","v":{"$error":"#REF!"}},{"$f":"IF(AND(COUNTA(B383:X383)<>0,#REF!<>\"\"),AVERAGE(Y383:AE383),\"N/A\")","v":{"$error":"#REF!"}},1,1,1,1,1,{"$error":"#REF!"},{"$error":"#REF!"},{"$error":"#REF!"}]
[{"$nulls":24},{"$f":"IF(COUNTA(B384:G384)>0,(COUNTIF(B384:G384,\"=0\")*0+COUNTIF(B384:G384,\"=1\")*100+COUNTIF(B384:G384,\"=2\")*80+COUNTIF(B384:G384,\"=3\")*50+COUNTIF(B384:G384,\"=8\")*20+COUNTIF(B384:G384,\"=9\")*0)/COUNTA(B384:G384)/100,\"N/A\")","v":"N/A"},{"$f":"IF(COUNTA(K384:P384)>0,(COUNTIF(K384:P384,\"=0\")*0+COUNTIF(K384:P384,\"=1\")*100+COUNTIF(K384:P384,\"=2\")*80+COUNTIF(K384:P384,\"=3\")*50+COUNTIF(K384:P384,\"=8\")*20+COUNTIF(K384:P384,\"=9\")*0)/COUNTA(K384:P384)/100,\"N/A\")","v":"N/A"},{"$f":"IF(COUNTA(Q384)>0,(COUNTIF(Q384,\"=0\")*0+COUNTIF(Q384,\"=1\")*100+COUNTIF(Q384,\"=2\")*80+COUNTIF(Q384,\"=3\")*50+COUNTIF(Q384,\"=8\")*20+COUNTIF(Q384,\"=9\")*0)/COUNTA(Q384)/100,\"N/A\")","v":"N/A"},{"$f":"IF(COUNTA(S384:W384)<>0,(COUNTIF(S384:W384,\"=0\")*0+COUNTIF(S384:W384,\"=1\")*100+COUNTIF(S384:W384,\"=2\")*80+COUNTIF(S384:W384,\"=3\")*50+COUNTIF(S384:W384,\"=8\")*20+COUNTIF(S384:W384,\"=9\")*0)/COUNTA(S384:W384)/100,\"N/A\")","v":"N/A"},"N/A",{"$f":"IF(COUNTA(#REF!)>0,(COUNTIF(#REF!,\"=0\")*0+COUNTIF(#REF!,\"=1\")*100+COUNTIF(#REF!,\"=2\")*80+COUNTIF(#REF!,\"=3\")*50+COUNTIF(#REF!,\"=8\")*20+COUNTIF(#REF!,\"=9\")*0)/COUNTA(#REF!)/100,\"N/A\")","v":{"$error":"#REF!"}},{"$f":"IF(COUNTA(#REF!)>0,(COUNTIF(#REF!,\"=0\")*0+COUNTIF(#REF!,\"=1\")*100+COUNTIF(#REF!,\"=2\")*80+COUNTIF(#REF!,\"=3\")*50+COUNTIF(#REF!,\"=8\")*20+COUNTIF(#REF!,\"=9\")*0)/COUNTA(#REF!)/100,\"N/A\")","v":{"$error":"#REF!"}},{"$f":"IF(AND(COUNTA(B384:X384)<>0,#REF!<>\"\"),AVERAGE(Y384:AE384),\"N/A\")","v":{"$error":"#REF!"}},1,1,1,1,1,{"$error":"#REF!"},{"$error":"#REF!"},{"$error":"#REF!"}]
[{"$nulls":24},{"$f":"IF(COUNTA(B385:G385)>0,(COUNTIF(B385:G385,\"=0\")*0+COUNTIF(B385:G385,\"=1\")*100+COUNTIF(B385:G385,\"=2\")*80+COUNTIF(B385:G385,\"=3\")*50+COUNTIF(B385:G385,\"=8\")*20+COUNTIF(B385:G385,\"=9\")*0)/COUNTA(B385:G385)/100,\"N/A\")","v":"N/A"},{"$f":"IF(COUNTA(K385:P385)>0,(COUNTIF(K385:P385,\"=0\")*0+COUNTIF(K385:P385,\"=1\")*100+COUNTIF(K385:P385,\"=2\")*80+COUNTIF(K385:P385,\"=3\")*50+COUNTIF(K385:P385,\"=8\")*20+COUNTIF(K385:P385,\"=9\")*0)/COUNTA(K385:P385)/100,\"N/A\")","v":"N/A"},{"$f":"IF(COUNTA(Q385)>0,(COUNTIF(Q385,\"=0\")*0+COUNTIF(Q385,\"=1\")*100+COUNTIF(Q385,\"=2\")*80+COUNTIF(Q385,\"=3\")*50+COUNTIF(Q385,\"=8\")*20+COUNTIF(Q385,\"=9\")*0)/COUNTA(Q385)/100,\"N/A\")","v":"N/A"},{"$f":"IF(COUNTA(S385:W385)<>0,(COUNTIF(S385:W385,\"=0\")*0+COUNTIF(S385:W385,\"=1\")*100+COUNTIF(S385:W385,\"=2\")*80+COUNTIF(S385:W385,\"=3\")*50+COUNTIF(S385:W385,\"=8\")*20+COUNTIF(S385:W385,\"=9\")*0)/COUNTA(S385:W385)/100,\"N/A\")","v":"N/A"},"N/A",{"$f":"IF(COUNTA(#REF!)>0,(COUNTIF(#REF!,\"=0\")*0+COUNTIF(#REF!,\"=1\")*100+COUNTIF(#REF!,\"=2\")*80+COUNTIF(#REF!,\"=3\")*50+COUNTIF(#REF!,\"=8\")*20+COUNTIF(#REF!,\"=9\")*0)/COUNTA(#REF!)/100,\"N/A\")","v":{"$error":"#REF!"}},{"$f":"IF(COUNTA(#REF!)>0,(COUNTIF(#REF!,\"=0\")*0+COUNTIF(#REF!,\"=1\")*100+COUNTIF(#REF!,\"=2\")*80+COUNTIF(#REF!,\"=3\")*50+COUNTIF(#REF!,\"=8\")*20+COUNTIF(#REF!,\"=9\")*0)/COUNTA(#REF!)/100,\"N/A\")","v":{"$error":"#REF!"}},{"$f":"IF(AND(COUNTA(B385:X385)<>0,#REF!<>\"\"),AVERAGE(Y385:AE385),\"N/A\")","v":{"$error":"#REF!"}},1,1,1,1,1,{"$error":"#REF!"},{"$error":"#REF!"},{"$error":"#REF!"}]
[{"$nulls":24},{"$f":"IF(COUNTA(B386:G386)>0,(COUNTIF(B386:G386,\"=0\")*0+COUNTIF(B386:G386,\"=1\")*100+COUNTIF(B386:G386,\"=2\")*80+COUNTIF(B386:G386,\"=3\")*50+COUNTIF(B386:G386,\"=8\")*20+COUNTIF(B386:G386,\"=9\")*0)/COUNTA(B386:G386)/100,\"N/A\")","v":"N/A"},{"$f":"IF(COUNTA(K386:P386)>0,(COUNTIF(K386:P386,\"=0\")*0+COUNTIF(K386:P386,\"=1\")*100+COUNTIF(K386:P386,\"=2\")*80+COUNTIF(K386:P386,\"=3\")*50+COUNTIF(K386:P386,\"=8\")*20+COUNTIF(K386:P386,\"=9\")*0)/COUNTA(K386:P386)/100,\"N/A\")","v":"N/A"},{"$f":"IF(COUNTA(Q386)>0,(COUNTIF(Q386,\"=0\")*0+COUNTIF(Q386,\"=1\")*100+COUNTIF(Q386,\"=2\")*80+COUNTIF(Q386,\"=3\")*50+COUNTIF(Q386,\"=8\")*20+COUNTIF(Q386,\"=9\")*0)/COUNTA(Q386)/100,\"N/A\")","v":"N/A"},{"$f":"IF(COUNTA(S386:W386)<>0,(COUNTIF(S386:W386,\"=0\")*0+COUNTIF(S386:W386,\"=1\")*100+COUNTIF(S386:W386,\"=2\")*80+COUNTIF(S386:W386,\"=3\")*50+COUNTIF(S386:W386,\"=8\")*20+COUNTIF(S386:W386,\"=9\")*0)/COUNTA(S386:W386)/100,\"N/A\")","v":"N/A"},"N/A",{"$f":"IF(COUNTA(#REF!)>0,(COUNTIF(#REF!,\"=0\")*0+COUNTIF(#REF!,\"=1\")*100+COUNTIF(#REF!,\"=2\")*80+COUNTIF(#REF!,\"=3\")*50+COUNTIF(#REF!,\"=8\")*20+COUNTIF(#REF!,\"=9\")*0)/COUNTA(#REF!)/100,\"N/A\")","v":{"$error":"#REF!"}},{"$f":"IF(COUNTA(#REF!)>0,(COUNTIF(#REF!,\"=0\")*0+COUNTIF(#REF!,\"=1\")*100+COUNTIF(#REF!,\"=2\")*80+COUNTIF(#REF!,\"=3\")*50+COUNTIF(#REF!,\"=8\")*20+COUNTIF(#REF!,\"=9\")*0)/COUNTA(#REF!)/100,\"N/A\")","v":{"$error":"#REF!"}},{"$f":"IF(AND(COUNTA(B386:X386)<>0,#REF!<>\"\"),AVERAGE(Y386:AE386),\"N/A\")","v":{"$error":"#REF!"}},1,1,1,1,1,{"$error":"#REF!"},{"$error":"#REF!"},{"$error":"#REF!"}]
[{"$nulls":24},{"$f":"IF(COUNTA(B387:G387)>0,(COUNTIF(B387:G387,\"=0\")*0+COUNTIF(B387:G387,\"=1\")*100+COUNTIF(B387:G387,\"=2\")*80+COUNTIF(B387:G387,\"=3\")*50+COUNTIF(B387:G387,\"=8\")*20+COUNTIF(B387:G387,\"=9\")*0)/COUNTA(B387:G387)/100,\"N/A\")","v":"N/A"},{"$f":"IF(COUNTA(K387:P387)>0,(COUNTIF(K387:P387,\"=0\")*0+COUNTIF(K387:P387,\"=1\")*100+COUNTIF(K387:P387,\"=2\")*80+COUNTIF(K387:P387,\"=3\")*50+COUNTIF(K387:P387,\"=8\")*20+COUNTIF(K387:P387,\"=9\")*0)/COUNTA(K387:P387)/100,\"N/A\")","v":"N/A"},{"$f":"IF(COUNTA(Q387)>0,(COUNTIF(Q387,\"=0\")*0+COUNTIF(Q387,\"=1\")*100+COUNTIF(Q387,\"=2\")*80+COUNTIF(Q387,\"=3\")*50+COUNTIF(Q387,\"=8\")*20+COUNTIF(Q387,\"=9\")*0)/COUNTA(Q387)/100,\"N/A\")","v":"N/A"},{"$f":"IF(COUNTA(S387:W387)<>0,(COUNTIF(S387:W387,\"=0\")*0+COUNTIF(S387:W387,\"=1\")*100+COUNTIF(S387:W387,\"=2\")*80+COUNTIF(S387:W387,\"=3\")*50+COUNTIF(S387:W387,\"=8\")*20+COUNTIF(S387:W387,\"=9\")*0)/COUNTA(S387:W387)/100,\"N/A\")","v":"N/A"},"N/A",{"$f":"IF(COUNTA(#REF!)>0,(COUNTIF(#REF!,\"=0\")*0+COUNTIF(#REF!,\"=1\")*100+COUNTIF(#REF!,\"=2\")*80+COUNTIF(#REF!,\"=3\")*50+COUNTIF(#REF!,\"=8\")*20+COUNTIF(#REF!,\"=9\")*0)/COUNTA(#REF!)/100,\"N/A\")","v":{"$error":"#REF!"}},{"$f":"IF(COUNTA(#REF!)>0,(COUNTIF(#REF!,\"=0\")*0+COUNTIF(#REF!,\"=1\")*100+COUNTIF(#REF!,\"=2\")*80+COUNTIF(#REF!,\"=3\")*50+COUNTIF(#REF!,\"=8\")*20+COUNTIF(#REF!,\"=9\")*0)/COUNTA(#REF!)/100,\"N/A\")","v":{"$error":"#REF!"}},{"$f":"IF(AND(COUNTA(B387:X387)<>0,#REF!<>\"\"),AVERAGE(Y387:AE387),\"N/A\")","v":{"$error":"#REF!"}},1,1,1,1,1,{"$error":"#REF!"},{"$error":"#REF!"},{"$error":"#REF!"}]
[{"$nulls":24},{"$f":"IF(COUNTA(B388:G388)>0,(COUNTIF(B388:G388,\"=0\")*0+COUNTIF(B388:G388,\"=1\")*100+COUNTIF(B388:G388,\"=2\")*80+COUNTIF(B388:G388,\"=3\")*50+COUNTIF(B388:G388,\"=8\")*20+COUNTIF(B388:G388,\"=9\")*0)/COUNTA(B388:G388)/100,\"N/A\")","v":"N/A"},{"$f":"IF(COUNTA(K388:P388)>0,(COUNTIF(K388:P388,\"=0\")*0+COUNTIF(K388:P388,\"=1\")*100+COUNTIF(K388:P388,\"=2\")*80+COUNTIF(K388:P388,\"=3\")*50+COUNTIF(K388:P388,\"=8\")*20+COUNTIF(K388:P388,\"=9\")*0)/COUNTA(K388:P388)/100,\"N/A\")","v":"N/A"},{"$f":"IF(COUNTA(Q388)>0,(COUNTIF(Q388,\"=0\")*0+COUNTIF(Q388,\"=1\")*100+COUNTIF(Q388,\"=2\")*80+COUNTIF(Q388,\"=3\")*50+COUNTIF(Q388,\"=8\")*20+COUNTIF(Q388,\"=9\")*0)/COUNTA(Q388)/100,\"N/A\")","v":"N/A"},{"$f":"IF(COUNTA(S388:W388)<>0,(COUNTIF(S388:W388,\"=0\")*0+COUNTIF(S388:W388,\"=1\")*100+COUNTIF(S388:W388,\"=2\")*80+COUNTIF(S388:W388,\"=3\")*50+COUNTIF(S388:W388,\"=8\")*20+COUNTIF(S388:W388,\"=9\")*0)/COUNTA(S388:W388)/100,\"N/A\")","v":"N/A"},"N/A",{"$f":"IF(COUNTA(#REF!)>0,(COUNTIF(#REF!,\"=0\")*0+COUNTIF(#REF!,\"=1\")*100+COUNTIF(#REF!,\"=2\")*80+COUNTIF(#REF!,\"=3\")*50+COUNTIF(#REF!,\"=8\")*20+COUNTIF(#REF!,\"=9\")*0)/COUNTA(#REF!)/100,\"N/A\")","v":{"$error":"#REF!"}},{"$f":"IF(COUNTA(#REF!)>0,(COUNTIF(#REF!,\"=0\")*0+COUNTIF(#REF!,\"=1\")*100+COUNTIF(#REF!,\"=2\")*80+COUNTIF(#REF!,\"=3\")*50+COUNTIF(#REF!,\"=8\")*20+COUNTIF(#REF!,\"=9\")*0)/COUNTA(#REF!)/100,\"N/A\")","v":{"$error":"#REF!"}},{"$f":"IF(AND(COUNTA(B388:X388)<>0,#REF!<>\"\"),AVERAGE(Y388:AE388),\"N/A\")","v":{"$error":"#REF!"}},1,1,1,1,1,{"$error":"#REF!"},{"$error":"#REF!"},{"$error":"#REF!"}]
[{"$nulls":24},{"$f":"IF(COUNTA(B389:G389)>0,(COUNTIF(B389:G389,\"=0\")*0+COUNTIF(B389:G389,\"=1\")*100+COUNTIF(B389:G389,\"=2\")*80+COUNTIF(B389:G389,\"=3\")*50+COUNTIF(B389:G389,\"=8\")*20+COUNTIF(B389:G389,\"=9\")*0)/COUNTA(B389:G389)/100,\"N/A\")","v":"N/A"},{"$f":"IF(COUNTA(K389:P389)>0,(COUNTIF(K389:P389,\"=0\")*0+COUNTIF(K389:P389,\"=1\")*100+COUNTIF(K389:P389,\"=2\")*80+COUNTIF(K389:P389,\"=3\")*50+COUNTIF(K389:P389,\"=8\")*20+COUNTIF(K389:P389,\"=9\")*0)/COUNTA(K389:P389)/100,\"N/A\")","v":"N/A"},{"$f":"IF(COUNTA(Q389)>0,(COUNTIF(Q389,\"=0\")*0+COUNTIF(Q389,\"=1\")*100+COUNTIF(Q389,\"=2\")*80+COUNTIF(Q389,\"=3\")*50+COUNTIF(Q389,\"=8\")*20+COUNTIF(Q389,\"=9\")*0)/COUNTA(Q389)/100,\"N/A\")","v":"N/A"},{"$f":"IF(COUNTA(S389:W389)<>0,(COUNTIF(S389:W389,\"=0\")*0+COUNTIF(S389:W389,\"=1\")*100+COUNTIF(S389:W389,\"=2\")*80+COUNTIF(S389:W389,\"=3\")*50+COUNTIF(S389:W389,\"=8\")*20+COUNTIF(S389:W389,\"=9\")*0)/COUNTA(S389:W389)/100,\"N/A\")","v":"N/A"},"N/A",{"$f":"IF(COUNTA(#REF!)>0,(COUNTIF(#REF!,\"=0\")*0+COUNTIF(#REF!,\"=1\")*100+COUNTIF(#REF!,\"=2\")*80+COUNTIF(#REF!,\"=3\")*50+COUNTIF(#REF!,\"=8\")*20+COUNTIF(#REF!,\"=9\")*0)/COUNTA(#REF!)/100,\"N/A\")","v":{"$error":"#REF!"}},{"$f":"IF(COUNTA(#REF!)>0,(COUNTIF(#REF!,\"=0\")*0+COUNTIF(#REF!,\"=1\")*100+COUNTIF(#REF!,\"=2\")*80+COUNTIF(#REF!,\"=3\")*50+COUNTIF(#REF!,\"=8\")*20+COUNTIF(#REF!,\"=9\")*0)/COUNTA(#REF!)/100,\"N/A\")","v":{"$error":"#REF!"}},{"$f":"IF(AND(COUNTA(B389:X389)<>0,#REF!<>\"\"),AVERAGE(Y389:AE389),\"N/A\")","v":{"$error":"#REF!"}},1,1,1,1,1,{"$error":"#REF!"},{"$error":"#REF!"},{"$error":"#REF!"}]
[{"$nulls":24},{"$f":"IF(COUNTA(B390:G390)>0,(COUNTIF(B390:G390,\"=0\")*0+COUNTIF(B390:G390,\"=1\")*100+COUNTIF(B390:G390,\"=2\")*80+COUNTIF(B390:G390,\"=3\")*50+COUNTIF(B390:G390,\"=8\")*20+COUNTIF(B390:G390,\"=9\")*0)/COUNTA(B390:G390)/100,\"N/A\")","v":"N/A"},{"$f":"IF(COUNTA(K390:P390)>0,(COUNTIF(K390:P390,\"=0\")*0+COUNTIF(K390:P390,\"=1\")*100+COUNTIF(K390:P390,\"=2\")*80+COUNTIF(K390:P390,\"=3\")*50+COUNTIF(K390:P390,\"=8\")*20+COUNTIF(K390:P390,\"=9\")*0)/COUNTA(K390:P390)/100,\"N/A\")","v":"N/A"},{"$f":"IF(COUNTA(Q390)>0,(COUNTIF(Q390,\"=0\")*0+COUNTIF(Q390,\"=1\")*100+COUNTIF(Q390,\"=2\")*80+COUNTIF(Q390,\"=3\")*50+COUNTIF(Q390,\"=8\")*20+COUNTIF(Q390,\"=9\")*0)/COUNTA(Q390)/100,\"N/A\")","v":"N/A"},{"$f":"IF(COUNTA(S390:W390)<>0,(COUNTIF(S390:W390,\"=0\")*0+COUNTIF(S390:W390,\"=1\")*100+COUNTIF(S390:W390,\"=2\")*80+COUNTIF(S390:W390,\"=3\")*50+COUNTIF(S390:W390,\"=8\")*20+COUNTIF(S390:W390,\"=9\")*0)/COUNTA(S390:W390)/100,\"N/A\")","v":"N/A"},"N/A",{"$f":"IF(COUNTA(#REF!)>0,(COUNTIF(#REF!,\"=0\")*0+COUNTIF(#REF!,\"=1\")*100+COUNTIF(#REF!,\"=2\")*80+COUNTIF(#REF!,\"=3\")*50+COUNTIF(#REF!,\"=8\")*20+COUNTIF(#REF!,\"=9\")*0)/COUNTA(#REF!)/100,\"N/A\")","v":{"$error":"#REF!"}},{"$f":"IF(COUNTA(#REF!)>0,(COUNTIF(#REF!,\"=0\")*0+COUNTIF(#REF!,\"=1\")*100+COUNTIF(#REF!,\"=2\")*80+COUNTIF(#REF!,\"=3\")*50+COUNTIF(#REF!,\"=8\")*20+COUNTIF(#REF!,\"=9\")*0)/COUNTA(#REF!)/100,\"N/A\")","v":{"$error":"#REF!"}},{"$f":"IF(AND(COUNTA(B390:X390)<>0,#REF!<>\"\"),AVERAGE(Y390:AE390),\"N/A\")","v":{"$error":"#REF!"}},1,1,1,1,1,{"$error":"#REF!"},{"$error":"#REF!"},{"$error":"#REF!"}]
[{"$nulls":24},{"$f":"IF(COUNTA(B391:G391)>0,(COUNTIF(B391:G391,\"=0\")*0+COUNTIF(B391:G391,\"=1\")*100+COUNTIF(B391:G391,\"=2\")*80+COUNTIF(B391:G391,\"=3\")*50+COUNTIF(B391:G391,\"=8\")*20+COUNTIF(B391:G391,\"=9\")*0)/COUNTA(B391:G391)/100,\"N/A\")","v":"N/A"},{"$f":"IF(COUNTA(K391:P391)>0,(COUNTIF(K391:P391,\"=0\")*0+COUNTIF(K391:P391,\"=1\")*100+COUNTIF(K391:P391,\"=2\")*80+COUNTIF(K391:P391,\"=3\")*50+COUNTIF(K391:P391,\"=8\")*20+COUNTIF(K391:P391,\"=9\")*0)/COUNTA(K391:P391)/100,\"N/A\")","v":"N/A"},{"$f":"IF(COUNTA(Q391)>0,(COUNTIF(Q391,\"=0\")*0+COUNTIF(Q391,\"=1\")*100+COUNTIF(Q391,\"=2\")*80+COUNTIF(Q391,\"=3\")*50+COUNTIF(Q391,\"=8\")*20+COUNTIF(Q391,\"=9\")*0)/COUNTA(Q391)/100,\"N/A\")","v":"N/A"},{"$f":"IF(COUNTA(S391:W391)<>0,(COUNTIF(S391:W391,\"=0\")*0+COUNTIF(S391:W391,\"=1\")*100+COUNTIF(S391:W391,\"=2\")*80+COUNTIF(S391:W391,\"=3\")*50+COUNTIF(S391:W391,\"=8\")*20+COUNTIF(S391:W391,\"=9\")*0)/COUNTA(S391:W391)/100,\"N/A\")","v":"N/A"},"N/A",{"$f":"IF(COUNTA(#REF!)>0,(COUNTIF(#REF!,\"=0\")*0+COUNTIF(#REF!,\"=1\")*100+COUNTIF(#REF!,\"=2\")*80+COUNTIF(#REF!,\"=3\")*50+COUNTIF(#REF!,\"=8\")*20+COUNTIF(#REF!,\"=9\")*0)/COUNTA(#REF!)/100,\"N/A\")","v":{"$error":"#REF!"}},{"$f":"IF(COUNTA(#REF!)>0,(COUNTIF(#REF!,\"=0\")*0+COUNTIF(#REF!,\"=1\")*100+COUNTIF(#REF!,\"=2\")*80+COUNTIF(#REF!,\"=3\")*50+COUNTIF(#REF!,\"=8\")*20+COUNTIF(#REF!,\"=9\")*0)/COUNTA(#REF!)/100,\"N/A\")","v":{"$error":"#REF!"}},{"$f":"IF(AND(COUNTA(B391:X391)<>0,#REF!<>\"\"),AVERAGE(Y391:AE391),\"N/A\")","v":{"$error":"#REF!"}},1,1,1,1,1,{"$error":"#REF!"},{"$error":"#REF!"},{"$error":"#REF!"}]
[{"$nulls":24},{"$f":"IF(COUNTA(B392:G392)>0,(COUNTIF(B392:G392,\"=0\")*0+COUNTIF(B392:G392,\"=1\")*100+COUNTIF(B392:G392,\"=2\")*80+COUNTIF(B392:G392,\"=3\")*50+COUNTIF(B392:G392,\"=8\")*20+COUNTIF(B392:G392,\"=9\")*0)/COUNTA(B392:G392)/100,\"N/A\")","v":"N/A"},{"$f":"IF(COUNTA(K392:P392)>0,(COUNTIF(K392:P392,\"=0\")*0+COUNTIF(K392:P392,\"=1\")*100+COUNTIF(K392:P392,\"=2\")*80+COUNTIF(K392:P392,\"=3\")*50+COUNTIF(K392:P392,\"=8\")*20+COUNTIF(K392:P392,\"=9\")*0)/COUNTA(K392:P392)/100,\"N/A\")","v":"N/A"},{"$f":"IF(COUNTA(Q392)>0,(COUNTIF(Q392,\"=0\")*0+COUNTIF(Q392,\"=1\")*100+COUNTIF(Q392,\"=2\")*80+COUNTIF(Q392,\"=3\")*50+COUNTIF(Q392,\"=8\")*20+COUNTIF(Q392,\"=9\")*0)/COUNTA(Q392)/100,\"N/A\")","v":"N/A"},{"$f":"IF(COUNTA(S392:W392)<>0,(COUNTIF(S392:W392,\"=0\")*0+COUNTIF(S392:W392,\"=1\")*100+COUNTIF(S392:W392,\"=2\")*80+COUNTIF(S392:W392,\"=3\")*50+COUNTIF(S392:W392,\"=8\")*20+COUNTIF(S392:W392,\"=9\")*0)/COUNTA(S392:W392)/100,\"N/A\")","v":"N/A"},"N/A",{"$f":"IF(COUNTA(#REF!)>0,(COUNTIF(#REF!,\"=0\")*0+COUNTIF(#REF!,\"=1\")*100+COUNTIF(#REF!,\"=2\")*80+COUNTIF(#REF!,\"=3\")*50+COUNTIF(#REF!,\"=8\")*20+COUNTIF(#REF!,\"=9\")*0)/COUNTA(#REF!)/100,\"N/A\")","v":{"$error":"#REF!"}},{"$f":"IF(COUNTA(#REF!)>0,(COUNTIF(#REF!,\"=0\")*0+COUNTIF(#REF!,\"=1\")*100+COUNTIF(#REF!,\"=2\")*80+COUNTIF(#REF!,\"=3\")*50+COUNTIF(#REF!,\"=8\")*20+COUNTIF(#REF!,\"=9\")*0)/COUNTA(#REF!)/100,\"N/A\")","v":{"$error":"#REF!"}},{"$f":"IF(AND(COUNTA(B392:X392)<>0,#REF!<>\"\"),AVERAGE(Y392:AE392),\"N/A\")","v":{"$error":"#REF!"}},1,1,1,1,1,{"$error":"#REF!"},{"$error":"#REF!"},{"$error":"#REF!"}]
[{"$nulls":24},{"$f":"IF(COUNTA(B393:G393)>0,(COUNTIF(B393:G393,\"=0\")*0+COUNTIF(B393:G393,\"=1\")*100+COUNTIF(B393:G393,\"=2\")*80+COUNTIF(B393:G393,\"=3\")*50+COUNTIF(B393:G393,\"=8\")*20+COUNTIF(B393:G393,\"=9\")*0)/COUNTA(B393:G393)/100,\"N/A\")","v":"N/A"},{"$f":"IF(COUNTA(K393:P393)>0,(COUNTIF(K393:P393,\"=0\")*0+COUNTIF(K393:P393,\"=1\")*100+COUNTIF(K393:P393,\"=2\")*80+COUNTIF(K393:P393,\"=3\")*50+COUNTIF(K393:P393,\"=8\")*20+COUNTIF(K393:P393,\"=9\")*0)/COUNTA(K393:P393)/100,\"N/A\")","v":"N/A"},{"$f":"IF(COUNTA(Q393)>0,(COUNTIF(Q393,\"=0\")*0+COUNTIF(Q393,\"=1\")*100+COUNTIF(Q393,\"=2\")*80+COUNTIF(Q393,\"=3\")*50+COUNTIF(Q393,\"=8\")*20+COUNTIF(Q393,\"=9\")*0)/COUNTA(Q393)/100,\"N/A\")","v":"N/A"},{"$f":"IF(COUNTA(S393:W393)<>0,(COUNTIF(S393:W393,\"=0\")*0+COUNTIF(S393:W393,\"=1\")*100+COUNTIF(S393:W393,\"=2\")*80+COUNTIF(S393:W393,\"=3\")*50+COUNTIF(S393:W393,\"=8\")*20+COUNTIF(S393:W393,\"=9\")*0)/COUNTA(S393:W393)/100,\"N/A\")","v":"N/A"},"N/A",{"$f":"IF(COUNTA(#REF!)>0,(COUNTIF(#REF!,\"=0\")*0+COUNTIF(#REF!,\"=1\")*100+COUNTIF(#REF!,\"=2\")*80+COUNTIF(#REF!,\"=3\")*50+COUNTIF(#REF!,\"=8\")*20+COUNTIF(#REF!,\"=9\")*0)/COUNTA(#REF!)/100,\"N/A\")","v":{"$error":"#REF!"}},{"$f":"IF(COUNTA(#REF!)>0,(COUNTIF(#REF!,\"=0\")*0+COUNTIF(#REF!,\"=1\")*100+COUNTIF(#REF!,\"=2\")*80+COUNTIF(#REF!,\"=3\")*50+COUNTIF(#REF!,\"=8\")*20+COUNTIF(#REF!,\"=9\")*0)/COUNTA(#REF!)/100,\"N/A\")","v":{"$error":"#REF!"}},{"$f":"IF(AND(COUNTA(B393:X393)<>0,#REF!<>\"\"),AVERAGE(Y393:AE393),\"N/A\")","v":{"$error":"#REF!"}},1,1,1,1,1,{"$error":"#REF!"},{"$error":"#REF!"},{"$error":"#REF!"}]
[{"$nulls":24},{"$f":"IF(COUNTA(B394:G394)>0,(COUNTIF(B394:G394,\"=0\")*0+COUNTIF(B394:G394,\"=1\")*100+COUNTIF(B394:G394,\"=2\")*80+COUNTIF(B394:G394,\"=3\")*50+COUNTIF(B394:G394,\"=8\")*20+COUNTIF(B394:G394,\"=9\")*0)/COUNTA(B394:G394)/100,\"N/A\")","v":"N/A"},{"$f":"IF(COUNTA(K394:P394)>0,(COUNTIF(K394:P394,\"=0\")*0+COUNTIF(K394:P394,\"=1\")*100+COUNTIF(K394:P394,\"=2\")*80+COUNTIF(K394:P394,\"=3\")*50+COUNTIF(K394:P394,\"=8\")*20+COUNTIF(K394:P394,\"=9\")*0)/COUNTA(K394:P394)/100,\"N/A\")","v":"N/A"},{"$f":"IF(COUNTA(Q394)>0,(COUNTIF(Q394,\"=0\")*0+COUNTIF(Q394,\"=1\")*100+COUNTIF(Q394,\"=2\")*80+COUNTIF(Q394,\"=3\")*50+COUNTIF(Q394,\"=8\")*20+COUNTIF(Q394,\"=9\")*0)/COUNTA(Q394)/100,\"N/A\")","v":"N/A"},{"$f":"IF(COUNTA(S394:W394)<>0,(COUNTIF(S394:W394,\"=0\")*0+COUNTIF(S394:W394,\"=1\")*100+COUNTIF(S394:W394,\"=2\")*80+COUNTIF(S394:W394,\"=3\")*50+COUNTIF(S394:W394,\"=8\")*20+COUNTIF(S394:W394,\"=9\")*0)/COUNTA(S394:W394)/100,\"N/A\")","v":"N/A"},"N/A",{"$f":"IF(COUNTA(#REF!)>0,(COUNTIF(#REF!,\"=0\")*0+COUNTIF(#REF!,\"=1\")*100+COUNTIF(#REF!,\"=2\")*80+COUNTIF(#REF!,\"=3\")*50+COUNTIF(#REF!,\"=8\")*20+COUNTIF(#REF!,\"=9\")*0)/COUNTA(#REF!)/100,\"N/A\")","v":{"$error":"#REF!"}},{"$f":"IF(COUNTA(#REF!)>0,(COUNTIF(#REF!,\"=0\")*0+COUNTIF(#REF!,\"=1\")*100+COUNTIF(#REF!,\"=2\")*80+COUNTIF(#REF!,\"=3\")*50+COUNTIF(#REF!,\"=8\")*20+COUNTIF(#REF!,\"=9\")*0)/COUNTA(#REF!)/100,\"N/A\")","v":{"$error":"#REF!"}},{"$f":"IF(AND(COUNTA(B394:X394)<>0,#REF!<>\"\"),AVERAGE(Y394:AE394),\"N/A\")","v":{"$error":"#REF!"}},1,1,1,1,1,{"$error":"#REF!"},{"$error":"#REF!"},{"$error":"#REF!"}]
[{"$nulls":24},{"$f":"IF(COUNTA(B395:G395)>0,(COUNTIF(B395:G395,\"=0\")*0+COUNTIF(B395:G395,\"=1\")*100+COUNTIF(B395:G395,\"=2\")*80+COUNTIF(B395:G395,\"=3\")*50+COUNTIF(B395:G395,\"=8\")*20+COUNTIF(B395:G395,\"=9\")*0)/COUNTA(B395:G395)/100,\"N/A\")","v":"N/A"},{"$f":"IF(COUNTA(K395:P395)>0,(COUNTIF(K395:P395,\"=0\")*0+COUNTIF(K395:P395,\"=1\")*100+COUNTIF(K395:P395,\"=2\")*80+COUNTIF(K395:P395,\"=3\")*50+COUNTIF(K395:P395,\"=8\")*20+COUNTIF(K395:P395,\"=9\")*0)/COUNTA(K395:P395)/100,\"N/A\")","v":"N/A"},{"$f":"IF(COUNTA(Q395)>0,(COUNTIF(Q395,\"=0\")*0+COUNTIF(Q395,\"=1\")*100+COUNTIF(Q395,\"=2\")*80+COUNTIF(Q395,\"=3\")*50+COUNTIF(Q395,\"=8\")*20+COUNTIF(Q395,\"=9\")*0)/COUNTA(Q395)/100,\"N/A\")","v":"N/A"},{"$f":"IF(COUNTA(S395:W395)<>0,(COUNTIF(S395:W395,\"=0\")*0+COUNTIF(S395:W395,\"=1\")*100+COUNTIF(S395:W395,\"=2\")*80+COUNTIF(S395:W395,\"=3\")*50+COUNTIF(S395:W395,\"=8\")*20+COUNTIF(S395:W395,\"=9\")*0)/COUNTA(S395:W395)/100,\"N/A\")","v":"N/A"},"N/A",{"$f":"IF(COUNTA(#REF!)>0,(COUNTIF(#REF!,\"=0\")*0+COUNTIF(#REF!,\"=1\")*100+COUNTIF(#REF!,\"=2\")*80+COUNTIF(#REF!,\"=3\")*50+COUNTIF(#REF!,\"=8\")*20+COUNTIF(#REF!,\"=9\")*0)/COUNTA(#REF!)/100,\"N/A\")","v":{"$error":"#REF!"}},{"$f":"IF(COUNTA(#REF!)>0,(COUNTIF(#REF!,\"=0\")*0+COUNTIF(#REF!,\"=1\")*100+COUNTIF(#REF!,\"=2\")*80+COUNTIF(#REF!,\"=3\")*50+COUNTIF(#REF!,\"=8\")*20+COUNTIF(#REF!,\"=9\")*0)/COUNTA(#REF!)/100,\"N/A\")","v":{"$error":"#REF!"}},{"$f":"IF(AND(COUNTA(B395:X395)<>0,#REF!<>\"\"),AVERAGE(Y395:AE395),\"N/A\")","v":{"$error":"#REF!"}},1,1,1,1,1,{"$error":"#REF!"},{"$error":"#REF!"},{"$error":"#REF!"}]
[{"$nulls":24},{"$f":"IF(COUNTA(B396:G396)>0,(COUNTIF(B396:G396,\"=0\")*0+COUNTIF(B396:G396,\"=1\")*100+COUNTIF(B396:G396,\"=2\")*80+COUNTIF(B396:G396,\"=3\")*50+COUNTIF(B396:G396,\"=8\")*20+COUNTIF(B396:G396,\"=9\")*0)/COUNTA(B396:G396)/100,\"N/A\")","v":"N/A"},{"$f":"IF(COUNTA(K396:P396)>0,(COUNTIF(K396:P396,\"=0\")*0+COUNTIF(K396:P396,\"=1\")*100+COUNTIF(K396:P396,\"=2\")*80+COUNTIF(K396:P396,\"=3\")*50+COUNTIF(K396:P396,\"=8\")*20+COUNTIF(K396:P396,\"=9\")*0)/COUNTA(K396:P396)/100,\"N/A\")","v":"N/A"},{"$f":"IF(COUNTA(Q396)>0,(COUNTIF(Q396,\"=0\")*0+COUNTIF(Q396,\"=1\")*100+COUNTIF(Q396,\"=2\")*80+COUNTIF(Q396,\"=3\")*50+COUNTIF(Q396,\"=8\")*20+COUNTIF(Q396,\"=9\")*0)/COUNTA(Q396)/100,\"N/A\")","v":"N/A"},{"$f":"IF(COUNTA(S396:W396)<>0,(COUNTIF(S396:W396,\"=0\")*0+COUNTIF(S396:W396,\"=1\")*100+COUNTIF(S396:W396,\"=2\")*80+COUNTIF(S396:W396,\"=3\")*50+COUNTIF(S396:W396,\"=8\")*20+COUNTIF(S396:W396,\"=9\")*0)/COUNTA(S396:W396)/100,\"N/A\")","v":"N/A"},"N/A",{"$f":"IF(COUNTA(#REF!)>0,(COUNTIF(#REF!,\"=0\")*0+COUNTIF(#REF!,\"=1\")*100+COUNTIF(#REF!,\"=2\")*80+COUNTIF(#REF!,\"=3\")*50+COUNTIF(#REF!,\"=8\")*20+COUNTIF(#REF!,\"=9\")*0)/COUNTA(#REF!)/100,\"N/A\")","v":{"$error":"#REF!"}},{"$f":"IF(COUNTA(#REF!)>0,(COUNTIF(#REF!,\"=0\")*0+COUNTIF(#REF!,\"=1\")*100+COUNTIF(#REF!,\"=2\")*80+COUNTIF(#REF!,\"=3\")*50+COUNTIF(#REF!,\"=8\")*20+COUNTIF(#REF!,\"=9\")*0)/COUNTA(#REF!)/100,\"N/A\")","v":{"$error":"#REF!"}},{"$f":"IF(AND(COUNTA(B396:X396)<>0,#REF!<>\"\"),AVERAGE(Y396:AE396),\"N/A\")","v":{"$error":"#REF!"}},1,1,1,1,1,{"$error":"#REF!"},{"$error":"#REF!"},{"$error":"#REF!"}]
[{"$nulls":24},{"$f":"IF(COUNTA(B397:G397)>0,(COUNTIF(B397:G397,\"=0\")*0+COUNTIF(B397:G397,\"=1\")*100+COUNTIF(B397:G397,\"=2\")*80+COUNTIF(B397:G397,\"=3\")*50+COUNTIF(B397:G397,\"=8\")*20+COUNTIF(B397:G397,\"=9\")*0)/COUNTA(B397:G397)/100,\"N/A\")","v":"N/A"},{"$f":"IF(COUNTA(K397:P397)>0,(COUNTIF(K397:P397,\"=0\")*0+COUNTIF(K397:P397,\"=1\")*100+COUNTIF(K397:P397,\"=2\")*80+COUNTIF(K397:P397,\"=3\")*50+COUNTIF(K397:P397,\"=8\")*20+COUNTIF(K397:P397,\"=9\")*0)/COUNTA(K397:P397)/100,\"N/A\")","v":"N/A"},{"$f":"IF(COUNTA(Q397)>0,(COUNTIF(Q397,\"=0\")*0+COUNTIF(Q397,\"=1\")*100+COUNTIF(Q397,\"=2\")*80+COUNTIF(Q397,\"=3\")*50+COUNTIF(Q397,\"=8\")*20+COUNTIF(Q397,\"=9\")*0)/COUNTA(Q397)/100,\"N/A\")","v":"N/A"},{"$f":"IF(COUNTA(S397:W397)<>0,(COUNTIF(S397:W397,\"=0\")*0+COUNTIF(S397:W397,\"=1\")*100+COUNTIF(S397:W397,\"=2\")*80+COUNTIF(S397:W397,\"=3\")*50+COUNTIF(S397:W397,\"=8\")*20+COUNTIF(S397:W397,\"=9\")*0)/COUNTA(S397:W397)/100,\"N/A\")","v":"N/A"},"N/A",{"$f":"IF(COUNTA(#REF!)>0,(COUNTIF(#REF!,\"=0\")*0+COUNTIF(#REF!,\"=1\")*100+COUNTIF(#REF!,\"=2\")*80+COUNTIF(#REF!,\"=3\")*50+COUNTIF(#REF!,\"=8\")*20+COUNTIF(#REF!,\"=9\")*0)/COUNTA(#REF!)/100,\"N/A\")","v":{"$error":"#REF!"}},{"$f":"IF(COUNTA(#REF!)>0,(COUNTIF(#REF!,\"=0\")*0+COUNTIF(#REF!,\"=1\")*100+COUNTIF(#REF!,\"=2\")*80+COUNTIF(#REF!,\"=3\")*50+COUNTIF(#REF!,\"=8\")*20+COUNTIF(#REF!,\"=9\")*0)/COUNTA(#REF!)/100,\"N/A\")","v":{"$error":"#REF!"}},{"$f":"IF(AND(COUNTA(B397:X397)<>0,#REF!<>\"\"),AVERAGE(Y397:AE397),\"N/A\")","v":{"$error":"#REF!"}},1,1,1,1,1,{"$error":"#REF!"},{"$error":"#REF!"},{"$error":"#REF!"}]
[{"$nulls":24},{"$f":"IF(COUNTA(B398:G398)>0,(COUNTIF(B398:G398,\"=0\")*0+COUNTIF(B398:G398,\"=1\")*100+COUNTIF(B398:G398,\"=2\")*80+COUNTIF(B398:G398,\"=3\")*50+COUNTIF(B398:G398,\"=8\")*20+COUNTIF(B398:G398,\"=9\")*0)/COUNTA(B398:G398)/100,\"N/A\")","v":"N/A"},{"$f":"IF(COUNTA(K398:P398)>0,(COUNTIF(K398:P398,\"=0\")*0+COUNTIF(K398:P398,\"=1\")*100+COUNTIF(K398:P398,\"=2\")*80+COUNTIF(K398:P398,\"=3\")*50+COUNTIF(K398:P398,\"=8\")*20+COUNTIF(K398:P398,\"=9\")*0)/COUNTA(K398:P398)/100,\"N/A\")","v":"N/A"},{"$f":"IF(COUNTA(Q398)>0,(COUNTIF(Q398,\"=0\")*0+COUNTIF(Q398,\"=1\")*100+COUNTIF(Q398,\"=2\")*80+COUNTIF(Q398,\"=3\")*50+COUNTIF(Q398,\"=8\")*20+COUNTIF(Q398,\"=9\")*0)/COUNTA(Q398)/100,\"N/A\")","v":"N/A"},{"$f":"IF(COUNTA(S398:W398)<>0,(COUNTIF(S398:W398,\"=0\")*0+COUNTIF(S398:W398,\"=1\")*100+COUNTIF(S398:W398,\"=2\")*80+COUNTIF(S398:W398,\"=3\")*50+COUNTIF(S398:W398,\"=8\")*20+COUNTIF(S398:W398,\"=9\")*0)/COUNTA(S398:W398)/100,\"N/A\")","v":"N/A"},"N/A",{"$f":"IF(COUNTA(#REF!)>0,(COUNTIF(#REF!,\"=0\")*0+COUNTIF(#REF!,\"=1\")*100+COUNTIF(#REF!,\"=2\")*80+COUNTIF(#REF!,\"=3\")*50+COUNTIF(#REF!,\"=8\")*20+COUNTIF(#REF!,\"=9\")*0)/COUNTA(#REF!)/100,\"N/A\")","v":{"$error":"#REF!"}},{"$f":"IF(COUNTA(#REF!)>0,(COUNTIF(#REF!,\"=0\")*0+COUNTIF(#REF!,\"=1\")*100+COUNTIF(#REF!,\"=2\")*80+COUNTIF(#REF!,\"=3\")*50+COUNTIF(#REF!,\"=8\")*20+COUNTIF(#REF!,\"=9\")*0)/COUNTA(#REF!)/100,\"N/A\")","v":{"$error":"#REF!"}},{"$f":"IF(AND(COUNTA(B398:X398)<>0,#REF!<>\"\"),AVERAGE(Y398:AE398),\"N/A\")","v":{"$error":"#REF!"}},1,1,1,1,1,{"$error":"#REF!"},{"$error":"#REF!"},{"$error":"#REF!"}]
[{"$nulls":24},{"$f":"IF(COUNTA(B399:G399)>0,(COUNTIF(B399:G399,\"=0\")*0+COUNTIF(B399:G399,\"=1\")*100+COUNTIF(B399:G399,\"=2\")*80+COUNTIF(B399:G399,\"=3\")*50+COUNTIF(B399:G399,\"=8\")*20+COUNTIF(B399:G399,\"=9\")*0)/COUNTA(B399:G399)/100,\"N/A\")","v":"N/A"},{"$f":"IF(COUNTA(K399:P399)>0,(COUNTIF(K399:P399,\"=0\")*0+COUNTIF(K399:P399,\"=1\")*100+COUNTIF(K399:P399,\"=2\")*80+COUNTIF(K399:P399,\"=3\")*50+COUNTIF(K399:P399,\"=8\")*20+COUNTIF(K399:P399,\"=9\")*0)/COUNTA(K399:P399)/100,\"N/A\")","v":"N/A"},{"$f":"IF(COUNTA(Q399)>0,(COUNTIF(Q399,\"=0\")*0+COUNTIF(Q399,\"=1\")*100+COUNTIF(Q399,\"=2\")*80+COUNTIF(Q399,\"=3\")*50+COUNTIF(Q399,\"=8\")*20+COUNTIF(Q399,\"=9\")*0)/COUNTA(Q399)/100,\"N/A\")","v":"N/A"},{"$f":"IF(COUNTA(S399:W399)<>0,(COUNTIF(S399:W399,\"=0\")*0+COUNTIF(S399:W399,\"=1\")*100+COUNTIF(S399:W399,\"=2\")*80+COUNTIF(S399:W399,\"=3\")*50+COUNTIF(S399:W399,\"=8\")*20+COUNTIF(S399:W399,\"=9\")*0)/COUNTA(S399:W399)/100,\"N/A\")","v":"N/A"},"N/A",{"$f":"IF(COUNTA(#REF!)>0,(COUNTIF(#REF!,\"=0\")*0+COUNTIF(#REF!,\"=1\")*100+COUNTIF(#REF!,\"=2\")*80+COUNTIF(#REF!,\"=3\")*50+COUNTIF(#REF!,\"=8\")*20+COUNTIF(#REF!,\"=9\")*0)/COUNTA(#REF!)/100,\"N/A\")","v":{"$error":"#REF!"}},{"$f":"IF(COUNTA(#REF!)>0,(COUNTIF(#REF!,\"=0\")*0+COUNTIF(#REF!,\"=1\")*100+COUNTIF(#REF!,\"=2\")*80+COUNTIF(#REF!,\"=3\")*50+COUNTIF(#REF!,\"=8\")*20+COUNTIF(#REF!,\"=9\")*0)/COUNTA(#REF!)/100,\"N/A\")","v":{"$error":"#REF!"}},{"$f":"IF(AND(COUNTA(B399:X399)<>0,#REF!<>\"\"),AVERAGE(Y399:AE399),\"N/A\")","v":{"$error":"#REF!"}},1,1,1,1,1,{"$error":"#REF!"},{"$error":"#REF!"},{"$error":"#REF!"}]
[{"$nulls":24},{"$f":"IF(COUNTA(B400:G400)>0,(COUNTIF(B400:G400,\"=0\")*0+COUNTIF(B400:G400,\"=1\")*100+COUNTIF(B400:G400,\"=2\")*80+COUNTIF(B400:G400,\"=3\")*50+COUNTIF(B400:G400,\"=8\")*20+COUNTIF(B400:G400,\"=9\")*0)/COUNTA(B400:G400)/100,\"N/A\")","v":"N/A"},{"$f":"IF(COUNTA(K400:P400)>0,(COUNTIF(K400:P400,\"=0\")*0+COUNTIF(K400:P400,\"=1\")*100+COUNTIF(K400:P400,\"=2\")*80+COUNTIF(K400:P400,\"=3\")*50+COUNTIF(K400:P400,\"=8\")*20+COUNTIF(K400:P400,\"=9\")*0)/COUNTA(K400:P400)/100,\"N/A\")","v":"N/A"},{"$f":"IF(COUNTA(Q400)>0,(COUNTIF(Q400,\"=0\")*0+COUNTIF(Q400,\"=1\")*100+COUNTIF(Q400,\"=2\")*80+COUNTIF(Q400,\"=3\")*50+COUNTIF(Q400,\"=8\")*20+COUNTIF(Q400,\"=9\")*0)/COUNTA(Q400)/100,\"N/A\")","v":"N/A"},{"$f":"IF(COUNTA(S400:W400)<>0,(COUNTIF(S400:W400,\"=0\")*0+COUNTIF(S400:W400,\"=1\")*100+COUNTIF(S400:W400,\"=2\")*80+COUNTIF(S400:W400,\"=3\")*50+COUNTIF(S400:W400,\"=8\")*20+COUNTIF(S400:W400,\"=9\")*0)/COUNTA(S400:W400)/100,\"N/A\")","v":"N/A"},"N/A",{"$f":"IF(COUNTA(#REF!)>0,(COUNTIF(#REF!,\"=0\")*0+COUNTIF(#REF!,\"=1\")*100+COUNTIF(#REF!,\"=2\")*80+COUNTIF(#REF!,\"=3\")*50+COUNTIF(#REF!,\"=8\")*20+COUNTIF(#REF!,\"=9\")*0)/COUNTA(#REF!)/100,\"N/A\")","v":{"$error":"#REF!"}},{"$f":"IF(COUNTA(#REF!)>0,(COUNTIF(#REF!,\"=0\")*0+COUNTIF(#REF!,\"=1\")*100+COUNTIF(#REF!,\"=2\")*80+COUNTIF(#REF!,\"=3\")*50+COUNTIF(#REF!,\"=8\")*20+COUNTIF(#REF!,\"=9\")*0)/COUNTA(#REF!)/100,\"N/A\")","v":{"$error":"#REF!"}},{"$f":"IF(AND(COUNTA(B400:X400)<>0,#REF!<>\"\"),AVERAGE(Y400:AE400),\"N/A\")","v":{"$error":"#REF!"}},1,1,1,1,1,{"$error":"#REF!"},{"$error":"#REF!"},{"$error":"#REF!"}]
[{"$nulls":24},{"$f":"IF(COUNTA(B401:G401)>0,(COUNTIF(B401:G401,\"=0\")*0+COUNTIF(B401:G401,\"=1\")*100+COUNTIF(B401:G401,\"=2\")*80+COUNTIF(B401:G401,\"=3\")*50+COUNTIF(B401:G401,\"=8\")*20+COUNTIF(B401:G401,\"=9\")*0)/COUNTA(B401:G401)/100,\"N/A\")","v":"N/A"},{"$f":"IF(COUNTA(K401:P401)>0,(COUNTIF(K401:P401,\"=0\")*0+COUNTIF(K401:P401,\"=1\")*100+COUNTIF(K401:P401,\"=2\")*80+COUNTIF(K401:P401,\"=3\")*50+COUNTIF(K401:P401,\"=8\")*20+COUNTIF(K401:P401,\"=9\")*0)/COUNTA(K401:P401)/100,\"N/A\")","v":"N/A"},{"$f":"IF(COUNTA(Q401)>0,(COUNTIF(Q401,\"=0\")*0+COUNTIF(Q401,\"=1\")*100+COUNTIF(Q401,\"=2\")*80+COUNTIF(Q401,\"=3\")*50+COUNTIF(Q401,\"=8\")*20+COUNTIF(Q401,\"=9\")*0)/COUNTA(Q401)/100,\"N/A\")","v":"N/A"},{"$f":"IF(COUNTA(S401:W401)<>0,(COUNTIF(S401:W401,\"=0\")*0+COUNTIF(S401:W401,\"=1\")*100+COUNTIF(S401:W401,\"=2\")*80+COUNTIF(S401:W401,\"=3\")*50+COUNTIF(S401:W401,\"=8\")*20+COUNTIF(S401:W401,\"=9\")*0)/COUNTA(S401:W401)/100,\"N/A\")","v":"N/A"},"N/A",{"$f":"IF(COUNTA(#REF!)>0,(COUNTIF(#REF!,\"=0\")*0+COUNTIF(#REF!,\"=1\")*100+COUNTIF(#REF!,\"=2\")*80+COUNTIF(#REF!,\"=3\")*50+COUNTIF(#REF!,\"=8\")*20+COUNTIF(#REF!,\"=9\")*0)/COUNTA(#REF!)/100,\"N/A\")","v":{"$error":"#REF!"}},{"$f":"IF(COUNTA(#REF!)>0,(COUNTIF(#REF!,\"=0\")*0+COUNTIF(#REF!,\"=1\")*100+COUNTIF(#REF!,\"=2\")*80+COUNTIF(#REF!,\"=3\")*50+COUNTIF(#REF!,\"=8\")*20+COUNTIF(#REF!,\"=9\")*0)/COUNTA(#REF!)/100,\"N/A\")","v":{"$error":"#REF!"}},{"$f":"IF(AND(COUNTA(B401:X401)<>0,#REF!<>\"\"),AVERAGE(Y401:AE401),\"N/A\")","v":{"$error":"#REF!"}},1,1,1,1,1,{"$error":"#REF!"},{"$error":"#REF!"},{"$error":"#REF!"}]
[{"$nulls":24},{"$f":"IF(COUNTA(B402:G402)>0,(COUNTIF(B402:G402,\"=0\")*0+COUNTIF(B402:G402,\"=1\")*100+COUNTIF(B402:G402,\"=2\")*80+COUNTIF(B402:G402,\"=3\")*50+COUNTIF(B402:G402,\"=8\")*20+COUNTIF(B402:G402,\"=9\")*0)/COUNTA(B402:G402)/100,\"N/A\")","v":"N/A"},{"$f":"IF(COUNTA(K402:P402)>0,(COUNTIF(K402:P402,\"=0\")*0+COUNTIF(K402:P402,\"=1\")*100+COUNTIF(K402:P402,\"=2\")*80+COUNTIF(K402:P402,\"=3\")*50+COUNTIF(K402:P402,\"=8\")*20+COUNTIF(K402:P402,\"=9\")*0)/COUNTA(K402:P402)/100,\"N/A\")","v":"N/A"},{"$f":"IF(COUNTA(Q402)>0,(COUNTIF(Q402,\"=0\")*0+COUNTIF(Q402,\"=1\")*100+COUNTIF(Q402,\"=2\")*80+COUNTIF(Q402,\"=3\")*50+COUNTIF(Q402,\"=8\")*20+COUNTIF(Q402,\"=9\")*0)/COUNTA(Q402)/100,\"N/A\")","v":"N/A"},{"$f":"IF(COUNTA(S402:W402)<>0,(COUNTIF(S402:W402,\"=0\")*0+COUNTIF(S402:W402,\"=1\")*100+COUNTIF(S402:W402,\"=2\")*80+COUNTIF(S402:W402,\"=3\")*50+COUNTIF(S402:W402,\"=8\")*20+COUNTIF(S402:W402,\"=9\")*0)/COUNTA(S402:W402)/100,\"N/A\")","v":"N/A"},"N/A",{"$f":"IF(COUNTA(#REF!)>0,(COUNTIF(#REF!,\"=0\")*0+COUNTIF(#REF!,\"=1\")*100+COUNTIF(#REF!,\"=2\")*80+COUNTIF(#REF!,\"=3\")*50+COUNTIF(#REF!,\"=8\")*20+COUNTIF(#REF!,\"=9\")*0)/COUNTA(#REF!)/100,\"N/A\")","v":{"$error":"#REF!"}},{"$f":"IF(COUNTA(#REF!)>0,(COUNTIF(#REF!,\"=0\")*0+COUNTIF(#REF!,\"=1\")*100+COUNTIF(#REF!,\"=2\")*80+COUNTIF(#REF!,\"=3\")*50+COUNTIF(#REF!,\"=8\")*20+COUNTIF(#REF!,\"=9\")*0)/COUNTA(#REF!)/100,\"N/A\")","v":{"$error":"#REF!"}},{"$f":"IF(AND(COUNTA(B402:X402)<>0,#REF!<>\"\"),AVERAGE(Y402:AE402),\"N/A\")","v":{"$error":"#REF!"}},1,1,1,1,1,{"$error":"#REF!"},{"$error":"#REF!"},{"$error":"#REF!"}]
[{"$nulls":24},{"$f":"IF(COUNTA(B403:G403)>0,(COUNTIF(B403:G403,\"=0\")*0+COUNTIF(B403:G403,\"=1\")*100+COUNTIF(B403:G403,\"=2\")*80+COUNTIF(B403:G403,\"=3\")*50+COUNTIF(B403:G403,\"=8\")*20+COUNTIF(B403:G403,\"=9\")*0)/COUNTA(B403:G403)/100,\"N/A\")","v":"N/A"},{"$f":"IF(COUNTA(K403:P403)>0,(COUNTIF(K403:P403,\"=0\")*0+COUNTIF(K403:P403,\"=1\")*100+COUNTIF(K403:P403,\"=2\")*80+COUNTIF(K403:P403,\"=3\")*50+COUNTIF(K403:P403,\"=8\")*20+COUNTIF(K403:P403,\"=9\")*0)/COUNTA(K403:P403)/100,\"N/A\")","v":"N/A"},{"$f":"IF(COUNTA(Q403)>0,(COUNTIF(Q403,\"=0\")*0+COUNTIF(Q403,\"=1\")*100+COUNTIF(Q403,\"=2\")*80+COUNTIF(Q403,\"=3\")*50+COUNTIF(Q403,\"=8\")*20+COUNTIF(Q403,\"=9\")*0)/COUNTA(Q403)/100,\"N/A\")","v":"N/A"},{"$f":"IF(COUNTA(S403:W403)<>0,(COUNTIF(S403:W403,\"=0\")*0+COUNTIF(S403:W403,\"=1\")*100+COUNTIF(S403:W403,\"=2\")*80+COUNTIF(S403:W403,\"=3\")*50+COUNTIF(S403:W403,\"=8\")*20+COUNTIF(S403:W403,\"=9\")*0)/COUNTA(S403:W403)/100,\"N/A\")","v":"N/A"},"N/A",{"$f":"IF(COUNTA(#REF!)>0,(COUNTIF(#REF!,\"=0\")*0+COUNTIF(#REF!,\"=1\")*100+COUNTIF(#REF!,\"=2\")*80+COUNTIF(#REF!,\"=3\")*50+COUNTIF(#REF!,\"=8\")*20+COUNTIF(#REF!,\"=9\")*0)/COUNTA(#REF!)/100,\"N/A\")","v":{"$error":"#REF!"}},{"$f":"IF(COUNTA(#REF!)>0,(COUNTIF(#REF!,\"=0\")*0+COUNTIF(#REF!,\"=1\")*100+COUNTIF(#REF!,\"=2\")*80+COUNTIF(#REF!,\"=3\")*50+COUNTIF(#REF!,\"=8\")*20+COUNTIF(#REF!,\"=9\")*0)/COUNTA(#REF!)/100,\"N/A\")","v":{"$error":"#REF!"}},{"$f":"IF(AND(COUNTA(B403:X403)<>0,#REF!<>\"\"),AVERAGE(Y403:AE403),\"N/A\")","v":{"$error":"#REF!"}},1,1,1,1,1,{"$error":"#REF!"},{"$error":"#REF!"},{"$error":"#REF!"}]
[{"$nulls":24},{"$f":"IF(COUNTA(B404:G404)>0,(COUNTIF(B404:G404,\"=0\")*0+COUNTIF(B404:G404,\"=1\")*100+COUNTIF(B404:G404,\"=2\")*80+COUNTIF(B404:G404,\"=3\")*50+COUNTIF(B404:G404,\"=8\")*20+COUNTIF(B404:G404,\"=9\")*0)/COUNTA(B404:G404)/100,\"N/A\")","v":"N/A"},{"$f":"IF(COUNTA(K404:P404)>0,(COUNTIF(K404:P404,\"=0\")*0+COUNTIF(K404:P404,\"=1\")*100+COUNTIF(K404:P404,\"=2\")*80+COUNTIF(K404:P404,\"=3\")*50+COUNTIF(K404:P404,\"=8\")*20+COUNTIF(K404:P404,\"=9\")*0)/COUNTA(K404:P404)/100,\"N/A\")","v":"N/A"},{"$f":"IF(COUNTA(Q404)>0,(COUNTIF(Q404,\"=0\")*0+COUNTIF(Q404,\"=1\")*100+COUNTIF(Q404,\"=2\")*80+COUNTIF(Q404,\"=3\")*50+COUNTIF(Q404,\"=8\")*20+COUNTIF(Q404,\"=9\")*0)/COUNTA(Q404)/100,\"N/A\")","v":"N/A"},{"$f":"IF(COUNTA(S404:W404)<>0,(COUNTIF(S404:W404,\"=0\")*0+COUNTIF(S404:W404,\"=1\")*100+COUNTIF(S404:W404,\"=2\")*80+COUNTIF(S404:W404,\"=3\")*50+COUNTIF(S404:W404,\"=8\")*20+COUNTIF(S404:W404,\"=9\")*0)/COUNTA(S404:W404)/100,\"N/A\")","v":"N/A"},{"$f":"IF(COUNTA(X404:X404)>0,(COUNTIF(X404:X404,\"=0\")*0+COUNTIF(X404:X404,\"=1\")*100+COUNTIF(X404:X404,\"=2\")*80+COUNTIF(X404:X404,\"=3\")*50+COUNTIF(X404:X404,\"=8\")*20+COUNTIF(X404:X404,\"=9\")*0)/COUNTA(X404:X404)/100,\"N/A\")","v":"N/A"},{"$f":"IF(COUNTA(#REF!)>0,(COUNTIF(#REF!,\"=0\")*0+COUNTIF(#REF!,\"=1\")*100+COUNTIF(#REF!,\"=2\")*80+COUNTIF(#REF!,\"=3\")*50+COUNTIF(#REF!,\"=8\")*20+COUNTIF(#REF!,\"=9\")*0)/COUNTA(#REF!)/100,\"N/A\")","v":{"$error":"#REF!"}},{"$f":"IF(COUNTA(#REF!)>0,(COUNTIF(#REF!,\"=0\")*0+COUNTIF(#REF!,\"=1\")*100+COUNTIF(#REF!,\"=2\")*80+COUNTIF(#REF!,\"=3\")*50+COUNTIF(#REF!,\"=8\")*20+COUNTIF(#REF!,\"=9\")*0)/COUNTA(#REF!)/100,\"N/A\")","v":{"$error":"#REF!"}},{"$f":"IF(AND(COUNTA(B404:X404)<>0,#REF!<>\"\"),AVERAGE(Y404:AE404),\"N/A\")","v":{"$error":"#REF!"}},1,1,1,1,1,{"$error":"#REF!"},{"$error":"#REF!"},{"$error":"#REF!"}]
[{"$nulls":24},{"$f":"IF(COUNTA(B405:G405)>0,(COUNTIF(B405:G405,\"=0\")*0+COUNTIF(B405:G405,\"=1\")*100+COUNTIF(B405:G405,\"=2\")*80+COUNTIF(B405:G405,\"=3\")*50+COUNTIF(B405:G405,\"=8\")*20+COUNTIF(B405:G405,\"=9\")*0)/COUNTA(B405:G405)/100,\"N/A\")","v":"N/A"},{"$f":"IF(COUNTA(K405:P405)>0,(COUNTIF(K405:P405,\"=0\")*0+COUNTIF(K405:P405,\"=1\")*100+COUNTIF(K405:P405,\"=2\")*80+COUNTIF(K405:P405,\"=3\")*50+COUNTIF(K405:P405,\"=8\")*20+COUNTIF(K405:P405,\"=9\")*0)/COUNTA(K405:P405)/100,\"N/A\")","v":"N/A"},{"$f":"IF(COUNTA(Q405)>0,(COUNTIF(Q405,\"=0\")*0+COUNTIF(Q405,\"=1\")*100+COUNTIF(Q405,\"=2\")*80+COUNTIF(Q405,\"=3\")*50+COUNTIF(Q405,\"=8\")*20+COUNTIF(Q405,\"=9\")*0)/COUNTA(Q405)/100,\"N/A\")","v":"N/A"},{"$f":"IF(COUNTA(S405:W405)<>0,(COUNTIF(S405:W405,\"=0\")*0+COUNTIF(S405:W405,\"=1\")*100+COUNTIF(S405:W405,\"=2\")*80+COUNTIF(S405:W405,\"=3\")*50+COUNTIF(S405:W405,\"=8\")*20+COUNTIF(S405:W405,\"=9\")*0)/COUNTA(S405:W405)/100,\"N/A\")","v":"N/A"},"N/A",{"$f":"IF(COUNTA(#REF!)>0,(COUNTIF(#REF!,\"=0\")*0+COUNTIF(#REF!,\"=1\")*100+COUNTIF(#REF!,\"=2\")*80+COUNTIF(#REF!,\"=3\")*50+COUNTIF(#REF!,\"=8\")*20+COUNTIF(#REF!,\"=9\")*0)/COUNTA(#REF!)/100,\"N/A\")","v":{"$error":"#REF!"}},{"$f":"IF(COUNTA(#REF!)>0,(COUNTIF(#REF!,\"=0\")*0+COUNTIF(#REF!,\"=1\")*100+COUNTIF(#REF!,\"=2\")*80+COUNTIF(#REF!,\"=3\")*50+COUNTIF(#REF!,\"=8\")*20+COUNTIF(#REF!,\"=9\")*0)/COUNTA(#REF!)/100,\"N/A\")","v":{"$error":"#REF!"}},{"$f":"IF(AND(COUNTA(B405:X405)<>0,#REF!<>\"\"),AVERAGE(Y405:AE405),\"N/A\")","v":{"$error":"#REF!"}},1,1,1,1,1,{"$error":"#REF!"},{"$error":"#REF!"},{"$error":"#REF!"}]
[{"$nulls":24},{"$f":"IF(COUNTA(B406:G406)>0,(COUNTIF(B406:G406,\"=0\")*0+COUNTIF(B406:G406,\"=1\")*100+COUNTIF(B406:G406,\"=2\")*80+COUNTIF(B406:G406,\"=3\")*50+COUNTIF(B406:G406,\"=8\")*20+COUNTIF(B406:G406,\"=9\")*0)/COUNTA(B406:G406)/100,\"N/A\")","v":"N/A"},{"$f":"IF(COUNTA(K406:P406)>0,(COUNTIF(K406:P406,\"=0\")*0+COUNTIF(K406:P406,\"=1\")*100+COUNTIF(K406:P406,\"=2\")*80+COUNTIF(K406:P406,\"=3\")*50+COUNTIF(K406:P406,\"=8\")*20+COUNTIF(K406:P406,\"=9\")*0)/COUNTA(K406:P406)/100,\"N/A\")","v":"N/A"},{"$f":"IF(COUNTA(Q406)>0,(COUNTIF(Q406,\"=0\")*0+COUNTIF(Q406,\"=1\")*100+COUNTIF(Q406,\"=2\")*80+COUNTIF(Q406,\"=3\")*50+COUNTIF(Q406,\"=8\")*20+COUNTIF(Q406,\"=9\")*0)/COUNTA(Q406)/100,\"N/A\")","v":"N/A"},{"$f":"IF(COUNTA(S406:W406)<>0,(COUNTIF(S406:W406,\"=0\")*0+COUNTIF(S406:W406,\"=1\")*100+COUNTIF(S406:W406,\"=2\")*80+COUNTIF(S406:W406,\"=3\")*50+COUNTIF(S406:W406,\"=8\")*20+COUNTIF(S406:W406,\"=9\")*0)/COUNTA(S406:W406)/100,\"N/A\")","v":"N/A"},"N/A",{"$f":"IF(COUNTA(#REF!)>0,(COUNTIF(#REF!,\"=0\")*0+COUNTIF(#REF!,\"=1\")*100+COUNTIF(#REF!,\"=2\")*80+COUNTIF(#REF!,\"=3\")*50+COUNTIF(#REF!,\"=8\")*20+COUNTIF(#REF!,\"=9\")*0)/COUNTA(#REF!)/100,\"N/A\")","v":{"$error":"#REF!"}},{"$f":"IF(COUNTA(#REF!)>0,(COUNTIF(#REF!,\"=0\")*0+COUNTIF(#REF!,\"=1\")*100+COUNTIF(#REF!,\"=2\")*80+COUNTIF(#REF!,\"=3\")*50+COUNTIF(#REF!,\"=8\")*20+COUNTIF(#REF!,\"=9\")*0)/COUNTA(#REF!)/100,\"N/A\")","v":{"$error":"#REF!"}},{"$f":"IF(AND(COUNTA(B406:X406)<>0,#REF!<>\"\"),AVERAGE(Y406:AE406),\"N/A\")","v":{"$error":"#REF!"}},1,1,1,1,1,{"$error":"#REF!"},{"$error":"#REF!"},{"$error":"#REF!"}]
[{"$nulls":24},{"$f":"IF(COUNTA(B407:G407)>0,(COUNTIF(B407:G407,\"=0\")*0+COUNTIF(B407:G407,\"=1\")*100+COUNTIF(B407:G407,\"=2\")*80+COUNTIF(B407:G407,\"=3\")*50+COUNTIF(B407:G407,\"=8\")*20+COUNTIF(B407:G407,\"=9\")*0)/COUNTA(B407:G407)/100,\"N/A\")","v":"N/A"},{"$f":"IF(COUNTA(K407:P407)>0,(COUNTIF(K407:P407,\"=0\")*0+COUNTIF(K407:P407,\"=1\")*100+COUNTIF(K407:P407,\"=2\")*80+COUNTIF(K407:P407,\"=3\")*50+COUNTIF(K407:P407,\"=8\")*20+COUNTIF(K407:P407,\"=9\")*0)/COUNTA(K407:P407)/100,\"N/A\")","v":"N/A"},{"$f":"IF(COUNTA(Q407)>0,(COUNTIF(Q407,\"=0\")*0+COUNTIF(Q407,\"=1\")*100+COUNTIF(Q407,\"=2\")*80+COUNTIF(Q407,\"=3\")*50+COUNTIF(Q407,\"=8\")*20+COUNTIF(Q407,\"=9\")*0)/COUNTA(Q407)/100,\"N/A\")","v":"N/A"},{"$f":"IF(COUNTA(S407:W407)<>0,(COUNTIF(S407:W407,\"=0\")*0+COUNTIF(S407:W407,\"=1\")*100+COUNTIF(S407:W407,\"=2\")*80+COUNTIF(S407:W407,\"=3\")*50+COUNTIF(S407:W407,\"=8\")*20+COUNTIF(S407:W407,\"=9\")*0)/COUNTA(S407:W407)/100,\"N/A\")","v":"N/A"},"N/A",{"$f":"IF(COUNTA(#REF!)>0,(COUNTIF(#REF!,\"=0\")*0+COUNTIF(#REF!,\"=1\")*100+COUNTIF(#REF!,\"=2\")*80+COUNTIF(#REF!,\"=3\")*50+COUNTIF(#REF!,\"=8\")*20+COUNTIF(#REF!,\"=9\")*0)/COUNTA(#REF!)/100,\"N/A\")","v":{"$error":"#REF!"}},{"$f":"IF(COUNTA(#REF!)>0,(COUNTIF(#REF!,\"=0\")*0+COUNTIF(#REF!,\"=1\")*100+COUNTIF(#REF!,\"=2\")*80+COUNTIF(#REF!,\"=3\")*50+COUNTIF(#REF!,\"=8\")*20+COUNTIF(#REF!,\"=9\")*0)/COUNTA(#REF!)/100,\"N/A\")","v":{"$error":"#REF!"}},{"$f":"IF(AND(COUNTA(B407:X407)<>0,#REF!<>\"\"),AVERAGE(Y407:AE407),\"N/A\")","v":{"$error":"#REF!"}},1,1,1,1,1,{"$error":"#REF!"},{"$f":"IF(AE407=\"N/A\",1,\"\")","v":{"$error":"#REF!"}},{"$error":"#REF!"}]
[{"$nulls":24},{"$f":"IF(COUNTA(B408:G408)>0,(COUNTIF(B408:G408,\"=0\")*0+COUNTIF(B408:G408,\"=1\")*100+COUNTIF(B408:G408,\"=2\")*80+COUNTIF(B408:G408,\"=3\")*50+COUNTIF(B408:G408,\"=8\")*20+COUNTIF(B408:G408,\"=9\")*0)/COUNTA(B408:G408)/100,\"N/A\")","v":"N/A"},{"$f":"IF(COUNTA(K408:P408)>0,(COUNTIF(K408:P408,\"=0\")*0+COUNTIF(K408:P408,\"=1\")*100+COUNTIF(K408:P408,\"=2\")*80+COUNTIF(K408:P408,\"=3\")*50+COUNTIF(K408:P408,\"=8\")*20+COUNTIF(K408:P408,\"=9\")*0)/COUNTA(K408:P408)/100,\"N/A\")","v":"N/A"},{"$f":"IF(COUNTA(Q408)>0,(COUNTIF(Q408,\"=0\")*0+COUNTIF(Q408,\"=1\")*100+COUNTIF(Q408,\"=2\")*80+COUNTIF(Q408,\"=3\")*50+COUNTIF(Q408,\"=8\")*20+COUNTIF(Q408,\"=9\")*0)/COUNTA(Q408)/100,\"N/A\")","v":"N/A"},{"$f":"IF(COUNTA(S408:W408)<>0,(COUNTIF(S408:W408,\"=0\")*0+COUNTIF(S408:W408,\"=1\")*100+COUNTIF(S408:W408,\"=2\")*80+COUNTIF(S408:W408,\"=3\")*50+COUNTIF(S408:W408,\"=8\")*20+COUNTIF(S408:W408,\"=9\")*0)/COUNTA(S408:W408)/100,\"N/A\")","v":"N/A"},"N/A",{"$f":"IF(COUNTA(#REF!)>0,(COUNTIF(#REF!,\"=0\")*0+COUNTIF(#REF!,\"=1\")*100+COUNTIF(#REF!,\"=2\")*80+COUNTIF(#REF!,\"=3\")*50+COUNTIF(#REF!,\"=8\")*20+COUNTIF(#REF!,\"=9\")*0)/COUNTA(#REF!)/100,\"N/A\")","v":{"$error":"#REF!"}},{"$f":"IF(COUNTA(#REF!)>0,(COUNTIF(#REF!,\"=0\")*0+COUNTIF(#REF!,\"=1\")*100+COUNTIF(#REF!,\"=2\")*80+COUNTIF(#REF!,\"=3\")*50+COUNTIF(#REF!,\"=8\")*20+COUNTIF(#REF!,\"=9\")*0)/COUNTA(#REF!)/100,\"N/A\")","v":{"$error":"#REF!"}},{"$f":"IF(AND(COUNTA(B408:X408)<>0,#REF!<>\"\"),AVERAGE(Y408:AE408),\"N/A\")","v":{"$error":"#REF!"}},{"$f":"IF(Y408=\"N/A\",1,\"\")","v":1},1,1,1,1,{"$error":"#REF!"},{"$error":"#REF!"},{"$error":"#REF!"}]
[{"$nulls":24},{"$f":"IF(COUNTA(B409:G409)>0,(COUNTIF(B409:G409,\"=0\")*0+COUNTIF(B409:G409,\"=1\")*100+COUNTIF(B409:G409,\"=2\")*80+COUNTIF(B409:G409,\"=3\")*50+COUNTIF(B409:G409,\"=8\")*20+COUNTIF(B409:G409,\"=9\")*0)/COUNTA(B409:G409)/100,\"N/A\")","v":"N/A"},{"$f":"IF(COUNTA(K409:P409)>0,(COUNTIF(K409:P409,\"=0\")*0+COUNTIF(K409:P409,\"=1\")*100+COUNTIF(K409:P409,\"=2\")*80+COUNTIF(K409:P409,\"=3\")*50+COUNTIF(K409:P409,\"=8\")*20+COUNTIF(K409:P409,\"=9\")*0)/COUNTA(K409:P409)/100,\"N/A\")","v":"N/A"},{"$f":"IF(COUNTA(Q409)>0,(COUNTIF(Q409,\"=0\")*0+COUNTIF(Q409,\"=1\")*100+COUNTIF(Q409,\"=2\")*80+COUNTIF(Q409,\"=3\")*50+COUNTIF(Q409,\"=8\")*20+COUNTIF(Q409,\"=9\")*0)/COUNTA(Q409)/100,\"N/A\")","v":"N/A"},{"$f":"IF(COUNTA(S409:W409)<>0,(COUNTIF(S409:W409,\"=0\")*0+COUNTIF(S409:W409,\"=1\")*100+COUNTIF(S409:W409,\"=2\")*80+COUNTIF(S409:W409,\"=3\")*50+COUNTIF(S409:W409,\"=8\")*20+COUNTIF(S409:W409,\"=9\")*0)/COUNTA(S409:W409)/100,\"N/A\")","v":"N/A"},"N/A",{"$f":"IF(COUNTA(#REF!)>0,(COUNTIF(#REF!,\"=0\")*0+COUNTIF(#REF!,\"=1\")*100+COUNTIF(#REF!,\"=2\")*80+COUNTIF(#REF!,\"=3\")*50+COUNTIF(#REF!,\"=8\")*20+COUNTIF(#REF!,\"=9\")*0)/COUNTA(#REF!)/100,\"N/A\")","v":{"$error":"#REF!"}},{"$f":"IF(COUNTA(#REF!)>0,(COUNTIF(#REF!,\"=0\")*0+COUNTIF(#REF!,\"=1\")*100+COUNTIF(#REF!,\"=2\")*80+COUNTIF(#REF!,\"=3\")*50+COUNTIF(#REF!,\"=8\")*20+COUNTIF(#REF!,\"=9\")*0)/COUNTA(#REF!)/100,\"N/A\")","v":{"$error":"#REF!"}},{"$f":"IF(AND(COUNTA(B409:X409)<>0,#REF!<>\"\"),AVERAGE(Y409:AE409),\"N/A\")","v":{"$error":"#REF!"}},1,1,1,1,1,{"$error":"#REF!"},{"$error":"#REF!"},{"$error":"#REF!"}]
[{"$nulls":24},{"$f":"IF(COUNTA(B410:G410)>0,(COUNTIF(B410:G410,\"=0\")*0+COUNTIF(B410:G410,\"=1\")*100+COUNTIF(B410:G410,\"=2\")*80+COUNTIF(B410:G410,\"=3\")*50+COUNTIF(B410:G410,\"=8\")*20+COUNTIF(B410:G410,\"=9\")*0)/COUNTA(B410:G410)/100,\"N/A\")","v":"N/A"},{"$f":"IF(COUNTA(K410:P410)>0,(COUNTIF(K410:P410,\"=0\")*0+COUNTIF(K410:P410,\"=1\")*100+COUNTIF(K410:P410,\"=2\")*80+COUNTIF(K410:P410,\"=3\")*50+COUNTIF(K410:P410,\"=8\")*20+COUNTIF(K410:P410,\"=9\")*0)/COUNTA(K410:P410)/100,\"N/A\")","v":"N/A"},{"$f":"IF(COUNTA(Q410)>0,(COUNTIF(Q410,\"=0\")*0+COUNTIF(Q410,\"=1\")*100+COUNTIF(Q410,\"=2\")*80+COUNTIF(Q410,\"=3\")*50+COUNTIF(Q410,\"=8\")*20+COUNTIF(Q410,\"=9\")*0)/COUNTA(Q410)/100,\"N/A\")","v":"N/A"},{"$f":"IF(COUNTA(S410:W410)<>0,(COUNTIF(S410:W410,\"=0\")*0+COUNTIF(S410:W410,\"=1\")*100+COUNTIF(S410:W410,\"=2\")*80+COUNTIF(S410:W410,\"=3\")*50+COUNTIF(S410:W410,\"=8\")*20+COUNTIF(S410:W410,\"=9\")*0)/COUNTA(S410:W410)/100,\"N/A\")","v":"N/A"},"N/A",{"$f":"IF(COUNTA(#REF!)>0,(COUNTIF(#REF!,\"=0\")*0+COUNTIF(#REF!,\"=1\")*100+COUNTIF(#REF!,\"=2\")*80+COUNTIF(#REF!,\"=3\")*50+COUNTIF(#REF!,\"=8\")*20+COUNTIF(#REF!,\"=9\")*0)/COUNTA(#REF!)/100,\"N/A\")","v":{"$error":"#REF!"}},{"$f":"IF(COUNTA(#REF!)>0,(COUNTIF(#REF!,\"=0\")*0+COUNTIF(#REF!,\"=1\")*100+COUNTIF(#REF!,\"=2\")*80+COUNTIF(#REF!,\"=3\")*50+COUNTIF(#REF!,\"=8\")*20+COUNTIF(#REF!,\"=9\")*0)/COUNTA(#REF!)/100,\"N/A\")","v":{"$error":"#REF!"}},{"$f":"IF(AND(COUNTA(B410:X410)<>0,#REF!<>\"\"),AVERAGE(Y410:AE410),\"N/A\")","v":{"$error":"#REF!"}},1,1,1,1,1,{"$error":"#REF!"},{"$error":"#REF!"},{"$error":"#REF!"}]
[{"$nulls":24},{"$f":"IF(COUNTA(B411:G411)>0,(COUNTIF(B411:G411,\"=0\")*0+COUNTIF(B411:G411,\"=1\")*100+COUNTIF(B411:G411,\"=2\")*80+COUNTIF(B411:G411,\"=3\")*50+COUNTIF(B411:G411,\"=8\")*20+COUNTIF(B411:G411,\"=9\")*0)/COUNTA(B411:G411)/100,\"N/A\")","v":"N/A"},{"$f":"IF(COUNTA(K411:P411)>0,(COUNTIF(K411:P411,\"=0\")*0+COUNTIF(K411:P411,\"=1\")*100+COUNTIF(K411:P411,\"=2\")*80+COUNTIF(K411:P411,\"=3\")*50+COUNTIF(K411:P411,\"=8\")*20+COUNTIF(K411:P411,\"=9\")*0)/COUNTA(K411:P411)/100,\"N/A\")","v":"N/A"},{"$f":"IF(COUNTA(Q411)>0,(COUNTIF(Q411,\"=0\")*0+COUNTIF(Q411,\"=1\")*100+COUNTIF(Q411,\"=2\")*80+COUNTIF(Q411,\"=3\")*50+COUNTIF(Q411,\"=8\")*20+COUNTIF(Q411,\"=9\")*0)/COUNTA(Q411)/100,\"N/A\")","v":"N/A"},{"$f":"IF(COUNTA(S411:W411)<>0,(COUNTIF(S411:W411,\"=0\")*0+COUNTIF(S411:W411,\"=1\")*100+COUNTIF(S411:W411,\"=2\")*80+COUNTIF(S411:W411,\"=3\")*50+COUNTIF(S411:W411,\"=8\")*20+COUNTIF(S411:W411,\"=9\")*0)/COUNTA(S411:W411)/100,\"N/A\")","v":"N/A"},"N/A",{"$f":"IF(COUNTA(#REF!)>0,(COUNTIF(#REF!,\"=0\")*0+COUNTIF(#REF!,\"=1\")*100+COUNTIF(#REF!,\"=2\")*80+COUNTIF(#REF!,\"=3\")*50+COUNTIF(#REF!,\"=8\")*20+COUNTIF(#REF!,\"=9\")*0)/COUNTA(#REF!)/100,\"N/A\")","v":{"$error":"#REF!"}},{"$f":"IF(COUNTA(#REF!)>0,(COUNTIF(#REF!,\"=0\")*0+COUNTIF(#REF!,\"=1\")*100+COUNTIF(#REF!,\"=2\")*80+COUNTIF(#REF!,\"=3\")*50+COUNTIF(#REF!,\"=8\")*20+COUNTIF(#REF!,\"=9\")*0)/COUNTA(#REF!)/100,\"N/A\")","v":{"$error":"#REF!"}},{"$f":"IF(AND(COUNTA(B411:X411)<>0,#REF!<>\"\"),AVERAGE(Y411:AE411),\"N/A\")","v":{"$error":"#REF!"}},1,1,1,1,1,{"$error":"#REF!"},{"$error":"#REF!"},{"$error":"#REF!"}]
[{"$nulls":24},{"$f":"IF(COUNTA(B412:G412)>0,(COUNTIF(B412:G412,\"=0\")*0+COUNTIF(B412:G412,\"=1\")*100+COUNTIF(B412:G412,\"=2\")*80+COUNTIF(B412:G412,\"=3\")*50+COUNTIF(B412:G412,\"=8\")*20+COUNTIF(B412:G412,\"=9\")*0)/COUNTA(B412:G412)/100,\"N/A\")","v":"N/A"},{"$f":"IF(COUNTA(K412:P412)>0,(COUNTIF(K412:P412,\"=0\")*0+COUNTIF(K412:P412,\"=1\")*100+COUNTIF(K412:P412,\"=2\")*80+COUNTIF(K412:P412,\"=3\")*50+COUNTIF(K412:P412,\"=8\")*20+COUNTIF(K412:P412,\"=9\")*0)/COUNTA(K412:P412)/100,\"N/A\")","v":"N/A"},{"$f":"IF(COUNTA(Q412)>0,(COUNTIF(Q412,\"=0\")*0+COUNTIF(Q412,\"=1\")*100+COUNTIF(Q412,\"=2\")*80+COUNTIF(Q412,\"=3\")*50+COUNTIF(Q412,\"=8\")*20+COUNTIF(Q412,\"=9\")*0)/COUNTA(Q412)/100,\"N/A\")","v":"N/A"},{"$f":"IF(COUNTA(S412:W412)<>0,(COUNTIF(S412:W412,\"=0\")*0+COUNTIF(S412:W412,\"=1\")*100+COUNTIF(S412:W412,\"=2\")*80+COUNTIF(S412:W412,\"=3\")*50+COUNTIF(S412:W412,\"=8\")*20+COUNTIF(S412:W412,\"=9\")*0)/COUNTA(S412:W412)/100,\"N/A\")","v":"N/A"},"N/A",{"$f":"IF(COUNTA(#REF!)>0,(COUNTIF(#REF!,\"=0\")*0+COUNTIF(#REF!,\"=1\")*100+COUNTIF(#REF!,\"=2\")*80+COUNTIF(#REF!,\"=3\")*50+COUNTIF(#REF!,\"=8\")*20+COUNTIF(#REF!,\"=9\")*0)/COUNTA(#REF!)/100,\"N/A\")","v":{"$error":"#REF!"}},{"$f":"IF(COUNTA(#REF!)>0,(COUNTIF(#REF!,\"=0\")*0+COUNTIF(#REF!,\"=1\")*100+COUNTIF(#REF!,\"=2\")*80+COUNTIF(#REF!,\"=3\")*50+COUNTIF(#REF!,\"=8\")*20+COUNTIF(#REF!,\"=9\")*0)/COUNTA(#REF!)/100,\"N/A\")","v":{"$error":"#REF!"}},{"$f":"IF(AND(COUNTA(B412:X412)<>0,#REF!<>\"\"),AVERAGE(Y412:AE412),\"N/A\")","v":{"$error":"#REF!"}},1,1,1,1,1,{"$error":"#REF!"},{"$error":"#REF!"},{"$error":"#REF!"}]
[{"$nulls":24},{"$f":"IF(COUNTA(B413:G413)>0,(COUNTIF(B413:G413,\"=0\")*0+COUNTIF(B413:G413,\"=1\")*100+COUNTIF(B413:G413,\"=2\")*80+COUNTIF(B413:G413,\"=3\")*50+COUNTIF(B413:G413,\"=8\")*20+COUNTIF(B413:G413,\"=9\")*0)/COUNTA(B413:G413)/100,\"N/A\")","v":"N/A"},{"$f":"IF(COUNTA(K413:P413)>0,(COUNTIF(K413:P413,\"=0\")*0+COUNTIF(K413:P413,\"=1\")*100+COUNTIF(K413:P413,\"=2\")*80+COUNTIF(K413:P413,\"=3\")*50+COUNTIF(K413:P413,\"=8\")*20+COUNTIF(K413:P413,\"=9\")*0)/COUNTA(K413:P413)/100,\"N/A\")","v":"N/A"},{"$f":"IF(COUNTA(Q413)>0,(COUNTIF(Q413,\"=0\")*0+COUNTIF(Q413,\"=1\")*100+COUNTIF(Q413,\"=2\")*80+COUNTIF(Q413,\"=3\")*50+COUNTIF(Q413,\"=8\")*20+COUNTIF(Q413,\"=9\")*0)/COUNTA(Q413)/100,\"N/A\")","v":"N/A"},{"$f":"IF(COUNTA(S413:W413)<>0,(COUNTIF(S413:W413,\"=0\")*0+COUNTIF(S413:W413,\"=1\")*100+COUNTIF(S413:W413,\"=2\")*80+COUNTIF(S413:W413,\"=3\")*50+COUNTIF(S413:W413,\"=8\")*20+COUNTIF(S413:W413,\"=9\")*0)/COUNTA(S413:W413)/100,\"N/A\")","v":"N/A"},"N/A",{"$f":"IF(COUNTA(#REF!)>0,(COUNTIF(#REF!,\"=0\")*0+COUNTIF(#REF!,\"=1\")*100+COUNTIF(#REF!,\"=2\")*80+COUNTIF(#REF!,\"=3\")*50+COUNTIF(#REF!,\"=8\")*20+COUNTIF(#REF!,\"=9\")*0)/COUNTA(#REF!)/100,\"N/A\")","v":{"$error":"#REF!"}},{"$f":"IF(COUNTA(#REF!)>0,(COUNTIF(#REF!,\"=0\")*0+COUNTIF(#REF!,\"=1\")*100+COUNTIF(#REF!,\"=2\")*80+COUNTIF(#REF!,\"=3\")*50+COUNTIF(#REF!,\"=8\")*20+COUNTIF(#REF!,\"=9\")*0)/COUNTA(#REF!)/100,\"N/A\")","v":{"$error":"#REF!"}},{"$f":"IF(AND(COUNTA(B413:X413)<>0,#REF!<>\"\"),AVERAGE(Y413:AE413),\"N/A\")","v":{"$error":"#REF!"}},1,1,1,1,1,{"$error":"#REF!"},{"$error":"#REF!"},{"$error":"#REF!"}]
[{"$nulls":24},{"$f":"IF(COUNTA(B414:G414)>0,(COUNTIF(B414:G414,\"=0\")*0+COUNTIF(B414:G414,\"=1\")*100+COUNTIF(B414:G414,\"=2\")*80+COUNTIF(B414:G414,\"=3\")*50+COUNTIF(B414:G414,\"=8\")*20+COUNTIF(B414:G414,\"=9\")*0)/COUNTA(B414:G414)/100,\"N/A\")","v":"N/A"},{"$f":"IF(COUNTA(K414:P414)>0,(COUNTIF(K414:P414,\"=0\")*0+COUNTIF(K414:P414,\"=1\")*100+COUNTIF(K414:P414,\"=2\")*80+COUNTIF(K414:P414,\"=3\")*50+COUNTIF(K414:P414,\"=8\")*20+COUNTIF(K414:P414,\"=9\")*0)/COUNTA(K414:P414)/100,\"N/A\")","v":"N/A"},{"$f":"IF(COUNTA(Q414)>0,(COUNTIF(Q414,\"=0\")*0+COUNTIF(Q414,\"=1\")*100+COUNTIF(Q414,\"=2\")*80+COUNTIF(Q414,\"=3\")*50+COUNTIF(Q414,\"=8\")*20+COUNTIF(Q414,\"=9\")*0)/COUNTA(Q414)/100,\"N/A\")","v":"N/A"},{"$f":"IF(COUNTA(S414:W414)<>0,(COUNTIF(S414:W414,\"=0\")*0+COUNTIF(S414:W414,\"=1\")*100+COUNTIF(S414:W414,\"=2\")*80+COUNTIF(S414:W414,\"=3\")*50+COUNTIF(S414:W414,\"=8\")*20+COUNTIF(S414:W414,\"=9\")*0)/COUNTA(S414:W414)/100,\"N/A\")","v":"N/A"},"N/A",{"$f":"IF(COUNTA(#REF!)>0,(COUNTIF(#REF!,\"=0\")*0+COUNTIF(#REF!,\"=1\")*100+COUNTIF(#REF!,\"=2\")*80+COUNTIF(#REF!,\"=3\")*50+COUNTIF(#REF!,\"=8\")*20+COUNTIF(#REF!,\"=9\")*0)/COUNTA(#REF!)/100,\"N/A\")","v":{"$error":"#REF!"}},{"$f":"IF(COUNTA(#REF!)>0,(COUNTIF(#REF!,\"=0\")*0+COUNTIF(#REF!,\"=1\")*100+COUNTIF(#REF!,\"=2\")*80+COUNTIF(#REF!,\"=3\")*50+COUNTIF(#REF!,\"=8\")*20+COUNTIF(#REF!,\"=9\")*0)/COUNTA(#REF!)/100,\"N/A\")","v":{"$error":"#REF!"}},{"$f":"IF(AND(COUNTA(B414:X414)<>0,#REF!<>\"\"),AVERAGE(Y414:AE414),\"N/A\")","v":{"$error":"#REF!"}},1,1,1,1,1,{"$error":"#REF!"},{"$error":"#REF!"},{"$error":"#REF!"}]
[{"$nulls":24},{"$f":"IF(COUNTA(B415:G415)>0,(COUNTIF(B415:G415,\"=0\")*0+COUNTIF(B415:G415,\"=1\")*100+COUNTIF(B415:G415,\"=2\")*80+COUNTIF(B415:G415,\"=3\")*50+COUNTIF(B415:G415,\"=8\")*20+COUNTIF(B415:G415,\"=9\")*0)/COUNTA(B415:G415)/100,\"N/A\")","v":"N/A"},{"$f":"IF(COUNTA(K415:P415)>0,(COUNTIF(K415:P415,\"=0\")*0+COUNTIF(K415:P415,\"=1\")*100+COUNTIF(K415:P415,\"=2\")*80+COUNTIF(K415:P415,\"=3\")*50+COUNTIF(K415:P415,\"=8\")*20+COUNTIF(K415:P415,\"=9\")*0)/COUNTA(K415:P415)/100,\"N/A\")","v":"N/A"},{"$f":"IF(COUNTA(Q415)>0,(COUNTIF(Q415,\"=0\")*0+COUNTIF(Q415,\"=1\")*100+COUNTIF(Q415,\"=2\")*80+COUNTIF(Q415,\"=3\")*50+COUNTIF(Q415,\"=8\")*20+COUNTIF(Q415,\"=9\")*0)/COUNTA(Q415)/100,\"N/A\")","v":"N/A"},{"$f":"IF(COUNTA(S415:W415)<>0,(COUNTIF(S415:W415,\"=0\")*0+COUNTIF(S415:W415,\"=1\")*100+COUNTIF(S415:W415,\"=2\")*80+COUNTIF(S415:W415,\"=3\")*50+COUNTIF(S415:W415,\"=8\")*20+COUNTIF(S415:W415,\"=9\")*0)/COUNTA(S415:W415)/100,\"N/A\")","v":"N/A"},"N/A",{"$f":"IF(COUNTA(#REF!)>0,(COUNTIF(#REF!,\"=0\")*0+COUNTIF(#REF!,\"=1\")*100+COUNTIF(#REF!,\"=2\")*80+COUNTIF(#REF!,\"=3\")*50+COUNTIF(#REF!,\"=8\")*20+COUNTIF(#REF!,\"=9\")*0)/COUNTA(#REF!)/100,\"N/A\")","v":{"$error":"#REF!"}},{"$f":"IF(COUNTA(#REF!)>0,(COUNTIF(#REF!,\"=0\")*0+COUNTIF(#REF!,\"=1\")*100+COUNTIF(#REF!,\"=2\")*80+COUNTIF(#REF!,\"=3\")*50+COUNTIF(#REF!,\"=8\")*20+COUNTIF(#REF!,\"=9\")*0)/COUNTA(#REF!)/100,\"N/A\")","v":{"$error":"#REF!"}},{"$f":"IF(AND(COUNTA(B415:X415)<>0,#REF!<>\"\"),AVERAGE(Y415:AE415),\"N/A\")","v":{"$error":"#REF!"}},1,1,1,1,1,{"$error":"#REF!"},{"$error":"#REF!"},{"$error":"#REF!"}]
[{"$nulls":24},{"$f":"IF(COUNTA(B416:G416)>0,(COUNTIF(B416:G416,\"=0\")*0+COUNTIF(B416:G416,\"=1\")*100+COUNTIF(B416:G416,\"=2\")*80+COUNTIF(B416:G416,\"=3\")*50+COUNTIF(B416:G416,\"=8\")*20+COUNTIF(B416:G416,\"=9\")*0)/COUNTA(B416:G416)/100,\"N/A\")","v":"N/A"},{"$f":"IF(COUNTA(K416:P416)>0,(COUNTIF(K416:P416,\"=0\")*0+COUNTIF(K416:P416,\"=1\")*100+COUNTIF(K416:P416,\"=2\")*80+COUNTIF(K416:P416,\"=3\")*50+COUNTIF(K416:P416,\"=8\")*20+COUNTIF(K416:P416,\"=9\")*0)/COUNTA(K416:P416)/100,\"N/A\")","v":"N/A"},{"$f":"IF(COUNTA(Q416)>0,(COUNTIF(Q416,\"=0\")*0+COUNTIF(Q416,\"=1\")*100+COUNTIF(Q416,\"=2\")*80+COUNTIF(Q416,\"=3\")*50+COUNTIF(Q416,\"=8\")*20+COUNTIF(Q416,\"=9\")*0)/COUNTA(Q416)/100,\"N/A\")","v":"N/A"},{"$f":"IF(COUNTA(S416:W416)<>0,(COUNTIF(S416:W416,\"=0\")*0+COUNTIF(S416:W416,\"=1\")*100+COUNTIF(S416:W416,\"=2\")*80+COUNTIF(S416:W416,\"=3\")*50+COUNTIF(S416:W416,\"=8\")*20+COUNTIF(S416:W416,\"=9\")*0)/COUNTA(S416:W416)/100,\"N/A\")","v":"N/A"},"N/A",{"$f":"IF(COUNTA(#REF!)>0,(COUNTIF(#REF!,\"=0\")*0+COUNTIF(#REF!,\"=1\")*100+COUNTIF(#REF!,\"=2\")*80+COUNTIF(#REF!,\"=3\")*50+COUNTIF(#REF!,\"=8\")*20+COUNTIF(#REF!,\"=9\")*0)/COUNTA(#REF!)/100,\"N/A\")","v":{"$error":"#REF!"}},{"$f":"IF(COUNTA(#REF!)>0,(COUNTIF(#REF!,\"=0\")*0+COUNTIF(#REF!,\"=1\")*100+COUNTIF(#REF!,\"=2\")*80+COUNTIF(#REF!,\"=3\")*50+COUNTIF(#REF!,\"=8\")*20+COUNTIF(#REF!,\"=9\")*0)/COUNTA(#REF!)/100,\"N/A\")","v":{"$error":"#REF!"}},{"$f":"IF(AND(COUNTA(B416:X416)<>0,#REF!<>\"\"),AVERAGE(Y416:AE416),\"N/A\")","v":{"$error":"#REF!"}},1,1,1,1,1,{"$error":"#REF!"},{"$error":"#REF!"},{"$error":"#REF!"}]
[{"$nulls":24},{"$f":"IF(COUNTA(B417:G417)>0,(COUNTIF(B417:G417,\"=0\")*0+COUNTIF(B417:G417,\"=1\")*100+COUNTIF(B417:G417,\"=2\")*80+COUNTIF(B417:G417,\"=3\")*50+COUNTIF(B417:G417,\"=8\")*20+COUNTIF(B417:G417,\"=9\")*0)/COUNTA(B417:G417)/100,\"N/A\")","v":"N/A"},{"$f":"IF(COUNTA(K417:P417)>0,(COUNTIF(K417:P417,\"=0\")*0+COUNTIF(K417:P417,\"=1\")*100+COUNTIF(K417:P417,\"=2\")*80+COUNTIF(K417:P417,\"=3\")*50+COUNTIF(K417:P417,\"=8\")*20+COUNTIF(K417:P417,\"=9\")*0)/COUNTA(K417:P417)/100,\"N/A\")","v":"N/A"},{"$f":"IF(COUNTA(Q417)>0,(COUNTIF(Q417,\"=0\")*0+COUNTIF(Q417,\"=1\")*100+COUNTIF(Q417,\"=2\")*80+COUNTIF(Q417,\"=3\")*50+COUNTIF(Q417,\"=8\")*20+COUNTIF(Q417,\"=9\")*0)/COUNTA(Q417)/100,\"N/A\")","v":"N/A"},{"$f":"IF(COUNTA(S417:W417)<>0,(COUNTIF(S417:W417,\"=0\")*0+COUNTIF(S417:W417,\"=1\")*100+COUNTIF(S417:W417,\"=2\")*80+COUNTIF(S417:W417,\"=3\")*50+COUNTIF(S417:W417,\"=8\")*20+COUNTIF(S417:W417,\"=9\")*0)/COUNTA(S417:W417)/100,\"N/A\")","v":"N/A"},"N/A",{"$f":"IF(COUNTA(#REF!)>0,(COUNTIF(#REF!,\"=0\")*0+COUNTIF(#REF!,\"=1\")*100+COUNTIF(#REF!,\"=2\")*80+COUNTIF(#REF!,\"=3\")*50+COUNTIF(#REF!,\"=8\")*20+COUNTIF(#REF!,\"=9\")*0)/COUNTA(#REF!)/100,\"N/A\")","v":{"$error":"#REF!"}},{"$f":"IF(COUNTA(#REF!)>0,(COUNTIF(#REF!,\"=0\")*0+COUNTIF(#REF!,\"=1\")*100+COUNTIF(#REF!,\"=2\")*80+COUNTIF(#REF!,\"=3\")*50+COUNTIF(#REF!,\"=8\")*20+COUNTIF(#REF!,\"=9\")*0)/COUNTA(#REF!)/100,\"N/A\")","v":{"$error":"#REF!"}},{"$f":"IF(AND(COUNTA(B417:X417)<>0,#REF!<>\"\"),AVERAGE(Y417:AE417),\"N/A\")","v":{"$error":"#REF!"}},1,1,1,1,1,{"$error":"#REF!"},{"$error":"#REF!"},{"$error":"#REF!"}]
[{"$nulls":24},{"$f":"IF(COUNTA(B418:G418)>0,(COUNTIF(B418:G418,\"=0\")*0+COUNTIF(B418:G418,\"=1\")*100+COUNTIF(B418:G418,\"=2\")*80+COUNTIF(B418:G418,\"=3\")*50+COUNTIF(B418:G418,\"=8\")*20+COUNTIF(B418:G418,\"=9\")*0)/COUNTA(B418:G418)/100,\"N/A\")","v":"N/A"},{"$f":"IF(COUNTA(K418:P418)>0,(COUNTIF(K418:P418,\"=0\")*0+COUNTIF(K418:P418,\"=1\")*100+COUNTIF(K418:P418,\"=2\")*80+COUNTIF(K418:P418,\"=3\")*50+COUNTIF(K418:P418,\"=8\")*20+COUNTIF(K418:P418,\"=9\")*0)/COUNTA(K418:P418)/100,\"N/A\")","v":"N/A"},{"$f":"IF(COUNTA(Q418)>0,(COUNTIF(Q418,\"=0\")*0+COUNTIF(Q418,\"=1\")*100+COUNTIF(Q418,\"=2\")*80+COUNTIF(Q418,\"=3\")*50+COUNTIF(Q418,\"=8\")*20+COUNTIF(Q418,\"=9\")*0)/COUNTA(Q418)/100,\"N/A\")","v":"N/A"},{"$f":"IF(COUNTA(S418:W418)<>0,(COUNTIF(S418:W418,\"=0\")*0+COUNTIF(S418:W418,\"=1\")*100+COUNTIF(S418:W418,\"=2\")*80+COUNTIF(S418:W418,\"=3\")*50+COUNTIF(S418:W418,\"=8\")*20+COUNTIF(S418:W418,\"=9\")*0)/COUNTA(S418:W418)/100,\"N/A\")","v":"N/A"},"N/A",{"$f":"IF(COUNTA(#REF!)>0,(COUNTIF(#REF!,\"=0\")*0+COUNTIF(#REF!,\"=1\")*100+COUNTIF(#REF!,\"=2\")*80+COUNTIF(#REF!,\"=3\")*50+COUNTIF(#REF!,\"=8\")*20+COUNTIF(#REF!,\"=9\")*0)/COUNTA(#REF!)/100,\"N/A\")","v":{"$error":"#REF!"}},{"$f":"IF(COUNTA(#REF!)>0,(COUNTIF(#REF!,\"=0\")*0+COUNTIF(#REF!,\"=1\")*100+COUNTIF(#REF!,\"=2\")*80+COUNTIF(#REF!,\"=3\")*50+COUNTIF(#REF!,\"=8\")*20+COUNTIF(#REF!,\"=9\")*0)/COUNTA(#REF!)/100,\"N/A\")","v":{"$error":"#REF!"}},{"$f":"IF(AND(COUNTA(B418:X418)<>0,#REF!<>\"\"),AVERAGE(Y418:AE418),\"N/A\")","v":{"$error":"#REF!"}},1,1,1,1,1,{"$error":"#REF!"},{"$error":"#REF!"},{"$error":"#REF!"}]
[{"$nulls":24},{"$f":"IF(COUNTA(B419:G419)>0,(COUNTIF(B419:G419,\"=0\")*0+COUNTIF(B419:G419,\"=1\")*100+COUNTIF(B419:G419,\"=2\")*80+COUNTIF(B419:G419,\"=3\")*50+COUNTIF(B419:G419,\"=8\")*20+COUNTIF(B419:G419,\"=9\")*0)/COUNTA(B419:G419)/100,\"N/A\")","v":"N/A"},{"$f":"IF(COUNTA(K419:P419)>0,(COUNTIF(K419:P419,\"=0\")*0+COUNTIF(K419:P419,\"=1\")*100+COUNTIF(K419:P419,\"=2\")*80+COUNTIF(K419:P419,\"=3\")*50+COUNTIF(K419:P419,\"=8\")*20+COUNTIF(K419:P419,\"=9\")*0)/COUNTA(K419:P419)/100,\"N/A\")","v":"N/A"},{"$f":"IF(COUNTA(Q419)>0,(COUNTIF(Q419,\"=0\")*0+COUNTIF(Q419,\"=1\")*100+COUNTIF(Q419,\"=2\")*80+COUNTIF(Q419,\"=3\")*50+COUNTIF(Q419,\"=8\")*20+COUNTIF(Q419,\"=9\")*0)/COUNTA(Q419)/100,\"N/A\")","v":"N/A"},{"$f":"IF(COUNTA(S419:W419)<>0,(COUNTIF(S419:W419,\"=0\")*0+COUNTIF(S419:W419,\"=1\")*100+COUNTIF(S419:W419,\"=2\")*80+COUNTIF(S419:W419,\"=3\")*50+COUNTIF(S419:W419,\"=8\")*20+COUNTIF(S419:W419,\"=9\")*0)/COUNTA(S419:W419)/100,\"N/A\")","v":"N/A"},"N/A",{"$f":"IF(COUNTA(#REF!)>0,(COUNTIF(#REF!,\"=0\")*0+COUNTIF(#REF!,\"=1\")*100+COUNTIF(#REF!,\"=2\")*80+COUNTIF(#REF!,\"=3\")*50+COUNTIF(#REF!,\"=8\")*20+COUNTIF(#REF!,\"=9\")*0)/COUNTA(#REF!)/100,\"N/A\")","v":{"$error":"#REF!"}},{"$f":"IF(COUNTA(#REF!)>0,(COUNTIF(#REF!,\"=0\")*0+COUNTIF(#REF!,\"=1\")*100+COUNTIF(#REF!,\"=2\")*80+COUNTIF(#REF!,\"=3\")*50+COUNTIF(#REF!,\"=8\")*20+COUNTIF(#REF!,\"=9\")*0)/COUNTA(#REF!)/100,\"N/A\")","v":{"$error":"#REF!"}},{"$f":"IF(AND(COUNTA(B419:X419)<>0,#REF!<>\"\"),AVERAGE(Y419:AE419),\"N/A\")","v":{"$error":"#REF!"}},1,1,1,1,1,{"$error":"#REF!"},{"$error":"#REF!"},{"$error":"#REF!"}]
[{"$nulls":24},{"$f":"IF(COUNTA(B420:G420)>0,(COUNTIF(B420:G420,\"=0\")*0+COUNTIF(B420:G420,\"=1\")*100+COUNTIF(B420:G420,\"=2\")*80+COUNTIF(B420:G420,\"=3\")*50+COUNTIF(B420:G420,\"=8\")*20+COUNTIF(B420:G420,\"=9\")*0)/COUNTA(B420:G420)/100,\"N/A\")","v":"N/A"},{"$f":"IF(COUNTA(K420:P420)>0,(COUNTIF(K420:P420,\"=0\")*0+COUNTIF(K420:P420,\"=1\")*100+COUNTIF(K420:P420,\"=2\")*80+COUNTIF(K420:P420,\"=3\")*50+COUNTIF(K420:P420,\"=8\")*20+COUNTIF(K420:P420,\"=9\")*0)/COUNTA(K420:P420)/100,\"N/A\")","v":"N/A"},{"$f":"IF(COUNTA(Q420)>0,(COUNTIF(Q420,\"=0\")*0+COUNTIF(Q420,\"=1\")*100+COUNTIF(Q420,\"=2\")*80+COUNTIF(Q420,\"=3\")*50+COUNTIF(Q420,\"=8\")*20+COUNTIF(Q420,\"=9\")*0)/COUNTA(Q420)/100,\"N/A\")","v":"N/A"},{"$f":"IF(COUNTA(S420:W420)<>0,(COUNTIF(S420:W420,\"=0\")*0+COUNTIF(S420:W420,\"=1\")*100+COUNTIF(S420:W420,\"=2\")*80+COUNTIF(S420:W420,\"=3\")*50+COUNTIF(S420:W420,\"=8\")*20+COUNTIF(S420:W420,\"=9\")*0)/COUNTA(S420:W420)/100,\"N/A\")","v":"N/A"},"N/A",{"$f":"IF(COUNTA(#REF!)>0,(COUNTIF(#REF!,\"=0\")*0+COUNTIF(#REF!,\"=1\")*100+COUNTIF(#REF!,\"=2\")*80+COUNTIF(#REF!,\"=3\")*50+COUNTIF(#REF!,\"=8\")*20+COUNTIF(#REF!,\"=9\")*0)/COUNTA(#REF!)/100,\"N/A\")","v":{"$error":"#REF!"}},{"$f":"IF(COUNTA(#REF!)>0,(COUNTIF(#REF!,\"=0\")*0+COUNTIF(#REF!,\"=1\")*100+COUNTIF(#REF!,\"=2\")*80+COUNTIF(#REF!,\"=3\")*50+COUNTIF(#REF!,\"=8\")*20+COUNTIF(#REF!,\"=9\")*0)/COUNTA(#REF!)/100,\"N/A\")","v":{"$error":"#REF!"}},{"$f":"IF(AND(COUNTA(B420:X420)<>0,#REF!<>\"\"),AVERAGE(Y420:AE420),\"N/A\")","v":{"$error":"#REF!"}},1,1,1,1,1,{"$error":"#REF!"},{"$error":"#REF!"},{"$error":"#REF!"}]
[{"$nulls":24},{"$f":"IF(COUNTA(B421:G421)>0,(COUNTIF(B421:G421,\"=0\")*0+COUNTIF(B421:G421,\"=1\")*100+COUNTIF(B421:G421,\"=2\")*80+COUNTIF(B421:G421,\"=3\")*50+COUNTIF(B421:G421,\"=8\")*20+COUNTIF(B421:G421,\"=9\")*0)/COUNTA(B421:G421)/100,\"N/A\")","v":"N/A"},{"$f":"IF(COUNTA(K421:P421)>0,(COUNTIF(K421:P421,\"=0\")*0+COUNTIF(K421:P421,\"=1\")*100+COUNTIF(K421:P421,\"=2\")*80+COUNTIF(K421:P421,\"=3\")*50+COUNTIF(K421:P421,\"=8\")*20+COUNTIF(K421:P421,\"=9\")*0)/COUNTA(K421:P421)/100,\"N/A\")","v":"N/A"},{"$f":"IF(COUNTA(Q421)>0,(COUNTIF(Q421,\"=0\")*0+COUNTIF(Q421,\"=1\")*100+COUNTIF(Q421,\"=2\")*80+COUNTIF(Q421,\"=3\")*50+COUNTIF(Q421,\"=8\")*20+COUNTIF(Q421,\"=9\")*0)/COUNTA(Q421)/100,\"N/A\")","v":"N/A"},{"$f":"IF(COUNTA(S421:W421)<>0,(COUNTIF(S421:W421,\"=0\")*0+COUNTIF(S421:W421,\"=1\")*100+COUNTIF(S421:W421,\"=2\")*80+COUNTIF(S421:W421,\"=3\")*50+COUNTIF(S421:W421,\"=8\")*20+COUNTIF(S421:W421,\"=9\")*0)/COUNTA(S421:W421)/100,\"N/A\")","v":"N/A"},"N/A",{"$f":"IF(COUNTA(#REF!)>0,(COUNTIF(#REF!,\"=0\")*0+COUNTIF(#REF!,\"=1\")*100+COUNTIF(#REF!,\"=2\")*80+COUNTIF(#REF!,\"=3\")*50+COUNTIF(#REF!,\"=8\")*20+COUNTIF(#REF!,\"=9\")*0)/COUNTA(#REF!)/100,\"N/A\")","v":{"$error":"#REF!"}},{"$f":"IF(COUNTA(#REF!)>0,(COUNTIF(#REF!,\"=0\")*0+COUNTIF(#REF!,\"=1\")*100+COUNTIF(#REF!,\"=2\")*80+COUNTIF(#REF!,\"=3\")*50+COUNTIF(#REF!,\"=8\")*20+COUNTIF(#REF!,\"=9\")*0)/COUNTA(#REF!)/100,\"N/A\")","v":{"$error":"#REF!"}},{"$f":"IF(AND(COUNTA(B421:X421)<>0,#REF!<>\"\"),AVERAGE(Y421:AE421),\"N/A\")","v":{"$error":"#REF!"}},1,1,1,1,1,{"$error":"#REF!"},{"$error":"#REF!"},{"$error":"#REF!"}]
[{"$nulls":24},{"$f":"IF(COUNTA(B422:G422)>0,(COUNTIF(B422:G422,\"=0\")*0+COUNTIF(B422:G422,\"=1\")*100+COUNTIF(B422:G422,\"=2\")*80+COUNTIF(B422:G422,\"=3\")*50+COUNTIF(B422:G422,\"=8\")*20+COUNTIF(B422:G422,\"=9\")*0)/COUNTA(B422:G422)/100,\"N/A\")","v":"N/A"},{"$f":"IF(COUNTA(K422:P422)>0,(COUNTIF(K422:P422,\"=0\")*0+COUNTIF(K422:P422,\"=1\")*100+COUNTIF(K422:P422,\"=2\")*80+COUNTIF(K422:P422,\"=3\")*50+COUNTIF(K422:P422,\"=8\")*20+COUNTIF(K422:P422,\"=9\")*0)/COUNTA(K422:P422)/100,\"N/A\")","v":"N/A"},{"$f":"IF(COUNTA(Q422)>0,(COUNTIF(Q422,\"=0\")*0+COUNTIF(Q422,\"=1\")*100+COUNTIF(Q422,\"=2\")*80+COUNTIF(Q422,\"=3\")*50+COUNTIF(Q422,\"=8\")*20+COUNTIF(Q422,\"=9\")*0)/COUNTA(Q422)/100,\"N/A\")","v":"N/A"},{"$f":"IF(COUNTA(S422:W422)<>0,(COUNTIF(S422:W422,\"=0\")*0+COUNTIF(S422:W422,\"=1\")*100+COUNTIF(S422:W422,\"=2\")*80+COUNTIF(S422:W422,\"=3\")*50+COUNTIF(S422:W422,\"=8\")*20+COUNTIF(S422:W422,\"=9\")*0)/COUNTA(S422:W422)/100,\"N/A\")","v":"N/A"},"N/A",{"$f":"IF(COUNTA(#REF!)>0,(COUNTIF(#REF!,\"=0\")*0+COUNTIF(#REF!,\"=1\")*100+COUNTIF(#REF!,\"=2\")*80+COUNTIF(#REF!,\"=3\")*50+COUNTIF(#REF!,\"=8\")*20+COUNTIF(#REF!,\"=9\")*0)/COUNTA(#REF!)/100,\"N/A\")","v":{"$error":"#REF!"}},{"$f":"IF(COUNTA(#REF!)>0,(COUNTIF(#REF!,\"=0\")*0+COUNTIF(#REF!,\"=1\")*100+COUNTIF(#REF!,\"=2\")*80+COUNTIF(#REF!,\"=3\")*50+COUNTIF(#REF!,\"=8\")*20+COUNTIF(#REF!,\"=9\")*0)/COUNTA(#REF!)/100,\"N/A\")","v":{"$error":"#REF!"}},{"$f":"IF(AND(COUNTA(B422:X422)<>0,#REF!<>\"\"),AVERAGE(Y422:AE422),\"N/A\")","v":{"$error":"#REF!"}},1,1,1,1,1,{"$error":"#REF!"},{"$error":"#REF!"},{"$error":"#REF!"}]
[{"$nulls":24},{"$f":"IF(COUNTA(B423:G423)>0,(COUNTIF(B423:G423,\"=0\")*0+COUNTIF(B423:G423,\"=1\")*100+COUNTIF(B423:G423,\"=2\")*80+COUNTIF(B423:G423,\"=3\")*50+COUNTIF(B423:G423,\"=8\")*20+COUNTIF(B423:G423,\"=9\")*0)/COUNTA(B423:G423)/100,\"N/A\")","v":"N/A"},{"$f":"IF(COUNTA(K423:P423)>0,(COUNTIF(K423:P423,\"=0\")*0+COUNTIF(K423:P423,\"=1\")*100+COUNTIF(K423:P423,\"=2\")*80+COUNTIF(K423:P423,\"=3\")*50+COUNTIF(K423:P423,\"=8\")*20+COUNTIF(K423:P423,\"=9\")*0)/COUNTA(K423:P423)/100,\"N/A\")","v":"N/A"},{"$f":"IF(COUNTA(Q423)>0,(COUNTIF(Q423,\"=0\")*0+COUNTIF(Q423,\"=1\")*100+COUNTIF(Q423,\"=2\")*80+COUNTIF(Q423,\"=3\")*50+COUNTIF(Q423,\"=8\")*20+COUNTIF(Q423,\"=9\")*0)/COUNTA(Q423)/100,\"N/A\")","v":"N/A"},{"$f":"IF(COUNTA(S423:W423)<>0,(COUNTIF(S423:W423,\"=0\")*0+COUNTIF(S423:W423,\"=1\")*100+COUNTIF(S423:W423,\"=2\")*80+COUNTIF(S423:W423,\"=3\")*50+COUNTIF(S423:W423,\"=8\")*20+COUNTIF(S423:W423,\"=9\")*0)/COUNTA(S423:W423)/100,\"N/A\")","v":"N/A"},"N/A",{"$f":"IF(COUNTA(#REF!)>0,(COUNTIF(#REF!,\"=0\")*0+COUNTIF(#REF!,\"=1\")*100+COUNTIF(#REF!,\"=2\")*80+COUNTIF(#REF!,\"=3\")*50+COUNTIF(#REF!,\"=8\")*20+COUNTIF(#REF!,\"=9\")*0)/COUNTA(#REF!)/100,\"N/A\")","v":{"$error":"#REF!"}},{"$f":"IF(COUNTA(#REF!)>0,(COUNTIF(#REF!,\"=0\")*0+COUNTIF(#REF!,\"=1\")*100+COUNTIF(#REF!,\"=2\")*80+COUNTIF(#REF!,\"=3\")*50+COUNTIF(#REF!,\"=8\")*20+COUNTIF(#REF!,\"=9\")*0)/COUNTA(#REF!)/100,\"N/A\")","v":{"$error":"#REF!"}},{"$f":"IF(AND(COUNTA(B423:X423)<>0,#REF!<>\"\"),AVERAGE(Y423:AE423),\"N/A\")","v":{"$error":"#REF!"}},1,1,1,1,1,{"$error":"#REF!"},{"$error":"#REF!"},{"$error":"#REF!"}]
[{"$nulls":24},{"$f":"IF(COUNTA(B424:G424)>0,(COUNTIF(B424:G424,\"=0\")*0+COUNTIF(B424:G424,\"=1\")*100+COUNTIF(B424:G424,\"=2\")*80+COUNTIF(B424:G424,\"=3\")*50+COUNTIF(B424:G424,\"=8\")*20+COUNTIF(B424:G424,\"=9\")*0)/COUNTA(B424:G424)/100,\"N/A\")","v":"N/A"},{"$f":"IF(COUNTA(K424:P424)>0,(COUNTIF(K424:P424,\"=0\")*0+COUNTIF(K424:P424,\"=1\")*100+COUNTIF(K424:P424,\"=2\")*80+COUNTIF(K424:P424,\"=3\")*50+COUNTIF(K424:P424,\"=8\")*20+COUNTIF(K424:P424,\"=9\")*0)/COUNTA(K424:P424)/100,\"N/A\")","v":"N/A"},{"$f":"IF(COUNTA(Q424)>0,(COUNTIF(Q424,\"=0\")*0+COUNTIF(Q424,\"=1\")*100+COUNTIF(Q424,\"=2\")*80+COUNTIF(Q424,\"=3\")*50+COUNTIF(Q424,\"=8\")*20+COUNTIF(Q424,\"=9\")*0)/COUNTA(Q424)/100,\"N/A\")","v":"N/A"},{"$f":"IF(COUNTA(S424:W424)<>0,(COUNTIF(S424:W424,\"=0\")*0+COUNTIF(S424:W424,\"=1\")*100+COUNTIF(S424:W424,\"=2\")*80+COUNTIF(S424:W424,\"=3\")*50+COUNTIF(S424:W424,\"=8\")*20+COUNTIF(S424:W424,\"=9\")*0)/COUNTA(S424:W424)/100,\"N/A\")","v":"N/A"},"N/A",{"$f":"IF(COUNTA(#REF!)>0,(COUNTIF(#REF!,\"=0\")*0+COUNTIF(#REF!,\"=1\")*100+COUNTIF(#REF!,\"=2\")*80+COUNTIF(#REF!,\"=3\")*50+COUNTIF(#REF!,\"=8\")*20+COUNTIF(#REF!,\"=9\")*0)/COUNTA(#REF!)/100,\"N/A\")","v":{"$error":"#REF!"}},{"$f":"IF(COUNTA(#REF!)>0,(COUNTIF(#REF!,\"=0\")*0+COUNTIF(#REF!,\"=1\")*100+COUNTIF(#REF!,\"=2\")*80+COUNTIF(#REF!,\"=3\")*50+COUNTIF(#REF!,\"=8\")*20+COUNTIF(#REF!,\"=9\")*0)/COUNTA(#REF!)/100,\"N/A\")","v":{"$error":"#REF!"}},{"$f":"IF(AND(COUNTA(B424:X424)<>0,#REF!<>\"\"),AVERAGE(Y424:AE424),\"N/A\")","v":{"$error":"#REF!"}},1,1,1,1,1,{"$error":"#REF!"},{"$error":"#REF!"},{"$error":"#REF!"}]
[{"$nulls":24},{"$f":"IF(COUNTA(B425:G425)>0,(COUNTIF(B425:G425,\"=0\")*0+COUNTIF(B425:G425,\"=1\")*100+COUNTIF(B425:G425,\"=2\")*80+COUNTIF(B425:G425,\"=3\")*50+COUNTIF(B425:G425,\"=8\")*20+COUNTIF(B425:G425,\"=9\")*0)/COUNTA(B425:G425)/100,\"N/A\")","v":"N/A"},{"$f":"IF(COUNTA(K425:P425)>0,(COUNTIF(K425:P425,\"=0\")*0+COUNTIF(K425:P425,\"=1\")*100+COUNTIF(K425:P425,\"=2\")*80+COUNTIF(K425:P425,\"=3\")*50+COUNTIF(K425:P425,\"=8\")*20+COUNTIF(K425:P425,\"=9\")*0)/COUNTA(K425:P425)/100,\"N/A\")","v":"N/A"},{"$f":"IF(COUNTA(Q425)>0,(COUNTIF(Q425,\"=0\")*0+COUNTIF(Q425,\"=1\")*100+COUNTIF(Q425,\"=2\")*80+COUNTIF(Q425,\"=3\")*50+COUNTIF(Q425,\"=8\")*20+COUNTIF(Q425,\"=9\")*0)/COUNTA(Q425)/100,\"N/A\")","v":"N/A"},{"$f":"IF(COUNTA(S425:W425)<>0,(COUNTIF(S425:W425,\"=0\")*0+COUNTIF(S425:W425,\"=1\")*100+COUNTIF(S425:W425,\"=2\")*80+COUNTIF(S425:W425,\"=3\")*50+COUNTIF(S425:W425,\"=8\")*20+COUNTIF(S425:W425,\"=9\")*0)/COUNTA(S425:W425)/100,\"N/A\")","v":"N/A"},"N/A",{"$f":"IF(COUNTA(#REF!)>0,(COUNTIF(#REF!,\"=0\")*0+COUNTIF(#REF!,\"=1\")*100+COUNTIF(#REF!,\"=2\")*80+COUNTIF(#REF!,\"=3\")*50+COUNTIF(#REF!,\"=8\")*20+COUNTIF(#REF!,\"=9\")*0)/COUNTA(#REF!)/100,\"N/A\")","v":{"$error":"#REF!"}},{"$f":"IF(COUNTA(#REF!)>0,(COUNTIF(#REF!,\"=0\")*0+COUNTIF(#REF!,\"=1\")*100+COUNTIF(#REF!,\"=2\")*80+COUNTIF(#REF!,\"=3\")*50+COUNTIF(#REF!,\"=8\")*20+COUNTIF(#REF!,\"=9\")*0)/COUNTA(#REF!)/100,\"N/A\")","v":{"$error":"#REF!"}},{"$f":"IF(AND(COUNTA(B425:X425)<>0,#REF!<>\"\"),AVERAGE(Y425:AE425),\"N/A\")","v":{"$error":"#REF!"}},1,1,1,1,1,{"$error":"#REF!"},{"$error":"#REF!"},{"$error":"#REF!"}]
[{"$nulls":24},{"$f":"IF(COUNTA(B426:G426)>0,(COUNTIF(B426:G426,\"=0\")*0+COUNTIF(B426:G426,\"=1\")*100+COUNTIF(B426:G426,\"=2\")*80+COUNTIF(B426:G426,\"=3\")*50+COUNTIF(B426:G426,\"=8\")*20+COUNTIF(B426:G426,\"=9\")*0)/COUNTA(B426:G426)/100,\"N/A\")","v":"N/A"},{"$f":"IF(COUNTA(K426:P426)>0,(COUNTIF(K426:P426,\"=0\")*0+COUNTIF(K426:P426,\"=1\")*100+COUNTIF(K426:P426,\"=2\")*80+COUNTIF(K426:P426,\"=3\")*50+COUNTIF(K426:P426,\"=8\")*20+COUNTIF(K426:P426,\"=9\")*0)/COUNTA(K426:P426)/100,\"N/A\")","v":"N/A"},{"$f":"IF(COUNTA(Q426)>0,(COUNTIF(Q426,\"=0\")*0+COUNTIF(Q426,\"=1\")*100+COUNTIF(Q426,\"=2\")*80+COUNTIF(Q426,\"=3\")*50+COUNTIF(Q426,\"=8\")*20+COUNTIF(Q426,\"=9\")*0)/COUNTA(Q426)/100,\"N/A\")","v":"N/A"},{"$f":"IF(COUNTA(S426:W426)<>0,(COUNTIF(S426:W426,\"=0\")*0+COUNTIF(S426:W426,\"=1\")*100+COUNTIF(S426:W426,\"=2\")*80+COUNTIF(S426:W426,\"=3\")*50+COUNTIF(S426:W426,\"=8\")*20+COUNTIF(S426:W426,\"=9\")*0)/COUNTA(S426:W426)/100,\"N/A\")","v":"N/A"},"N/A",{"$f":"IF(COUNTA(#REF!)>0,(COUNTIF(#REF!,\"=0\")*0+COUNTIF(#REF!,\"=1\")*100+COUNTIF(#REF!,\"=2\")*80+COUNTIF(#REF!,\"=3\")*50+COUNTIF(#REF!,\"=8\")*20+COUNTIF(#REF!,\"=9\")*0)/COUNTA(#REF!)/100,\"N/A\")","v":{"$error":"#REF!"}},{"$f":"IF(COUNTA(#REF!)>0,(COUNTIF(#REF!,\"=0\")*0+COUNTIF(#REF!,\"=1\")*100+COUNTIF(#REF!,\"=2\")*80+COUNTIF(#REF!,\"=3\")*50+COUNTIF(#REF!,\"=8\")*20+COUNTIF(#REF!,\"=9\")*0)/COUNTA(#REF!)/100,\"N/A\")","v":{"$error":"#REF!"}},{"$f":"IF(AND(COUNTA(B426:X426)<>0,#REF!<>\"\"),AVERAGE(Y426:AE426),\"N/A\")","v":{"$error":"#REF!"}},1,1,1,1,1,{"$error":"#REF!"},{"$error":"#REF!"},{"$error":"#REF!"}]
[{"$nulls":24},{"$f":"IF(COUNTA(B427:G427)>0,(COUNTIF(B427:G427,\"=0\")*0+COUNTIF(B427:G427,\"=1\")*100+COUNTIF(B427:G427,\"=2\")*80+COUNTIF(B427:G427,\"=3\")*50+COUNTIF(B427:G427,\"=8\")*20+COUNTIF(B427:G427,\"=9\")*0)/COUNTA(B427:G427)/100,\"N/A\")","v":"N/A"},{"$f":"IF(COUNTA(K427:P427)>0,(COUNTIF(K427:P427,\"=0\")*0+COUNTIF(K427:P427,\"=1\")*100+COUNTIF(K427:P427,\"=2\")*80+COUNTIF(K427:P427,\"=3\")*50+COUNTIF(K427:P427,\"=8\")*20+COUNTIF(K427:P427,\"=9\")*0)/COUNTA(K427:P427)/100,\"N/A\")","v":"N/A"},{"$f":"IF(COUNTA(Q427)>0,(COUNTIF(Q427,\"=0\")*0+COUNTIF(Q427,\"=1\")*100+COUNTIF(Q427,\"=2\")*80+COUNTIF(Q427,\"=3\")*50+COUNTIF(Q427,\"=8\")*20+COUNTIF(Q427,\"=9\")*0)/COUNTA(Q427)/100,\"N/A\")","v":"N/A"},{"$f":"IF(COUNTA(S427:W427)<>0,(COUNTIF(S427:W427,\"=0\")*0+COUNTIF(S427:W427,\"=1\")*100+COUNTIF(S427:W427,\"=2\")*80+COUNTIF(S427:W427,\"=3\")*50+COUNTIF(S427:W427,\"=8\")*20+COUNTIF(S427:W427,\"=9\")*0)/COUNTA(S427:W427)/100,\"N/A\")","v":"N/A"},"N/A",{"$f":"IF(COUNTA(#REF!)>0,(COUNTIF(#REF!,\"=0\")*0+COUNTIF(#REF!,\"=1\")*100+COUNTIF(#REF!,\"=2\")*80+COUNTIF(#REF!,\"=3\")*50+COUNTIF(#REF!,\"=8\")*20+COUNTIF(#REF!,\"=9\")*0)/COUNTA(#REF!)/100,\"N/A\")","v":{"$error":"#REF!"}},{"$f":"IF(COUNTA(#REF!)>0,(COUNTIF(#REF!,\"=0\")*0+COUNTIF(#REF!,\"=1\")*100+COUNTIF(#REF!,\"=2\")*80+COUNTIF(#REF!,\"=3\")*50+COUNTIF(#REF!,\"=8\")*20+COUNTIF(#REF!,\"=9\")*0)/COUNTA(#REF!)/100,\"N/A\")","v":{"$error":"#REF!"}},{"$f":"IF(AND(COUNTA(B427:X427)<>0,#REF!<>\"\"),AVERAGE(Y427:AE427),\"N/A\")","v":{"$error":"#REF!"}},1,1,1,1,1,{"$error":"#REF!"},{"$error":"#REF!"},{"$error":"#REF!"}]
[{"$nulls":24},{"$f":"IF(COUNTA(B428:G428)>0,(COUNTIF(B428:G428,\"=0\")*0+COUNTIF(B428:G428,\"=1\")*100+COUNTIF(B428:G428,\"=2\")*80+COUNTIF(B428:G428,\"=3\")*50+COUNTIF(B428:G428,\"=8\")*20+COUNTIF(B428:G428,\"=9\")*0)/COUNTA(B428:G428)/100,\"N/A\")","v":"N/A"},{"$f":"IF(COUNTA(K428:P428)>0,(COUNTIF(K428:P428,\"=0\")*0+COUNTIF(K428:P428,\"=1\")*100+COUNTIF(K428:P428,\"=2\")*80+COUNTIF(K428:P428,\"=3\")*50+COUNTIF(K428:P428,\"=8\")*20+COUNTIF(K428:P428,\"=9\")*0)/COUNTA(K428:P428)/100,\"N/A\")","v":"N/A"},{"$f":"IF(COUNTA(Q428)>0,(COUNTIF(Q428,\"=0\")*0+COUNTIF(Q428,\"=1\")*100+COUNTIF(Q428,\"=2\")*80+COUNTIF(Q428,\"=3\")*50+COUNTIF(Q428,\"=8\")*20+COUNTIF(Q428,\"=9\")*0)/COUNTA(Q428)/100,\"N/A\")","v":"N/A"},{"$f":"IF(COUNTA(S428:W428)<>0,(COUNTIF(S428:W428,\"=0\")*0+COUNTIF(S428:W428,\"=1\")*100+COUNTIF(S428:W428,\"=2\")*80+COUNTIF(S428:W428,\"=3\")*50+COUNTIF(S428:W428,\"=8\")*20+COUNTIF(S428:W428,\"=9\")*0)/COUNTA(S428:W428)/100,\"N/A\")","v":"N/A"},"N/A",{"$f":"IF(COUNTA(#REF!)>0,(COUNTIF(#REF!,\"=0\")*0+COUNTIF(#REF!,\"=1\")*100+COUNTIF(#REF!,\"=2\")*80+COUNTIF(#REF!,\"=3\")*50+COUNTIF(#REF!,\"=8\")*20+COUNTIF(#REF!,\"=9\")*0)/COUNTA(#REF!)/100,\"N/A\")","v":{"$error":"#REF!"}},{"$f":"IF(COUNTA(#REF!)>0,(COUNTIF(#REF!,\"=0\")*0+COUNTIF(#REF!,\"=1\")*100+COUNTIF(#REF!,\"=2\")*80+COUNTIF(#REF!,\"=3\")*50+COUNTIF(#REF!,\"=8\")*20+COUNTIF(#REF!,\"=9\")*0)/COUNTA(#REF!)/100,\"N/A\")","v":{"$error":"#REF!"}},{"$f":"IF(AND(COUNTA(B428:X428)<>0,#REF!<>\"\"),AVERAGE(Y428:AE428),\"N/A\")","v":{"$error":"#REF!"}},1,1,1,1,1,{"$error":"#REF!"},{"$error":"#REF!"},{"$error":"#REF!"}]
[{"$nulls":24},{"$f":"IF(COUNTA(B429:G429)>0,(COUNTIF(B429:G429,\"=0\")*0+COUNTIF(B429:G429,\"=1\")*100+COUNTIF(B429:G429,\"=2\")*80+COUNTIF(B429:G429,\"=3\")*50+COUNTIF(B429:G429,\"=8\")*20+COUNTIF(B429:G429,\"=9\")*0)/COUNTA(B429:G429)/100,\"N/A\")","v":"N/A"},{"$f":"IF(COUNTA(K429:P429)>0,(COUNTIF(K429:P429,\"=0\")*0+COUNTIF(K429:P429,\"=1\")*100+COUNTIF(K429:P429,\"=2\")*80+COUNTIF(K429:P429,\"=3\")*50+COUNTIF(K429:P429,\"=8\")*20+COUNTIF(K429:P429,\"=9\")*0)/COUNTA(K429:P429)/100,\"N/A\")","v":"N/A"},{"$f":"IF(COUNTA(Q429)>0,(COUNTIF(Q429,\"=0\")*0+COUNTIF(Q429,\"=1\")*100+COUNTIF(Q429,\"=2\")*80+COUNTIF(Q429,\"=3\")*50+COUNTIF(Q429,\"=8\")*20+COUNTIF(Q429,\"=9\")*0)/COUNTA(Q429)/100,\"N/A\")","v":"N/A"},{"$f":"IF(COUNTA(S429:W429)<>0,(COUNTIF(S429:W429,\"=0\")*0+COUNTIF(S429:W429,\"=1\")*100+COUNTIF(S429:W429,\"=2\")*80+COUNTIF(S429:W429,\"=3\")*50+COUNTIF(S429:W429,\"=8\")*20+COUNTIF(S429:W429,\"=9\")*0)/COUNTA(S429:W429)/100,\"N/A\")","v":"N/A"},"N/A",{"$f":"IF(COUNTA(#REF!)>0,(COUNTIF(#REF!,\"=0\")*0+COUNTIF(#REF!,\"=1\")*100+COUNTIF(#REF!,\"=2\")*80+COUNTIF(#REF!,\"=3\")*50+COUNTIF(#REF!,\"=8\")*20+COUNTIF(#REF!,\"=9\")*0)/COUNTA(#REF!)/100,\"N/A\")","v":{"$error":"#REF!"}},{"$f":"IF(COUNTA(#REF!)>0,(COUNTIF(#REF!,\"=0\")*0+COUNTIF(#REF!,\"=1\")*100+COUNTIF(#REF!,\"=2\")*80+COUNTIF(#REF!,\"=3\")*50+COUNTIF(#REF!,\"=8\")*20+COUNTIF(#REF!,\"=9\")*0)/COUNTA(#REF!)/100,\"N/A\")","v":{"$error":"#REF!"}},{"$f":"IF(AND(COUNTA(B429:X429)<>0,#REF!<>\"\"),AVERAGE(Y429:AE429),\"N/A\")","v":{"$error":"#REF!"}},1,1,1,1,1,{"$error":"#REF!"},{"$error":"#REF!"},{"$error":"#REF!"}]
[{"$nulls":24},{"$f":"IF(COUNTA(B430:G430)>0,(COUNTIF(B430:G430,\"=0\")*0+COUNTIF(B430:G430,\"=1\")*100+COUNTIF(B430:G430,\"=2\")*80+COUNTIF(B430:G430,\"=3\")*50+COUNTIF(B430:G430,\"=8\")*20+COUNTIF(B430:G430,\"=9\")*0)/COUNTA(B430:G430)/100,\"N/A\")","v":"N/A"},{"$f":"IF(COUNTA(K430:P430)>0,(COUNTIF(K430:P430,\"=0\")*0+COUNTIF(K430:P430,\"=1\")*100+COUNTIF(K430:P430,\"=2\")*80+COUNTIF(K430:P430,\"=3\")*50+COUNTIF(K430:P430,\"=8\")*20+COUNTIF(K430:P430,\"=9\")*0)/COUNTA(K430:P430)/100,\"N/A\")","v":"N/A"},{"$f":"IF(COUNTA(Q430)>0,(COUNTIF(Q430,\"=0\")*0+COUNTIF(Q430,\"=1\")*100+COUNTIF(Q430,\"=2\")*80+COUNTIF(Q430,\"=3\")*50+COUNTIF(Q430,\"=8\")*20+COUNTIF(Q430,\"=9\")*0)/COUNTA(Q430)/100,\"N/A\")","v":"N/A"},{"$f":"IF(COUNTA(S430:W430)<>0,(COUNTIF(S430:W430,\"=0\")*0+COUNTIF(S430:W430,\"=1\")*100+COUNTIF(S430:W430,\"=2\")*80+COUNTIF(S430:W430,\"=3\")*50+COUNTIF(S430:W430,\"=8\")*20+COUNTIF(S430:W430,\"=9\")*0)/COUNTA(S430:W430)/100,\"N/A\")","v":"N/A"},"N/A",{"$f":"IF(COUNTA(#REF!)>0,(COUNTIF(#REF!,\"=0\")*0+COUNTIF(#REF!,\"=1\")*100+COUNTIF(#REF!,\"=2\")*80+COUNTIF(#REF!,\"=3\")*50+COUNTIF(#REF!,\"=8\")*20+COUNTIF(#REF!,\"=9\")*0)/COUNTA(#REF!)/100,\"N/A\")","v":{"$error":"#REF!"}},{"$f":"IF(COUNTA(#REF!)>0,(COUNTIF(#REF!,\"=0\")*0+COUNTIF(#REF!,\"=1\")*100+COUNTIF(#REF!,\"=2\")*80+COUNTIF(#REF!,\"=3\")*50+COUNTIF(#REF!,\"=8\")*20+COUNTIF(#REF!,\"=9\")*0)/COUNTA(#REF!)/100,\"N/A\")","v":{"$error":"#REF!"}},{"$f":"IF(AND(COUNTA(B430:X430)<>0,#REF!<>\"\"),AVERAGE(Y430:AE430),\"N/A\")","v":{"$error":"#REF!"}},1,1,1,1,1,{"$error":"#REF!"},{"$error":"#REF!"},{"$error":"#REF!"}]
[{"$nulls":24},{"$f":"IF(COUNTA(B431:G431)>0,(COUNTIF(B431:G431,\"=0\")*0+COUNTIF(B431:G431,\"=1\")*100+COUNTIF(B431:G431,\"=2\")*80+COUNTIF(B431:G431,\"=3\")*50+COUNTIF(B431:G431,\"=8\")*20+COUNTIF(B431:G431,\"=9\")*0)/COUNTA(B431:G431)/100,\"N/A\")","v":"N/A"},{"$f":"IF(COUNTA(K431:P431)>0,(COUNTIF(K431:P431,\"=0\")*0+COUNTIF(K431:P431,\"=1\")*100+COUNTIF(K431:P431,\"=2\")*80+COUNTIF(K431:P431,\"=3\")*50+COUNTIF(K431:P431,\"=8\")*20+COUNTIF(K431:P431,\"=9\")*0)/COUNTA(K431:P431)/100,\"N/A\")","v":"N/A"},{"$f":"IF(COUNTA(Q431)>0,(COUNTIF(Q431,\"=0\")*0+COUNTIF(Q431,\"=1\")*100+COUNTIF(Q431,\"=2\")*80+COUNTIF(Q431,\"=3\")*50+COUNTIF(Q431,\"=8\")*20+COUNTIF(Q431,\"=9\")*0)/COUNTA(Q431)/100,\"N/A\")","v":"N/A"},{"$f":"IF(COUNTA(S431:W431)<>0,(COUNTIF(S431:W431,\"=0\")*0+COUNTIF(S431:W431,\"=1\")*100+COUNTIF(S431:W431,\"=2\")*80+COUNTIF(S431:W431,\"=3\")*50+COUNTIF(S431:W431,\"=8\")*20+COUNTIF(S431:W431,\"=9\")*0)/COUNTA(S431:W431)/100,\"N/A\")","v":"N/A"},"N/A",{"$f":"IF(COUNTA(#REF!)>0,(COUNTIF(#REF!,\"=0\")*0+COUNTIF(#REF!,\"=1\")*100+COUNTIF(#REF!,\"=2\")*80+COUNTIF(#REF!,\"=3\")*50+COUNTIF(#REF!,\"=8\")*20+COUNTIF(#REF!,\"=9\")*0)/COUNTA(#REF!)/100,\"N/A\")","v":{"$error":"#REF!"}},{"$f":"IF(COUNTA(#REF!)>0,(COUNTIF(#REF!,\"=0\")*0+COUNTIF(#REF!,\"=1\")*100+COUNTIF(#REF!,\"=2\")*80+COUNTIF(#REF!,\"=3\")*50+COUNTIF(#REF!,\"=8\")*20+COUNTIF(#REF!,\"=9\")*0)/COUNTA(#REF!)/100,\"N/A\")","v":{"$error":"#REF!"}},{"$f":"IF(AND(COUNTA(B431:X431)<>0,#REF!<>\"\"),AVERAGE(Y431:AE431),\"N/A\")","v":{"$error":"#REF!"}},1,1,1,1,1,{"$error":"#REF!"},{"$error":"#REF!"},{"$error":"#REF!"}]
[{"$nulls":24},{"$f":"IF(COUNTA(B432:G432)>0,(COUNTIF(B432:G432,\"=0\")*0+COUNTIF(B432:G432,\"=1\")*100+COUNTIF(B432:G432,\"=2\")*80+COUNTIF(B432:G432,\"=3\")*50+COUNTIF(B432:G432,\"=8\")*20+COUNTIF(B432:G432,\"=9\")*0)/COUNTA(B432:G432)/100,\"N/A\")","v":"N/A"},{"$f":"IF(COUNTA(K432:P432)>0,(COUNTIF(K432:P432,\"=0\")*0+COUNTIF(K432:P432,\"=1\")*100+COUNTIF(K432:P432,\"=2\")*80+COUNTIF(K432:P432,\"=3\")*50+COUNTIF(K432:P432,\"=8\")*20+COUNTIF(K432:P432,\"=9\")*0)/COUNTA(K432:P432)/100,\"N/A\")","v":"N/A"},{"$f":"IF(COUNTA(Q432)>0,(COUNTIF(Q432,\"=0\")*0+COUNTIF(Q432,\"=1\")*100+COUNTIF(Q432,\"=2\")*80+COUNTIF(Q432,\"=3\")*50+COUNTIF(Q432,\"=8\")*20+COUNTIF(Q432,\"=9\")*0)/COUNTA(Q432)/100,\"N/A\")","v":"N/A"},{"$f":"IF(COUNTA(S432:W432)<>0,(COUNTIF(S432:W432,\"=0\")*0+COUNTIF(S432:W432,\"=1\")*100+COUNTIF(S432:W432,\"=2\")*80+COUNTIF(S432:W432,\"=3\")*50+COUNTIF(S432:W432,\"=8\")*20+COUNTIF(S432:W432,\"=9\")*0)/COUNTA(S432:W432)/100,\"N/A\")","v":"N/A"},"N/A",{"$f":"IF(COUNTA(#REF!)>0,(COUNTIF(#REF!,\"=0\")*0+COUNTIF(#REF!,\"=1\")*100+COUNTIF(#REF!,\"=2\")*80+COUNTIF(#REF!,\"=3\")*50+COUNTIF(#REF!,\"=8\")*20+COUNTIF(#REF!,\"=9\")*0)/COUNTA(#REF!)/100,\"N/A\")","v":{"$error":"#REF!"}},{"$f":"IF(COUNTA(#REF!)>0,(COUNTIF(#REF!,\"=0\")*0+COUNTIF(#REF!,\"=1\")*100+COUNTIF(#REF!,\"=2\")*80+COUNTIF(#REF!,\"=3\")*50+COUNTIF(#REF!,\"=8\")*20+COUNTIF(#REF!,\"=9\")*0)/COUNTA(#REF!)/100,\"N/A\")","v":{"$error":"#REF!"}},{"$f":"IF(AND(COUNTA(B432:X432)<>0,#REF!<>\"\"),AVERAGE(Y432:AE432),\"N/A\")","v":{"$error":"#REF!"}},1,1,1,1,1,{"$error":"#REF!"},{"$error":"#REF!"},{"$error":"#REF!"}]
[{"$nulls":24},{"$f":"IF(COUNTA(B433:G433)>0,(COUNTIF(B433:G433,\"=0\")*0+COUNTIF(B433:G433,\"=1\")*100+COUNTIF(B433:G433,\"=2\")*80+COUNTIF(B433:G433,\"=3\")*50+COUNTIF(B433:G433,\"=8\")*20+COUNTIF(B433:G433,\"=9\")*0)/COUNTA(B433:G433)/100,\"N/A\")","v":"N/A"},{"$f":"IF(COUNTA(K433:P433)>0,(COUNTIF(K433:P433,\"=0\")*0+COUNTIF(K433:P433,\"=1\")*100+COUNTIF(K433:P433,\"=2\")*80+COUNTIF(K433:P433,\"=3\")*50+COUNTIF(K433:P433,\"=8\")*20+COUNTIF(K433:P433,\"=9\")*0)/COUNTA(K433:P433)/100,\"N/A\")","v":"N/A"},{"$f":"IF(COUNTA(Q433)>0,(COUNTIF(Q433,\"=0\")*0+COUNTIF(Q433,\"=1\")*100+COUNTIF(Q433,\"=2\")*80+COUNTIF(Q433,\"=3\")*50+COUNTIF(Q433,\"=8\")*20+COUNTIF(Q433,\"=9\")*0)/COUNTA(Q433)/100,\"N/A\")","v":"N/A"},{"$f":"IF(COUNTA(S433:W433)<>0,(COUNTIF(S433:W433,\"=0\")*0+COUNTIF(S433:W433,\"=1\")*100+COUNTIF(S433:W433,\"=2\")*80+COUNTIF(S433:W433,\"=3\")*50+COUNTIF(S433:W433,\"=8\")*20+COUNTIF(S433:W433,\"=9\")*0)/COUNTA(S433:W433)/100,\"N/A\")","v":"N/A"},"N/A",{"$f":"IF(COUNTA(#REF!)>0,(COUNTIF(#REF!,\"=0\")*0+COUNTIF(#REF!,\"=1\")*100+COUNTIF(#REF!,\"=2\")*80+COUNTIF(#REF!,\"=3\")*50+COUNTIF(#REF!,\"=8\")*20+COUNTIF(#REF!,\"=9\")*0)/COUNTA(#REF!)/100,\"N/A\")","v":{"$error":"#REF!"}},{"$f":"IF(COUNTA(#REF!)>0,(COUNTIF(#REF!,\"=0\")*0+COUNTIF(#REF!,\"=1\")*100+COUNTIF(#REF!,\"=2\")*80+COUNTIF(#REF!,\"=3\")*50+COUNTIF(#REF!,\"=8\")*20+COUNTIF(#REF!,\"=9\")*0)/COUNTA(#REF!)/100,\"N/A\")","v":{"$error":"#REF!"}},{"$f":"IF(AND(COUNTA(B433:X433)<>0,#REF!<>\"\"),AVERAGE(Y433:AE433),\"N/A\")","v":{"$error":"#REF!"}},1,1,1,1,1,{"$error":"#REF!"},{"$error":"#REF!"},{"$error":"#REF!"}]